{"text_format":"1","workbook":"xlsx","n_sheets":7,"sheets":["Terms and conditions","Instructions","Design","Lookups","Points Table A","Points Table C","Test Foods"],"not_rendered":{"charts":12,"images":0,"macros":1,"external_links":1,"defined_names":187,"comments":2,"pivot_tables":0},"unopened":[],"bounds":{"document_bytes":16777216,"sheet_cells":100000,"rows_first":2000,"rows_last":500,"rows_between":2000,"halvings":0,"cell_chars":16384,"cell_head_chars":4096},"cells_cut":0,"cells_raw":0,"read":"whole","date_system":"1900"}

{"sheet":"Terms and conditions","index":0,"n_rows":32,"n_cols":1,"rows_kept":32,"cut":false,"hidden":false,"merged":[]}
["Licence"]
["The Health Star Rating Calculator is licensed only on the condition that you agree to the terms and conditions set out below. Please read these terms and conditions carefully. If you agree to be bound by the terms and conditions, you should continue to use this calculator. If you do not agree to be bound by the terms and conditions, you should close this calculator."]
[]
["Disclaimer"]
["The Commonwealth does not warrant that the results generated by the calculator will be free from error, or if used will ensure compliance with the relevant requirements of the Australia New Zealand Food Standards Code."]
[]
["Note that the accuracy of the final score calculated by the calculator will be dependent on the accuracy of the data entered into the calculator."]
[]
["Consequently, before relying on the results generated by the calculator, you should carefully evaluate the accuracy, completeness and relevance of the results for your purposes, and should obtain appropriate expert advice relevant to your own particular circumstances."]
[]
["The Commonwealth makes this calculator available on the understanding that users exercise their own skill, care and judgement; and seek independent expert advice with respect to its use."]
[]
["By accessing this calculator, you acknowledge that the Commonwealth will not be liable for any incidental or consequential damages resulting from its use."]
[]
["Copyright"]
["This work is copyright."]
["© Commonwealth of Australia 2014"]
[]
["The Commonwealth grants you a non-exclusive, non-transferable right to access, use and display the calculator, provided that you comply fully with these terms and conditions:"]
["1. you may display, print and reproduce this material in unaltered form only (retaining this notice) for your own personal use or use within your organisation; "]
["2. apart from any other use permitted under the Copyright Act 1968 (Cth), all other rights are reserved; "]
["3. you may not use any part of the calculator to establish, maintain, or provide, or assist in establishing, maintaining or providing your own publications, whether on the internet or otherwise; and "]
["4. in particular, you may not sell access to the calculator or any material derived from the calculator. "]
[]
["Requests for further authorisation should be directed to:"]
["Communications Branch"]
["Department of Health"]
["GPO Box 9848"]
["Canberra ACT 2610"]
["Australia"]
[]
["Email: copyright@health.gov.au "]

{"sheet":"Instructions","index":1,"n_rows":16,"n_cols":1,"rows_kept":16,"cut":false,"hidden":false,"merged":[]}
["Instructions - interactive test calculator (note that any results are an indication only, based on preferred options as outlined in the consultation paper, and are not a) final or b) guaranteed to be correct)"]
["Terms and conditions of the current calculator apply."]
[]
["OPTIONS - details concerning the options available are in the consultation paper. Note that macros must be enabled to test the various options"]
["1. Check guidance on options below"]
["2. Click on a \"PREFERRED\" button to see the effect of the preferred option/s on products (options may be combined)"]
["3. Click on a \"ORIGINAL\" button to return to current (options may be combined)"]
["4. Click on \"Set all parameters to ORIGINAL\" to return all to current"]
["5. Click on \"Set all parameters to PREFERRED\" to set all to preferred"]
["6. Copy and paste results into separate document to compare "]
[]
["CALCULATOR - all user data must be entered into the \"Test Foods\" sheet in the relevant columns with ORANGE headers. Please do not rename this sheet or alter any other cells as this may have unforseen consequences"]
["1. Choose a HSR Category from the drop down options (see guidance on categories below)"]
["2. Input a product/company name (optional)"]
["3. Input values (leave at 0 if n/a or nil) - all data is per 100g or per 100ml, except for FVNL, Conc FVNL and Wholegrain which are entered as percentages"]
["4. The calculator provides for 500 products. To add more products copy a full row (click on a row number) and paste \"All\" in the columns below, then enter data in the appropriate columns"]

{"sheet":"Design","index":2,"n_rows":24,"n_cols":7,"rows_kept":24,"cut":false,"hidden":true,"merged":[[3,1,9,1],[1,3,1,5],[1,1,2,2],[1,6,2,6]]}
[]
[null,"FoPL System Design",null,"NPSC Categories",null,null,"FoPL Calibration Solution"]
[null,null,null,"(1) Beverages","(2) Food","(3) Fats, Cheese"]
[null,"AGHE Categories","Vegetables","Beverages, non-dairy (whole juices, >80% FVNL are considered Core)","Vegetables (potato, broccoli cabbage, legumes, tomatoes, tinned peas, corn, etc - processed & unprocessed. Combinations thereof)","N/A","Calibrate using NPSC Beverages & NPSC Food end points respectively"]
[null,null,"Core Cereals","Beverages, non-dairy (unfortified rice milk, etc)","Core cereals (bread, rice, pasta, breakfast cereals, polenta, grains and their components - processed and unprocessed. Combinations thereof)","N/A","Calibrate using NPSC Beverages & NPSC Food end points respectively"]
[null,null,"Protein","Core dairy - beverages (fortified soy milk, etc)","Protein (meat, fish, poultry, eggs, nuts, legumes, tofu, etc - processed and unprocessed. Combinations thereof)","N/A","Calibrate using FoPL Core Dairy (beverages) & NPSC Food end points respectively"]
[null,null,"Core Dairy","Core dairy - beverages (many variants of milk)","Core dairy - yoghurt, soft cheese (Ca =< 320 mg/100g)","Core dairy - cheese (hard cheese, Ca >320 mg/100g)","Calibrate separately as part of Core Dairy, using FoPL end points from each class"]
[null,null,"Fruit","Beverages, non-dairy (whole juices, => 90% FVNL are considered Core)","Fruit (bananas, grapes, apples, oranges, watermelon, etc - processed and unprocessed. Combinations thereof)","N/A","Calibrate using NPSC Beverages & NPSC Food end points respectively"]
[null,null,"Non-core foods","Beverages, non-dairy (carbonated beverages, alcohol, cordials, juices < 90% FVNL, etc)","Non-core foods (chips, pies, cakes, biscuits, pastry, snacks, meals and meal bases, soups, stocks, sugar, salt, sauces, dressings, condiments, pizza, dips, jelly, icecream, custard, cream, cream cheese, soft drinks, confectionery)","N/A","Calibrate using NPSC Beverages & NPSC Food end points respectively"]
[null,null,"Fats/Oils","N/A","N/A","Fats, oils (butter, margarine, olive oil, canola oil, vegetable oils. Other oils)","Calibrate separately using NPSC end points for Fats/oils"]
[]
[null,"AGHE categories (for reference purposes)"]
[null,"Core Cereals",null,"Core cereals include bread, rice, pasta, breakfast cereals, polenta, grains, components of grains"]
[null,"Core Dairy & Analogues",null,"Core Dairy & Analogues includes milk, cheese, yoghurt & analogues"]
[null,"Protein Foods",null,"Protein foods include meat, fish, poultry, eggs, nuts, legumes, tofu"]
[null,"Fruit",null,"Fruit includes bananas, grapes, apples, oranges, watermelon, etc & whole juices"]
[null,"Vegetables",null,"Vegetables includes processed and unprocessed potato, broccoli cabbage, legumes, tomatoes, corn, chick peas, etc, and whole juices"]
[null,"Fats & Oils",null,"Fats & Oils includes butter, margarine, olive oil, canola oil, vegetable oils. Any other oils."]
[null,"Non-core foods",null,"Off-plate food includes chips, pies, cakes, biscuits, pastry, snacks, meals and meal bases, soups, stocks, sugar, salt, sauces, dressings, "]
[null,null,null,"condiments, pizza, dips, jelly, icecream, custard, cream, cream cheese, soft drinks, confectionery & alcohol"]
[null,null,null,"Also includes \"Other\" foods either not on the plate, or from multiple parts of the plate without a particular dominance."]
[]
[null,"Not in the FoPL System"]
[null,"Water",null,"Water includes; tap water, spring water, carbonated water"]

{"sheet":"Lookups","index":3,"n_rows":135,"n_cols":14,"rows_kept":135,"cut":false,"hidden":true,"merged":[]}
["Star score","Symbols","Star Conversion Divisor"]
[1,"²",{"$f":"A55","v":"Beverages, non-dairy"},{"$f":"IF(D55<9,D55+0.999,9.999)","v":9.9990000000000006}]
[2,"«","Core Cereals",9.9990000000000006]
[3,"«²","Core Dairy - beverages",8.9990000000000006]
[4,"««","Core Dairy - cheese",9.9990000000000006]
[5,"««²","Core Dairy - yoghurt, soft cheese",8.9990000000000006]
[6,"«««","Fats, oils",9.9990000000000006]
[7,"«««²","Fruit",9.9990000000000006]
[8,"««««","Non-core foods",9.9990000000000006]
[9,"««««²","Protein",9.9990000000000006]
[10,"«««««","Vegetables",9.9990000000000006]
[null,null,"If %Food range < 9 then Range = Range + 0.999, else Range = 9.999"]
[null,null,"Required because not all categories have HSRC range >10"]
["Scaling Criteria:"]
["(1) Healthy reference foods in each category typically achieve at least four stars"]
["(2) Non-healthy reference foods in each category typically achieve half to one star"]
["(3) Foods considered to be Core to score at least 3 stars"]
["(4) The star score range extends from five stars, downwards to least healthy scores in each NPSC category"]
["(5) Foods will score star points within the range of star points so established"]
["(6) Categories with a range of NPSC points <10 (<5 stars) will start at 5 stars and extend downwards"]
["(7) The 'most healthy' food will be set at an NPSC score at or below the 5% quantile of NPSC scores for the category"]
["(8) The 'least healthy' food will be set by an NPSC score at or above the 95% quantile of NPSC scores for the category"]
[]
["More healthy reference foods =>4 stars:"]
[{"$f":"A55","v":"Beverages, non-dairy"},"Whole fruit juices, typically > 67% FVNL, <13.6% total sugars"]
[{"$f":"A56","v":"Core Cereals"},"Whole grain foods, high fibre, protein increased"]
["Core Dairy - beverages","Low fat milks and alternatives (typically <2.1% sat fat and/or > 3.1% protein)"]
["Core Dairy - cheese","Reduced fat cheese, reduced sodium"]
["Core Dairy - yoghurt, soft cheese","Lite yoghurt, cottage cheese"]
["Fats, oils","Extra lite spreads, canola, olive oils"]
["Fruit","Unprocessed fruit"]
["Non-core foods","Typically whole grain biscuits and snacks, occasional foods low in saturated fat, sugar and sodium"]
["Protein","Trimmed meat/fish, whole legumes, raw nuts"]
["Vegetables","Unprocessed vegetables"]
[]
[null,null,null,null,null,null,"↓ = more ²","↑ = more «««««",null,null,"↓ = more ²","↑ = more «««««"]
["Less healthy reference foods =<1 star:",null,null,null,null,"Original scaling tables",null,null,null,"TAG mods"]
[{"$f":"A55","v":"Beverages, non-dairy"},"Beverages typically 0% FVNL, sugars >13.6%",null,null,null,"Beverages, non-dairy",3,-6,null,"Beverages, non-dairy",3,-6]
[{"$f":"A56","v":"Core Cereals"},"Typically highly refined, high sugar, low fibre ceral foods",null,null,null,"Core Cereals",29,-15,null,"Core Cereals",29,-15]
["Core Dairy - beverages","Full fat, sweetened, flavoured milks, typically with protein <3.2%, sugar >9.1%",null,null,null,"Core Dairy - beverages",6,-2,null,"Core Dairy - beverages",6,-2]
["Core Dairy - cheese","High sodium, high saturated fat cheese",null,null,null,"Core Dairy - cheese",41,21,null,"Core Dairy - cheese",41,21]
["Core Dairy - yoghurt, soft cheese","Regular fat yoghurt, sugar typically > 9.1%",null,null,null,"Core Dairy - yoghurt, soft cheese",6,-2,null,"Core Dairy - yoghurt, soft cheese",14,-3]
["Fats, oils","Salted butter, copha, coconut oil",null,null,null,"Fats, oils",45,10,null,"Fats, oils",44,16]
["Fruit","Jams, 0% FVNL, pastes & spreads",null,null,null,"Fruit",29,-15,null,"Fruit",29,-15]
["Non-core foods","White sugar, table salt",null,null,null,"Non-core foods",29,-15,null,"Non-core foods",29,-15]
["Protein","Highly seasoned, untrimmed and/or manufactured meats",null,null,null,"Protein",29,-15,null,"Protein",29,-15]
["Vegetables","Salted (in brine, etc), processed vegetables",null,null,null,"Vegetables",29,-15,null,"Vegetables",29,-15]
[]
[null,null,null,null,null,null,null,null,null,"Fruit re-scale (down from 5 stars)",27,-11]
["FLEXED END-POINTS CAN BE ENTERED HERE, IN THE BLUE CELLS IMMEDIATELY BELOW!",null,null,"All but wholegrain done in the scaling table"]
["DO NOT CHANGE ANY OTHER NUMBERS ON THIS SHEET"]
["('More healthy' end point set at or below the 5% quantile of NPSC scores, less healthy at or above 95%)"]
["% Foods flexed end points based on new industry data",null,null,null,null,"Weighted Average quantiles at x(Np)"]
["FoPL calibration category","↓ = more ²","↑ = more «««««","Range",null,"MAX/MIN END-POINTS INCL NEW INDUSTRY DATA (sans anomaly foods)",null,null,null,"QUANTILES - INCL NEW INDUSTRY DATA (sans anomaly foods)"]
["Beverages, non-dairy",3,-6,{"$f":"B55-C55","v":9},null,"Actual % Foods maxima/minima based on new industry data",null,null,null,"\"% Foods\" Quantiles based on new industry data"]
["Core Cereals",29,-15,44,null,"FoPL Category","Less healthy","More healthy",null,"FoPL Category",0.99,0.95,0.05,0.01]
["Core Dairy - beverages",6,-2,8,null,{"$f":"A55","v":"Beverages, non-dairy"},3,-7,null,{"$f":"A55","v":"Beverages, non-dairy"},2,2,-5,-6]
["Core Dairy - cheese",41,21,20,null,"Core Cereals",19,-21,null,"Core Cereals",15,12,-11,-14]
["Core Dairy - yoghurt, soft cheese",6,-2,8,null,"Core Dairy - beverages",4,-3,null,"Core Dairy - beverages",4,3,-2,-3]
["Fats, oils",45,10,35,null,"Core Dairy - cheese",44,14,null,"Core Dairy - cheese",41,37,21,15]
["Fruit",29,-15,44,null,"Core Dairy - yoghurt, soft cheese",6,-4,null,"Core Dairy - yoghurt, soft cheese",6,5,-2,-4]
["Non-core foods",29,-15,44,null,"Fats, oils",47,9,null,"Fats, oils",46,45,10,10]
["Protein",29,-15,44,null,"Fruit",17,-14,null,"Fruit",17,14,-9,-13]
["Vegetables",29,-15,44,null,"Non-core foods",39,-15,null,"Non-core foods",31,27,-2,-6]
["Note: FoPL Categories are indicated in comments",null,null,null,null,"Protein",32,-20,null,"Protein",21,15,-12,-18]
[null,null,null,null,null,"Vegetables",13,-23,null,"Vegetables",8,3,-16,-19]
["Core Dairy foods","Core dairy uses FoPL category quantiles",null,"End points",null,"Note: FoPL Categories are indicated in comments",null,null,null,"Note: FoPL Categories are indicated in comments"]
[null,0.99,0.05,"99% - 5%",null,"MAX/MIN END-POINTS INCL NEW INDUSTRY DATA (sans anomaly foods)",null,null,null,"QUANTILES - INCL NEW INDUSTRY DATA (sans anomaly foods)"]
[null,null,null,null,null,"Actual % Foods maxima/minima based on new industry data",null,null,null,"\"% Foods\" Quantiles based on new industry data"]
["Non-core foods","Other categories use NPSC category quantiles",null,null,null,"NPSC Category","Less healthy","More healthy",null,"NPSC category",0.99,0.95,0.05,0.01]
[null,0.99,0.01,"99% - 1%",null,"Beverages",4,-7,null,"Beverages",3,3,-5,-6]
[null,null,null,null,null,"Food",39,-23,null,"Food",29,23,-11,-15]
["Core Foods (non-dairy)",null,null,null,null,"Oils/cheese",47,9,null,"Oils/cheese",45,41,17,10]
[null,0.99,0.01,"99% - 1%"]
[]
["Core and non-core beverages (non-dairy)"]
[null,0.99,0.01,"99% - 1%"]
[]
["Data for calculation purposes - do not alter",null,null,"List of HSR categories used for food analysis purposes"]
["Daily Intake References",null,null,"Enter a food type"]
["Energy, kJ",8700,null,"Core Cereals - bread"]
["Protein, g",50,null,"Core Cereals - breakfast"]
["Fat, g",70,null,"Core Cereals - pasta/flour/grains"]
["Saturated fatty acids, g",24,null,"Core Dairy - beverages"]
["Carbohydrate, g",310,null,"Core Dairy - cheese"]
["Sodium, mg",2300,null,"Core Dairy - yoghurt, soft cheese"]
["Sugars, g",90,null,"Dairy Non-core foods - cream"]
["Dietary fibre (if included), g",30,null,"Dairy Non-core foods - cream cheese"]
[null,null,null,"Fats, oils & oil based spreads"]
[null,null,null,"Fruit - other juices"]
["NPSC Food categories","Health claim  eligibility NPSC score",null,"Fruit - processed"]
[1,1,null,"Fruit - unprocessed"]
[2,4,null,"Fruit - whole juices"]
[3,28,null,"Non-core foods - bakery/cake mixes"]
[null,null,null,"Non-core foods - biscuits"]
["Constants used for NPSC purposes:",null,null,"Non-core foods - carbonated beverages"]
["All FVNL Concentrated",null,null,"Non-core foods - confectionery"]
["Yes",null,null,"Non-core foods - cordial"]
["No",null,null,"Non-core foods - custard/deserts"]
[null,null,null,"Non-core foods - dips"]
[null,null,null,"Non-core foods - dressings"]
["Wholegrain fibre loading",null,0,"Non-core foods - ice confectionery"]
[null,null,null,"Non-core foods - ice cream"]
[null,null,null,"Non-core foods - jelly"]
["NPSC Protein Tipping Point =",null,13,"Non-core foods - lifestyle"]
["HSR Protein Tipping Point =",null,13,"Non-core foods - meals/meal bases"]
["Max baseline points for inclusion of Protein points, unless V points >5",null,null,"Non-core foods - miscellaneous"]
[null,null,null,"Non-core foods - pizza"]
[null,null,null,"Non-core foods - sauces/condiments"]
[null,null,null,"Non-core foods - snacks"]
[null,null,null,"Non-core foods - soups/stocks"]
[null,null,null,"Non-core foods - yeast spread"]
["Claim","Yes",null,"Protein - meats/fish"]
[null,"Enter the food name here",null,"Protein - nuts"]
["Is all FVNL concentrated? Yes/No",null,null,"Protein - plant"]
[null,null,null,"Vegetables - processed"]
[null,null,null,"Vegetables - unprocessed"]
[null,null,null,"Non-core foods - beverage dry mixes",null,"Added this new line to keep the dry mixes separate, as it mught be useful when we deal with as prepared"]
[null,null,null,"Core Dairy - beverages dry mix/milk powder"]
["Fruit/Veg tipping point =",null,5,"Water_Category NA"]
["Min V points for inclusion of Protein points if Baseline > 13",null,null,"flavoured water"]
[null,null,null,"Core Dairy  alternative- beverages"]
[null,null,null,"Protein - meats/fish Raw"]
["Data for category entry validation:"]
["HSR Category","NPSC Category","NPSC Group Number",null,null,"Old category definitions","New definitions"]
["Beverages, non-dairy","Beverages",1,null,null,"Beverages, non-dairy","Beverages, non-dairy"]
["Core Cereals","Food",2,null,null,"Core Cereals","Grain foods"]
["Core Dairy - beverages","Beverages",1,null,null,"Core Dairy - beverages","Dairy - beverages"]
["Core Dairy - cheese","Fats/Oils/Cheese",3,null,null,"Core Dairy - cheese","Dairy - ripened cheese, Ca>320mg/100g"]
["Core Dairy - yoghurt, soft cheese","Food",2,null,null,"Core Dairy - yoghurt, soft cheese","Dairy - yoghurt, desserts, unripened cheese"]
["Fats, oils","Fats/Oils/Cheese",3,null,null,"Fats, oils","Fats, oils"]
["Fruit","Food",2,null,null,"Fruit","Fruits"]
["Non-core foods","Food",2,null,null,"Non-core foods","Non-Five Food Group foods"]
["Protein","Food",2,null,null,"Protein","Protein foods"]
["Vegetables","Food",2,null,null,"Vegetables","Vegetables"]

{"sheet":"Points Table A","index":4,"n_rows":108,"n_cols":22,"rows_kept":108,"cut":false,"hidden":true,"merged":[[38,12,39,12],[38,0,38,4],[38,5,38,8],[38,9,39,9],[38,10,39,10],[38,11,39,11]]}
["NPSC sugar table category 1 & 2 foods","Extended tables for HSR profiler, category 1&2 foods",null,null,null,null,null,"Extended HSR tables, all NPSC tables, category 3 foods, as per 1.2.7"]
["NPSC Sugar Table","Energy, kj","Sat fat g","Tot Sug g","Na, mg","NPSC/HSR Points",null,"Energy, kj","Sat fat g","Tot Sug g","Na, mg","NPSC/HSR Points",null,"Graph for Cat 1&2 foods - all Cat 3 tables are linear",null,null,null,null,null,null,null,"Graph for Cat 3 Foods"]
[0,0,0,0,0,0,null,0,0,0,0,0]
[5.01,335.01,1.01,5.01,90.01,1,null,335.01,1.01,5.01,90.01,1]
[9.01,670.01,2.0100000000000002,9.01,180.01,2,null,670.01,2.0100000000000002,9.01,180.01,2]
[13.51,1005.01,3.0100000000000002,13.51,270.01,3,null,1005.01,3.0100000000000002,13.51,270.01,3]
[18.010000000000002,1340.01,4.01,18.010000000000002,360.01,4,null,1340.01,4.01,18.010000000000002,360.01,4]
[22.51,1675.01,5.01,22.51,450.01,5,null,1675.01,5.01,22.51,450.01,5]
[27.01,2010.01,6.01,27.01,540.01,6,null,2010.01,6.01,27.01,540.01,6]
[31.01,2345.0100000000002,7.01,31.01,630.01,7,null,2345.0100000000002,7.01,31.01,630.01,7]
[36.01,2680.01,8.01,36.01,720.01,8,null,2680.01,8.01,36.01,720.01,8]
[40.01,3015.01,9.01,40.01,810.01,9,null,3015.01,9.01,40.01,810.01,9]
[45.01,3350.01,10.01,45.01,900.01,10,null,3350.01,10.01,45.01,900.01,10]
[null,3685.01,11.209999999999999,49.01,1005.01,11,null,3685.01,11.01,null,990.01,11]
[null,null,12.51,54.01,1121.01,12,null,null,12.01,null,1080.01,12]
[null,null,13.91,58.01,1251.01,13,null,null,13.01,null,1170.01,13]
[null,null,15.51,63.01,1397.01,14,null,null,14.01,null,1260.01,14]
[null,null,17.310000000000002,67.009999999999991,1559.01,15,null,null,15.01,null,1350.01,15]
[null,null,19.310000000000002,72.009999999999991,1740.01,16,null,null,16.010000000000002,null,1440.01,16]
[null,null,21.610000000000003,76.009999999999991,1942.01,17,null,null,17.010000000000002,null,1530.01,17]
[null,null,24.110000000000003,81.009999999999991,2168.0100000000002,18,null,null,18.010000000000002,null,1620.01,18]
[null,null,26.91,85.009999999999991,2420.0100000000002,19,null,null,19.010000000000002,null,1710.01,19]
[null,null,30.01,90.009999999999991,2701.01,20,null,null,20.010000000000002,null,1800.01,20]
[null,null,33.51,94.009999999999991,3015.01,21,null,null,21.01,null,1890.01,21]
[null,null,37.409999999999997,99.009999999999991,3365.01,22,null,null,22.01,null,1980.01,22]
[null,null,41.71,null,3756.01,23,null,null,23.01,null,2070.0100000000002,23]
[null,null,46.61,null,4192.01,24,null,null,24.01,null,2160.0100000000002,24]
[null,null,52.01,null,4679.01,25,null,null,25.01,null,2250.0100000000002,25]
[null,null,58.01,null,5223.01,26,null,null,26.01,null,2340.0100000000002,26]
[null,null,64.710000000000008,null,5829.01,27,null,null,27.01,null,2430.0100000000002,27]
[null,null,72.31,null,6506.01,28,null,null,28.01,null,2520.0100000000002,28]
[null,null,80.61,null,7262.01,29,null,null,29.01,null,2610.0100000000002,29]
[null,null,90.01,null,8106.01,30,null,null,30.01,null,2700.01,30]
[]
[null,null,null,null,null,null,null,"The above tables are all linear, as per HC Standard 1.2.7 for Cat 3 foods"]
[]
[null,"Note: All values except for total sugar (now linearised) have been inflated by 0.01 (one reportable increment) to match the 'greater than' requirements of the tables provided by FSANZ"]
[]
["Total sugar points tables for various table options, commencing at 5% sugar",null,null,null,null,"Reduction required to maintain existing sugar points",null,null,null,"Profiler points","% reduction of total sugar (via added) to maintain same points (24 point table)","% reduction of total sugar (via added) to maintain same points (25 point table)","% reduction of total sugar (via added) to maintain same points (30 point table)"]
["22 point table","23 point table","24 point table","25 point table","30 pt sugar table","23 point","24 point","25 point","30 point"]
[0,0,0,0,0,0,0,0,0,0,0,0,0]
[5.01,5.01,5.01,5.01,5.01,0,0,0,0,1,0,0,0]
[9.01,9.2827272727272714,9.1,8.93,8.25,0,0.18577075098814078,0.35606060606060552,1.0313479623824442,2,2.0421198072586331E-2,3.9887297168850512E-2,0.1249909770951184]
[13.51,13.555454545454541,13.18,12.84,11.49,0,0.37154150197627978,0.71212121212120927,2.0626959247648866,3,2.8181428438658559E-2,5.5446759313875632E-2,0.17947787757863037]
[18.010000000000002,17.828181818181811,17.27,16.760000000000002,14.73,0,0.55731225296441878,1.068181818181813,3.094043887147329,4,3.2268916794254289E-2,6.3733998698198874E-2,0.20999151098147054]
[22.51,22.100909090909081,21.36,20.68,17.98,0,0.74308300395255955,1.424242424242415,4.1253918495297732,5,3.4792071109070843E-2,6.8881626192604309E-2,0.22950059206269724]
[27.01,26.373636363636351,25.44,24.59,21.22,0,0.92885375494069677,1.780303030303017,5.1567398119122174,6,3.6504684250014567E-2,7.2389659676186643E-2,0.24304873237896657]
[31.01,30.64636363636362,29.53,28.51,24.46,0,1.114624505928834,2.1363636363636189,6.1880877742946616,7,3.7743273466076553E-2,7.4933835018015385E-2,0.2530058868087034]
[36.01,34.91909090909089,33.619999999999997,32.43,27.7,0,1.3003952569169712,2.4924242424242209,7.2194357366771058,8,3.8680717133440672E-2,7.6863412081339039E-2,0.26063269350251606]
[40.01,39.191818181818164,37.71,36.340000000000003,30.94,0,1.486166007905112,2.84848484848483,8.2507836990595536,9,3.9414939729734408E-2,7.8377093877414386E-2,0.2666615333646058]
[45.01,43.464545454545437,41.79,40.26,34.18,0,1.6719367588932528,3.204545454545439,9.2821316614420013,10,4.0005561056713587E-2,7.9596260669285629E-2,0.27154699248637448]
[49.01,47.73727272727271,45.88,44.18,37.42,0,1.8577075098813935,3.5606060606060481,10.313479623824449,11,4.0490957163151202E-2,8.0599246825761306E-2,0.27558616507192468]
[54.01,52.009999999999984,49.97,48.09,40.67,0,2.0434782608695343,3.9166666666666572,11.344827586206897,12,4.0896948391531088E-2,8.1438868866093528E-2,0.27898142102451484]
[58.01,56.282727272727257,54.05,52.01,43.91,0,2.2292490118576751,4.2727272727272663,12.376175548589345,13,4.1241546031487747E-2,8.215203369981286E-2,0.28187537081818842]
[63.01,60.555454545454531,58.14,55.93,47.15,0,2.4150197628458159,4.6287878787878753,13.407523510971792,14,4.1537696989638093E-2,8.2765309550385205E-2,0.2843714075420592]
[67.009999999999991,64.828181818181804,62.23,59.84,50.39,0,2.6007905138339567,4.9848484848484844,14.43887147335424,15,4.1794946876589356E-2,8.3298309221553263E-2,0.28654632052999279]
[72.009999999999991,69.10090909090907,66.31,63.76,53.63,0,2.7865612648220974,5.3409090909090864,15.470219435736681,16,4.2020488117141826E-2,8.3765826394433626E-2,0.28845833486768635]
[76.009999999999991,73.373636363636336,70.400000000000006,67.680000000000007,56.87,0,2.9723320158102382,5.6969696969696884,16.501567398119121,17,4.2219842989343989E-2,8.4179230118253803E-2,0.29015240166705353]
[81.009999999999991,77.646363636363603,74.489999999999995,71.59,60.11,0,3.158102766798379,6.0530303030302832,17.532915360501562,18,4.2397321805223299E-2,8.454740156947041E-2,0.2916637767982066]
[85.009999999999991,81.919090909090869,78.58,75.510000000000005,63.35,0,3.3438735177865198,6.4090909090908781,18.564263322884003,19,4.2556338102560244E-2,8.4877379275471843E-2,0.29302050104427518]
[90.009999999999991,86.191818181818135,82.66,79.430000000000007,66.599999999999994,0,3.5296442687746605,6.7651515151514729,19.595611285266443,20,4.2699630335002708E-2,8.5174813435682478E-2,0.29424515596970269]
[94.009999999999991,90.464545454545402,86.75,83.34,69.84,0,3.7154150197628013,7.1212121212120678,20.626959247648884,21,4.2829420896109444E-2,8.5444292139488079E-2,0.2953561308167314]
[99.009999999999991,94.737272727272668,90.84,87.26,73.08,0,3.9011857707509421,7.4772727272726627,21.658307210031325,22,4.2947532213912148E-2,8.5689579730376608E-2,0.29636855224669995]
[null,99.009999999999962,94.92,91.18,76.319999999999993,">4.27",">8.17",">11.75",">25.93",23,">9.0%",">13.5%",">35.5%"]
[null,null,99.01,95.09,79.56,null,">8.18",">11.76",">25.93",24,">9.0%",">13.5%",">35.5%"]
[null,null,null,99.01,82.8,null,null,">11.77",">25.93",25,null,">13.5%",">35.5%"]
[null,null,null,null,86.04,null,null,null,">25.93",26,null,null,">35.5%"]
[null,null,null,null,89.29,null,null,null,">25.93",27,null,null,">35.5%"]
[null,null,null,null,92.53,null,null,null,">25.93",28,null,null,">35.5%"]
[null,null,null,null,95.77,null,null,null,">25.93",29,null,null,">35.5%"]
[null,null,null,null,99.01,null,null,null,">25.93",30,null,null,">35.5%"]
[]
["Note: all tables other than the 22 point table are linear, they do not zig-zag like the 22 point table"]
["If any of the non-22pt tables are used in the manual method of calculating profiler points each value above will need to be reduced by 0.01 to maintain consistencey with FSANZ \">\" NPSC rules"]
[]
[]
["26 point table","23 point table","24 point table","Profiler points",null,"Current Category 3 foods Na 2700mg","Original HSR Na table","Agressive Na 2000mg (same as NPSC up to 900mg)","Profiler points","Compressed sugar table"]
[0,0,0,0,null,0,0,0,0,0]
[5.01,5.01,5.01,1,null,90.01,90.01,90.01,1,5.01]
[8.77,9.2827272727272714,9.0969565217391306,2,null,180.01,180.01,180.01,2,9.01]
[12.53,13.555454545454545,13.183913043478261,3,null,270.01,270.01,270.01,3,13.51]
[16.29,17.828181818181818,17.270869565217392,4,null,360.01,360.01,360.01,4,18.010000000000002]
[20.049999999999997,22.100909090909092,21.357826086956521,5,null,450.01,450.01,450.01,5,22.51]
[23.809999999999995,26.373636363636365,25.444782608695654,6,null,540.01,540.01,540.01,6,27.01]
[27.569999999999993,30.646363636363638,29.531739130434786,7,null,630.01,630.01,630.01,7,31.01]
[31.329999999999991,34.919090909090912,33.618695652173919,8,null,720.01,720.01,720.01,8,36.01]
[35.089999999999989,39.191818181818185,37.705652173913052,9,null,810.01,810.01,810.01,9,40.01]
[38.849999999999987,43.464545454545458,41.792608695652184,10,null,900.01,900.01,900.01,10,45.01]
[42.609999999999985,47.737272727272732,45.879565217391317,11,null,990.01,1005.01,955.01,11,46.26]
[46.369999999999983,52.010000000000005,49.966521739130449,12,null,1080.01,1121.01,1010.01,12,47.51]
[50.129999999999981,56.282727272727278,54.053478260869582,13,null,1170.01,1251.01,1065.01,13,48.76]
[53.889999999999979,60.555454545454552,58.140434782608715,14,null,1260.01,1397.01,1120.01,14,50.01]
[57.649999999999977,64.828181818181818,62.227391304347847,15,null,1350.01,1559.01,1175.01,15,51.26]
[61.409999999999975,69.100909090909084,66.314347826086973,16,null,1440.01,1740.01,1230.01,16,52.51]
[65.169999999999973,73.373636363636351,70.401304347826098,17,null,1530.01,1942.01,1285.01,17,53.76]
[68.929999999999978,77.646363636363617,74.488260869565224,18,null,1620.01,2168.0100000000002,1340.01,18,55.01]
[72.689999999999984,81.919090909090883,78.575217391304349,19,null,1710.01,2420.0100000000002,1395.01,19,56.26]
[76.449999999999989,86.191818181818149,82.662173913043475,20,null,1800.01,2701.01,1450.01,20,57.51]
[80.209999999999994,90.464545454545416,86.7491304347826,21,null,1890.01,3015.01,1505.01,21,58.76]
[83.97,94.737272727272682,90.836086956521726,22,null,1980.01,3365.01,1560.01,22,60.01]
[87.73,99.009999999999948,94.923043478260851,23,null,2070.0100000000002,3756.01,1615.01,23]
[91.490000000000009,null,99.009999999999977,24,null,2160.0100000000002,4192.01,1670.01,24]
[95.250000000000014,null,null,25,null,2250.0100000000002,4679.01,1725.01,25]
[99.01,null,null,26,null,2340.0100000000002,5223.01,1780.01,26]
[null,null,null,27,null,2430.0100000000002,5829.01,1835.01,27]
[null,null,null,28,null,2520.0100000000002,6506.01,1890.01,28]
[null,null,null,29,null,2610.0100000000002,7262.01,1945.01,29]
[null,null,null,30,null,2700.01,8106.01,2000.01,30]

{"sheet":"Points Table C","index":5,"n_rows":42,"n_cols":6,"rows_kept":42,"cut":false,"hidden":true,"merged":[]}
["Original NPSC profiler points table C, all per 100g",null,"Extended FoPL Profiler points table C, all per 100g"]
["Conc FVNL%","FVNL%","% Foods Fibre","%Foods Protein","NPSC/HSR Points","NPSC Points"]
[0,0,0,0,0,0]
[25,40.01,0.91,1.61,1,1]
[43,60.01,1.91,3.2,2,2]
[52,67.009999999999991,2.81,4.8099999999999996,3,2]
[63,75.009999999999991,3.71,6.41,4,2]
[67,80.009999999999991,4.71,8.01,5,5]
[80,90.009999999999991,5.41,9.61,6,5]
[90,95.009999999999991,6.31,11.61,7,5]
[99.5,99.51,7.31,13.91,8,5]
[100,100,8.41,16.71,9,8]
[null,null,9.7099999999999991,20.010000000000002,10]
[null,null,11.209999999999999,24.01,11]
[null,null,13.01,28.91,12]
[null,null,15.01,34.71,13]
[null,null,17.310000000000002,41.61,14]
[null,null,20.010000000000002,50.01,15]
[]
[]
["Red typeface refers to interpolated values"]
[]
["Note: All values have been inflated by 0.01 (one reportable increment) to match the 'greater than' requirements of the tables provided by FSANZ"]
[]
["New HSRAC option",null,"Original"]
["% Foods Fibre","NPSC/HSR Points","% Foods Fibre"]
[0,0,0]
[3.71,1,0.91]
[4.71,2,1.91]
[5.41,3,2.81]
[6.31,4,3.71]
[7.31,5,4.71]
[8.41,6,5.41]
[9.7099999999999991,7,6.31]
[11.209999999999999,8,7.31]
[13.01,9,8.41]
[15.01,10,9.7099999999999991]
[17.310000000000002,11,11.209999999999999]
[20.010000000000002,12,13.01]
[null,13,15.01]
[null,14,17.310000000000002]
[null,15,20.010000000000002]

{"sheet":"Test Foods","index":6,"n_rows":502,"n_cols":30,"rows_kept":502,"cut":false,"hidden":false,"merged":[[0,0,0,12]]}
[]
["HSR Category (select from drop down)","Company","Product","Energy (kj/100g)","Saturated fat (g/100g)","Total sugars (g/100g)","Sodium (mg/100g)","Fibre (g/100g)","Protein (g/100g)","Concentrated FVNL (%)","FVNL (%)","Wholegrain (%)","Health Star Rating (live)","Wholegrain Adjusted Fibre","HSR Profiler Score (Live)","HSR Star Points (Live)","Calculations --->","NPSC Category","NPSC Category","All FVNL concentrated?","Total FVNL %","HSR Energy Points","HSR Sat Fat Points","HSR Tot Sug Points","HSR Na Points","HSR Total A points","HSR FVNL Points","HSR Fibre Points","HSR Protein Points","HSR Total C Points"]
["Non-core foods","Enter a food name here","Company name",0,0,0,0,0,0,0,0,0,{"$f":"IF((SUM(D3:L3)=0),\"J\",VLOOKUP(P3,Lookups!$A$1:$B$11,2))","v":"J"},{"$f":"H3+(L3*Lookups!$C$102*H3/100)","v":0},{"$f":"$Z3-$AD3","v":0},{"$f":"IF(ROUND(10.499-(((O3-VLOOKUP($A3,Lookups!$A$55:$D$64,3))/(VLOOKUP($A3,Lookups!$A$55:$D$64,4))*VLOOKUP($A3,Lookups!$C$2:$D$11,2))),0)<1,1,IF(ROUND(10.499-(((O3-VLOOKUP($A3,Lookups!$A$55:$D$64,3))/(VLOOKUP($A3,Lookups!$A$55:$D$64,4))*VLOOKUP($A3,Lookups!$C$2:$D$11,2))),0)<11,ROUND(10.499-(((O3-VLOOKUP($A3,Lookups!$A$55:$D$64,3))/(VLOOKUP($A3,Lookups!$A$55:$D$64,4))*VLOOKUP($A3,Lookups!$C$2:$D$11,2))),0),10))","v":7},null,{"$f":"VLOOKUP(A3,Lookups!$A$126:$C$135,3)","v":2},{"$f":"VLOOKUP(A3,Lookups!$A$126:$C$135,2)","v":"Food"},{"$f":"IF(AND(J3>0,K3=0),\"Yes\",\"No\")","v":"No"},{"$f":"ROUND(100*(K3+2*J3)/(K3+2*J3+(100-J3-K3)),2)","v":0},{"$f":"IF($R3<>3,VLOOKUP($D3,'Points Table A'!$B$3:$F$33,5),VLOOKUP($D3,'Points Table A'!$H$3:$L$33,5))","v":0},{"$f":"IF($R3<>3,VLOOKUP($E3,'Points Table A'!$C$3:$F$33,4),VLOOKUP($E3,'Points Table A'!$I$3:$L$33,4))","v":0},{"$f":"IF($R3<>3,VLOOKUP($F3,'Points Table A'!$D$3:$F$33,3),VLOOKUP($F3,'Points Table A'!$J$3:$L$33,3))","v":0},{"$f":"IF($R3<>3,VLOOKUP($G3,'Points Table A'!$E$3:$F$33,2),VLOOKUP($G3,'Points Table A'!$K$3:$L$33,2))","v":0},{"$f":"SUM(V3:Y3)","v":0},{"$f":"IF($T3=Lookups!$B$113,VLOOKUP($J3,'Points Table C'!$A$3:$F$11,5),VLOOKUP($U3,'Points Table C'!$B$3:$F$11,4))","v":0},{"$f":"IF($R3=1,0,VLOOKUP($N3,'Points Table C'!$C$3:$E$18,3))","v":0},{"$f":"VLOOKUP($I3,'Points Table C'!$D$3:$E$18,2)","v":0},{"$f":"IF($Z3<Lookups!$C$106,(AA3+AB3+AC3),IF(AA3>=Lookups!$C$120,(AA3+AB3+AC3),AA3+AB3))","v":0}]
["Non-core foods","Enter a food name here","Company name",0,0,0,0,0,0,0,0,0,{"$f":"IF((SUM(D4:L4)=0),\"J\",VLOOKUP(P4,Lookups!$A$1:$B$11,2))","v":"J"},{"$f":"H4+(L4*Lookups!$C$102*H4/100)","v":0},0,{"$f":"IF(ROUND(10.499-(((O4-VLOOKUP($A4,Lookups!$A$55:$D$64,3))/(VLOOKUP($A4,Lookups!$A$55:$D$64,4))*VLOOKUP($A4,Lookups!$C$2:$D$11,2))),0)<1,1,IF(ROUND(10.499-(((O4-VLOOKUP($A4,Lookups!$A$55:$D$64,3))/(VLOOKUP($A4,Lookups!$A$55:$D$64,4))*VLOOKUP($A4,Lookups!$C$2:$D$11,2))),0)<11,ROUND(10.499-(((O4-VLOOKUP($A4,Lookups!$A$55:$D$64,3))/(VLOOKUP($A4,Lookups!$A$55:$D$64,4))*VLOOKUP($A4,Lookups!$C$2:$D$11,2))),0),10))","v":7},null,{"$f":"VLOOKUP(A4,Lookups!$A$126:$C$135,3)","v":2},{"$f":"VLOOKUP(A4,Lookups!$A$126:$C$135,2)","v":"Food"},"No",0,{"$f":"IF($R4<>3,VLOOKUP($D4,'Points Table A'!$B$3:$F$33,5),VLOOKUP($D4,'Points Table A'!$H$3:$L$33,5))","v":0},{"$f":"IF($R4<>3,VLOOKUP($E4,'Points Table A'!$C$3:$F$33,4),VLOOKUP($E4,'Points Table A'!$I$3:$L$33,4))","v":0},{"$f":"IF($R4<>3,VLOOKUP($F4,'Points Table A'!$D$3:$F$33,3),VLOOKUP($F4,'Points Table A'!$J$3:$L$33,3))","v":0},{"$f":"IF($R4<>3,VLOOKUP($G4,'Points Table A'!$E$3:$F$33,2),VLOOKUP($G4,'Points Table A'!$K$3:$L$33,2))","v":0},{"$f":"SUM(V4:Y4)","v":0},{"$f":"IF($T4=Lookups!$B$113,VLOOKUP($J4,'Points Table C'!$A$3:$F$11,5),VLOOKUP($U4,'Points Table C'!$B$3:$F$11,4))","v":0},{"$f":"IF($R4=1,0,VLOOKUP($N4,'Points Table C'!$C$3:$E$18,3))","v":0},{"$f":"VLOOKUP($I4,'Points Table C'!$D$3:$E$18,2)","v":0},{"$f":"IF($Z4<Lookups!$C$106,(AA4+AB4+AC4),IF(AA4>=Lookups!$C$120,(AA4+AB4+AC4),AA4+AB4))","v":0}]
["Non-core foods","Enter a food name here","Company name",0,0,0,0,0,0,0,0,0,{"$f":"IF((SUM(D5:L5)=0),\"J\",VLOOKUP(P5,Lookups!$A$1:$B$11,2))","v":"J"},{"$f":"H5+(L5*Lookups!$C$102*H5/100)","v":0},0,{"$f":"IF(ROUND(10.499-(((O5-VLOOKUP($A5,Lookups!$A$55:$D$64,3))/(VLOOKUP($A5,Lookups!$A$55:$D$64,4))*VLOOKUP($A5,Lookups!$C$2:$D$11,2))),0)<1,1,IF(ROUND(10.499-(((O5-VLOOKUP($A5,Lookups!$A$55:$D$64,3))/(VLOOKUP($A5,Lookups!$A$55:$D$64,4))*VLOOKUP($A5,Lookups!$C$2:$D$11,2))),0)<11,ROUND(10.499-(((O5-VLOOKUP($A5,Lookups!$A$55:$D$64,3))/(VLOOKUP($A5,Lookups!$A$55:$D$64,4))*VLOOKUP($A5,Lookups!$C$2:$D$11,2))),0),10))","v":7},null,{"$f":"VLOOKUP(A5,Lookups!$A$126:$C$135,3)","v":2},{"$f":"VLOOKUP(A5,Lookups!$A$126:$C$135,2)","v":"Food"},"No",0,{"$f":"IF($R5<>3,VLOOKUP($D5,'Points Table A'!$B$3:$F$33,5),VLOOKUP($D5,'Points Table A'!$H$3:$L$33,5))","v":0},{"$f":"IF($R5<>3,VLOOKUP($E5,'Points Table A'!$C$3:$F$33,4),VLOOKUP($E5,'Points Table A'!$I$3:$L$33,4))","v":0},{"$f":"IF($R5<>3,VLOOKUP($F5,'Points Table A'!$D$3:$F$33,3),VLOOKUP($F5,'Points Table A'!$J$3:$L$33,3))","v":0},{"$f":"IF($R5<>3,VLOOKUP($G5,'Points Table A'!$E$3:$F$33,2),VLOOKUP($G5,'Points Table A'!$K$3:$L$33,2))","v":0},0,{"$f":"IF($T5=Lookups!$B$113,VLOOKUP($J5,'Points Table C'!$A$3:$F$11,5),VLOOKUP($U5,'Points Table C'!$B$3:$F$11,4))","v":0},{"$f":"IF($R5=1,0,VLOOKUP($N5,'Points Table C'!$C$3:$E$18,3))","v":0},{"$f":"VLOOKUP($I5,'Points Table C'!$D$3:$E$18,2)","v":0},{"$f":"IF($Z5<Lookups!$C$106,(AA5+AB5+AC5),IF(AA5>=Lookups!$C$120,(AA5+AB5+AC5),AA5+AB5))","v":0}]
["Non-core foods","Enter a food name here","Company name",0,0,0,0,0,0,0,0,0,{"$f":"IF((SUM(D6:L6)=0),\"J\",VLOOKUP(P6,Lookups!$A$1:$B$11,2))","v":"J"},{"$f":"H6+(L6*Lookups!$C$102*H6/100)","v":0},0,{"$f":"IF(ROUND(10.499-(((O6-VLOOKUP($A6,Lookups!$A$55:$D$64,3))/(VLOOKUP($A6,Lookups!$A$55:$D$64,4))*VLOOKUP($A6,Lookups!$C$2:$D$11,2))),0)<1,1,IF(ROUND(10.499-(((O6-VLOOKUP($A6,Lookups!$A$55:$D$64,3))/(VLOOKUP($A6,Lookups!$A$55:$D$64,4))*VLOOKUP($A6,Lookups!$C$2:$D$11,2))),0)<11,ROUND(10.499-(((O6-VLOOKUP($A6,Lookups!$A$55:$D$64,3))/(VLOOKUP($A6,Lookups!$A$55:$D$64,4))*VLOOKUP($A6,Lookups!$C$2:$D$11,2))),0),10))","v":7},null,{"$f":"VLOOKUP(A6,Lookups!$A$126:$C$135,3)","v":2},{"$f":"VLOOKUP(A6,Lookups!$A$126:$C$135,2)","v":"Food"},"No",0,{"$f":"IF($R6<>3,VLOOKUP($D6,'Points Table A'!$B$3:$F$33,5),VLOOKUP($D6,'Points Table A'!$H$3:$L$33,5))","v":0},{"$f":"IF($R6<>3,VLOOKUP($E6,'Points Table A'!$C$3:$F$33,4),VLOOKUP($E6,'Points Table A'!$I$3:$L$33,4))","v":0},{"$f":"IF($R6<>3,VLOOKUP($F6,'Points Table A'!$D$3:$F$33,3),VLOOKUP($F6,'Points Table A'!$J$3:$L$33,3))","v":0},{"$f":"IF($R6<>3,VLOOKUP($G6,'Points Table A'!$E$3:$F$33,2),VLOOKUP($G6,'Points Table A'!$K$3:$L$33,2))","v":0},0,{"$f":"IF($T6=Lookups!$B$113,VLOOKUP($J6,'Points Table C'!$A$3:$F$11,5),VLOOKUP($U6,'Points Table C'!$B$3:$F$11,4))","v":0},{"$f":"IF($R6=1,0,VLOOKUP($N6,'Points Table C'!$C$3:$E$18,3))","v":0},{"$f":"VLOOKUP($I6,'Points Table C'!$D$3:$E$18,2)","v":0},{"$f":"IF($Z6<Lookups!$C$106,(AA6+AB6+AC6),IF(AA6>=Lookups!$C$120,(AA6+AB6+AC6),AA6+AB6))","v":0}]
["Non-core foods","Enter a food name here","Company name",0,0,0,0,0,0,0,0,0,{"$f":"IF((SUM(D7:L7)=0),\"J\",VLOOKUP(P7,Lookups!$A$1:$B$11,2))","v":"J"},{"$f":"H7+(L7*Lookups!$C$102*H7/100)","v":0},0,{"$f":"IF(ROUND(10.499-(((O7-VLOOKUP($A7,Lookups!$A$55:$D$64,3))/(VLOOKUP($A7,Lookups!$A$55:$D$64,4))*VLOOKUP($A7,Lookups!$C$2:$D$11,2))),0)<1,1,IF(ROUND(10.499-(((O7-VLOOKUP($A7,Lookups!$A$55:$D$64,3))/(VLOOKUP($A7,Lookups!$A$55:$D$64,4))*VLOOKUP($A7,Lookups!$C$2:$D$11,2))),0)<11,ROUND(10.499-(((O7-VLOOKUP($A7,Lookups!$A$55:$D$64,3))/(VLOOKUP($A7,Lookups!$A$55:$D$64,4))*VLOOKUP($A7,Lookups!$C$2:$D$11,2))),0),10))","v":7},null,{"$f":"VLOOKUP(A7,Lookups!$A$126:$C$135,3)","v":2},{"$f":"VLOOKUP(A7,Lookups!$A$126:$C$135,2)","v":"Food"},"No",0,{"$f":"IF($R7<>3,VLOOKUP($D7,'Points Table A'!$B$3:$F$33,5),VLOOKUP($D7,'Points Table A'!$H$3:$L$33,5))","v":0},{"$f":"IF($R7<>3,VLOOKUP($E7,'Points Table A'!$C$3:$F$33,4),VLOOKUP($E7,'Points Table A'!$I$3:$L$33,4))","v":0},{"$f":"IF($R7<>3,VLOOKUP($F7,'Points Table A'!$D$3:$F$33,3),VLOOKUP($F7,'Points Table A'!$J$3:$L$33,3))","v":0},{"$f":"IF($R7<>3,VLOOKUP($G7,'Points Table A'!$E$3:$F$33,2),VLOOKUP($G7,'Points Table A'!$K$3:$L$33,2))","v":0},0,{"$f":"IF($T7=Lookups!$B$113,VLOOKUP($J7,'Points Table C'!$A$3:$F$11,5),VLOOKUP($U7,'Points Table C'!$B$3:$F$11,4))","v":0},{"$f":"IF($R7=1,0,VLOOKUP($N7,'Points Table C'!$C$3:$E$18,3))","v":0},{"$f":"VLOOKUP($I7,'Points Table C'!$D$3:$E$18,2)","v":0},{"$f":"IF($Z7<Lookups!$C$106,(AA7+AB7+AC7),IF(AA7>=Lookups!$C$120,(AA7+AB7+AC7),AA7+AB7))","v":0}]
["Non-core foods","Enter a food name here","Company name",0,0,0,0,0,0,0,0,0,{"$f":"IF((SUM(D8:L8)=0),\"J\",VLOOKUP(P8,Lookups!$A$1:$B$11,2))","v":"J"},{"$f":"H8+(L8*Lookups!$C$102*H8/100)","v":0},0,{"$f":"IF(ROUND(10.499-(((O8-VLOOKUP($A8,Lookups!$A$55:$D$64,3))/(VLOOKUP($A8,Lookups!$A$55:$D$64,4))*VLOOKUP($A8,Lookups!$C$2:$D$11,2))),0)<1,1,IF(ROUND(10.499-(((O8-VLOOKUP($A8,Lookups!$A$55:$D$64,3))/(VLOOKUP($A8,Lookups!$A$55:$D$64,4))*VLOOKUP($A8,Lookups!$C$2:$D$11,2))),0)<11,ROUND(10.499-(((O8-VLOOKUP($A8,Lookups!$A$55:$D$64,3))/(VLOOKUP($A8,Lookups!$A$55:$D$64,4))*VLOOKUP($A8,Lookups!$C$2:$D$11,2))),0),10))","v":7},null,{"$f":"VLOOKUP(A8,Lookups!$A$126:$C$135,3)","v":2},{"$f":"VLOOKUP(A8,Lookups!$A$126:$C$135,2)","v":"Food"},"No",0,{"$f":"IF($R8<>3,VLOOKUP($D8,'Points Table A'!$B$3:$F$33,5),VLOOKUP($D8,'Points Table A'!$H$3:$L$33,5))","v":0},{"$f":"IF($R8<>3,VLOOKUP($E8,'Points Table A'!$C$3:$F$33,4),VLOOKUP($E8,'Points Table A'!$I$3:$L$33,4))","v":0},{"$f":"IF($R8<>3,VLOOKUP($F8,'Points Table A'!$D$3:$F$33,3),VLOOKUP($F8,'Points Table A'!$J$3:$L$33,3))","v":0},{"$f":"IF($R8<>3,VLOOKUP($G8,'Points Table A'!$E$3:$F$33,2),VLOOKUP($G8,'Points Table A'!$K$3:$L$33,2))","v":0},0,{"$f":"IF($T8=Lookups!$B$113,VLOOKUP($J8,'Points Table C'!$A$3:$F$11,5),VLOOKUP($U8,'Points Table C'!$B$3:$F$11,4))","v":0},{"$f":"IF($R8=1,0,VLOOKUP($N8,'Points Table C'!$C$3:$E$18,3))","v":0},{"$f":"VLOOKUP($I8,'Points Table C'!$D$3:$E$18,2)","v":0},{"$f":"IF($Z8<Lookups!$C$106,(AA8+AB8+AC8),IF(AA8>=Lookups!$C$120,(AA8+AB8+AC8),AA8+AB8))","v":0}]
["Non-core foods","Enter a food name here","Company name",0,0,0,0,0,0,0,0,0,{"$f":"IF((SUM(D9:L9)=0),\"J\",VLOOKUP(P9,Lookups!$A$1:$B$11,2))","v":"J"},{"$f":"H9+(L9*Lookups!$C$102*H9/100)","v":0},0,{"$f":"IF(ROUND(10.499-(((O9-VLOOKUP($A9,Lookups!$A$55:$D$64,3))/(VLOOKUP($A9,Lookups!$A$55:$D$64,4))*VLOOKUP($A9,Lookups!$C$2:$D$11,2))),0)<1,1,IF(ROUND(10.499-(((O9-VLOOKUP($A9,Lookups!$A$55:$D$64,3))/(VLOOKUP($A9,Lookups!$A$55:$D$64,4))*VLOOKUP($A9,Lookups!$C$2:$D$11,2))),0)<11,ROUND(10.499-(((O9-VLOOKUP($A9,Lookups!$A$55:$D$64,3))/(VLOOKUP($A9,Lookups!$A$55:$D$64,4))*VLOOKUP($A9,Lookups!$C$2:$D$11,2))),0),10))","v":7},null,{"$f":"VLOOKUP(A9,Lookups!$A$126:$C$135,3)","v":2},{"$f":"VLOOKUP(A9,Lookups!$A$126:$C$135,2)","v":"Food"},"No",0,{"$f":"IF($R9<>3,VLOOKUP($D9,'Points Table A'!$B$3:$F$33,5),VLOOKUP($D9,'Points Table A'!$H$3:$L$33,5))","v":0},{"$f":"IF($R9<>3,VLOOKUP($E9,'Points Table A'!$C$3:$F$33,4),VLOOKUP($E9,'Points Table A'!$I$3:$L$33,4))","v":0},{"$f":"IF($R9<>3,VLOOKUP($F9,'Points Table A'!$D$3:$F$33,3),VLOOKUP($F9,'Points Table A'!$J$3:$L$33,3))","v":0},{"$f":"IF($R9<>3,VLOOKUP($G9,'Points Table A'!$E$3:$F$33,2),VLOOKUP($G9,'Points Table A'!$K$3:$L$33,2))","v":0},0,{"$f":"IF($T9=Lookups!$B$113,VLOOKUP($J9,'Points Table C'!$A$3:$F$11,5),VLOOKUP($U9,'Points Table C'!$B$3:$F$11,4))","v":0},{"$f":"IF($R9=1,0,VLOOKUP($N9,'Points Table C'!$C$3:$E$18,3))","v":0},{"$f":"VLOOKUP($I9,'Points Table C'!$D$3:$E$18,2)","v":0},{"$f":"IF($Z9<Lookups!$C$106,(AA9+AB9+AC9),IF(AA9>=Lookups!$C$120,(AA9+AB9+AC9),AA9+AB9))","v":0}]
["Non-core foods","Enter a food name here","Company name",0,0,0,0,0,0,0,0,0,{"$f":"IF((SUM(D10:L10)=0),\"J\",VLOOKUP(P10,Lookups!$A$1:$B$11,2))","v":"J"},{"$f":"H10+(L10*Lookups!$C$102*H10/100)","v":0},0,{"$f":"IF(ROUND(10.499-(((O10-VLOOKUP($A10,Lookups!$A$55:$D$64,3))/(VLOOKUP($A10,Lookups!$A$55:$D$64,4))*VLOOKUP($A10,Lookups!$C$2:$D$11,2))),0)<1,1,IF(ROUND(10.499-(((O10-VLOOKUP($A10,Lookups!$A$55:$D$64,3))/(VLOOKUP($A10,Lookups!$A$55:$D$64,4))*VLOOKUP($A10,Lookups!$C$2:$D$11,2))),0)<11,ROUND(10.499-(((O10-VLOOKUP($A10,Lookups!$A$55:$D$64,3))/(VLOOKUP($A10,Lookups!$A$55:$D$64,4))*VLOOKUP($A10,Lookups!$C$2:$D$11,2))),0),10))","v":7},null,{"$f":"VLOOKUP(A10,Lookups!$A$126:$C$135,3)","v":2},{"$f":"VLOOKUP(A10,Lookups!$A$126:$C$135,2)","v":"Food"},"No",0,{"$f":"IF($R10<>3,VLOOKUP($D10,'Points Table A'!$B$3:$F$33,5),VLOOKUP($D10,'Points Table A'!$H$3:$L$33,5))","v":0},{"$f":"IF($R10<>3,VLOOKUP($E10,'Points Table A'!$C$3:$F$33,4),VLOOKUP($E10,'Points Table A'!$I$3:$L$33,4))","v":0},{"$f":"IF($R10<>3,VLOOKUP($F10,'Points Table A'!$D$3:$F$33,3),VLOOKUP($F10,'Points Table A'!$J$3:$L$33,3))","v":0},{"$f":"IF($R10<>3,VLOOKUP($G10,'Points Table A'!$E$3:$F$33,2),VLOOKUP($G10,'Points Table A'!$K$3:$L$33,2))","v":0},0,{"$f":"IF($T10=Lookups!$B$113,VLOOKUP($J10,'Points Table C'!$A$3:$F$11,5),VLOOKUP($U10,'Points Table C'!$B$3:$F$11,4))","v":0},{"$f":"IF($R10=1,0,VLOOKUP($N10,'Points Table C'!$C$3:$E$18,3))","v":0},{"$f":"VLOOKUP($I10,'Points Table C'!$D$3:$E$18,2)","v":0},{"$f":"IF($Z10<Lookups!$C$106,(AA10+AB10+AC10),IF(AA10>=Lookups!$C$120,(AA10+AB10+AC10),AA10+AB10))","v":0}]
["Non-core foods","Enter a food name here","Company name",0,0,0,0,0,0,0,0,0,{"$f":"IF((SUM(D11:L11)=0),\"J\",VLOOKUP(P11,Lookups!$A$1:$B$11,2))","v":"J"},{"$f":"H11+(L11*Lookups!$C$102*H11/100)","v":0},0,{"$f":"IF(ROUND(10.499-(((O11-VLOOKUP($A11,Lookups!$A$55:$D$64,3))/(VLOOKUP($A11,Lookups!$A$55:$D$64,4))*VLOOKUP($A11,Lookups!$C$2:$D$11,2))),0)<1,1,IF(ROUND(10.499-(((O11-VLOOKUP($A11,Lookups!$A$55:$D$64,3))/(VLOOKUP($A11,Lookups!$A$55:$D$64,4))*VLOOKUP($A11,Lookups!$C$2:$D$11,2))),0)<11,ROUND(10.499-(((O11-VLOOKUP($A11,Lookups!$A$55:$D$64,3))/(VLOOKUP($A11,Lookups!$A$55:$D$64,4))*VLOOKUP($A11,Lookups!$C$2:$D$11,2))),0),10))","v":7},null,{"$f":"VLOOKUP(A11,Lookups!$A$126:$C$135,3)","v":2},{"$f":"VLOOKUP(A11,Lookups!$A$126:$C$135,2)","v":"Food"},"No",0,{"$f":"IF($R11<>3,VLOOKUP($D11,'Points Table A'!$B$3:$F$33,5),VLOOKUP($D11,'Points Table A'!$H$3:$L$33,5))","v":0},{"$f":"IF($R11<>3,VLOOKUP($E11,'Points Table A'!$C$3:$F$33,4),VLOOKUP($E11,'Points Table A'!$I$3:$L$33,4))","v":0},{"$f":"IF($R11<>3,VLOOKUP($F11,'Points Table A'!$D$3:$F$33,3),VLOOKUP($F11,'Points Table A'!$J$3:$L$33,3))","v":0},{"$f":"IF($R11<>3,VLOOKUP($G11,'Points Table A'!$E$3:$F$33,2),VLOOKUP($G11,'Points Table A'!$K$3:$L$33,2))","v":0},0,{"$f":"IF($T11=Lookups!$B$113,VLOOKUP($J11,'Points Table C'!$A$3:$F$11,5),VLOOKUP($U11,'Points Table C'!$B$3:$F$11,4))","v":0},{"$f":"IF($R11=1,0,VLOOKUP($N11,'Points Table C'!$C$3:$E$18,3))","v":0},{"$f":"VLOOKUP($I11,'Points Table C'!$D$3:$E$18,2)","v":0},{"$f":"IF($Z11<Lookups!$C$106,(AA11+AB11+AC11),IF(AA11>=Lookups!$C$120,(AA11+AB11+AC11),AA11+AB11))","v":0}]
["Non-core foods","Enter a food name here","Company name",0,0,0,0,0,0,0,0,0,{"$f":"IF((SUM(D12:L12)=0),\"J\",VLOOKUP(P12,Lookups!$A$1:$B$11,2))","v":"J"},{"$f":"H12+(L12*Lookups!$C$102*H12/100)","v":0},0,{"$f":"IF(ROUND(10.499-(((O12-VLOOKUP($A12,Lookups!$A$55:$D$64,3))/(VLOOKUP($A12,Lookups!$A$55:$D$64,4))*VLOOKUP($A12,Lookups!$C$2:$D$11,2))),0)<1,1,IF(ROUND(10.499-(((O12-VLOOKUP($A12,Lookups!$A$55:$D$64,3))/(VLOOKUP($A12,Lookups!$A$55:$D$64,4))*VLOOKUP($A12,Lookups!$C$2:$D$11,2))),0)<11,ROUND(10.499-(((O12-VLOOKUP($A12,Lookups!$A$55:$D$64,3))/(VLOOKUP($A12,Lookups!$A$55:$D$64,4))*VLOOKUP($A12,Lookups!$C$2:$D$11,2))),0),10))","v":7},null,{"$f":"VLOOKUP(A12,Lookups!$A$126:$C$135,3)","v":2},{"$f":"VLOOKUP(A12,Lookups!$A$126:$C$135,2)","v":"Food"},"No",0,{"$f":"IF($R12<>3,VLOOKUP($D12,'Points Table A'!$B$3:$F$33,5),VLOOKUP($D12,'Points Table A'!$H$3:$L$33,5))","v":0},{"$f":"IF($R12<>3,VLOOKUP($E12,'Points Table A'!$C$3:$F$33,4),VLOOKUP($E12,'Points Table A'!$I$3:$L$33,4))","v":0},{"$f":"IF($R12<>3,VLOOKUP($F12,'Points Table A'!$D$3:$F$33,3),VLOOKUP($F12,'Points Table A'!$J$3:$L$33,3))","v":0},{"$f":"IF($R12<>3,VLOOKUP($G12,'Points Table A'!$E$3:$F$33,2),VLOOKUP($G12,'Points Table A'!$K$3:$L$33,2))","v":0},0,{"$f":"IF($T12=Lookups!$B$113,VLOOKUP($J12,'Points Table C'!$A$3:$F$11,5),VLOOKUP($U12,'Points Table C'!$B$3:$F$11,4))","v":0},{"$f":"IF($R12=1,0,VLOOKUP($N12,'Points Table C'!$C$3:$E$18,3))","v":0},{"$f":"VLOOKUP($I12,'Points Table C'!$D$3:$E$18,2)","v":0},{"$f":"IF($Z12<Lookups!$C$106,(AA12+AB12+AC12),IF(AA12>=Lookups!$C$120,(AA12+AB12+AC12),AA12+AB12))","v":0}]
["Non-core foods","Enter a food name here","Company name",0,0,0,0,0,0,0,0,0,{"$f":"IF((SUM(D13:L13)=0),\"J\",VLOOKUP(P13,Lookups!$A$1:$B$11,2))","v":"J"},{"$f":"H13+(L13*Lookups!$C$102*H13/100)","v":0},0,{"$f":"IF(ROUND(10.499-(((O13-VLOOKUP($A13,Lookups!$A$55:$D$64,3))/(VLOOKUP($A13,Lookups!$A$55:$D$64,4))*VLOOKUP($A13,Lookups!$C$2:$D$11,2))),0)<1,1,IF(ROUND(10.499-(((O13-VLOOKUP($A13,Lookups!$A$55:$D$64,3))/(VLOOKUP($A13,Lookups!$A$55:$D$64,4))*VLOOKUP($A13,Lookups!$C$2:$D$11,2))),0)<11,ROUND(10.499-(((O13-VLOOKUP($A13,Lookups!$A$55:$D$64,3))/(VLOOKUP($A13,Lookups!$A$55:$D$64,4))*VLOOKUP($A13,Lookups!$C$2:$D$11,2))),0),10))","v":7},null,{"$f":"VLOOKUP(A13,Lookups!$A$126:$C$135,3)","v":2},{"$f":"VLOOKUP(A13,Lookups!$A$126:$C$135,2)","v":"Food"},"No",0,{"$f":"IF($R13<>3,VLOOKUP($D13,'Points Table A'!$B$3:$F$33,5),VLOOKUP($D13,'Points Table A'!$H$3:$L$33,5))","v":0},{"$f":"IF($R13<>3,VLOOKUP($E13,'Points Table A'!$C$3:$F$33,4),VLOOKUP($E13,'Points Table A'!$I$3:$L$33,4))","v":0},{"$f":"IF($R13<>3,VLOOKUP($F13,'Points Table A'!$D$3:$F$33,3),VLOOKUP($F13,'Points Table A'!$J$3:$L$33,3))","v":0},{"$f":"IF($R13<>3,VLOOKUP($G13,'Points Table A'!$E$3:$F$33,2),VLOOKUP($G13,'Points Table A'!$K$3:$L$33,2))","v":0},0,{"$f":"IF($T13=Lookups!$B$113,VLOOKUP($J13,'Points Table C'!$A$3:$F$11,5),VLOOKUP($U13,'Points Table C'!$B$3:$F$11,4))","v":0},{"$f":"IF($R13=1,0,VLOOKUP($N13,'Points Table C'!$C$3:$E$18,3))","v":0},{"$f":"VLOOKUP($I13,'Points Table C'!$D$3:$E$18,2)","v":0},{"$f":"IF($Z13<Lookups!$C$106,(AA13+AB13+AC13),IF(AA13>=Lookups!$C$120,(AA13+AB13+AC13),AA13+AB13))","v":0}]
["Non-core foods","Enter a food name here","Company name",0,0,0,0,0,0,0,0,0,{"$f":"IF((SUM(D14:L14)=0),\"J\",VLOOKUP(P14,Lookups!$A$1:$B$11,2))","v":"J"},{"$f":"H14+(L14*Lookups!$C$102*H14/100)","v":0},0,{"$f":"IF(ROUND(10.499-(((O14-VLOOKUP($A14,Lookups!$A$55:$D$64,3))/(VLOOKUP($A14,Lookups!$A$55:$D$64,4))*VLOOKUP($A14,Lookups!$C$2:$D$11,2))),0)<1,1,IF(ROUND(10.499-(((O14-VLOOKUP($A14,Lookups!$A$55:$D$64,3))/(VLOOKUP($A14,Lookups!$A$55:$D$64,4))*VLOOKUP($A14,Lookups!$C$2:$D$11,2))),0)<11,ROUND(10.499-(((O14-VLOOKUP($A14,Lookups!$A$55:$D$64,3))/(VLOOKUP($A14,Lookups!$A$55:$D$64,4))*VLOOKUP($A14,Lookups!$C$2:$D$11,2))),0),10))","v":7},null,{"$f":"VLOOKUP(A14,Lookups!$A$126:$C$135,3)","v":2},{"$f":"VLOOKUP(A14,Lookups!$A$126:$C$135,2)","v":"Food"},"No",0,{"$f":"IF($R14<>3,VLOOKUP($D14,'Points Table A'!$B$3:$F$33,5),VLOOKUP($D14,'Points Table A'!$H$3:$L$33,5))","v":0},{"$f":"IF($R14<>3,VLOOKUP($E14,'Points Table A'!$C$3:$F$33,4),VLOOKUP($E14,'Points Table A'!$I$3:$L$33,4))","v":0},{"$f":"IF($R14<>3,VLOOKUP($F14,'Points Table A'!$D$3:$F$33,3),VLOOKUP($F14,'Points Table A'!$J$3:$L$33,3))","v":0},{"$f":"IF($R14<>3,VLOOKUP($G14,'Points Table A'!$E$3:$F$33,2),VLOOKUP($G14,'Points Table A'!$K$3:$L$33,2))","v":0},0,{"$f":"IF($T14=Lookups!$B$113,VLOOKUP($J14,'Points Table C'!$A$3:$F$11,5),VLOOKUP($U14,'Points Table C'!$B$3:$F$11,4))","v":0},{"$f":"IF($R14=1,0,VLOOKUP($N14,'Points Table C'!$C$3:$E$18,3))","v":0},{"$f":"VLOOKUP($I14,'Points Table C'!$D$3:$E$18,2)","v":0},{"$f":"IF($Z14<Lookups!$C$106,(AA14+AB14+AC14),IF(AA14>=Lookups!$C$120,(AA14+AB14+AC14),AA14+AB14))","v":0}]
["Non-core foods","Enter a food name here","Company name",0,0,0,0,0,0,0,0,0,{"$f":"IF((SUM(D15:L15)=0),\"J\",VLOOKUP(P15,Lookups!$A$1:$B$11,2))","v":"J"},{"$f":"H15+(L15*Lookups!$C$102*H15/100)","v":0},0,{"$f":"IF(ROUND(10.499-(((O15-VLOOKUP($A15,Lookups!$A$55:$D$64,3))/(VLOOKUP($A15,Lookups!$A$55:$D$64,4))*VLOOKUP($A15,Lookups!$C$2:$D$11,2))),0)<1,1,IF(ROUND(10.499-(((O15-VLOOKUP($A15,Lookups!$A$55:$D$64,3))/(VLOOKUP($A15,Lookups!$A$55:$D$64,4))*VLOOKUP($A15,Lookups!$C$2:$D$11,2))),0)<11,ROUND(10.499-(((O15-VLOOKUP($A15,Lookups!$A$55:$D$64,3))/(VLOOKUP($A15,Lookups!$A$55:$D$64,4))*VLOOKUP($A15,Lookups!$C$2:$D$11,2))),0),10))","v":7},null,{"$f":"VLOOKUP(A15,Lookups!$A$126:$C$135,3)","v":2},{"$f":"VLOOKUP(A15,Lookups!$A$126:$C$135,2)","v":"Food"},"No",0,{"$f":"IF($R15<>3,VLOOKUP($D15,'Points Table A'!$B$3:$F$33,5),VLOOKUP($D15,'Points Table A'!$H$3:$L$33,5))","v":0},{"$f":"IF($R15<>3,VLOOKUP($E15,'Points Table A'!$C$3:$F$33,4),VLOOKUP($E15,'Points Table A'!$I$3:$L$33,4))","v":0},{"$f":"IF($R15<>3,VLOOKUP($F15,'Points Table A'!$D$3:$F$33,3),VLOOKUP($F15,'Points Table A'!$J$3:$L$33,3))","v":0},{"$f":"IF($R15<>3,VLOOKUP($G15,'Points Table A'!$E$3:$F$33,2),VLOOKUP($G15,'Points Table A'!$K$3:$L$33,2))","v":0},0,{"$f":"IF($T15=Lookups!$B$113,VLOOKUP($J15,'Points Table C'!$A$3:$F$11,5),VLOOKUP($U15,'Points Table C'!$B$3:$F$11,4))","v":0},{"$f":"IF($R15=1,0,VLOOKUP($N15,'Points Table C'!$C$3:$E$18,3))","v":0},{"$f":"VLOOKUP($I15,'Points Table C'!$D$3:$E$18,2)","v":0},{"$f":"IF($Z15<Lookups!$C$106,(AA15+AB15+AC15),IF(AA15>=Lookups!$C$120,(AA15+AB15+AC15),AA15+AB15))","v":0}]
["Non-core foods","Enter a food name here","Company name",0,0,0,0,0,0,0,0,0,{"$f":"IF((SUM(D16:L16)=0),\"J\",VLOOKUP(P16,Lookups!$A$1:$B$11,2))","v":"J"},{"$f":"H16+(L16*Lookups!$C$102*H16/100)","v":0},0,{"$f":"IF(ROUND(10.499-(((O16-VLOOKUP($A16,Lookups!$A$55:$D$64,3))/(VLOOKUP($A16,Lookups!$A$55:$D$64,4))*VLOOKUP($A16,Lookups!$C$2:$D$11,2))),0)<1,1,IF(ROUND(10.499-(((O16-VLOOKUP($A16,Lookups!$A$55:$D$64,3))/(VLOOKUP($A16,Lookups!$A$55:$D$64,4))*VLOOKUP($A16,Lookups!$C$2:$D$11,2))),0)<11,ROUND(10.499-(((O16-VLOOKUP($A16,Lookups!$A$55:$D$64,3))/(VLOOKUP($A16,Lookups!$A$55:$D$64,4))*VLOOKUP($A16,Lookups!$C$2:$D$11,2))),0),10))","v":7},null,{"$f":"VLOOKUP(A16,Lookups!$A$126:$C$135,3)","v":2},{"$f":"VLOOKUP(A16,Lookups!$A$126:$C$135,2)","v":"Food"},"No",0,{"$f":"IF($R16<>3,VLOOKUP($D16,'Points Table A'!$B$3:$F$33,5),VLOOKUP($D16,'Points Table A'!$H$3:$L$33,5))","v":0},{"$f":"IF($R16<>3,VLOOKUP($E16,'Points Table A'!$C$3:$F$33,4),VLOOKUP($E16,'Points Table A'!$I$3:$L$33,4))","v":0},{"$f":"IF($R16<>3,VLOOKUP($F16,'Points Table A'!$D$3:$F$33,3),VLOOKUP($F16,'Points Table A'!$J$3:$L$33,3))","v":0},{"$f":"IF($R16<>3,VLOOKUP($G16,'Points Table A'!$E$3:$F$33,2),VLOOKUP($G16,'Points Table A'!$K$3:$L$33,2))","v":0},0,{"$f":"IF($T16=Lookups!$B$113,VLOOKUP($J16,'Points Table C'!$A$3:$F$11,5),VLOOKUP($U16,'Points Table C'!$B$3:$F$11,4))","v":0},{"$f":"IF($R16=1,0,VLOOKUP($N16,'Points Table C'!$C$3:$E$18,3))","v":0},{"$f":"VLOOKUP($I16,'Points Table C'!$D$3:$E$18,2)","v":0},{"$f":"IF($Z16<Lookups!$C$106,(AA16+AB16+AC16),IF(AA16>=Lookups!$C$120,(AA16+AB16+AC16),AA16+AB16))","v":0}]
["Non-core foods","Enter a food name here","Company name",0,0,0,0,0,0,0,0,0,{"$f":"IF((SUM(D17:L17)=0),\"J\",VLOOKUP(P17,Lookups!$A$1:$B$11,2))","v":"J"},{"$f":"H17+(L17*Lookups!$C$102*H17/100)","v":0},0,{"$f":"IF(ROUND(10.499-(((O17-VLOOKUP($A17,Lookups!$A$55:$D$64,3))/(VLOOKUP($A17,Lookups!$A$55:$D$64,4))*VLOOKUP($A17,Lookups!$C$2:$D$11,2))),0)<1,1,IF(ROUND(10.499-(((O17-VLOOKUP($A17,Lookups!$A$55:$D$64,3))/(VLOOKUP($A17,Lookups!$A$55:$D$64,4))*VLOOKUP($A17,Lookups!$C$2:$D$11,2))),0)<11,ROUND(10.499-(((O17-VLOOKUP($A17,Lookups!$A$55:$D$64,3))/(VLOOKUP($A17,Lookups!$A$55:$D$64,4))*VLOOKUP($A17,Lookups!$C$2:$D$11,2))),0),10))","v":7},null,{"$f":"VLOOKUP(A17,Lookups!$A$126:$C$135,3)","v":2},{"$f":"VLOOKUP(A17,Lookups!$A$126:$C$135,2)","v":"Food"},"No",0,{"$f":"IF($R17<>3,VLOOKUP($D17,'Points Table A'!$B$3:$F$33,5),VLOOKUP($D17,'Points Table A'!$H$3:$L$33,5))","v":0},{"$f":"IF($R17<>3,VLOOKUP($E17,'Points Table A'!$C$3:$F$33,4),VLOOKUP($E17,'Points Table A'!$I$3:$L$33,4))","v":0},{"$f":"IF($R17<>3,VLOOKUP($F17,'Points Table A'!$D$3:$F$33,3),VLOOKUP($F17,'Points Table A'!$J$3:$L$33,3))","v":0},{"$f":"IF($R17<>3,VLOOKUP($G17,'Points Table A'!$E$3:$F$33,2),VLOOKUP($G17,'Points Table A'!$K$3:$L$33,2))","v":0},0,{"$f":"IF($T17=Lookups!$B$113,VLOOKUP($J17,'Points Table C'!$A$3:$F$11,5),VLOOKUP($U17,'Points Table C'!$B$3:$F$11,4))","v":0},{"$f":"IF($R17=1,0,VLOOKUP($N17,'Points Table C'!$C$3:$E$18,3))","v":0},{"$f":"VLOOKUP($I17,'Points Table C'!$D$3:$E$18,2)","v":0},{"$f":"IF($Z17<Lookups!$C$106,(AA17+AB17+AC17),IF(AA17>=Lookups!$C$120,(AA17+AB17+AC17),AA17+AB17))","v":0}]
["Non-core foods","Enter a food name here","Company name",0,0,0,0,0,0,0,0,0,{"$f":"IF((SUM(D18:L18)=0),\"J\",VLOOKUP(P18,Lookups!$A$1:$B$11,2))","v":"J"},{"$f":"H18+(L18*Lookups!$C$102*H18/100)","v":0},0,{"$f":"IF(ROUND(10.499-(((O18-VLOOKUP($A18,Lookups!$A$55:$D$64,3))/(VLOOKUP($A18,Lookups!$A$55:$D$64,4))*VLOOKUP($A18,Lookups!$C$2:$D$11,2))),0)<1,1,IF(ROUND(10.499-(((O18-VLOOKUP($A18,Lookups!$A$55:$D$64,3))/(VLOOKUP($A18,Lookups!$A$55:$D$64,4))*VLOOKUP($A18,Lookups!$C$2:$D$11,2))),0)<11,ROUND(10.499-(((O18-VLOOKUP($A18,Lookups!$A$55:$D$64,3))/(VLOOKUP($A18,Lookups!$A$55:$D$64,4))*VLOOKUP($A18,Lookups!$C$2:$D$11,2))),0),10))","v":7},null,{"$f":"VLOOKUP(A18,Lookups!$A$126:$C$135,3)","v":2},{"$f":"VLOOKUP(A18,Lookups!$A$126:$C$135,2)","v":"Food"},"No",0,{"$f":"IF($R18<>3,VLOOKUP($D18,'Points Table A'!$B$3:$F$33,5),VLOOKUP($D18,'Points Table A'!$H$3:$L$33,5))","v":0},{"$f":"IF($R18<>3,VLOOKUP($E18,'Points Table A'!$C$3:$F$33,4),VLOOKUP($E18,'Points Table A'!$I$3:$L$33,4))","v":0},{"$f":"IF($R18<>3,VLOOKUP($F18,'Points Table A'!$D$3:$F$33,3),VLOOKUP($F18,'Points Table A'!$J$3:$L$33,3))","v":0},{"$f":"IF($R18<>3,VLOOKUP($G18,'Points Table A'!$E$3:$F$33,2),VLOOKUP($G18,'Points Table A'!$K$3:$L$33,2))","v":0},0,{"$f":"IF($T18=Lookups!$B$113,VLOOKUP($J18,'Points Table C'!$A$3:$F$11,5),VLOOKUP($U18,'Points Table C'!$B$3:$F$11,4))","v":0},{"$f":"IF($R18=1,0,VLOOKUP($N18,'Points Table C'!$C$3:$E$18,3))","v":0},{"$f":"VLOOKUP($I18,'Points Table C'!$D$3:$E$18,2)","v":0},{"$f":"IF($Z18<Lookups!$C$106,(AA18+AB18+AC18),IF(AA18>=Lookups!$C$120,(AA18+AB18+AC18),AA18+AB18))","v":0}]
["Non-core foods","Enter a food name here","Company name",0,0,0,0,0,0,0,0,0,{"$f":"IF((SUM(D19:L19)=0),\"J\",VLOOKUP(P19,Lookups!$A$1:$B$11,2))","v":"J"},{"$f":"H19+(L19*Lookups!$C$102*H19/100)","v":0},0,{"$f":"IF(ROUND(10.499-(((O19-VLOOKUP($A19,Lookups!$A$55:$D$64,3))/(VLOOKUP($A19,Lookups!$A$55:$D$64,4))*VLOOKUP($A19,Lookups!$C$2:$D$11,2))),0)<1,1,IF(ROUND(10.499-(((O19-VLOOKUP($A19,Lookups!$A$55:$D$64,3))/(VLOOKUP($A19,Lookups!$A$55:$D$64,4))*VLOOKUP($A19,Lookups!$C$2:$D$11,2))),0)<11,ROUND(10.499-(((O19-VLOOKUP($A19,Lookups!$A$55:$D$64,3))/(VLOOKUP($A19,Lookups!$A$55:$D$64,4))*VLOOKUP($A19,Lookups!$C$2:$D$11,2))),0),10))","v":7},null,{"$f":"VLOOKUP(A19,Lookups!$A$126:$C$135,3)","v":2},{"$f":"VLOOKUP(A19,Lookups!$A$126:$C$135,2)","v":"Food"},"No",0,{"$f":"IF($R19<>3,VLOOKUP($D19,'Points Table A'!$B$3:$F$33,5),VLOOKUP($D19,'Points Table A'!$H$3:$L$33,5))","v":0},{"$f":"IF($R19<>3,VLOOKUP($E19,'Points Table A'!$C$3:$F$33,4),VLOOKUP($E19,'Points Table A'!$I$3:$L$33,4))","v":0},{"$f":"IF($R19<>3,VLOOKUP($F19,'Points Table A'!$D$3:$F$33,3),VLOOKUP($F19,'Points Table A'!$J$3:$L$33,3))","v":0},{"$f":"IF($R19<>3,VLOOKUP($G19,'Points Table A'!$E$3:$F$33,2),VLOOKUP($G19,'Points Table A'!$K$3:$L$33,2))","v":0},0,{"$f":"IF($T19=Lookups!$B$113,VLOOKUP($J19,'Points Table C'!$A$3:$F$11,5),VLOOKUP($U19,'Points Table C'!$B$3:$F$11,4))","v":0},{"$f":"IF($R19=1,0,VLOOKUP($N19,'Points Table C'!$C$3:$E$18,3))","v":0},{"$f":"VLOOKUP($I19,'Points Table C'!$D$3:$E$18,2)","v":0},{"$f":"IF($Z19<Lookups!$C$106,(AA19+AB19+AC19),IF(AA19>=Lookups!$C$120,(AA19+AB19+AC19),AA19+AB19))","v":0}]
["Non-core foods","Enter a food name here","Company name",0,0,0,0,0,0,0,0,0,{"$f":"IF((SUM(D20:L20)=0),\"J\",VLOOKUP(P20,Lookups!$A$1:$B$11,2))","v":"J"},{"$f":"H20+(L20*Lookups!$C$102*H20/100)","v":0},0,{"$f":"IF(ROUND(10.499-(((O20-VLOOKUP($A20,Lookups!$A$55:$D$64,3))/(VLOOKUP($A20,Lookups!$A$55:$D$64,4))*VLOOKUP($A20,Lookups!$C$2:$D$11,2))),0)<1,1,IF(ROUND(10.499-(((O20-VLOOKUP($A20,Lookups!$A$55:$D$64,3))/(VLOOKUP($A20,Lookups!$A$55:$D$64,4))*VLOOKUP($A20,Lookups!$C$2:$D$11,2))),0)<11,ROUND(10.499-(((O20-VLOOKUP($A20,Lookups!$A$55:$D$64,3))/(VLOOKUP($A20,Lookups!$A$55:$D$64,4))*VLOOKUP($A20,Lookups!$C$2:$D$11,2))),0),10))","v":7},null,{"$f":"VLOOKUP(A20,Lookups!$A$126:$C$135,3)","v":2},{"$f":"VLOOKUP(A20,Lookups!$A$126:$C$135,2)","v":"Food"},"No",0,{"$f":"IF($R20<>3,VLOOKUP($D20,'Points Table A'!$B$3:$F$33,5),VLOOKUP($D20,'Points Table A'!$H$3:$L$33,5))","v":0},{"$f":"IF($R20<>3,VLOOKUP($E20,'Points Table A'!$C$3:$F$33,4),VLOOKUP($E20,'Points Table A'!$I$3:$L$33,4))","v":0},{"$f":"IF($R20<>3,VLOOKUP($F20,'Points Table A'!$D$3:$F$33,3),VLOOKUP($F20,'Points Table A'!$J$3:$L$33,3))","v":0},{"$f":"IF($R20<>3,VLOOKUP($G20,'Points Table A'!$E$3:$F$33,2),VLOOKUP($G20,'Points Table A'!$K$3:$L$33,2))","v":0},0,{"$f":"IF($T20=Lookups!$B$113,VLOOKUP($J20,'Points Table C'!$A$3:$F$11,5),VLOOKUP($U20,'Points Table C'!$B$3:$F$11,4))","v":0},{"$f":"IF($R20=1,0,VLOOKUP($N20,'Points Table C'!$C$3:$E$18,3))","v":0},{"$f":"VLOOKUP($I20,'Points Table C'!$D$3:$E$18,2)","v":0},{"$f":"IF($Z20<Lookups!$C$106,(AA20+AB20+AC20),IF(AA20>=Lookups!$C$120,(AA20+AB20+AC20),AA20+AB20))","v":0}]
["Non-core foods","Enter a food name here","Company name",0,0,0,0,0,0,0,0,0,{"$f":"IF((SUM(D21:L21)=0),\"J\",VLOOKUP(P21,Lookups!$A$1:$B$11,2))","v":"J"},{"$f":"H21+(L21*Lookups!$C$102*H21/100)","v":0},0,{"$f":"IF(ROUND(10.499-(((O21-VLOOKUP($A21,Lookups!$A$55:$D$64,3))/(VLOOKUP($A21,Lookups!$A$55:$D$64,4))*VLOOKUP($A21,Lookups!$C$2:$D$11,2))),0)<1,1,IF(ROUND(10.499-(((O21-VLOOKUP($A21,Lookups!$A$55:$D$64,3))/(VLOOKUP($A21,Lookups!$A$55:$D$64,4))*VLOOKUP($A21,Lookups!$C$2:$D$11,2))),0)<11,ROUND(10.499-(((O21-VLOOKUP($A21,Lookups!$A$55:$D$64,3))/(VLOOKUP($A21,Lookups!$A$55:$D$64,4))*VLOOKUP($A21,Lookups!$C$2:$D$11,2))),0),10))","v":7},null,{"$f":"VLOOKUP(A21,Lookups!$A$126:$C$135,3)","v":2},{"$f":"VLOOKUP(A21,Lookups!$A$126:$C$135,2)","v":"Food"},"No",0,{"$f":"IF($R21<>3,VLOOKUP($D21,'Points Table A'!$B$3:$F$33,5),VLOOKUP($D21,'Points Table A'!$H$3:$L$33,5))","v":0},{"$f":"IF($R21<>3,VLOOKUP($E21,'Points Table A'!$C$3:$F$33,4),VLOOKUP($E21,'Points Table A'!$I$3:$L$33,4))","v":0},{"$f":"IF($R21<>3,VLOOKUP($F21,'Points Table A'!$D$3:$F$33,3),VLOOKUP($F21,'Points Table A'!$J$3:$L$33,3))","v":0},{"$f":"IF($R21<>3,VLOOKUP($G21,'Points Table A'!$E$3:$F$33,2),VLOOKUP($G21,'Points Table A'!$K$3:$L$33,2))","v":0},0,{"$f":"IF($T21=Lookups!$B$113,VLOOKUP($J21,'Points Table C'!$A$3:$F$11,5),VLOOKUP($U21,'Points Table C'!$B$3:$F$11,4))","v":0},{"$f":"IF($R21=1,0,VLOOKUP($N21,'Points Table C'!$C$3:$E$18,3))","v":0},{"$f":"VLOOKUP($I21,'Points Table C'!$D$3:$E$18,2)","v":0},{"$f":"IF($Z21<Lookups!$C$106,(AA21+AB21+AC21),IF(AA21>=Lookups!$C$120,(AA21+AB21+AC21),AA21+AB21))","v":0}]
["Non-core foods","Enter a food name here","Company name",0,0,0,0,0,0,0,0,0,{"$f":"IF((SUM(D22:L22)=0),\"J\",VLOOKUP(P22,Lookups!$A$1:$B$11,2))","v":"J"},{"$f":"H22+(L22*Lookups!$C$102*H22/100)","v":0},0,{"$f":"IF(ROUND(10.499-(((O22-VLOOKUP($A22,Lookups!$A$55:$D$64,3))/(VLOOKUP($A22,Lookups!$A$55:$D$64,4))*VLOOKUP($A22,Lookups!$C$2:$D$11,2))),0)<1,1,IF(ROUND(10.499-(((O22-VLOOKUP($A22,Lookups!$A$55:$D$64,3))/(VLOOKUP($A22,Lookups!$A$55:$D$64,4))*VLOOKUP($A22,Lookups!$C$2:$D$11,2))),0)<11,ROUND(10.499-(((O22-VLOOKUP($A22,Lookups!$A$55:$D$64,3))/(VLOOKUP($A22,Lookups!$A$55:$D$64,4))*VLOOKUP($A22,Lookups!$C$2:$D$11,2))),0),10))","v":7},null,{"$f":"VLOOKUP(A22,Lookups!$A$126:$C$135,3)","v":2},{"$f":"VLOOKUP(A22,Lookups!$A$126:$C$135,2)","v":"Food"},"No",0,{"$f":"IF($R22<>3,VLOOKUP($D22,'Points Table A'!$B$3:$F$33,5),VLOOKUP($D22,'Points Table A'!$H$3:$L$33,5))","v":0},{"$f":"IF($R22<>3,VLOOKUP($E22,'Points Table A'!$C$3:$F$33,4),VLOOKUP($E22,'Points Table A'!$I$3:$L$33,4))","v":0},{"$f":"IF($R22<>3,VLOOKUP($F22,'Points Table A'!$D$3:$F$33,3),VLOOKUP($F22,'Points Table A'!$J$3:$L$33,3))","v":0},{"$f":"IF($R22<>3,VLOOKUP($G22,'Points Table A'!$E$3:$F$33,2),VLOOKUP($G22,'Points Table A'!$K$3:$L$33,2))","v":0},0,{"$f":"IF($T22=Lookups!$B$113,VLOOKUP($J22,'Points Table C'!$A$3:$F$11,5),VLOOKUP($U22,'Points Table C'!$B$3:$F$11,4))","v":0},{"$f":"IF($R22=1,0,VLOOKUP($N22,'Points Table C'!$C$3:$E$18,3))","v":0},{"$f":"VLOOKUP($I22,'Points Table C'!$D$3:$E$18,2)","v":0},{"$f":"IF($Z22<Lookups!$C$106,(AA22+AB22+AC22),IF(AA22>=Lookups!$C$120,(AA22+AB22+AC22),AA22+AB22))","v":0}]
["Non-core foods","Enter a food name here","Company name",0,0,0,0,0,0,0,0,0,{"$f":"IF((SUM(D23:L23)=0),\"J\",VLOOKUP(P23,Lookups!$A$1:$B$11,2))","v":"J"},{"$f":"H23+(L23*Lookups!$C$102*H23/100)","v":0},0,{"$f":"IF(ROUND(10.499-(((O23-VLOOKUP($A23,Lookups!$A$55:$D$64,3))/(VLOOKUP($A23,Lookups!$A$55:$D$64,4))*VLOOKUP($A23,Lookups!$C$2:$D$11,2))),0)<1,1,IF(ROUND(10.499-(((O23-VLOOKUP($A23,Lookups!$A$55:$D$64,3))/(VLOOKUP($A23,Lookups!$A$55:$D$64,4))*VLOOKUP($A23,Lookups!$C$2:$D$11,2))),0)<11,ROUND(10.499-(((O23-VLOOKUP($A23,Lookups!$A$55:$D$64,3))/(VLOOKUP($A23,Lookups!$A$55:$D$64,4))*VLOOKUP($A23,Lookups!$C$2:$D$11,2))),0),10))","v":7},null,{"$f":"VLOOKUP(A23,Lookups!$A$126:$C$135,3)","v":2},{"$f":"VLOOKUP(A23,Lookups!$A$126:$C$135,2)","v":"Food"},"No",0,{"$f":"IF($R23<>3,VLOOKUP($D23,'Points Table A'!$B$3:$F$33,5),VLOOKUP($D23,'Points Table A'!$H$3:$L$33,5))","v":0},{"$f":"IF($R23<>3,VLOOKUP($E23,'Points Table A'!$C$3:$F$33,4),VLOOKUP($E23,'Points Table A'!$I$3:$L$33,4))","v":0},{"$f":"IF($R23<>3,VLOOKUP($F23,'Points Table A'!$D$3:$F$33,3),VLOOKUP($F23,'Points Table A'!$J$3:$L$33,3))","v":0},{"$f":"IF($R23<>3,VLOOKUP($G23,'Points Table A'!$E$3:$F$33,2),VLOOKUP($G23,'Points Table A'!$K$3:$L$33,2))","v":0},0,{"$f":"IF($T23=Lookups!$B$113,VLOOKUP($J23,'Points Table C'!$A$3:$F$11,5),VLOOKUP($U23,'Points Table C'!$B$3:$F$11,4))","v":0},{"$f":"IF($R23=1,0,VLOOKUP($N23,'Points Table C'!$C$3:$E$18,3))","v":0},{"$f":"VLOOKUP($I23,'Points Table C'!$D$3:$E$18,2)","v":0},{"$f":"IF($Z23<Lookups!$C$106,(AA23+AB23+AC23),IF(AA23>=Lookups!$C$120,(AA23+AB23+AC23),AA23+AB23))","v":0}]
["Non-core foods","Enter a food name here","Company name",0,0,0,0,0,0,0,0,0,{"$f":"IF((SUM(D24:L24)=0),\"J\",VLOOKUP(P24,Lookups!$A$1:$B$11,2))","v":"J"},{"$f":"H24+(L24*Lookups!$C$102*H24/100)","v":0},0,{"$f":"IF(ROUND(10.499-(((O24-VLOOKUP($A24,Lookups!$A$55:$D$64,3))/(VLOOKUP($A24,Lookups!$A$55:$D$64,4))*VLOOKUP($A24,Lookups!$C$2:$D$11,2))),0)<1,1,IF(ROUND(10.499-(((O24-VLOOKUP($A24,Lookups!$A$55:$D$64,3))/(VLOOKUP($A24,Lookups!$A$55:$D$64,4))*VLOOKUP($A24,Lookups!$C$2:$D$11,2))),0)<11,ROUND(10.499-(((O24-VLOOKUP($A24,Lookups!$A$55:$D$64,3))/(VLOOKUP($A24,Lookups!$A$55:$D$64,4))*VLOOKUP($A24,Lookups!$C$2:$D$11,2))),0),10))","v":7},null,{"$f":"VLOOKUP(A24,Lookups!$A$126:$C$135,3)","v":2},{"$f":"VLOOKUP(A24,Lookups!$A$126:$C$135,2)","v":"Food"},"No",0,{"$f":"IF($R24<>3,VLOOKUP($D24,'Points Table A'!$B$3:$F$33,5),VLOOKUP($D24,'Points Table A'!$H$3:$L$33,5))","v":0},{"$f":"IF($R24<>3,VLOOKUP($E24,'Points Table A'!$C$3:$F$33,4),VLOOKUP($E24,'Points Table A'!$I$3:$L$33,4))","v":0},{"$f":"IF($R24<>3,VLOOKUP($F24,'Points Table A'!$D$3:$F$33,3),VLOOKUP($F24,'Points Table A'!$J$3:$L$33,3))","v":0},{"$f":"IF($R24<>3,VLOOKUP($G24,'Points Table A'!$E$3:$F$33,2),VLOOKUP($G24,'Points Table A'!$K$3:$L$33,2))","v":0},0,{"$f":"IF($T24=Lookups!$B$113,VLOOKUP($J24,'Points Table C'!$A$3:$F$11,5),VLOOKUP($U24,'Points Table C'!$B$3:$F$11,4))","v":0},{"$f":"IF($R24=1,0,VLOOKUP($N24,'Points Table C'!$C$3:$E$18,3))","v":0},{"$f":"VLOOKUP($I24,'Points Table C'!$D$3:$E$18,2)","v":0},{"$f":"IF($Z24<Lookups!$C$106,(AA24+AB24+AC24),IF(AA24>=Lookups!$C$120,(AA24+AB24+AC24),AA24+AB24))","v":0}]
["Non-core foods","Enter a food name here","Company name",0,0,0,0,0,0,0,0,0,{"$f":"IF((SUM(D25:L25)=0),\"J\",VLOOKUP(P25,Lookups!$A$1:$B$11,2))","v":"J"},{"$f":"H25+(L25*Lookups!$C$102*H25/100)","v":0},0,{"$f":"IF(ROUND(10.499-(((O25-VLOOKUP($A25,Lookups!$A$55:$D$64,3))/(VLOOKUP($A25,Lookups!$A$55:$D$64,4))*VLOOKUP($A25,Lookups!$C$2:$D$11,2))),0)<1,1,IF(ROUND(10.499-(((O25-VLOOKUP($A25,Lookups!$A$55:$D$64,3))/(VLOOKUP($A25,Lookups!$A$55:$D$64,4))*VLOOKUP($A25,Lookups!$C$2:$D$11,2))),0)<11,ROUND(10.499-(((O25-VLOOKUP($A25,Lookups!$A$55:$D$64,3))/(VLOOKUP($A25,Lookups!$A$55:$D$64,4))*VLOOKUP($A25,Lookups!$C$2:$D$11,2))),0),10))","v":7},null,{"$f":"VLOOKUP(A25,Lookups!$A$126:$C$135,3)","v":2},{"$f":"VLOOKUP(A25,Lookups!$A$126:$C$135,2)","v":"Food"},"No",0,{"$f":"IF($R25<>3,VLOOKUP($D25,'Points Table A'!$B$3:$F$33,5),VLOOKUP($D25,'Points Table A'!$H$3:$L$33,5))","v":0},{"$f":"IF($R25<>3,VLOOKUP($E25,'Points Table A'!$C$3:$F$33,4),VLOOKUP($E25,'Points Table A'!$I$3:$L$33,4))","v":0},{"$f":"IF($R25<>3,VLOOKUP($F25,'Points Table A'!$D$3:$F$33,3),VLOOKUP($F25,'Points Table A'!$J$3:$L$33,3))","v":0},{"$f":"IF($R25<>3,VLOOKUP($G25,'Points Table A'!$E$3:$F$33,2),VLOOKUP($G25,'Points Table A'!$K$3:$L$33,2))","v":0},0,{"$f":"IF($T25=Lookups!$B$113,VLOOKUP($J25,'Points Table C'!$A$3:$F$11,5),VLOOKUP($U25,'Points Table C'!$B$3:$F$11,4))","v":0},{"$f":"IF($R25=1,0,VLOOKUP($N25,'Points Table C'!$C$3:$E$18,3))","v":0},{"$f":"VLOOKUP($I25,'Points Table C'!$D$3:$E$18,2)","v":0},{"$f":"IF($Z25<Lookups!$C$106,(AA25+AB25+AC25),IF(AA25>=Lookups!$C$120,(AA25+AB25+AC25),AA25+AB25))","v":0}]
["Non-core foods","Enter a food name here","Company name",0,0,0,0,0,0,0,0,0,{"$f":"IF((SUM(D26:L26)=0),\"J\",VLOOKUP(P26,Lookups!$A$1:$B$11,2))","v":"J"},{"$f":"H26+(L26*Lookups!$C$102*H26/100)","v":0},0,{"$f":"IF(ROUND(10.499-(((O26-VLOOKUP($A26,Lookups!$A$55:$D$64,3))/(VLOOKUP($A26,Lookups!$A$55:$D$64,4))*VLOOKUP($A26,Lookups!$C$2:$D$11,2))),0)<1,1,IF(ROUND(10.499-(((O26-VLOOKUP($A26,Lookups!$A$55:$D$64,3))/(VLOOKUP($A26,Lookups!$A$55:$D$64,4))*VLOOKUP($A26,Lookups!$C$2:$D$11,2))),0)<11,ROUND(10.499-(((O26-VLOOKUP($A26,Lookups!$A$55:$D$64,3))/(VLOOKUP($A26,Lookups!$A$55:$D$64,4))*VLOOKUP($A26,Lookups!$C$2:$D$11,2))),0),10))","v":7},null,{"$f":"VLOOKUP(A26,Lookups!$A$126:$C$135,3)","v":2},{"$f":"VLOOKUP(A26,Lookups!$A$126:$C$135,2)","v":"Food"},"No",0,{"$f":"IF($R26<>3,VLOOKUP($D26,'Points Table A'!$B$3:$F$33,5),VLOOKUP($D26,'Points Table A'!$H$3:$L$33,5))","v":0},{"$f":"IF($R26<>3,VLOOKUP($E26,'Points Table A'!$C$3:$F$33,4),VLOOKUP($E26,'Points Table A'!$I$3:$L$33,4))","v":0},{"$f":"IF($R26<>3,VLOOKUP($F26,'Points Table A'!$D$3:$F$33,3),VLOOKUP($F26,'Points Table A'!$J$3:$L$33,3))","v":0},{"$f":"IF($R26<>3,VLOOKUP($G26,'Points Table A'!$E$3:$F$33,2),VLOOKUP($G26,'Points Table A'!$K$3:$L$33,2))","v":0},0,{"$f":"IF($T26=Lookups!$B$113,VLOOKUP($J26,'Points Table C'!$A$3:$F$11,5),VLOOKUP($U26,'Points Table C'!$B$3:$F$11,4))","v":0},{"$f":"IF($R26=1,0,VLOOKUP($N26,'Points Table C'!$C$3:$E$18,3))","v":0},{"$f":"VLOOKUP($I26,'Points Table C'!$D$3:$E$18,2)","v":0},{"$f":"IF($Z26<Lookups!$C$106,(AA26+AB26+AC26),IF(AA26>=Lookups!$C$120,(AA26+AB26+AC26),AA26+AB26))","v":0}]
["Non-core foods","Enter a food name here","Company name",0,0,0,0,0,0,0,0,0,{"$f":"IF((SUM(D27:L27)=0),\"J\",VLOOKUP(P27,Lookups!$A$1:$B$11,2))","v":"J"},{"$f":"H27+(L27*Lookups!$C$102*H27/100)","v":0},0,{"$f":"IF(ROUND(10.499-(((O27-VLOOKUP($A27,Lookups!$A$55:$D$64,3))/(VLOOKUP($A27,Lookups!$A$55:$D$64,4))*VLOOKUP($A27,Lookups!$C$2:$D$11,2))),0)<1,1,IF(ROUND(10.499-(((O27-VLOOKUP($A27,Lookups!$A$55:$D$64,3))/(VLOOKUP($A27,Lookups!$A$55:$D$64,4))*VLOOKUP($A27,Lookups!$C$2:$D$11,2))),0)<11,ROUND(10.499-(((O27-VLOOKUP($A27,Lookups!$A$55:$D$64,3))/(VLOOKUP($A27,Lookups!$A$55:$D$64,4))*VLOOKUP($A27,Lookups!$C$2:$D$11,2))),0),10))","v":7},null,{"$f":"VLOOKUP(A27,Lookups!$A$126:$C$135,3)","v":2},{"$f":"VLOOKUP(A27,Lookups!$A$126:$C$135,2)","v":"Food"},"No",0,{"$f":"IF($R27<>3,VLOOKUP($D27,'Points Table A'!$B$3:$F$33,5),VLOOKUP($D27,'Points Table A'!$H$3:$L$33,5))","v":0},{"$f":"IF($R27<>3,VLOOKUP($E27,'Points Table A'!$C$3:$F$33,4),VLOOKUP($E27,'Points Table A'!$I$3:$L$33,4))","v":0},{"$f":"IF($R27<>3,VLOOKUP($F27,'Points Table A'!$D$3:$F$33,3),VLOOKUP($F27,'Points Table A'!$J$3:$L$33,3))","v":0},{"$f":"IF($R27<>3,VLOOKUP($G27,'Points Table A'!$E$3:$F$33,2),VLOOKUP($G27,'Points Table A'!$K$3:$L$33,2))","v":0},0,{"$f":"IF($T27=Lookups!$B$113,VLOOKUP($J27,'Points Table C'!$A$3:$F$11,5),VLOOKUP($U27,'Points Table C'!$B$3:$F$11,4))","v":0},{"$f":"IF($R27=1,0,VLOOKUP($N27,'Points Table C'!$C$3:$E$18,3))","v":0},{"$f":"VLOOKUP($I27,'Points Table C'!$D$3:$E$18,2)","v":0},{"$f":"IF($Z27<Lookups!$C$106,(AA27+AB27+AC27),IF(AA27>=Lookups!$C$120,(AA27+AB27+AC27),AA27+AB27))","v":0}]
["Non-core foods","Enter a food name here","Company name",0,0,0,0,0,0,0,0,0,{"$f":"IF((SUM(D28:L28)=0),\"J\",VLOOKUP(P28,Lookups!$A$1:$B$11,2))","v":"J"},{"$f":"H28+(L28*Lookups!$C$102*H28/100)","v":0},0,{"$f":"IF(ROUND(10.499-(((O28-VLOOKUP($A28,Lookups!$A$55:$D$64,3))/(VLOOKUP($A28,Lookups!$A$55:$D$64,4))*VLOOKUP($A28,Lookups!$C$2:$D$11,2))),0)<1,1,IF(ROUND(10.499-(((O28-VLOOKUP($A28,Lookups!$A$55:$D$64,3))/(VLOOKUP($A28,Lookups!$A$55:$D$64,4))*VLOOKUP($A28,Lookups!$C$2:$D$11,2))),0)<11,ROUND(10.499-(((O28-VLOOKUP($A28,Lookups!$A$55:$D$64,3))/(VLOOKUP($A28,Lookups!$A$55:$D$64,4))*VLOOKUP($A28,Lookups!$C$2:$D$11,2))),0),10))","v":7},null,{"$f":"VLOOKUP(A28,Lookups!$A$126:$C$135,3)","v":2},{"$f":"VLOOKUP(A28,Lookups!$A$126:$C$135,2)","v":"Food"},"No",0,{"$f":"IF($R28<>3,VLOOKUP($D28,'Points Table A'!$B$3:$F$33,5),VLOOKUP($D28,'Points Table A'!$H$3:$L$33,5))","v":0},{"$f":"IF($R28<>3,VLOOKUP($E28,'Points Table A'!$C$3:$F$33,4),VLOOKUP($E28,'Points Table A'!$I$3:$L$33,4))","v":0},{"$f":"IF($R28<>3,VLOOKUP($F28,'Points Table A'!$D$3:$F$33,3),VLOOKUP($F28,'Points Table A'!$J$3:$L$33,3))","v":0},{"$f":"IF($R28<>3,VLOOKUP($G28,'Points Table A'!$E$3:$F$33,2),VLOOKUP($G28,'Points Table A'!$K$3:$L$33,2))","v":0},0,{"$f":"IF($T28=Lookups!$B$113,VLOOKUP($J28,'Points Table C'!$A$3:$F$11,5),VLOOKUP($U28,'Points Table C'!$B$3:$F$11,4))","v":0},{"$f":"IF($R28=1,0,VLOOKUP($N28,'Points Table C'!$C$3:$E$18,3))","v":0},{"$f":"VLOOKUP($I28,'Points Table C'!$D$3:$E$18,2)","v":0},{"$f":"IF($Z28<Lookups!$C$106,(AA28+AB28+AC28),IF(AA28>=Lookups!$C$120,(AA28+AB28+AC28),AA28+AB28))","v":0}]
["Non-core foods","Enter a food name here","Company name",0,0,0,0,0,0,0,0,0,{"$f":"IF((SUM(D29:L29)=0),\"J\",VLOOKUP(P29,Lookups!$A$1:$B$11,2))","v":"J"},{"$f":"H29+(L29*Lookups!$C$102*H29/100)","v":0},0,{"$f":"IF(ROUND(10.499-(((O29-VLOOKUP($A29,Lookups!$A$55:$D$64,3))/(VLOOKUP($A29,Lookups!$A$55:$D$64,4))*VLOOKUP($A29,Lookups!$C$2:$D$11,2))),0)<1,1,IF(ROUND(10.499-(((O29-VLOOKUP($A29,Lookups!$A$55:$D$64,3))/(VLOOKUP($A29,Lookups!$A$55:$D$64,4))*VLOOKUP($A29,Lookups!$C$2:$D$11,2))),0)<11,ROUND(10.499-(((O29-VLOOKUP($A29,Lookups!$A$55:$D$64,3))/(VLOOKUP($A29,Lookups!$A$55:$D$64,4))*VLOOKUP($A29,Lookups!$C$2:$D$11,2))),0),10))","v":7},null,{"$f":"VLOOKUP(A29,Lookups!$A$126:$C$135,3)","v":2},{"$f":"VLOOKUP(A29,Lookups!$A$126:$C$135,2)","v":"Food"},"No",0,{"$f":"IF($R29<>3,VLOOKUP($D29,'Points Table A'!$B$3:$F$33,5),VLOOKUP($D29,'Points Table A'!$H$3:$L$33,5))","v":0},{"$f":"IF($R29<>3,VLOOKUP($E29,'Points Table A'!$C$3:$F$33,4),VLOOKUP($E29,'Points Table A'!$I$3:$L$33,4))","v":0},{"$f":"IF($R29<>3,VLOOKUP($F29,'Points Table A'!$D$3:$F$33,3),VLOOKUP($F29,'Points Table A'!$J$3:$L$33,3))","v":0},{"$f":"IF($R29<>3,VLOOKUP($G29,'Points Table A'!$E$3:$F$33,2),VLOOKUP($G29,'Points Table A'!$K$3:$L$33,2))","v":0},0,{"$f":"IF($T29=Lookups!$B$113,VLOOKUP($J29,'Points Table C'!$A$3:$F$11,5),VLOOKUP($U29,'Points Table C'!$B$3:$F$11,4))","v":0},{"$f":"IF($R29=1,0,VLOOKUP($N29,'Points Table C'!$C$3:$E$18,3))","v":0},{"$f":"VLOOKUP($I29,'Points Table C'!$D$3:$E$18,2)","v":0},{"$f":"IF($Z29<Lookups!$C$106,(AA29+AB29+AC29),IF(AA29>=Lookups!$C$120,(AA29+AB29+AC29),AA29+AB29))","v":0}]
["Non-core foods","Enter a food name here","Company name",0,0,0,0,0,0,0,0,0,{"$f":"IF((SUM(D30:L30)=0),\"J\",VLOOKUP(P30,Lookups!$A$1:$B$11,2))","v":"J"},{"$f":"H30+(L30*Lookups!$C$102*H30/100)","v":0},0,{"$f":"IF(ROUND(10.499-(((O30-VLOOKUP($A30,Lookups!$A$55:$D$64,3))/(VLOOKUP($A30,Lookups!$A$55:$D$64,4))*VLOOKUP($A30,Lookups!$C$2:$D$11,2))),0)<1,1,IF(ROUND(10.499-(((O30-VLOOKUP($A30,Lookups!$A$55:$D$64,3))/(VLOOKUP($A30,Lookups!$A$55:$D$64,4))*VLOOKUP($A30,Lookups!$C$2:$D$11,2))),0)<11,ROUND(10.499-(((O30-VLOOKUP($A30,Lookups!$A$55:$D$64,3))/(VLOOKUP($A30,Lookups!$A$55:$D$64,4))*VLOOKUP($A30,Lookups!$C$2:$D$11,2))),0),10))","v":7},null,{"$f":"VLOOKUP(A30,Lookups!$A$126:$C$135,3)","v":2},{"$f":"VLOOKUP(A30,Lookups!$A$126:$C$135,2)","v":"Food"},"No",0,{"$f":"IF($R30<>3,VLOOKUP($D30,'Points Table A'!$B$3:$F$33,5),VLOOKUP($D30,'Points Table A'!$H$3:$L$33,5))","v":0},{"$f":"IF($R30<>3,VLOOKUP($E30,'Points Table A'!$C$3:$F$33,4),VLOOKUP($E30,'Points Table A'!$I$3:$L$33,4))","v":0},{"$f":"IF($R30<>3,VLOOKUP($F30,'Points Table A'!$D$3:$F$33,3),VLOOKUP($F30,'Points Table A'!$J$3:$L$33,3))","v":0},{"$f":"IF($R30<>3,VLOOKUP($G30,'Points Table A'!$E$3:$F$33,2),VLOOKUP($G30,'Points Table A'!$K$3:$L$33,2))","v":0},0,{"$f":"IF($T30=Lookups!$B$113,VLOOKUP($J30,'Points Table C'!$A$3:$F$11,5),VLOOKUP($U30,'Points Table C'!$B$3:$F$11,4))","v":0},{"$f":"IF($R30=1,0,VLOOKUP($N30,'Points Table C'!$C$3:$E$18,3))","v":0},{"$f":"VLOOKUP($I30,'Points Table C'!$D$3:$E$18,2)","v":0},{"$f":"IF($Z30<Lookups!$C$106,(AA30+AB30+AC30),IF(AA30>=Lookups!$C$120,(AA30+AB30+AC30),AA30+AB30))","v":0}]
["Non-core foods","Enter a food name here","Company name",0,0,0,0,0,0,0,0,0,{"$f":"IF((SUM(D31:L31)=0),\"J\",VLOOKUP(P31,Lookups!$A$1:$B$11,2))","v":"J"},{"$f":"H31+(L31*Lookups!$C$102*H31/100)","v":0},0,{"$f":"IF(ROUND(10.499-(((O31-VLOOKUP($A31,Lookups!$A$55:$D$64,3))/(VLOOKUP($A31,Lookups!$A$55:$D$64,4))*VLOOKUP($A31,Lookups!$C$2:$D$11,2))),0)<1,1,IF(ROUND(10.499-(((O31-VLOOKUP($A31,Lookups!$A$55:$D$64,3))/(VLOOKUP($A31,Lookups!$A$55:$D$64,4))*VLOOKUP($A31,Lookups!$C$2:$D$11,2))),0)<11,ROUND(10.499-(((O31-VLOOKUP($A31,Lookups!$A$55:$D$64,3))/(VLOOKUP($A31,Lookups!$A$55:$D$64,4))*VLOOKUP($A31,Lookups!$C$2:$D$11,2))),0),10))","v":7},null,{"$f":"VLOOKUP(A31,Lookups!$A$126:$C$135,3)","v":2},{"$f":"VLOOKUP(A31,Lookups!$A$126:$C$135,2)","v":"Food"},"No",0,{"$f":"IF($R31<>3,VLOOKUP($D31,'Points Table A'!$B$3:$F$33,5),VLOOKUP($D31,'Points Table A'!$H$3:$L$33,5))","v":0},{"$f":"IF($R31<>3,VLOOKUP($E31,'Points Table A'!$C$3:$F$33,4),VLOOKUP($E31,'Points Table A'!$I$3:$L$33,4))","v":0},{"$f":"IF($R31<>3,VLOOKUP($F31,'Points Table A'!$D$3:$F$33,3),VLOOKUP($F31,'Points Table A'!$J$3:$L$33,3))","v":0},{"$f":"IF($R31<>3,VLOOKUP($G31,'Points Table A'!$E$3:$F$33,2),VLOOKUP($G31,'Points Table A'!$K$3:$L$33,2))","v":0},0,{"$f":"IF($T31=Lookups!$B$113,VLOOKUP($J31,'Points Table C'!$A$3:$F$11,5),VLOOKUP($U31,'Points Table C'!$B$3:$F$11,4))","v":0},{"$f":"IF($R31=1,0,VLOOKUP($N31,'Points Table C'!$C$3:$E$18,3))","v":0},{"$f":"VLOOKUP($I31,'Points Table C'!$D$3:$E$18,2)","v":0},{"$f":"IF($Z31<Lookups!$C$106,(AA31+AB31+AC31),IF(AA31>=Lookups!$C$120,(AA31+AB31+AC31),AA31+AB31))","v":0}]
["Non-core foods","Enter a food name here","Company name",0,0,0,0,0,0,0,0,0,{"$f":"IF((SUM(D32:L32)=0),\"J\",VLOOKUP(P32,Lookups!$A$1:$B$11,2))","v":"J"},{"$f":"H32+(L32*Lookups!$C$102*H32/100)","v":0},0,{"$f":"IF(ROUND(10.499-(((O32-VLOOKUP($A32,Lookups!$A$55:$D$64,3))/(VLOOKUP($A32,Lookups!$A$55:$D$64,4))*VLOOKUP($A32,Lookups!$C$2:$D$11,2))),0)<1,1,IF(ROUND(10.499-(((O32-VLOOKUP($A32,Lookups!$A$55:$D$64,3))/(VLOOKUP($A32,Lookups!$A$55:$D$64,4))*VLOOKUP($A32,Lookups!$C$2:$D$11,2))),0)<11,ROUND(10.499-(((O32-VLOOKUP($A32,Lookups!$A$55:$D$64,3))/(VLOOKUP($A32,Lookups!$A$55:$D$64,4))*VLOOKUP($A32,Lookups!$C$2:$D$11,2))),0),10))","v":7},null,{"$f":"VLOOKUP(A32,Lookups!$A$126:$C$135,3)","v":2},{"$f":"VLOOKUP(A32,Lookups!$A$126:$C$135,2)","v":"Food"},"No",0,{"$f":"IF($R32<>3,VLOOKUP($D32,'Points Table A'!$B$3:$F$33,5),VLOOKUP($D32,'Points Table A'!$H$3:$L$33,5))","v":0},{"$f":"IF($R32<>3,VLOOKUP($E32,'Points Table A'!$C$3:$F$33,4),VLOOKUP($E32,'Points Table A'!$I$3:$L$33,4))","v":0},{"$f":"IF($R32<>3,VLOOKUP($F32,'Points Table A'!$D$3:$F$33,3),VLOOKUP($F32,'Points Table A'!$J$3:$L$33,3))","v":0},{"$f":"IF($R32<>3,VLOOKUP($G32,'Points Table A'!$E$3:$F$33,2),VLOOKUP($G32,'Points Table A'!$K$3:$L$33,2))","v":0},0,{"$f":"IF($T32=Lookups!$B$113,VLOOKUP($J32,'Points Table C'!$A$3:$F$11,5),VLOOKUP($U32,'Points Table C'!$B$3:$F$11,4))","v":0},{"$f":"IF($R32=1,0,VLOOKUP($N32,'Points Table C'!$C$3:$E$18,3))","v":0},{"$f":"VLOOKUP($I32,'Points Table C'!$D$3:$E$18,2)","v":0},{"$f":"IF($Z32<Lookups!$C$106,(AA32+AB32+AC32),IF(AA32>=Lookups!$C$120,(AA32+AB32+AC32),AA32+AB32))","v":0}]
["Non-core foods","Enter a food name here","Company name",0,0,0,0,0,0,0,0,0,{"$f":"IF((SUM(D33:L33)=0),\"J\",VLOOKUP(P33,Lookups!$A$1:$B$11,2))","v":"J"},{"$f":"H33+(L33*Lookups!$C$102*H33/100)","v":0},0,{"$f":"IF(ROUND(10.499-(((O33-VLOOKUP($A33,Lookups!$A$55:$D$64,3))/(VLOOKUP($A33,Lookups!$A$55:$D$64,4))*VLOOKUP($A33,Lookups!$C$2:$D$11,2))),0)<1,1,IF(ROUND(10.499-(((O33-VLOOKUP($A33,Lookups!$A$55:$D$64,3))/(VLOOKUP($A33,Lookups!$A$55:$D$64,4))*VLOOKUP($A33,Lookups!$C$2:$D$11,2))),0)<11,ROUND(10.499-(((O33-VLOOKUP($A33,Lookups!$A$55:$D$64,3))/(VLOOKUP($A33,Lookups!$A$55:$D$64,4))*VLOOKUP($A33,Lookups!$C$2:$D$11,2))),0),10))","v":7},null,{"$f":"VLOOKUP(A33,Lookups!$A$126:$C$135,3)","v":2},{"$f":"VLOOKUP(A33,Lookups!$A$126:$C$135,2)","v":"Food"},"No",0,{"$f":"IF($R33<>3,VLOOKUP($D33,'Points Table A'!$B$3:$F$33,5),VLOOKUP($D33,'Points Table A'!$H$3:$L$33,5))","v":0},{"$f":"IF($R33<>3,VLOOKUP($E33,'Points Table A'!$C$3:$F$33,4),VLOOKUP($E33,'Points Table A'!$I$3:$L$33,4))","v":0},{"$f":"IF($R33<>3,VLOOKUP($F33,'Points Table A'!$D$3:$F$33,3),VLOOKUP($F33,'Points Table A'!$J$3:$L$33,3))","v":0},{"$f":"IF($R33<>3,VLOOKUP($G33,'Points Table A'!$E$3:$F$33,2),VLOOKUP($G33,'Points Table A'!$K$3:$L$33,2))","v":0},0,{"$f":"IF($T33=Lookups!$B$113,VLOOKUP($J33,'Points Table C'!$A$3:$F$11,5),VLOOKUP($U33,'Points Table C'!$B$3:$F$11,4))","v":0},{"$f":"IF($R33=1,0,VLOOKUP($N33,'Points Table C'!$C$3:$E$18,3))","v":0},{"$f":"VLOOKUP($I33,'Points Table C'!$D$3:$E$18,2)","v":0},{"$f":"IF($Z33<Lookups!$C$106,(AA33+AB33+AC33),IF(AA33>=Lookups!$C$120,(AA33+AB33+AC33),AA33+AB33))","v":0}]
["Non-core foods","Enter a food name here","Company name",0,0,0,0,0,0,0,0,0,{"$f":"IF((SUM(D34:L34)=0),\"J\",VLOOKUP(P34,Lookups!$A$1:$B$11,2))","v":"J"},{"$f":"H34+(L34*Lookups!$C$102*H34/100)","v":0},0,{"$f":"IF(ROUND(10.499-(((O34-VLOOKUP($A34,Lookups!$A$55:$D$64,3))/(VLOOKUP($A34,Lookups!$A$55:$D$64,4))*VLOOKUP($A34,Lookups!$C$2:$D$11,2))),0)<1,1,IF(ROUND(10.499-(((O34-VLOOKUP($A34,Lookups!$A$55:$D$64,3))/(VLOOKUP($A34,Lookups!$A$55:$D$64,4))*VLOOKUP($A34,Lookups!$C$2:$D$11,2))),0)<11,ROUND(10.499-(((O34-VLOOKUP($A34,Lookups!$A$55:$D$64,3))/(VLOOKUP($A34,Lookups!$A$55:$D$64,4))*VLOOKUP($A34,Lookups!$C$2:$D$11,2))),0),10))","v":7},null,{"$f":"VLOOKUP(A34,Lookups!$A$126:$C$135,3)","v":2},{"$f":"VLOOKUP(A34,Lookups!$A$126:$C$135,2)","v":"Food"},"No",0,{"$f":"IF($R34<>3,VLOOKUP($D34,'Points Table A'!$B$3:$F$33,5),VLOOKUP($D34,'Points Table A'!$H$3:$L$33,5))","v":0},{"$f":"IF($R34<>3,VLOOKUP($E34,'Points Table A'!$C$3:$F$33,4),VLOOKUP($E34,'Points Table A'!$I$3:$L$33,4))","v":0},{"$f":"IF($R34<>3,VLOOKUP($F34,'Points Table A'!$D$3:$F$33,3),VLOOKUP($F34,'Points Table A'!$J$3:$L$33,3))","v":0},{"$f":"IF($R34<>3,VLOOKUP($G34,'Points Table A'!$E$3:$F$33,2),VLOOKUP($G34,'Points Table A'!$K$3:$L$33,2))","v":0},0,{"$f":"IF($T34=Lookups!$B$113,VLOOKUP($J34,'Points Table C'!$A$3:$F$11,5),VLOOKUP($U34,'Points Table C'!$B$3:$F$11,4))","v":0},{"$f":"IF($R34=1,0,VLOOKUP($N34,'Points Table C'!$C$3:$E$18,3))","v":0},{"$f":"VLOOKUP($I34,'Points Table C'!$D$3:$E$18,2)","v":0},{"$f":"IF($Z34<Lookups!$C$106,(AA34+AB34+AC34),IF(AA34>=Lookups!$C$120,(AA34+AB34+AC34),AA34+AB34))","v":0}]
["Non-core foods","Enter a food name here","Company name",0,0,0,0,0,0,0,0,0,{"$f":"IF((SUM(D35:L35)=0),\"J\",VLOOKUP(P35,Lookups!$A$1:$B$11,2))","v":"J"},{"$f":"H35+(L35*Lookups!$C$102*H35/100)","v":0},0,{"$f":"IF(ROUND(10.499-(((O35-VLOOKUP($A35,Lookups!$A$55:$D$64,3))/(VLOOKUP($A35,Lookups!$A$55:$D$64,4))*VLOOKUP($A35,Lookups!$C$2:$D$11,2))),0)<1,1,IF(ROUND(10.499-(((O35-VLOOKUP($A35,Lookups!$A$55:$D$64,3))/(VLOOKUP($A35,Lookups!$A$55:$D$64,4))*VLOOKUP($A35,Lookups!$C$2:$D$11,2))),0)<11,ROUND(10.499-(((O35-VLOOKUP($A35,Lookups!$A$55:$D$64,3))/(VLOOKUP($A35,Lookups!$A$55:$D$64,4))*VLOOKUP($A35,Lookups!$C$2:$D$11,2))),0),10))","v":7},null,{"$f":"VLOOKUP(A35,Lookups!$A$126:$C$135,3)","v":2},{"$f":"VLOOKUP(A35,Lookups!$A$126:$C$135,2)","v":"Food"},"No",0,{"$f":"IF($R35<>3,VLOOKUP($D35,'Points Table A'!$B$3:$F$33,5),VLOOKUP($D35,'Points Table A'!$H$3:$L$33,5))","v":0},{"$f":"IF($R35<>3,VLOOKUP($E35,'Points Table A'!$C$3:$F$33,4),VLOOKUP($E35,'Points Table A'!$I$3:$L$33,4))","v":0},{"$f":"IF($R35<>3,VLOOKUP($F35,'Points Table A'!$D$3:$F$33,3),VLOOKUP($F35,'Points Table A'!$J$3:$L$33,3))","v":0},{"$f":"IF($R35<>3,VLOOKUP($G35,'Points Table A'!$E$3:$F$33,2),VLOOKUP($G35,'Points Table A'!$K$3:$L$33,2))","v":0},0,{"$f":"IF($T35=Lookups!$B$113,VLOOKUP($J35,'Points Table C'!$A$3:$F$11,5),VLOOKUP($U35,'Points Table C'!$B$3:$F$11,4))","v":0},{"$f":"IF($R35=1,0,VLOOKUP($N35,'Points Table C'!$C$3:$E$18,3))","v":0},{"$f":"VLOOKUP($I35,'Points Table C'!$D$3:$E$18,2)","v":0},{"$f":"IF($Z35<Lookups!$C$106,(AA35+AB35+AC35),IF(AA35>=Lookups!$C$120,(AA35+AB35+AC35),AA35+AB35))","v":0}]
["Non-core foods","Enter a food name here","Company name",0,0,0,0,0,0,0,0,0,{"$f":"IF((SUM(D36:L36)=0),\"J\",VLOOKUP(P36,Lookups!$A$1:$B$11,2))","v":"J"},{"$f":"H36+(L36*Lookups!$C$102*H36/100)","v":0},0,{"$f":"IF(ROUND(10.499-(((O36-VLOOKUP($A36,Lookups!$A$55:$D$64,3))/(VLOOKUP($A36,Lookups!$A$55:$D$64,4))*VLOOKUP($A36,Lookups!$C$2:$D$11,2))),0)<1,1,IF(ROUND(10.499-(((O36-VLOOKUP($A36,Lookups!$A$55:$D$64,3))/(VLOOKUP($A36,Lookups!$A$55:$D$64,4))*VLOOKUP($A36,Lookups!$C$2:$D$11,2))),0)<11,ROUND(10.499-(((O36-VLOOKUP($A36,Lookups!$A$55:$D$64,3))/(VLOOKUP($A36,Lookups!$A$55:$D$64,4))*VLOOKUP($A36,Lookups!$C$2:$D$11,2))),0),10))","v":7},null,{"$f":"VLOOKUP(A36,Lookups!$A$126:$C$135,3)","v":2},{"$f":"VLOOKUP(A36,Lookups!$A$126:$C$135,2)","v":"Food"},"No",0,{"$f":"IF($R36<>3,VLOOKUP($D36,'Points Table A'!$B$3:$F$33,5),VLOOKUP($D36,'Points Table A'!$H$3:$L$33,5))","v":0},{"$f":"IF($R36<>3,VLOOKUP($E36,'Points Table A'!$C$3:$F$33,4),VLOOKUP($E36,'Points Table A'!$I$3:$L$33,4))","v":0},{"$f":"IF($R36<>3,VLOOKUP($F36,'Points Table A'!$D$3:$F$33,3),VLOOKUP($F36,'Points Table A'!$J$3:$L$33,3))","v":0},{"$f":"IF($R36<>3,VLOOKUP($G36,'Points Table A'!$E$3:$F$33,2),VLOOKUP($G36,'Points Table A'!$K$3:$L$33,2))","v":0},0,{"$f":"IF($T36=Lookups!$B$113,VLOOKUP($J36,'Points Table C'!$A$3:$F$11,5),VLOOKUP($U36,'Points Table C'!$B$3:$F$11,4))","v":0},{"$f":"IF($R36=1,0,VLOOKUP($N36,'Points Table C'!$C$3:$E$18,3))","v":0},{"$f":"VLOOKUP($I36,'Points Table C'!$D$3:$E$18,2)","v":0},{"$f":"IF($Z36<Lookups!$C$106,(AA36+AB36+AC36),IF(AA36>=Lookups!$C$120,(AA36+AB36+AC36),AA36+AB36))","v":0}]
["Non-core foods","Enter a food name here","Company name",0,0,0,0,0,0,0,0,0,{"$f":"IF((SUM(D37:L37)=0),\"J\",VLOOKUP(P37,Lookups!$A$1:$B$11,2))","v":"J"},{"$f":"H37+(L37*Lookups!$C$102*H37/100)","v":0},0,{"$f":"IF(ROUND(10.499-(((O37-VLOOKUP($A37,Lookups!$A$55:$D$64,3))/(VLOOKUP($A37,Lookups!$A$55:$D$64,4))*VLOOKUP($A37,Lookups!$C$2:$D$11,2))),0)<1,1,IF(ROUND(10.499-(((O37-VLOOKUP($A37,Lookups!$A$55:$D$64,3))/(VLOOKUP($A37,Lookups!$A$55:$D$64,4))*VLOOKUP($A37,Lookups!$C$2:$D$11,2))),0)<11,ROUND(10.499-(((O37-VLOOKUP($A37,Lookups!$A$55:$D$64,3))/(VLOOKUP($A37,Lookups!$A$55:$D$64,4))*VLOOKUP($A37,Lookups!$C$2:$D$11,2))),0),10))","v":7},null,{"$f":"VLOOKUP(A37,Lookups!$A$126:$C$135,3)","v":2},{"$f":"VLOOKUP(A37,Lookups!$A$126:$C$135,2)","v":"Food"},"No",0,{"$f":"IF($R37<>3,VLOOKUP($D37,'Points Table A'!$B$3:$F$33,5),VLOOKUP($D37,'Points Table A'!$H$3:$L$33,5))","v":0},{"$f":"IF($R37<>3,VLOOKUP($E37,'Points Table A'!$C$3:$F$33,4),VLOOKUP($E37,'Points Table A'!$I$3:$L$33,4))","v":0},{"$f":"IF($R37<>3,VLOOKUP($F37,'Points Table A'!$D$3:$F$33,3),VLOOKUP($F37,'Points Table A'!$J$3:$L$33,3))","v":0},{"$f":"IF($R37<>3,VLOOKUP($G37,'Points Table A'!$E$3:$F$33,2),VLOOKUP($G37,'Points Table A'!$K$3:$L$33,2))","v":0},0,{"$f":"IF($T37=Lookups!$B$113,VLOOKUP($J37,'Points Table C'!$A$3:$F$11,5),VLOOKUP($U37,'Points Table C'!$B$3:$F$11,4))","v":0},{"$f":"IF($R37=1,0,VLOOKUP($N37,'Points Table C'!$C$3:$E$18,3))","v":0},{"$f":"VLOOKUP($I37,'Points Table C'!$D$3:$E$18,2)","v":0},{"$f":"IF($Z37<Lookups!$C$106,(AA37+AB37+AC37),IF(AA37>=Lookups!$C$120,(AA37+AB37+AC37),AA37+AB37))","v":0}]
["Non-core foods","Enter a food name here","Company name",0,0,0,0,0,0,0,0,0,{"$f":"IF((SUM(D38:L38)=0),\"J\",VLOOKUP(P38,Lookups!$A$1:$B$11,2))","v":"J"},{"$f":"H38+(L38*Lookups!$C$102*H38/100)","v":0},0,{"$f":"IF(ROUND(10.499-(((O38-VLOOKUP($A38,Lookups!$A$55:$D$64,3))/(VLOOKUP($A38,Lookups!$A$55:$D$64,4))*VLOOKUP($A38,Lookups!$C$2:$D$11,2))),0)<1,1,IF(ROUND(10.499-(((O38-VLOOKUP($A38,Lookups!$A$55:$D$64,3))/(VLOOKUP($A38,Lookups!$A$55:$D$64,4))*VLOOKUP($A38,Lookups!$C$2:$D$11,2))),0)<11,ROUND(10.499-(((O38-VLOOKUP($A38,Lookups!$A$55:$D$64,3))/(VLOOKUP($A38,Lookups!$A$55:$D$64,4))*VLOOKUP($A38,Lookups!$C$2:$D$11,2))),0),10))","v":7},null,{"$f":"VLOOKUP(A38,Lookups!$A$126:$C$135,3)","v":2},{"$f":"VLOOKUP(A38,Lookups!$A$126:$C$135,2)","v":"Food"},"No",0,{"$f":"IF($R38<>3,VLOOKUP($D38,'Points Table A'!$B$3:$F$33,5),VLOOKUP($D38,'Points Table A'!$H$3:$L$33,5))","v":0},{"$f":"IF($R38<>3,VLOOKUP($E38,'Points Table A'!$C$3:$F$33,4),VLOOKUP($E38,'Points Table A'!$I$3:$L$33,4))","v":0},{"$f":"IF($R38<>3,VLOOKUP($F38,'Points Table A'!$D$3:$F$33,3),VLOOKUP($F38,'Points Table A'!$J$3:$L$33,3))","v":0},{"$f":"IF($R38<>3,VLOOKUP($G38,'Points Table A'!$E$3:$F$33,2),VLOOKUP($G38,'Points Table A'!$K$3:$L$33,2))","v":0},0,{"$f":"IF($T38=Lookups!$B$113,VLOOKUP($J38,'Points Table C'!$A$3:$F$11,5),VLOOKUP($U38,'Points Table C'!$B$3:$F$11,4))","v":0},{"$f":"IF($R38=1,0,VLOOKUP($N38,'Points Table C'!$C$3:$E$18,3))","v":0},{"$f":"VLOOKUP($I38,'Points Table C'!$D$3:$E$18,2)","v":0},{"$f":"IF($Z38<Lookups!$C$106,(AA38+AB38+AC38),IF(AA38>=Lookups!$C$120,(AA38+AB38+AC38),AA38+AB38))","v":0}]
["Non-core foods","Enter a food name here","Company name",0,0,0,0,0,0,0,0,0,{"$f":"IF((SUM(D39:L39)=0),\"J\",VLOOKUP(P39,Lookups!$A$1:$B$11,2))","v":"J"},{"$f":"H39+(L39*Lookups!$C$102*H39/100)","v":0},0,{"$f":"IF(ROUND(10.499-(((O39-VLOOKUP($A39,Lookups!$A$55:$D$64,3))/(VLOOKUP($A39,Lookups!$A$55:$D$64,4))*VLOOKUP($A39,Lookups!$C$2:$D$11,2))),0)<1,1,IF(ROUND(10.499-(((O39-VLOOKUP($A39,Lookups!$A$55:$D$64,3))/(VLOOKUP($A39,Lookups!$A$55:$D$64,4))*VLOOKUP($A39,Lookups!$C$2:$D$11,2))),0)<11,ROUND(10.499-(((O39-VLOOKUP($A39,Lookups!$A$55:$D$64,3))/(VLOOKUP($A39,Lookups!$A$55:$D$64,4))*VLOOKUP($A39,Lookups!$C$2:$D$11,2))),0),10))","v":7},null,{"$f":"VLOOKUP(A39,Lookups!$A$126:$C$135,3)","v":2},{"$f":"VLOOKUP(A39,Lookups!$A$126:$C$135,2)","v":"Food"},"No",0,{"$f":"IF($R39<>3,VLOOKUP($D39,'Points Table A'!$B$3:$F$33,5),VLOOKUP($D39,'Points Table A'!$H$3:$L$33,5))","v":0},{"$f":"IF($R39<>3,VLOOKUP($E39,'Points Table A'!$C$3:$F$33,4),VLOOKUP($E39,'Points Table A'!$I$3:$L$33,4))","v":0},{"$f":"IF($R39<>3,VLOOKUP($F39,'Points Table A'!$D$3:$F$33,3),VLOOKUP($F39,'Points Table A'!$J$3:$L$33,3))","v":0},{"$f":"IF($R39<>3,VLOOKUP($G39,'Points Table A'!$E$3:$F$33,2),VLOOKUP($G39,'Points Table A'!$K$3:$L$33,2))","v":0},0,{"$f":"IF($T39=Lookups!$B$113,VLOOKUP($J39,'Points Table C'!$A$3:$F$11,5),VLOOKUP($U39,'Points Table C'!$B$3:$F$11,4))","v":0},{"$f":"IF($R39=1,0,VLOOKUP($N39,'Points Table C'!$C$3:$E$18,3))","v":0},{"$f":"VLOOKUP($I39,'Points Table C'!$D$3:$E$18,2)","v":0},{"$f":"IF($Z39<Lookups!$C$106,(AA39+AB39+AC39),IF(AA39>=Lookups!$C$120,(AA39+AB39+AC39),AA39+AB39))","v":0}]
["Non-core foods","Enter a food name here","Company name",0,0,0,0,0,0,0,0,0,{"$f":"IF((SUM(D40:L40)=0),\"J\",VLOOKUP(P40,Lookups!$A$1:$B$11,2))","v":"J"},{"$f":"H40+(L40*Lookups!$C$102*H40/100)","v":0},0,{"$f":"IF(ROUND(10.499-(((O40-VLOOKUP($A40,Lookups!$A$55:$D$64,3))/(VLOOKUP($A40,Lookups!$A$55:$D$64,4))*VLOOKUP($A40,Lookups!$C$2:$D$11,2))),0)<1,1,IF(ROUND(10.499-(((O40-VLOOKUP($A40,Lookups!$A$55:$D$64,3))/(VLOOKUP($A40,Lookups!$A$55:$D$64,4))*VLOOKUP($A40,Lookups!$C$2:$D$11,2))),0)<11,ROUND(10.499-(((O40-VLOOKUP($A40,Lookups!$A$55:$D$64,3))/(VLOOKUP($A40,Lookups!$A$55:$D$64,4))*VLOOKUP($A40,Lookups!$C$2:$D$11,2))),0),10))","v":7},null,{"$f":"VLOOKUP(A40,Lookups!$A$126:$C$135,3)","v":2},{"$f":"VLOOKUP(A40,Lookups!$A$126:$C$135,2)","v":"Food"},"No",0,{"$f":"IF($R40<>3,VLOOKUP($D40,'Points Table A'!$B$3:$F$33,5),VLOOKUP($D40,'Points Table A'!$H$3:$L$33,5))","v":0},{"$f":"IF($R40<>3,VLOOKUP($E40,'Points Table A'!$C$3:$F$33,4),VLOOKUP($E40,'Points Table A'!$I$3:$L$33,4))","v":0},{"$f":"IF($R40<>3,VLOOKUP($F40,'Points Table A'!$D$3:$F$33,3),VLOOKUP($F40,'Points Table A'!$J$3:$L$33,3))","v":0},{"$f":"IF($R40<>3,VLOOKUP($G40,'Points Table A'!$E$3:$F$33,2),VLOOKUP($G40,'Points Table A'!$K$3:$L$33,2))","v":0},0,{"$f":"IF($T40=Lookups!$B$113,VLOOKUP($J40,'Points Table C'!$A$3:$F$11,5),VLOOKUP($U40,'Points Table C'!$B$3:$F$11,4))","v":0},{"$f":"IF($R40=1,0,VLOOKUP($N40,'Points Table C'!$C$3:$E$18,3))","v":0},{"$f":"VLOOKUP($I40,'Points Table C'!$D$3:$E$18,2)","v":0},{"$f":"IF($Z40<Lookups!$C$106,(AA40+AB40+AC40),IF(AA40>=Lookups!$C$120,(AA40+AB40+AC40),AA40+AB40))","v":0}]
["Non-core foods","Enter a food name here","Company name",0,0,0,0,0,0,0,0,0,{"$f":"IF((SUM(D41:L41)=0),\"J\",VLOOKUP(P41,Lookups!$A$1:$B$11,2))","v":"J"},{"$f":"H41+(L41*Lookups!$C$102*H41/100)","v":0},0,{"$f":"IF(ROUND(10.499-(((O41-VLOOKUP($A41,Lookups!$A$55:$D$64,3))/(VLOOKUP($A41,Lookups!$A$55:$D$64,4))*VLOOKUP($A41,Lookups!$C$2:$D$11,2))),0)<1,1,IF(ROUND(10.499-(((O41-VLOOKUP($A41,Lookups!$A$55:$D$64,3))/(VLOOKUP($A41,Lookups!$A$55:$D$64,4))*VLOOKUP($A41,Lookups!$C$2:$D$11,2))),0)<11,ROUND(10.499-(((O41-VLOOKUP($A41,Lookups!$A$55:$D$64,3))/(VLOOKUP($A41,Lookups!$A$55:$D$64,4))*VLOOKUP($A41,Lookups!$C$2:$D$11,2))),0),10))","v":7},null,{"$f":"VLOOKUP(A41,Lookups!$A$126:$C$135,3)","v":2},{"$f":"VLOOKUP(A41,Lookups!$A$126:$C$135,2)","v":"Food"},"No",0,{"$f":"IF($R41<>3,VLOOKUP($D41,'Points Table A'!$B$3:$F$33,5),VLOOKUP($D41,'Points Table A'!$H$3:$L$33,5))","v":0},{"$f":"IF($R41<>3,VLOOKUP($E41,'Points Table A'!$C$3:$F$33,4),VLOOKUP($E41,'Points Table A'!$I$3:$L$33,4))","v":0},{"$f":"IF($R41<>3,VLOOKUP($F41,'Points Table A'!$D$3:$F$33,3),VLOOKUP($F41,'Points Table A'!$J$3:$L$33,3))","v":0},{"$f":"IF($R41<>3,VLOOKUP($G41,'Points Table A'!$E$3:$F$33,2),VLOOKUP($G41,'Points Table A'!$K$3:$L$33,2))","v":0},0,{"$f":"IF($T41=Lookups!$B$113,VLOOKUP($J41,'Points Table C'!$A$3:$F$11,5),VLOOKUP($U41,'Points Table C'!$B$3:$F$11,4))","v":0},{"$f":"IF($R41=1,0,VLOOKUP($N41,'Points Table C'!$C$3:$E$18,3))","v":0},{"$f":"VLOOKUP($I41,'Points Table C'!$D$3:$E$18,2)","v":0},{"$f":"IF($Z41<Lookups!$C$106,(AA41+AB41+AC41),IF(AA41>=Lookups!$C$120,(AA41+AB41+AC41),AA41+AB41))","v":0}]
["Non-core foods","Enter a food name here","Company name",0,0,0,0,0,0,0,0,0,{"$f":"IF((SUM(D42:L42)=0),\"J\",VLOOKUP(P42,Lookups!$A$1:$B$11,2))","v":"J"},{"$f":"H42+(L42*Lookups!$C$102*H42/100)","v":0},0,{"$f":"IF(ROUND(10.499-(((O42-VLOOKUP($A42,Lookups!$A$55:$D$64,3))/(VLOOKUP($A42,Lookups!$A$55:$D$64,4))*VLOOKUP($A42,Lookups!$C$2:$D$11,2))),0)<1,1,IF(ROUND(10.499-(((O42-VLOOKUP($A42,Lookups!$A$55:$D$64,3))/(VLOOKUP($A42,Lookups!$A$55:$D$64,4))*VLOOKUP($A42,Lookups!$C$2:$D$11,2))),0)<11,ROUND(10.499-(((O42-VLOOKUP($A42,Lookups!$A$55:$D$64,3))/(VLOOKUP($A42,Lookups!$A$55:$D$64,4))*VLOOKUP($A42,Lookups!$C$2:$D$11,2))),0),10))","v":7},null,{"$f":"VLOOKUP(A42,Lookups!$A$126:$C$135,3)","v":2},{"$f":"VLOOKUP(A42,Lookups!$A$126:$C$135,2)","v":"Food"},"No",0,{"$f":"IF($R42<>3,VLOOKUP($D42,'Points Table A'!$B$3:$F$33,5),VLOOKUP($D42,'Points Table A'!$H$3:$L$33,5))","v":0},{"$f":"IF($R42<>3,VLOOKUP($E42,'Points Table A'!$C$3:$F$33,4),VLOOKUP($E42,'Points Table A'!$I$3:$L$33,4))","v":0},{"$f":"IF($R42<>3,VLOOKUP($F42,'Points Table A'!$D$3:$F$33,3),VLOOKUP($F42,'Points Table A'!$J$3:$L$33,3))","v":0},{"$f":"IF($R42<>3,VLOOKUP($G42,'Points Table A'!$E$3:$F$33,2),VLOOKUP($G42,'Points Table A'!$K$3:$L$33,2))","v":0},0,{"$f":"IF($T42=Lookups!$B$113,VLOOKUP($J42,'Points Table C'!$A$3:$F$11,5),VLOOKUP($U42,'Points Table C'!$B$3:$F$11,4))","v":0},{"$f":"IF($R42=1,0,VLOOKUP($N42,'Points Table C'!$C$3:$E$18,3))","v":0},{"$f":"VLOOKUP($I42,'Points Table C'!$D$3:$E$18,2)","v":0},{"$f":"IF($Z42<Lookups!$C$106,(AA42+AB42+AC42),IF(AA42>=Lookups!$C$120,(AA42+AB42+AC42),AA42+AB42))","v":0}]
["Non-core foods","Enter a food name here","Company name",0,0,0,0,0,0,0,0,0,{"$f":"IF((SUM(D43:L43)=0),\"J\",VLOOKUP(P43,Lookups!$A$1:$B$11,2))","v":"J"},{"$f":"H43+(L43*Lookups!$C$102*H43/100)","v":0},0,{"$f":"IF(ROUND(10.499-(((O43-VLOOKUP($A43,Lookups!$A$55:$D$64,3))/(VLOOKUP($A43,Lookups!$A$55:$D$64,4))*VLOOKUP($A43,Lookups!$C$2:$D$11,2))),0)<1,1,IF(ROUND(10.499-(((O43-VLOOKUP($A43,Lookups!$A$55:$D$64,3))/(VLOOKUP($A43,Lookups!$A$55:$D$64,4))*VLOOKUP($A43,Lookups!$C$2:$D$11,2))),0)<11,ROUND(10.499-(((O43-VLOOKUP($A43,Lookups!$A$55:$D$64,3))/(VLOOKUP($A43,Lookups!$A$55:$D$64,4))*VLOOKUP($A43,Lookups!$C$2:$D$11,2))),0),10))","v":7},null,{"$f":"VLOOKUP(A43,Lookups!$A$126:$C$135,3)","v":2},{"$f":"VLOOKUP(A43,Lookups!$A$126:$C$135,2)","v":"Food"},"No",0,{"$f":"IF($R43<>3,VLOOKUP($D43,'Points Table A'!$B$3:$F$33,5),VLOOKUP($D43,'Points Table A'!$H$3:$L$33,5))","v":0},{"$f":"IF($R43<>3,VLOOKUP($E43,'Points Table A'!$C$3:$F$33,4),VLOOKUP($E43,'Points Table A'!$I$3:$L$33,4))","v":0},{"$f":"IF($R43<>3,VLOOKUP($F43,'Points Table A'!$D$3:$F$33,3),VLOOKUP($F43,'Points Table A'!$J$3:$L$33,3))","v":0},{"$f":"IF($R43<>3,VLOOKUP($G43,'Points Table A'!$E$3:$F$33,2),VLOOKUP($G43,'Points Table A'!$K$3:$L$33,2))","v":0},0,{"$f":"IF($T43=Lookups!$B$113,VLOOKUP($J43,'Points Table C'!$A$3:$F$11,5),VLOOKUP($U43,'Points Table C'!$B$3:$F$11,4))","v":0},{"$f":"IF($R43=1,0,VLOOKUP($N43,'Points Table C'!$C$3:$E$18,3))","v":0},{"$f":"VLOOKUP($I43,'Points Table C'!$D$3:$E$18,2)","v":0},{"$f":"IF($Z43<Lookups!$C$106,(AA43+AB43+AC43),IF(AA43>=Lookups!$C$120,(AA43+AB43+AC43),AA43+AB43))","v":0}]
["Non-core foods","Enter a food name here","Company name",0,0,0,0,0,0,0,0,0,{"$f":"IF((SUM(D44:L44)=0),\"J\",VLOOKUP(P44,Lookups!$A$1:$B$11,2))","v":"J"},{"$f":"H44+(L44*Lookups!$C$102*H44/100)","v":0},0,{"$f":"IF(ROUND(10.499-(((O44-VLOOKUP($A44,Lookups!$A$55:$D$64,3))/(VLOOKUP($A44,Lookups!$A$55:$D$64,4))*VLOOKUP($A44,Lookups!$C$2:$D$11,2))),0)<1,1,IF(ROUND(10.499-(((O44-VLOOKUP($A44,Lookups!$A$55:$D$64,3))/(VLOOKUP($A44,Lookups!$A$55:$D$64,4))*VLOOKUP($A44,Lookups!$C$2:$D$11,2))),0)<11,ROUND(10.499-(((O44-VLOOKUP($A44,Lookups!$A$55:$D$64,3))/(VLOOKUP($A44,Lookups!$A$55:$D$64,4))*VLOOKUP($A44,Lookups!$C$2:$D$11,2))),0),10))","v":7},null,{"$f":"VLOOKUP(A44,Lookups!$A$126:$C$135,3)","v":2},{"$f":"VLOOKUP(A44,Lookups!$A$126:$C$135,2)","v":"Food"},"No",0,{"$f":"IF($R44<>3,VLOOKUP($D44,'Points Table A'!$B$3:$F$33,5),VLOOKUP($D44,'Points Table A'!$H$3:$L$33,5))","v":0},{"$f":"IF($R44<>3,VLOOKUP($E44,'Points Table A'!$C$3:$F$33,4),VLOOKUP($E44,'Points Table A'!$I$3:$L$33,4))","v":0},{"$f":"IF($R44<>3,VLOOKUP($F44,'Points Table A'!$D$3:$F$33,3),VLOOKUP($F44,'Points Table A'!$J$3:$L$33,3))","v":0},{"$f":"IF($R44<>3,VLOOKUP($G44,'Points Table A'!$E$3:$F$33,2),VLOOKUP($G44,'Points Table A'!$K$3:$L$33,2))","v":0},0,{"$f":"IF($T44=Lookups!$B$113,VLOOKUP($J44,'Points Table C'!$A$3:$F$11,5),VLOOKUP($U44,'Points Table C'!$B$3:$F$11,4))","v":0},{"$f":"IF($R44=1,0,VLOOKUP($N44,'Points Table C'!$C$3:$E$18,3))","v":0},{"$f":"VLOOKUP($I44,'Points Table C'!$D$3:$E$18,2)","v":0},{"$f":"IF($Z44<Lookups!$C$106,(AA44+AB44+AC44),IF(AA44>=Lookups!$C$120,(AA44+AB44+AC44),AA44+AB44))","v":0}]
["Non-core foods","Enter a food name here","Company name",0,0,0,0,0,0,0,0,0,{"$f":"IF((SUM(D45:L45)=0),\"J\",VLOOKUP(P45,Lookups!$A$1:$B$11,2))","v":"J"},{"$f":"H45+(L45*Lookups!$C$102*H45/100)","v":0},0,{"$f":"IF(ROUND(10.499-(((O45-VLOOKUP($A45,Lookups!$A$55:$D$64,3))/(VLOOKUP($A45,Lookups!$A$55:$D$64,4))*VLOOKUP($A45,Lookups!$C$2:$D$11,2))),0)<1,1,IF(ROUND(10.499-(((O45-VLOOKUP($A45,Lookups!$A$55:$D$64,3))/(VLOOKUP($A45,Lookups!$A$55:$D$64,4))*VLOOKUP($A45,Lookups!$C$2:$D$11,2))),0)<11,ROUND(10.499-(((O45-VLOOKUP($A45,Lookups!$A$55:$D$64,3))/(VLOOKUP($A45,Lookups!$A$55:$D$64,4))*VLOOKUP($A45,Lookups!$C$2:$D$11,2))),0),10))","v":7},null,{"$f":"VLOOKUP(A45,Lookups!$A$126:$C$135,3)","v":2},{"$f":"VLOOKUP(A45,Lookups!$A$126:$C$135,2)","v":"Food"},"No",0,{"$f":"IF($R45<>3,VLOOKUP($D45,'Points Table A'!$B$3:$F$33,5),VLOOKUP($D45,'Points Table A'!$H$3:$L$33,5))","v":0},{"$f":"IF($R45<>3,VLOOKUP($E45,'Points Table A'!$C$3:$F$33,4),VLOOKUP($E45,'Points Table A'!$I$3:$L$33,4))","v":0},{"$f":"IF($R45<>3,VLOOKUP($F45,'Points Table A'!$D$3:$F$33,3),VLOOKUP($F45,'Points Table A'!$J$3:$L$33,3))","v":0},{"$f":"IF($R45<>3,VLOOKUP($G45,'Points Table A'!$E$3:$F$33,2),VLOOKUP($G45,'Points Table A'!$K$3:$L$33,2))","v":0},0,{"$f":"IF($T45=Lookups!$B$113,VLOOKUP($J45,'Points Table C'!$A$3:$F$11,5),VLOOKUP($U45,'Points Table C'!$B$3:$F$11,4))","v":0},{"$f":"IF($R45=1,0,VLOOKUP($N45,'Points Table C'!$C$3:$E$18,3))","v":0},{"$f":"VLOOKUP($I45,'Points Table C'!$D$3:$E$18,2)","v":0},{"$f":"IF($Z45<Lookups!$C$106,(AA45+AB45+AC45),IF(AA45>=Lookups!$C$120,(AA45+AB45+AC45),AA45+AB45))","v":0}]
["Non-core foods","Enter a food name here","Company name",0,0,0,0,0,0,0,0,0,{"$f":"IF((SUM(D46:L46)=0),\"J\",VLOOKUP(P46,Lookups!$A$1:$B$11,2))","v":"J"},{"$f":"H46+(L46*Lookups!$C$102*H46/100)","v":0},0,{"$f":"IF(ROUND(10.499-(((O46-VLOOKUP($A46,Lookups!$A$55:$D$64,3))/(VLOOKUP($A46,Lookups!$A$55:$D$64,4))*VLOOKUP($A46,Lookups!$C$2:$D$11,2))),0)<1,1,IF(ROUND(10.499-(((O46-VLOOKUP($A46,Lookups!$A$55:$D$64,3))/(VLOOKUP($A46,Lookups!$A$55:$D$64,4))*VLOOKUP($A46,Lookups!$C$2:$D$11,2))),0)<11,ROUND(10.499-(((O46-VLOOKUP($A46,Lookups!$A$55:$D$64,3))/(VLOOKUP($A46,Lookups!$A$55:$D$64,4))*VLOOKUP($A46,Lookups!$C$2:$D$11,2))),0),10))","v":7},null,{"$f":"VLOOKUP(A46,Lookups!$A$126:$C$135,3)","v":2},{"$f":"VLOOKUP(A46,Lookups!$A$126:$C$135,2)","v":"Food"},"No",0,{"$f":"IF($R46<>3,VLOOKUP($D46,'Points Table A'!$B$3:$F$33,5),VLOOKUP($D46,'Points Table A'!$H$3:$L$33,5))","v":0},{"$f":"IF($R46<>3,VLOOKUP($E46,'Points Table A'!$C$3:$F$33,4),VLOOKUP($E46,'Points Table A'!$I$3:$L$33,4))","v":0},{"$f":"IF($R46<>3,VLOOKUP($F46,'Points Table A'!$D$3:$F$33,3),VLOOKUP($F46,'Points Table A'!$J$3:$L$33,3))","v":0},{"$f":"IF($R46<>3,VLOOKUP($G46,'Points Table A'!$E$3:$F$33,2),VLOOKUP($G46,'Points Table A'!$K$3:$L$33,2))","v":0},0,{"$f":"IF($T46=Lookups!$B$113,VLOOKUP($J46,'Points Table C'!$A$3:$F$11,5),VLOOKUP($U46,'Points Table C'!$B$3:$F$11,4))","v":0},{"$f":"IF($R46=1,0,VLOOKUP($N46,'Points Table C'!$C$3:$E$18,3))","v":0},{"$f":"VLOOKUP($I46,'Points Table C'!$D$3:$E$18,2)","v":0},{"$f":"IF($Z46<Lookups!$C$106,(AA46+AB46+AC46),IF(AA46>=Lookups!$C$120,(AA46+AB46+AC46),AA46+AB46))","v":0}]
["Non-core foods","Enter a food name here","Company name",0,0,0,0,0,0,0,0,0,{"$f":"IF((SUM(D47:L47)=0),\"J\",VLOOKUP(P47,Lookups!$A$1:$B$11,2))","v":"J"},{"$f":"H47+(L47*Lookups!$C$102*H47/100)","v":0},0,{"$f":"IF(ROUND(10.499-(((O47-VLOOKUP($A47,Lookups!$A$55:$D$64,3))/(VLOOKUP($A47,Lookups!$A$55:$D$64,4))*VLOOKUP($A47,Lookups!$C$2:$D$11,2))),0)<1,1,IF(ROUND(10.499-(((O47-VLOOKUP($A47,Lookups!$A$55:$D$64,3))/(VLOOKUP($A47,Lookups!$A$55:$D$64,4))*VLOOKUP($A47,Lookups!$C$2:$D$11,2))),0)<11,ROUND(10.499-(((O47-VLOOKUP($A47,Lookups!$A$55:$D$64,3))/(VLOOKUP($A47,Lookups!$A$55:$D$64,4))*VLOOKUP($A47,Lookups!$C$2:$D$11,2))),0),10))","v":7},null,{"$f":"VLOOKUP(A47,Lookups!$A$126:$C$135,3)","v":2},{"$f":"VLOOKUP(A47,Lookups!$A$126:$C$135,2)","v":"Food"},"No",0,{"$f":"IF($R47<>3,VLOOKUP($D47,'Points Table A'!$B$3:$F$33,5),VLOOKUP($D47,'Points Table A'!$H$3:$L$33,5))","v":0},{"$f":"IF($R47<>3,VLOOKUP($E47,'Points Table A'!$C$3:$F$33,4),VLOOKUP($E47,'Points Table A'!$I$3:$L$33,4))","v":0},{"$f":"IF($R47<>3,VLOOKUP($F47,'Points Table A'!$D$3:$F$33,3),VLOOKUP($F47,'Points Table A'!$J$3:$L$33,3))","v":0},{"$f":"IF($R47<>3,VLOOKUP($G47,'Points Table A'!$E$3:$F$33,2),VLOOKUP($G47,'Points Table A'!$K$3:$L$33,2))","v":0},0,{"$f":"IF($T47=Lookups!$B$113,VLOOKUP($J47,'Points Table C'!$A$3:$F$11,5),VLOOKUP($U47,'Points Table C'!$B$3:$F$11,4))","v":0},{"$f":"IF($R47=1,0,VLOOKUP($N47,'Points Table C'!$C$3:$E$18,3))","v":0},{"$f":"VLOOKUP($I47,'Points Table C'!$D$3:$E$18,2)","v":0},{"$f":"IF($Z47<Lookups!$C$106,(AA47+AB47+AC47),IF(AA47>=Lookups!$C$120,(AA47+AB47+AC47),AA47+AB47))","v":0}]
["Non-core foods","Enter a food name here","Company name",0,0,0,0,0,0,0,0,0,{"$f":"IF((SUM(D48:L48)=0),\"J\",VLOOKUP(P48,Lookups!$A$1:$B$11,2))","v":"J"},{"$f":"H48+(L48*Lookups!$C$102*H48/100)","v":0},0,{"$f":"IF(ROUND(10.499-(((O48-VLOOKUP($A48,Lookups!$A$55:$D$64,3))/(VLOOKUP($A48,Lookups!$A$55:$D$64,4))*VLOOKUP($A48,Lookups!$C$2:$D$11,2))),0)<1,1,IF(ROUND(10.499-(((O48-VLOOKUP($A48,Lookups!$A$55:$D$64,3))/(VLOOKUP($A48,Lookups!$A$55:$D$64,4))*VLOOKUP($A48,Lookups!$C$2:$D$11,2))),0)<11,ROUND(10.499-(((O48-VLOOKUP($A48,Lookups!$A$55:$D$64,3))/(VLOOKUP($A48,Lookups!$A$55:$D$64,4))*VLOOKUP($A48,Lookups!$C$2:$D$11,2))),0),10))","v":7},null,{"$f":"VLOOKUP(A48,Lookups!$A$126:$C$135,3)","v":2},{"$f":"VLOOKUP(A48,Lookups!$A$126:$C$135,2)","v":"Food"},"No",0,{"$f":"IF($R48<>3,VLOOKUP($D48,'Points Table A'!$B$3:$F$33,5),VLOOKUP($D48,'Points Table A'!$H$3:$L$33,5))","v":0},{"$f":"IF($R48<>3,VLOOKUP($E48,'Points Table A'!$C$3:$F$33,4),VLOOKUP($E48,'Points Table A'!$I$3:$L$33,4))","v":0},{"$f":"IF($R48<>3,VLOOKUP($F48,'Points Table A'!$D$3:$F$33,3),VLOOKUP($F48,'Points Table A'!$J$3:$L$33,3))","v":0},{"$f":"IF($R48<>3,VLOOKUP($G48,'Points Table A'!$E$3:$F$33,2),VLOOKUP($G48,'Points Table A'!$K$3:$L$33,2))","v":0},0,{"$f":"IF($T48=Lookups!$B$113,VLOOKUP($J48,'Points Table C'!$A$3:$F$11,5),VLOOKUP($U48,'Points Table C'!$B$3:$F$11,4))","v":0},{"$f":"IF($R48=1,0,VLOOKUP($N48,'Points Table C'!$C$3:$E$18,3))","v":0},{"$f":"VLOOKUP($I48,'Points Table C'!$D$3:$E$18,2)","v":0},{"$f":"IF($Z48<Lookups!$C$106,(AA48+AB48+AC48),IF(AA48>=Lookups!$C$120,(AA48+AB48+AC48),AA48+AB48))","v":0}]
["Non-core foods","Enter a food name here","Company name",0,0,0,0,0,0,0,0,0,{"$f":"IF((SUM(D49:L49)=0),\"J\",VLOOKUP(P49,Lookups!$A$1:$B$11,2))","v":"J"},{"$f":"H49+(L49*Lookups!$C$102*H49/100)","v":0},0,{"$f":"IF(ROUND(10.499-(((O49-VLOOKUP($A49,Lookups!$A$55:$D$64,3))/(VLOOKUP($A49,Lookups!$A$55:$D$64,4))*VLOOKUP($A49,Lookups!$C$2:$D$11,2))),0)<1,1,IF(ROUND(10.499-(((O49-VLOOKUP($A49,Lookups!$A$55:$D$64,3))/(VLOOKUP($A49,Lookups!$A$55:$D$64,4))*VLOOKUP($A49,Lookups!$C$2:$D$11,2))),0)<11,ROUND(10.499-(((O49-VLOOKUP($A49,Lookups!$A$55:$D$64,3))/(VLOOKUP($A49,Lookups!$A$55:$D$64,4))*VLOOKUP($A49,Lookups!$C$2:$D$11,2))),0),10))","v":7},null,{"$f":"VLOOKUP(A49,Lookups!$A$126:$C$135,3)","v":2},{"$f":"VLOOKUP(A49,Lookups!$A$126:$C$135,2)","v":"Food"},"No",0,{"$f":"IF($R49<>3,VLOOKUP($D49,'Points Table A'!$B$3:$F$33,5),VLOOKUP($D49,'Points Table A'!$H$3:$L$33,5))","v":0},{"$f":"IF($R49<>3,VLOOKUP($E49,'Points Table A'!$C$3:$F$33,4),VLOOKUP($E49,'Points Table A'!$I$3:$L$33,4))","v":0},{"$f":"IF($R49<>3,VLOOKUP($F49,'Points Table A'!$D$3:$F$33,3),VLOOKUP($F49,'Points Table A'!$J$3:$L$33,3))","v":0},{"$f":"IF($R49<>3,VLOOKUP($G49,'Points Table A'!$E$3:$F$33,2),VLOOKUP($G49,'Points Table A'!$K$3:$L$33,2))","v":0},0,{"$f":"IF($T49=Lookups!$B$113,VLOOKUP($J49,'Points Table C'!$A$3:$F$11,5),VLOOKUP($U49,'Points Table C'!$B$3:$F$11,4))","v":0},{"$f":"IF($R49=1,0,VLOOKUP($N49,'Points Table C'!$C$3:$E$18,3))","v":0},{"$f":"VLOOKUP($I49,'Points Table C'!$D$3:$E$18,2)","v":0},{"$f":"IF($Z49<Lookups!$C$106,(AA49+AB49+AC49),IF(AA49>=Lookups!$C$120,(AA49+AB49+AC49),AA49+AB49))","v":0}]
["Non-core foods","Enter a food name here","Company name",0,0,0,0,0,0,0,0,0,{"$f":"IF((SUM(D50:L50)=0),\"J\",VLOOKUP(P50,Lookups!$A$1:$B$11,2))","v":"J"},{"$f":"H50+(L50*Lookups!$C$102*H50/100)","v":0},0,{"$f":"IF(ROUND(10.499-(((O50-VLOOKUP($A50,Lookups!$A$55:$D$64,3))/(VLOOKUP($A50,Lookups!$A$55:$D$64,4))*VLOOKUP($A50,Lookups!$C$2:$D$11,2))),0)<1,1,IF(ROUND(10.499-(((O50-VLOOKUP($A50,Lookups!$A$55:$D$64,3))/(VLOOKUP($A50,Lookups!$A$55:$D$64,4))*VLOOKUP($A50,Lookups!$C$2:$D$11,2))),0)<11,ROUND(10.499-(((O50-VLOOKUP($A50,Lookups!$A$55:$D$64,3))/(VLOOKUP($A50,Lookups!$A$55:$D$64,4))*VLOOKUP($A50,Lookups!$C$2:$D$11,2))),0),10))","v":7},null,{"$f":"VLOOKUP(A50,Lookups!$A$126:$C$135,3)","v":2},{"$f":"VLOOKUP(A50,Lookups!$A$126:$C$135,2)","v":"Food"},"No",0,{"$f":"IF($R50<>3,VLOOKUP($D50,'Points Table A'!$B$3:$F$33,5),VLOOKUP($D50,'Points Table A'!$H$3:$L$33,5))","v":0},{"$f":"IF($R50<>3,VLOOKUP($E50,'Points Table A'!$C$3:$F$33,4),VLOOKUP($E50,'Points Table A'!$I$3:$L$33,4))","v":0},{"$f":"IF($R50<>3,VLOOKUP($F50,'Points Table A'!$D$3:$F$33,3),VLOOKUP($F50,'Points Table A'!$J$3:$L$33,3))","v":0},{"$f":"IF($R50<>3,VLOOKUP($G50,'Points Table A'!$E$3:$F$33,2),VLOOKUP($G50,'Points Table A'!$K$3:$L$33,2))","v":0},0,{"$f":"IF($T50=Lookups!$B$113,VLOOKUP($J50,'Points Table C'!$A$3:$F$11,5),VLOOKUP($U50,'Points Table C'!$B$3:$F$11,4))","v":0},{"$f":"IF($R50=1,0,VLOOKUP($N50,'Points Table C'!$C$3:$E$18,3))","v":0},{"$f":"VLOOKUP($I50,'Points Table C'!$D$3:$E$18,2)","v":0},{"$f":"IF($Z50<Lookups!$C$106,(AA50+AB50+AC50),IF(AA50>=Lookups!$C$120,(AA50+AB50+AC50),AA50+AB50))","v":0}]
["Non-core foods","Enter a food name here","Company name",0,0,0,0,0,0,0,0,0,{"$f":"IF((SUM(D51:L51)=0),\"J\",VLOOKUP(P51,Lookups!$A$1:$B$11,2))","v":"J"},{"$f":"H51+(L51*Lookups!$C$102*H51/100)","v":0},0,{"$f":"IF(ROUND(10.499-(((O51-VLOOKUP($A51,Lookups!$A$55:$D$64,3))/(VLOOKUP($A51,Lookups!$A$55:$D$64,4))*VLOOKUP($A51,Lookups!$C$2:$D$11,2))),0)<1,1,IF(ROUND(10.499-(((O51-VLOOKUP($A51,Lookups!$A$55:$D$64,3))/(VLOOKUP($A51,Lookups!$A$55:$D$64,4))*VLOOKUP($A51,Lookups!$C$2:$D$11,2))),0)<11,ROUND(10.499-(((O51-VLOOKUP($A51,Lookups!$A$55:$D$64,3))/(VLOOKUP($A51,Lookups!$A$55:$D$64,4))*VLOOKUP($A51,Lookups!$C$2:$D$11,2))),0),10))","v":7},null,{"$f":"VLOOKUP(A51,Lookups!$A$126:$C$135,3)","v":2},{"$f":"VLOOKUP(A51,Lookups!$A$126:$C$135,2)","v":"Food"},"No",0,{"$f":"IF($R51<>3,VLOOKUP($D51,'Points Table A'!$B$3:$F$33,5),VLOOKUP($D51,'Points Table A'!$H$3:$L$33,5))","v":0},{"$f":"IF($R51<>3,VLOOKUP($E51,'Points Table A'!$C$3:$F$33,4),VLOOKUP($E51,'Points Table A'!$I$3:$L$33,4))","v":0},{"$f":"IF($R51<>3,VLOOKUP($F51,'Points Table A'!$D$3:$F$33,3),VLOOKUP($F51,'Points Table A'!$J$3:$L$33,3))","v":0},{"$f":"IF($R51<>3,VLOOKUP($G51,'Points Table A'!$E$3:$F$33,2),VLOOKUP($G51,'Points Table A'!$K$3:$L$33,2))","v":0},0,{"$f":"IF($T51=Lookups!$B$113,VLOOKUP($J51,'Points Table C'!$A$3:$F$11,5),VLOOKUP($U51,'Points Table C'!$B$3:$F$11,4))","v":0},{"$f":"IF($R51=1,0,VLOOKUP($N51,'Points Table C'!$C$3:$E$18,3))","v":0},{"$f":"VLOOKUP($I51,'Points Table C'!$D$3:$E$18,2)","v":0},{"$f":"IF($Z51<Lookups!$C$106,(AA51+AB51+AC51),IF(AA51>=Lookups!$C$120,(AA51+AB51+AC51),AA51+AB51))","v":0}]
["Non-core foods","Enter a food name here","Company name",0,0,0,0,0,0,0,0,0,{"$f":"IF((SUM(D52:L52)=0),\"J\",VLOOKUP(P52,Lookups!$A$1:$B$11,2))","v":"J"},{"$f":"H52+(L52*Lookups!$C$102*H52/100)","v":0},0,{"$f":"IF(ROUND(10.499-(((O52-VLOOKUP($A52,Lookups!$A$55:$D$64,3))/(VLOOKUP($A52,Lookups!$A$55:$D$64,4))*VLOOKUP($A52,Lookups!$C$2:$D$11,2))),0)<1,1,IF(ROUND(10.499-(((O52-VLOOKUP($A52,Lookups!$A$55:$D$64,3))/(VLOOKUP($A52,Lookups!$A$55:$D$64,4))*VLOOKUP($A52,Lookups!$C$2:$D$11,2))),0)<11,ROUND(10.499-(((O52-VLOOKUP($A52,Lookups!$A$55:$D$64,3))/(VLOOKUP($A52,Lookups!$A$55:$D$64,4))*VLOOKUP($A52,Lookups!$C$2:$D$11,2))),0),10))","v":7},null,{"$f":"VLOOKUP(A52,Lookups!$A$126:$C$135,3)","v":2},{"$f":"VLOOKUP(A52,Lookups!$A$126:$C$135,2)","v":"Food"},"No",0,{"$f":"IF($R52<>3,VLOOKUP($D52,'Points Table A'!$B$3:$F$33,5),VLOOKUP($D52,'Points Table A'!$H$3:$L$33,5))","v":0},{"$f":"IF($R52<>3,VLOOKUP($E52,'Points Table A'!$C$3:$F$33,4),VLOOKUP($E52,'Points Table A'!$I$3:$L$33,4))","v":0},{"$f":"IF($R52<>3,VLOOKUP($F52,'Points Table A'!$D$3:$F$33,3),VLOOKUP($F52,'Points Table A'!$J$3:$L$33,3))","v":0},{"$f":"IF($R52<>3,VLOOKUP($G52,'Points Table A'!$E$3:$F$33,2),VLOOKUP($G52,'Points Table A'!$K$3:$L$33,2))","v":0},0,{"$f":"IF($T52=Lookups!$B$113,VLOOKUP($J52,'Points Table C'!$A$3:$F$11,5),VLOOKUP($U52,'Points Table C'!$B$3:$F$11,4))","v":0},{"$f":"IF($R52=1,0,VLOOKUP($N52,'Points Table C'!$C$3:$E$18,3))","v":0},{"$f":"VLOOKUP($I52,'Points Table C'!$D$3:$E$18,2)","v":0},{"$f":"IF($Z52<Lookups!$C$106,(AA52+AB52+AC52),IF(AA52>=Lookups!$C$120,(AA52+AB52+AC52),AA52+AB52))","v":0}]
["Non-core foods","Enter a food name here","Company name",0,0,0,0,0,0,0,0,0,{"$f":"IF((SUM(D53:L53)=0),\"J\",VLOOKUP(P53,Lookups!$A$1:$B$11,2))","v":"J"},{"$f":"H53+(L53*Lookups!$C$102*H53/100)","v":0},0,{"$f":"IF(ROUND(10.499-(((O53-VLOOKUP($A53,Lookups!$A$55:$D$64,3))/(VLOOKUP($A53,Lookups!$A$55:$D$64,4))*VLOOKUP($A53,Lookups!$C$2:$D$11,2))),0)<1,1,IF(ROUND(10.499-(((O53-VLOOKUP($A53,Lookups!$A$55:$D$64,3))/(VLOOKUP($A53,Lookups!$A$55:$D$64,4))*VLOOKUP($A53,Lookups!$C$2:$D$11,2))),0)<11,ROUND(10.499-(((O53-VLOOKUP($A53,Lookups!$A$55:$D$64,3))/(VLOOKUP($A53,Lookups!$A$55:$D$64,4))*VLOOKUP($A53,Lookups!$C$2:$D$11,2))),0),10))","v":7},null,{"$f":"VLOOKUP(A53,Lookups!$A$126:$C$135,3)","v":2},{"$f":"VLOOKUP(A53,Lookups!$A$126:$C$135,2)","v":"Food"},"No",0,{"$f":"IF($R53<>3,VLOOKUP($D53,'Points Table A'!$B$3:$F$33,5),VLOOKUP($D53,'Points Table A'!$H$3:$L$33,5))","v":0},{"$f":"IF($R53<>3,VLOOKUP($E53,'Points Table A'!$C$3:$F$33,4),VLOOKUP($E53,'Points Table A'!$I$3:$L$33,4))","v":0},{"$f":"IF($R53<>3,VLOOKUP($F53,'Points Table A'!$D$3:$F$33,3),VLOOKUP($F53,'Points Table A'!$J$3:$L$33,3))","v":0},{"$f":"IF($R53<>3,VLOOKUP($G53,'Points Table A'!$E$3:$F$33,2),VLOOKUP($G53,'Points Table A'!$K$3:$L$33,2))","v":0},0,{"$f":"IF($T53=Lookups!$B$113,VLOOKUP($J53,'Points Table C'!$A$3:$F$11,5),VLOOKUP($U53,'Points Table C'!$B$3:$F$11,4))","v":0},{"$f":"IF($R53=1,0,VLOOKUP($N53,'Points Table C'!$C$3:$E$18,3))","v":0},{"$f":"VLOOKUP($I53,'Points Table C'!$D$3:$E$18,2)","v":0},{"$f":"IF($Z53<Lookups!$C$106,(AA53+AB53+AC53),IF(AA53>=Lookups!$C$120,(AA53+AB53+AC53),AA53+AB53))","v":0}]
["Non-core foods","Enter a food name here","Company name",0,0,0,0,0,0,0,0,0,{"$f":"IF((SUM(D54:L54)=0),\"J\",VLOOKUP(P54,Lookups!$A$1:$B$11,2))","v":"J"},{"$f":"H54+(L54*Lookups!$C$102*H54/100)","v":0},0,{"$f":"IF(ROUND(10.499-(((O54-VLOOKUP($A54,Lookups!$A$55:$D$64,3))/(VLOOKUP($A54,Lookups!$A$55:$D$64,4))*VLOOKUP($A54,Lookups!$C$2:$D$11,2))),0)<1,1,IF(ROUND(10.499-(((O54-VLOOKUP($A54,Lookups!$A$55:$D$64,3))/(VLOOKUP($A54,Lookups!$A$55:$D$64,4))*VLOOKUP($A54,Lookups!$C$2:$D$11,2))),0)<11,ROUND(10.499-(((O54-VLOOKUP($A54,Lookups!$A$55:$D$64,3))/(VLOOKUP($A54,Lookups!$A$55:$D$64,4))*VLOOKUP($A54,Lookups!$C$2:$D$11,2))),0),10))","v":7},null,{"$f":"VLOOKUP(A54,Lookups!$A$126:$C$135,3)","v":2},{"$f":"VLOOKUP(A54,Lookups!$A$126:$C$135,2)","v":"Food"},"No",0,{"$f":"IF($R54<>3,VLOOKUP($D54,'Points Table A'!$B$3:$F$33,5),VLOOKUP($D54,'Points Table A'!$H$3:$L$33,5))","v":0},{"$f":"IF($R54<>3,VLOOKUP($E54,'Points Table A'!$C$3:$F$33,4),VLOOKUP($E54,'Points Table A'!$I$3:$L$33,4))","v":0},{"$f":"IF($R54<>3,VLOOKUP($F54,'Points Table A'!$D$3:$F$33,3),VLOOKUP($F54,'Points Table A'!$J$3:$L$33,3))","v":0},{"$f":"IF($R54<>3,VLOOKUP($G54,'Points Table A'!$E$3:$F$33,2),VLOOKUP($G54,'Points Table A'!$K$3:$L$33,2))","v":0},0,{"$f":"IF($T54=Lookups!$B$113,VLOOKUP($J54,'Points Table C'!$A$3:$F$11,5),VLOOKUP($U54,'Points Table C'!$B$3:$F$11,4))","v":0},{"$f":"IF($R54=1,0,VLOOKUP($N54,'Points Table C'!$C$3:$E$18,3))","v":0},{"$f":"VLOOKUP($I54,'Points Table C'!$D$3:$E$18,2)","v":0},{"$f":"IF($Z54<Lookups!$C$106,(AA54+AB54+AC54),IF(AA54>=Lookups!$C$120,(AA54+AB54+AC54),AA54+AB54))","v":0}]
["Non-core foods","Enter a food name here","Company name",0,0,0,0,0,0,0,0,0,{"$f":"IF((SUM(D55:L55)=0),\"J\",VLOOKUP(P55,Lookups!$A$1:$B$11,2))","v":"J"},{"$f":"H55+(L55*Lookups!$C$102*H55/100)","v":0},0,{"$f":"IF(ROUND(10.499-(((O55-VLOOKUP($A55,Lookups!$A$55:$D$64,3))/(VLOOKUP($A55,Lookups!$A$55:$D$64,4))*VLOOKUP($A55,Lookups!$C$2:$D$11,2))),0)<1,1,IF(ROUND(10.499-(((O55-VLOOKUP($A55,Lookups!$A$55:$D$64,3))/(VLOOKUP($A55,Lookups!$A$55:$D$64,4))*VLOOKUP($A55,Lookups!$C$2:$D$11,2))),0)<11,ROUND(10.499-(((O55-VLOOKUP($A55,Lookups!$A$55:$D$64,3))/(VLOOKUP($A55,Lookups!$A$55:$D$64,4))*VLOOKUP($A55,Lookups!$C$2:$D$11,2))),0),10))","v":7},null,{"$f":"VLOOKUP(A55,Lookups!$A$126:$C$135,3)","v":2},{"$f":"VLOOKUP(A55,Lookups!$A$126:$C$135,2)","v":"Food"},"No",0,{"$f":"IF($R55<>3,VLOOKUP($D55,'Points Table A'!$B$3:$F$33,5),VLOOKUP($D55,'Points Table A'!$H$3:$L$33,5))","v":0},{"$f":"IF($R55<>3,VLOOKUP($E55,'Points Table A'!$C$3:$F$33,4),VLOOKUP($E55,'Points Table A'!$I$3:$L$33,4))","v":0},{"$f":"IF($R55<>3,VLOOKUP($F55,'Points Table A'!$D$3:$F$33,3),VLOOKUP($F55,'Points Table A'!$J$3:$L$33,3))","v":0},{"$f":"IF($R55<>3,VLOOKUP($G55,'Points Table A'!$E$3:$F$33,2),VLOOKUP($G55,'Points Table A'!$K$3:$L$33,2))","v":0},0,{"$f":"IF($T55=Lookups!$B$113,VLOOKUP($J55,'Points Table C'!$A$3:$F$11,5),VLOOKUP($U55,'Points Table C'!$B$3:$F$11,4))","v":0},{"$f":"IF($R55=1,0,VLOOKUP($N55,'Points Table C'!$C$3:$E$18,3))","v":0},{"$f":"VLOOKUP($I55,'Points Table C'!$D$3:$E$18,2)","v":0},{"$f":"IF($Z55<Lookups!$C$106,(AA55+AB55+AC55),IF(AA55>=Lookups!$C$120,(AA55+AB55+AC55),AA55+AB55))","v":0}]
["Non-core foods","Enter a food name here","Company name",0,0,0,0,0,0,0,0,0,{"$f":"IF((SUM(D56:L56)=0),\"J\",VLOOKUP(P56,Lookups!$A$1:$B$11,2))","v":"J"},{"$f":"H56+(L56*Lookups!$C$102*H56/100)","v":0},0,{"$f":"IF(ROUND(10.499-(((O56-VLOOKUP($A56,Lookups!$A$55:$D$64,3))/(VLOOKUP($A56,Lookups!$A$55:$D$64,4))*VLOOKUP($A56,Lookups!$C$2:$D$11,2))),0)<1,1,IF(ROUND(10.499-(((O56-VLOOKUP($A56,Lookups!$A$55:$D$64,3))/(VLOOKUP($A56,Lookups!$A$55:$D$64,4))*VLOOKUP($A56,Lookups!$C$2:$D$11,2))),0)<11,ROUND(10.499-(((O56-VLOOKUP($A56,Lookups!$A$55:$D$64,3))/(VLOOKUP($A56,Lookups!$A$55:$D$64,4))*VLOOKUP($A56,Lookups!$C$2:$D$11,2))),0),10))","v":7},null,{"$f":"VLOOKUP(A56,Lookups!$A$126:$C$135,3)","v":2},{"$f":"VLOOKUP(A56,Lookups!$A$126:$C$135,2)","v":"Food"},"No",0,{"$f":"IF($R56<>3,VLOOKUP($D56,'Points Table A'!$B$3:$F$33,5),VLOOKUP($D56,'Points Table A'!$H$3:$L$33,5))","v":0},{"$f":"IF($R56<>3,VLOOKUP($E56,'Points Table A'!$C$3:$F$33,4),VLOOKUP($E56,'Points Table A'!$I$3:$L$33,4))","v":0},{"$f":"IF($R56<>3,VLOOKUP($F56,'Points Table A'!$D$3:$F$33,3),VLOOKUP($F56,'Points Table A'!$J$3:$L$33,3))","v":0},{"$f":"IF($R56<>3,VLOOKUP($G56,'Points Table A'!$E$3:$F$33,2),VLOOKUP($G56,'Points Table A'!$K$3:$L$33,2))","v":0},0,{"$f":"IF($T56=Lookups!$B$113,VLOOKUP($J56,'Points Table C'!$A$3:$F$11,5),VLOOKUP($U56,'Points Table C'!$B$3:$F$11,4))","v":0},{"$f":"IF($R56=1,0,VLOOKUP($N56,'Points Table C'!$C$3:$E$18,3))","v":0},{"$f":"VLOOKUP($I56,'Points Table C'!$D$3:$E$18,2)","v":0},{"$f":"IF($Z56<Lookups!$C$106,(AA56+AB56+AC56),IF(AA56>=Lookups!$C$120,(AA56+AB56+AC56),AA56+AB56))","v":0}]
["Non-core foods","Enter a food name here","Company name",0,0,0,0,0,0,0,0,0,{"$f":"IF((SUM(D57:L57)=0),\"J\",VLOOKUP(P57,Lookups!$A$1:$B$11,2))","v":"J"},{"$f":"H57+(L57*Lookups!$C$102*H57/100)","v":0},0,{"$f":"IF(ROUND(10.499-(((O57-VLOOKUP($A57,Lookups!$A$55:$D$64,3))/(VLOOKUP($A57,Lookups!$A$55:$D$64,4))*VLOOKUP($A57,Lookups!$C$2:$D$11,2))),0)<1,1,IF(ROUND(10.499-(((O57-VLOOKUP($A57,Lookups!$A$55:$D$64,3))/(VLOOKUP($A57,Lookups!$A$55:$D$64,4))*VLOOKUP($A57,Lookups!$C$2:$D$11,2))),0)<11,ROUND(10.499-(((O57-VLOOKUP($A57,Lookups!$A$55:$D$64,3))/(VLOOKUP($A57,Lookups!$A$55:$D$64,4))*VLOOKUP($A57,Lookups!$C$2:$D$11,2))),0),10))","v":7},null,{"$f":"VLOOKUP(A57,Lookups!$A$126:$C$135,3)","v":2},{"$f":"VLOOKUP(A57,Lookups!$A$126:$C$135,2)","v":"Food"},"No",0,{"$f":"IF($R57<>3,VLOOKUP($D57,'Points Table A'!$B$3:$F$33,5),VLOOKUP($D57,'Points Table A'!$H$3:$L$33,5))","v":0},{"$f":"IF($R57<>3,VLOOKUP($E57,'Points Table A'!$C$3:$F$33,4),VLOOKUP($E57,'Points Table A'!$I$3:$L$33,4))","v":0},{"$f":"IF($R57<>3,VLOOKUP($F57,'Points Table A'!$D$3:$F$33,3),VLOOKUP($F57,'Points Table A'!$J$3:$L$33,3))","v":0},{"$f":"IF($R57<>3,VLOOKUP($G57,'Points Table A'!$E$3:$F$33,2),VLOOKUP($G57,'Points Table A'!$K$3:$L$33,2))","v":0},0,{"$f":"IF($T57=Lookups!$B$113,VLOOKUP($J57,'Points Table C'!$A$3:$F$11,5),VLOOKUP($U57,'Points Table C'!$B$3:$F$11,4))","v":0},{"$f":"IF($R57=1,0,VLOOKUP($N57,'Points Table C'!$C$3:$E$18,3))","v":0},{"$f":"VLOOKUP($I57,'Points Table C'!$D$3:$E$18,2)","v":0},{"$f":"IF($Z57<Lookups!$C$106,(AA57+AB57+AC57),IF(AA57>=Lookups!$C$120,(AA57+AB57+AC57),AA57+AB57))","v":0}]
["Non-core foods","Enter a food name here","Company name",0,0,0,0,0,0,0,0,0,{"$f":"IF((SUM(D58:L58)=0),\"J\",VLOOKUP(P58,Lookups!$A$1:$B$11,2))","v":"J"},{"$f":"H58+(L58*Lookups!$C$102*H58/100)","v":0},0,{"$f":"IF(ROUND(10.499-(((O58-VLOOKUP($A58,Lookups!$A$55:$D$64,3))/(VLOOKUP($A58,Lookups!$A$55:$D$64,4))*VLOOKUP($A58,Lookups!$C$2:$D$11,2))),0)<1,1,IF(ROUND(10.499-(((O58-VLOOKUP($A58,Lookups!$A$55:$D$64,3))/(VLOOKUP($A58,Lookups!$A$55:$D$64,4))*VLOOKUP($A58,Lookups!$C$2:$D$11,2))),0)<11,ROUND(10.499-(((O58-VLOOKUP($A58,Lookups!$A$55:$D$64,3))/(VLOOKUP($A58,Lookups!$A$55:$D$64,4))*VLOOKUP($A58,Lookups!$C$2:$D$11,2))),0),10))","v":7},null,{"$f":"VLOOKUP(A58,Lookups!$A$126:$C$135,3)","v":2},{"$f":"VLOOKUP(A58,Lookups!$A$126:$C$135,2)","v":"Food"},"No",0,{"$f":"IF($R58<>3,VLOOKUP($D58,'Points Table A'!$B$3:$F$33,5),VLOOKUP($D58,'Points Table A'!$H$3:$L$33,5))","v":0},{"$f":"IF($R58<>3,VLOOKUP($E58,'Points Table A'!$C$3:$F$33,4),VLOOKUP($E58,'Points Table A'!$I$3:$L$33,4))","v":0},{"$f":"IF($R58<>3,VLOOKUP($F58,'Points Table A'!$D$3:$F$33,3),VLOOKUP($F58,'Points Table A'!$J$3:$L$33,3))","v":0},{"$f":"IF($R58<>3,VLOOKUP($G58,'Points Table A'!$E$3:$F$33,2),VLOOKUP($G58,'Points Table A'!$K$3:$L$33,2))","v":0},0,{"$f":"IF($T58=Lookups!$B$113,VLOOKUP($J58,'Points Table C'!$A$3:$F$11,5),VLOOKUP($U58,'Points Table C'!$B$3:$F$11,4))","v":0},{"$f":"IF($R58=1,0,VLOOKUP($N58,'Points Table C'!$C$3:$E$18,3))","v":0},{"$f":"VLOOKUP($I58,'Points Table C'!$D$3:$E$18,2)","v":0},{"$f":"IF($Z58<Lookups!$C$106,(AA58+AB58+AC58),IF(AA58>=Lookups!$C$120,(AA58+AB58+AC58),AA58+AB58))","v":0}]
["Non-core foods","Enter a food name here","Company name",0,0,0,0,0,0,0,0,0,{"$f":"IF((SUM(D59:L59)=0),\"J\",VLOOKUP(P59,Lookups!$A$1:$B$11,2))","v":"J"},{"$f":"H59+(L59*Lookups!$C$102*H59/100)","v":0},0,{"$f":"IF(ROUND(10.499-(((O59-VLOOKUP($A59,Lookups!$A$55:$D$64,3))/(VLOOKUP($A59,Lookups!$A$55:$D$64,4))*VLOOKUP($A59,Lookups!$C$2:$D$11,2))),0)<1,1,IF(ROUND(10.499-(((O59-VLOOKUP($A59,Lookups!$A$55:$D$64,3))/(VLOOKUP($A59,Lookups!$A$55:$D$64,4))*VLOOKUP($A59,Lookups!$C$2:$D$11,2))),0)<11,ROUND(10.499-(((O59-VLOOKUP($A59,Lookups!$A$55:$D$64,3))/(VLOOKUP($A59,Lookups!$A$55:$D$64,4))*VLOOKUP($A59,Lookups!$C$2:$D$11,2))),0),10))","v":7},null,{"$f":"VLOOKUP(A59,Lookups!$A$126:$C$135,3)","v":2},{"$f":"VLOOKUP(A59,Lookups!$A$126:$C$135,2)","v":"Food"},"No",0,{"$f":"IF($R59<>3,VLOOKUP($D59,'Points Table A'!$B$3:$F$33,5),VLOOKUP($D59,'Points Table A'!$H$3:$L$33,5))","v":0},{"$f":"IF($R59<>3,VLOOKUP($E59,'Points Table A'!$C$3:$F$33,4),VLOOKUP($E59,'Points Table A'!$I$3:$L$33,4))","v":0},{"$f":"IF($R59<>3,VLOOKUP($F59,'Points Table A'!$D$3:$F$33,3),VLOOKUP($F59,'Points Table A'!$J$3:$L$33,3))","v":0},{"$f":"IF($R59<>3,VLOOKUP($G59,'Points Table A'!$E$3:$F$33,2),VLOOKUP($G59,'Points Table A'!$K$3:$L$33,2))","v":0},0,{"$f":"IF($T59=Lookups!$B$113,VLOOKUP($J59,'Points Table C'!$A$3:$F$11,5),VLOOKUP($U59,'Points Table C'!$B$3:$F$11,4))","v":0},{"$f":"IF($R59=1,0,VLOOKUP($N59,'Points Table C'!$C$3:$E$18,3))","v":0},{"$f":"VLOOKUP($I59,'Points Table C'!$D$3:$E$18,2)","v":0},{"$f":"IF($Z59<Lookups!$C$106,(AA59+AB59+AC59),IF(AA59>=Lookups!$C$120,(AA59+AB59+AC59),AA59+AB59))","v":0}]
["Non-core foods","Enter a food name here","Company name",0,0,0,0,0,0,0,0,0,{"$f":"IF((SUM(D60:L60)=0),\"J\",VLOOKUP(P60,Lookups!$A$1:$B$11,2))","v":"J"},{"$f":"H60+(L60*Lookups!$C$102*H60/100)","v":0},0,{"$f":"IF(ROUND(10.499-(((O60-VLOOKUP($A60,Lookups!$A$55:$D$64,3))/(VLOOKUP($A60,Lookups!$A$55:$D$64,4))*VLOOKUP($A60,Lookups!$C$2:$D$11,2))),0)<1,1,IF(ROUND(10.499-(((O60-VLOOKUP($A60,Lookups!$A$55:$D$64,3))/(VLOOKUP($A60,Lookups!$A$55:$D$64,4))*VLOOKUP($A60,Lookups!$C$2:$D$11,2))),0)<11,ROUND(10.499-(((O60-VLOOKUP($A60,Lookups!$A$55:$D$64,3))/(VLOOKUP($A60,Lookups!$A$55:$D$64,4))*VLOOKUP($A60,Lookups!$C$2:$D$11,2))),0),10))","v":7},null,{"$f":"VLOOKUP(A60,Lookups!$A$126:$C$135,3)","v":2},{"$f":"VLOOKUP(A60,Lookups!$A$126:$C$135,2)","v":"Food"},"No",0,{"$f":"IF($R60<>3,VLOOKUP($D60,'Points Table A'!$B$3:$F$33,5),VLOOKUP($D60,'Points Table A'!$H$3:$L$33,5))","v":0},{"$f":"IF($R60<>3,VLOOKUP($E60,'Points Table A'!$C$3:$F$33,4),VLOOKUP($E60,'Points Table A'!$I$3:$L$33,4))","v":0},{"$f":"IF($R60<>3,VLOOKUP($F60,'Points Table A'!$D$3:$F$33,3),VLOOKUP($F60,'Points Table A'!$J$3:$L$33,3))","v":0},{"$f":"IF($R60<>3,VLOOKUP($G60,'Points Table A'!$E$3:$F$33,2),VLOOKUP($G60,'Points Table A'!$K$3:$L$33,2))","v":0},0,{"$f":"IF($T60=Lookups!$B$113,VLOOKUP($J60,'Points Table C'!$A$3:$F$11,5),VLOOKUP($U60,'Points Table C'!$B$3:$F$11,4))","v":0},{"$f":"IF($R60=1,0,VLOOKUP($N60,'Points Table C'!$C$3:$E$18,3))","v":0},{"$f":"VLOOKUP($I60,'Points Table C'!$D$3:$E$18,2)","v":0},{"$f":"IF($Z60<Lookups!$C$106,(AA60+AB60+AC60),IF(AA60>=Lookups!$C$120,(AA60+AB60+AC60),AA60+AB60))","v":0}]
["Non-core foods","Enter a food name here","Company name",0,0,0,0,0,0,0,0,0,{"$f":"IF((SUM(D61:L61)=0),\"J\",VLOOKUP(P61,Lookups!$A$1:$B$11,2))","v":"J"},{"$f":"H61+(L61*Lookups!$C$102*H61/100)","v":0},0,{"$f":"IF(ROUND(10.499-(((O61-VLOOKUP($A61,Lookups!$A$55:$D$64,3))/(VLOOKUP($A61,Lookups!$A$55:$D$64,4))*VLOOKUP($A61,Lookups!$C$2:$D$11,2))),0)<1,1,IF(ROUND(10.499-(((O61-VLOOKUP($A61,Lookups!$A$55:$D$64,3))/(VLOOKUP($A61,Lookups!$A$55:$D$64,4))*VLOOKUP($A61,Lookups!$C$2:$D$11,2))),0)<11,ROUND(10.499-(((O61-VLOOKUP($A61,Lookups!$A$55:$D$64,3))/(VLOOKUP($A61,Lookups!$A$55:$D$64,4))*VLOOKUP($A61,Lookups!$C$2:$D$11,2))),0),10))","v":7},null,{"$f":"VLOOKUP(A61,Lookups!$A$126:$C$135,3)","v":2},{"$f":"VLOOKUP(A61,Lookups!$A$126:$C$135,2)","v":"Food"},"No",0,{"$f":"IF($R61<>3,VLOOKUP($D61,'Points Table A'!$B$3:$F$33,5),VLOOKUP($D61,'Points Table A'!$H$3:$L$33,5))","v":0},{"$f":"IF($R61<>3,VLOOKUP($E61,'Points Table A'!$C$3:$F$33,4),VLOOKUP($E61,'Points Table A'!$I$3:$L$33,4))","v":0},{"$f":"IF($R61<>3,VLOOKUP($F61,'Points Table A'!$D$3:$F$33,3),VLOOKUP($F61,'Points Table A'!$J$3:$L$33,3))","v":0},{"$f":"IF($R61<>3,VLOOKUP($G61,'Points Table A'!$E$3:$F$33,2),VLOOKUP($G61,'Points Table A'!$K$3:$L$33,2))","v":0},0,{"$f":"IF($T61=Lookups!$B$113,VLOOKUP($J61,'Points Table C'!$A$3:$F$11,5),VLOOKUP($U61,'Points Table C'!$B$3:$F$11,4))","v":0},{"$f":"IF($R61=1,0,VLOOKUP($N61,'Points Table C'!$C$3:$E$18,3))","v":0},{"$f":"VLOOKUP($I61,'Points Table C'!$D$3:$E$18,2)","v":0},{"$f":"IF($Z61<Lookups!$C$106,(AA61+AB61+AC61),IF(AA61>=Lookups!$C$120,(AA61+AB61+AC61),AA61+AB61))","v":0}]
["Non-core foods","Enter a food name here","Company name",0,0,0,0,0,0,0,0,0,{"$f":"IF((SUM(D62:L62)=0),\"J\",VLOOKUP(P62,Lookups!$A$1:$B$11,2))","v":"J"},{"$f":"H62+(L62*Lookups!$C$102*H62/100)","v":0},0,{"$f":"IF(ROUND(10.499-(((O62-VLOOKUP($A62,Lookups!$A$55:$D$64,3))/(VLOOKUP($A62,Lookups!$A$55:$D$64,4))*VLOOKUP($A62,Lookups!$C$2:$D$11,2))),0)<1,1,IF(ROUND(10.499-(((O62-VLOOKUP($A62,Lookups!$A$55:$D$64,3))/(VLOOKUP($A62,Lookups!$A$55:$D$64,4))*VLOOKUP($A62,Lookups!$C$2:$D$11,2))),0)<11,ROUND(10.499-(((O62-VLOOKUP($A62,Lookups!$A$55:$D$64,3))/(VLOOKUP($A62,Lookups!$A$55:$D$64,4))*VLOOKUP($A62,Lookups!$C$2:$D$11,2))),0),10))","v":7},null,{"$f":"VLOOKUP(A62,Lookups!$A$126:$C$135,3)","v":2},{"$f":"VLOOKUP(A62,Lookups!$A$126:$C$135,2)","v":"Food"},"No",0,{"$f":"IF($R62<>3,VLOOKUP($D62,'Points Table A'!$B$3:$F$33,5),VLOOKUP($D62,'Points Table A'!$H$3:$L$33,5))","v":0},{"$f":"IF($R62<>3,VLOOKUP($E62,'Points Table A'!$C$3:$F$33,4),VLOOKUP($E62,'Points Table A'!$I$3:$L$33,4))","v":0},{"$f":"IF($R62<>3,VLOOKUP($F62,'Points Table A'!$D$3:$F$33,3),VLOOKUP($F62,'Points Table A'!$J$3:$L$33,3))","v":0},{"$f":"IF($R62<>3,VLOOKUP($G62,'Points Table A'!$E$3:$F$33,2),VLOOKUP($G62,'Points Table A'!$K$3:$L$33,2))","v":0},0,{"$f":"IF($T62=Lookups!$B$113,VLOOKUP($J62,'Points Table C'!$A$3:$F$11,5),VLOOKUP($U62,'Points Table C'!$B$3:$F$11,4))","v":0},{"$f":"IF($R62=1,0,VLOOKUP($N62,'Points Table C'!$C$3:$E$18,3))","v":0},{"$f":"VLOOKUP($I62,'Points Table C'!$D$3:$E$18,2)","v":0},{"$f":"IF($Z62<Lookups!$C$106,(AA62+AB62+AC62),IF(AA62>=Lookups!$C$120,(AA62+AB62+AC62),AA62+AB62))","v":0}]
["Non-core foods","Enter a food name here","Company name",0,0,0,0,0,0,0,0,0,{"$f":"IF((SUM(D63:L63)=0),\"J\",VLOOKUP(P63,Lookups!$A$1:$B$11,2))","v":"J"},{"$f":"H63+(L63*Lookups!$C$102*H63/100)","v":0},0,{"$f":"IF(ROUND(10.499-(((O63-VLOOKUP($A63,Lookups!$A$55:$D$64,3))/(VLOOKUP($A63,Lookups!$A$55:$D$64,4))*VLOOKUP($A63,Lookups!$C$2:$D$11,2))),0)<1,1,IF(ROUND(10.499-(((O63-VLOOKUP($A63,Lookups!$A$55:$D$64,3))/(VLOOKUP($A63,Lookups!$A$55:$D$64,4))*VLOOKUP($A63,Lookups!$C$2:$D$11,2))),0)<11,ROUND(10.499-(((O63-VLOOKUP($A63,Lookups!$A$55:$D$64,3))/(VLOOKUP($A63,Lookups!$A$55:$D$64,4))*VLOOKUP($A63,Lookups!$C$2:$D$11,2))),0),10))","v":7},null,{"$f":"VLOOKUP(A63,Lookups!$A$126:$C$135,3)","v":2},{"$f":"VLOOKUP(A63,Lookups!$A$126:$C$135,2)","v":"Food"},"No",0,{"$f":"IF($R63<>3,VLOOKUP($D63,'Points Table A'!$B$3:$F$33,5),VLOOKUP($D63,'Points Table A'!$H$3:$L$33,5))","v":0},{"$f":"IF($R63<>3,VLOOKUP($E63,'Points Table A'!$C$3:$F$33,4),VLOOKUP($E63,'Points Table A'!$I$3:$L$33,4))","v":0},{"$f":"IF($R63<>3,VLOOKUP($F63,'Points Table A'!$D$3:$F$33,3),VLOOKUP($F63,'Points Table A'!$J$3:$L$33,3))","v":0},{"$f":"IF($R63<>3,VLOOKUP($G63,'Points Table A'!$E$3:$F$33,2),VLOOKUP($G63,'Points Table A'!$K$3:$L$33,2))","v":0},0,{"$f":"IF($T63=Lookups!$B$113,VLOOKUP($J63,'Points Table C'!$A$3:$F$11,5),VLOOKUP($U63,'Points Table C'!$B$3:$F$11,4))","v":0},{"$f":"IF($R63=1,0,VLOOKUP($N63,'Points Table C'!$C$3:$E$18,3))","v":0},{"$f":"VLOOKUP($I63,'Points Table C'!$D$3:$E$18,2)","v":0},{"$f":"IF($Z63<Lookups!$C$106,(AA63+AB63+AC63),IF(AA63>=Lookups!$C$120,(AA63+AB63+AC63),AA63+AB63))","v":0}]
["Non-core foods","Enter a food name here","Company name",0,0,0,0,0,0,0,0,0,{"$f":"IF((SUM(D64:L64)=0),\"J\",VLOOKUP(P64,Lookups!$A$1:$B$11,2))","v":"J"},{"$f":"H64+(L64*Lookups!$C$102*H64/100)","v":0},0,{"$f":"IF(ROUND(10.499-(((O64-VLOOKUP($A64,Lookups!$A$55:$D$64,3))/(VLOOKUP($A64,Lookups!$A$55:$D$64,4))*VLOOKUP($A64,Lookups!$C$2:$D$11,2))),0)<1,1,IF(ROUND(10.499-(((O64-VLOOKUP($A64,Lookups!$A$55:$D$64,3))/(VLOOKUP($A64,Lookups!$A$55:$D$64,4))*VLOOKUP($A64,Lookups!$C$2:$D$11,2))),0)<11,ROUND(10.499-(((O64-VLOOKUP($A64,Lookups!$A$55:$D$64,3))/(VLOOKUP($A64,Lookups!$A$55:$D$64,4))*VLOOKUP($A64,Lookups!$C$2:$D$11,2))),0),10))","v":7},null,{"$f":"VLOOKUP(A64,Lookups!$A$126:$C$135,3)","v":2},{"$f":"VLOOKUP(A64,Lookups!$A$126:$C$135,2)","v":"Food"},"No",0,{"$f":"IF($R64<>3,VLOOKUP($D64,'Points Table A'!$B$3:$F$33,5),VLOOKUP($D64,'Points Table A'!$H$3:$L$33,5))","v":0},{"$f":"IF($R64<>3,VLOOKUP($E64,'Points Table A'!$C$3:$F$33,4),VLOOKUP($E64,'Points Table A'!$I$3:$L$33,4))","v":0},{"$f":"IF($R64<>3,VLOOKUP($F64,'Points Table A'!$D$3:$F$33,3),VLOOKUP($F64,'Points Table A'!$J$3:$L$33,3))","v":0},{"$f":"IF($R64<>3,VLOOKUP($G64,'Points Table A'!$E$3:$F$33,2),VLOOKUP($G64,'Points Table A'!$K$3:$L$33,2))","v":0},0,{"$f":"IF($T64=Lookups!$B$113,VLOOKUP($J64,'Points Table C'!$A$3:$F$11,5),VLOOKUP($U64,'Points Table C'!$B$3:$F$11,4))","v":0},{"$f":"IF($R64=1,0,VLOOKUP($N64,'Points Table C'!$C$3:$E$18,3))","v":0},{"$f":"VLOOKUP($I64,'Points Table C'!$D$3:$E$18,2)","v":0},{"$f":"IF($Z64<Lookups!$C$106,(AA64+AB64+AC64),IF(AA64>=Lookups!$C$120,(AA64+AB64+AC64),AA64+AB64))","v":0}]
["Non-core foods","Enter a food name here","Company name",0,0,0,0,0,0,0,0,0,{"$f":"IF((SUM(D65:L65)=0),\"J\",VLOOKUP(P65,Lookups!$A$1:$B$11,2))","v":"J"},{"$f":"H65+(L65*Lookups!$C$102*H65/100)","v":0},0,{"$f":"IF(ROUND(10.499-(((O65-VLOOKUP($A65,Lookups!$A$55:$D$64,3))/(VLOOKUP($A65,Lookups!$A$55:$D$64,4))*VLOOKUP($A65,Lookups!$C$2:$D$11,2))),0)<1,1,IF(ROUND(10.499-(((O65-VLOOKUP($A65,Lookups!$A$55:$D$64,3))/(VLOOKUP($A65,Lookups!$A$55:$D$64,4))*VLOOKUP($A65,Lookups!$C$2:$D$11,2))),0)<11,ROUND(10.499-(((O65-VLOOKUP($A65,Lookups!$A$55:$D$64,3))/(VLOOKUP($A65,Lookups!$A$55:$D$64,4))*VLOOKUP($A65,Lookups!$C$2:$D$11,2))),0),10))","v":7},null,{"$f":"VLOOKUP(A65,Lookups!$A$126:$C$135,3)","v":2},{"$f":"VLOOKUP(A65,Lookups!$A$126:$C$135,2)","v":"Food"},"No",0,{"$f":"IF($R65<>3,VLOOKUP($D65,'Points Table A'!$B$3:$F$33,5),VLOOKUP($D65,'Points Table A'!$H$3:$L$33,5))","v":0},{"$f":"IF($R65<>3,VLOOKUP($E65,'Points Table A'!$C$3:$F$33,4),VLOOKUP($E65,'Points Table A'!$I$3:$L$33,4))","v":0},{"$f":"IF($R65<>3,VLOOKUP($F65,'Points Table A'!$D$3:$F$33,3),VLOOKUP($F65,'Points Table A'!$J$3:$L$33,3))","v":0},{"$f":"IF($R65<>3,VLOOKUP($G65,'Points Table A'!$E$3:$F$33,2),VLOOKUP($G65,'Points Table A'!$K$3:$L$33,2))","v":0},0,{"$f":"IF($T65=Lookups!$B$113,VLOOKUP($J65,'Points Table C'!$A$3:$F$11,5),VLOOKUP($U65,'Points Table C'!$B$3:$F$11,4))","v":0},{"$f":"IF($R65=1,0,VLOOKUP($N65,'Points Table C'!$C$3:$E$18,3))","v":0},{"$f":"VLOOKUP($I65,'Points Table C'!$D$3:$E$18,2)","v":0},{"$f":"IF($Z65<Lookups!$C$106,(AA65+AB65+AC65),IF(AA65>=Lookups!$C$120,(AA65+AB65+AC65),AA65+AB65))","v":0}]
["Non-core foods","Enter a food name here","Company name",0,0,0,0,0,0,0,0,0,{"$f":"IF((SUM(D66:L66)=0),\"J\",VLOOKUP(P66,Lookups!$A$1:$B$11,2))","v":"J"},{"$f":"H66+(L66*Lookups!$C$102*H66/100)","v":0},0,{"$f":"IF(ROUND(10.499-(((O66-VLOOKUP($A66,Lookups!$A$55:$D$64,3))/(VLOOKUP($A66,Lookups!$A$55:$D$64,4))*VLOOKUP($A66,Lookups!$C$2:$D$11,2))),0)<1,1,IF(ROUND(10.499-(((O66-VLOOKUP($A66,Lookups!$A$55:$D$64,3))/(VLOOKUP($A66,Lookups!$A$55:$D$64,4))*VLOOKUP($A66,Lookups!$C$2:$D$11,2))),0)<11,ROUND(10.499-(((O66-VLOOKUP($A66,Lookups!$A$55:$D$64,3))/(VLOOKUP($A66,Lookups!$A$55:$D$64,4))*VLOOKUP($A66,Lookups!$C$2:$D$11,2))),0),10))","v":7},null,{"$f":"VLOOKUP(A66,Lookups!$A$126:$C$135,3)","v":2},{"$f":"VLOOKUP(A66,Lookups!$A$126:$C$135,2)","v":"Food"},"No",0,{"$f":"IF($R66<>3,VLOOKUP($D66,'Points Table A'!$B$3:$F$33,5),VLOOKUP($D66,'Points Table A'!$H$3:$L$33,5))","v":0},{"$f":"IF($R66<>3,VLOOKUP($E66,'Points Table A'!$C$3:$F$33,4),VLOOKUP($E66,'Points Table A'!$I$3:$L$33,4))","v":0},{"$f":"IF($R66<>3,VLOOKUP($F66,'Points Table A'!$D$3:$F$33,3),VLOOKUP($F66,'Points Table A'!$J$3:$L$33,3))","v":0},{"$f":"IF($R66<>3,VLOOKUP($G66,'Points Table A'!$E$3:$F$33,2),VLOOKUP($G66,'Points Table A'!$K$3:$L$33,2))","v":0},0,{"$f":"IF($T66=Lookups!$B$113,VLOOKUP($J66,'Points Table C'!$A$3:$F$11,5),VLOOKUP($U66,'Points Table C'!$B$3:$F$11,4))","v":0},{"$f":"IF($R66=1,0,VLOOKUP($N66,'Points Table C'!$C$3:$E$18,3))","v":0},{"$f":"VLOOKUP($I66,'Points Table C'!$D$3:$E$18,2)","v":0},{"$f":"IF($Z66<Lookups!$C$106,(AA66+AB66+AC66),IF(AA66>=Lookups!$C$120,(AA66+AB66+AC66),AA66+AB66))","v":0}]
["Non-core foods","Enter a food name here","Company name",0,0,0,0,0,0,0,0,0,{"$f":"IF((SUM(D67:L67)=0),\"J\",VLOOKUP(P67,Lookups!$A$1:$B$11,2))","v":"J"},{"$f":"H67+(L67*Lookups!$C$102*H67/100)","v":0},{"$f":"$Z67-$AD67","v":0},{"$f":"IF(ROUND(10.499-(((O67-VLOOKUP($A67,Lookups!$A$55:$D$64,3))/(VLOOKUP($A67,Lookups!$A$55:$D$64,4))*VLOOKUP($A67,Lookups!$C$2:$D$11,2))),0)<1,1,IF(ROUND(10.499-(((O67-VLOOKUP($A67,Lookups!$A$55:$D$64,3))/(VLOOKUP($A67,Lookups!$A$55:$D$64,4))*VLOOKUP($A67,Lookups!$C$2:$D$11,2))),0)<11,ROUND(10.499-(((O67-VLOOKUP($A67,Lookups!$A$55:$D$64,3))/(VLOOKUP($A67,Lookups!$A$55:$D$64,4))*VLOOKUP($A67,Lookups!$C$2:$D$11,2))),0),10))","v":7},null,{"$f":"VLOOKUP(A67,Lookups!$A$126:$C$135,3)","v":2},{"$f":"VLOOKUP(A67,Lookups!$A$126:$C$135,2)","v":"Food"},{"$f":"IF(AND(J67>0,K67=0),\"Yes\",\"No\")","v":"No"},{"$f":"ROUND(100*(K67+2*J67)/(K67+2*J67+(100-J67-K67)),2)","v":0},{"$f":"IF($R67<>3,VLOOKUP($D67,'Points Table A'!$B$3:$F$33,5),VLOOKUP($D67,'Points Table A'!$H$3:$L$33,5))","v":0},{"$f":"IF($R67<>3,VLOOKUP($E67,'Points Table A'!$C$3:$F$33,4),VLOOKUP($E67,'Points Table A'!$I$3:$L$33,4))","v":0},{"$f":"IF($R67<>3,VLOOKUP($F67,'Points Table A'!$D$3:$F$33,3),VLOOKUP($F67,'Points Table A'!$J$3:$L$33,3))","v":0},{"$f":"IF($R67<>3,VLOOKUP($G67,'Points Table A'!$E$3:$F$33,2),VLOOKUP($G67,'Points Table A'!$K$3:$L$33,2))","v":0},0,{"$f":"IF($T67=Lookups!$B$113,VLOOKUP($J67,'Points Table C'!$A$3:$F$11,5),VLOOKUP($U67,'Points Table C'!$B$3:$F$11,4))","v":0},{"$f":"IF($R67=1,0,VLOOKUP($N67,'Points Table C'!$C$3:$E$18,3))","v":0},{"$f":"VLOOKUP($I67,'Points Table C'!$D$3:$E$18,2)","v":0},{"$f":"IF($Z67<Lookups!$C$106,(AA67+AB67+AC67),IF(AA67>=Lookups!$C$120,(AA67+AB67+AC67),AA67+AB67))","v":0}]
["Non-core foods","Enter a food name here","Company name",0,0,0,0,0,0,0,0,0,{"$f":"IF((SUM(D68:L68)=0),\"J\",VLOOKUP(P68,Lookups!$A$1:$B$11,2))","v":"J"},{"$f":"H68+(L68*Lookups!$C$102*H68/100)","v":0},0,{"$f":"IF(ROUND(10.499-(((O68-VLOOKUP($A68,Lookups!$A$55:$D$64,3))/(VLOOKUP($A68,Lookups!$A$55:$D$64,4))*VLOOKUP($A68,Lookups!$C$2:$D$11,2))),0)<1,1,IF(ROUND(10.499-(((O68-VLOOKUP($A68,Lookups!$A$55:$D$64,3))/(VLOOKUP($A68,Lookups!$A$55:$D$64,4))*VLOOKUP($A68,Lookups!$C$2:$D$11,2))),0)<11,ROUND(10.499-(((O68-VLOOKUP($A68,Lookups!$A$55:$D$64,3))/(VLOOKUP($A68,Lookups!$A$55:$D$64,4))*VLOOKUP($A68,Lookups!$C$2:$D$11,2))),0),10))","v":7},null,{"$f":"VLOOKUP(A68,Lookups!$A$126:$C$135,3)","v":2},{"$f":"VLOOKUP(A68,Lookups!$A$126:$C$135,2)","v":"Food"},"No",0,{"$f":"IF($R68<>3,VLOOKUP($D68,'Points Table A'!$B$3:$F$33,5),VLOOKUP($D68,'Points Table A'!$H$3:$L$33,5))","v":0},{"$f":"IF($R68<>3,VLOOKUP($E68,'Points Table A'!$C$3:$F$33,4),VLOOKUP($E68,'Points Table A'!$I$3:$L$33,4))","v":0},{"$f":"IF($R68<>3,VLOOKUP($F68,'Points Table A'!$D$3:$F$33,3),VLOOKUP($F68,'Points Table A'!$J$3:$L$33,3))","v":0},{"$f":"IF($R68<>3,VLOOKUP($G68,'Points Table A'!$E$3:$F$33,2),VLOOKUP($G68,'Points Table A'!$K$3:$L$33,2))","v":0},{"$f":"SUM(V68:Y68)","v":0},{"$f":"IF($T68=Lookups!$B$113,VLOOKUP($J68,'Points Table C'!$A$3:$F$11,5),VLOOKUP($U68,'Points Table C'!$B$3:$F$11,4))","v":0},{"$f":"IF($R68=1,0,VLOOKUP($N68,'Points Table C'!$C$3:$E$18,3))","v":0},{"$f":"VLOOKUP($I68,'Points Table C'!$D$3:$E$18,2)","v":0},{"$f":"IF($Z68<Lookups!$C$106,(AA68+AB68+AC68),IF(AA68>=Lookups!$C$120,(AA68+AB68+AC68),AA68+AB68))","v":0}]
["Non-core foods","Enter a food name here","Company name",0,0,0,0,0,0,0,0,0,{"$f":"IF((SUM(D69:L69)=0),\"J\",VLOOKUP(P69,Lookups!$A$1:$B$11,2))","v":"J"},{"$f":"H69+(L69*Lookups!$C$102*H69/100)","v":0},0,{"$f":"IF(ROUND(10.499-(((O69-VLOOKUP($A69,Lookups!$A$55:$D$64,3))/(VLOOKUP($A69,Lookups!$A$55:$D$64,4))*VLOOKUP($A69,Lookups!$C$2:$D$11,2))),0)<1,1,IF(ROUND(10.499-(((O69-VLOOKUP($A69,Lookups!$A$55:$D$64,3))/(VLOOKUP($A69,Lookups!$A$55:$D$64,4))*VLOOKUP($A69,Lookups!$C$2:$D$11,2))),0)<11,ROUND(10.499-(((O69-VLOOKUP($A69,Lookups!$A$55:$D$64,3))/(VLOOKUP($A69,Lookups!$A$55:$D$64,4))*VLOOKUP($A69,Lookups!$C$2:$D$11,2))),0),10))","v":7},null,{"$f":"VLOOKUP(A69,Lookups!$A$126:$C$135,3)","v":2},{"$f":"VLOOKUP(A69,Lookups!$A$126:$C$135,2)","v":"Food"},"No",0,{"$f":"IF($R69<>3,VLOOKUP($D69,'Points Table A'!$B$3:$F$33,5),VLOOKUP($D69,'Points Table A'!$H$3:$L$33,5))","v":0},{"$f":"IF($R69<>3,VLOOKUP($E69,'Points Table A'!$C$3:$F$33,4),VLOOKUP($E69,'Points Table A'!$I$3:$L$33,4))","v":0},{"$f":"IF($R69<>3,VLOOKUP($F69,'Points Table A'!$D$3:$F$33,3),VLOOKUP($F69,'Points Table A'!$J$3:$L$33,3))","v":0},{"$f":"IF($R69<>3,VLOOKUP($G69,'Points Table A'!$E$3:$F$33,2),VLOOKUP($G69,'Points Table A'!$K$3:$L$33,2))","v":0},0,{"$f":"IF($T69=Lookups!$B$113,VLOOKUP($J69,'Points Table C'!$A$3:$F$11,5),VLOOKUP($U69,'Points Table C'!$B$3:$F$11,4))","v":0},{"$f":"IF($R69=1,0,VLOOKUP($N69,'Points Table C'!$C$3:$E$18,3))","v":0},{"$f":"VLOOKUP($I69,'Points Table C'!$D$3:$E$18,2)","v":0},{"$f":"IF($Z69<Lookups!$C$106,(AA69+AB69+AC69),IF(AA69>=Lookups!$C$120,(AA69+AB69+AC69),AA69+AB69))","v":0}]
["Non-core foods","Enter a food name here","Company name",0,0,0,0,0,0,0,0,0,{"$f":"IF((SUM(D70:L70)=0),\"J\",VLOOKUP(P70,Lookups!$A$1:$B$11,2))","v":"J"},{"$f":"H70+(L70*Lookups!$C$102*H70/100)","v":0},0,{"$f":"IF(ROUND(10.499-(((O70-VLOOKUP($A70,Lookups!$A$55:$D$64,3))/(VLOOKUP($A70,Lookups!$A$55:$D$64,4))*VLOOKUP($A70,Lookups!$C$2:$D$11,2))),0)<1,1,IF(ROUND(10.499-(((O70-VLOOKUP($A70,Lookups!$A$55:$D$64,3))/(VLOOKUP($A70,Lookups!$A$55:$D$64,4))*VLOOKUP($A70,Lookups!$C$2:$D$11,2))),0)<11,ROUND(10.499-(((O70-VLOOKUP($A70,Lookups!$A$55:$D$64,3))/(VLOOKUP($A70,Lookups!$A$55:$D$64,4))*VLOOKUP($A70,Lookups!$C$2:$D$11,2))),0),10))","v":7},null,{"$f":"VLOOKUP(A70,Lookups!$A$126:$C$135,3)","v":2},{"$f":"VLOOKUP(A70,Lookups!$A$126:$C$135,2)","v":"Food"},"No",0,{"$f":"IF($R70<>3,VLOOKUP($D70,'Points Table A'!$B$3:$F$33,5),VLOOKUP($D70,'Points Table A'!$H$3:$L$33,5))","v":0},{"$f":"IF($R70<>3,VLOOKUP($E70,'Points Table A'!$C$3:$F$33,4),VLOOKUP($E70,'Points Table A'!$I$3:$L$33,4))","v":0},{"$f":"IF($R70<>3,VLOOKUP($F70,'Points Table A'!$D$3:$F$33,3),VLOOKUP($F70,'Points Table A'!$J$3:$L$33,3))","v":0},{"$f":"IF($R70<>3,VLOOKUP($G70,'Points Table A'!$E$3:$F$33,2),VLOOKUP($G70,'Points Table A'!$K$3:$L$33,2))","v":0},0,{"$f":"IF($T70=Lookups!$B$113,VLOOKUP($J70,'Points Table C'!$A$3:$F$11,5),VLOOKUP($U70,'Points Table C'!$B$3:$F$11,4))","v":0},{"$f":"IF($R70=1,0,VLOOKUP($N70,'Points Table C'!$C$3:$E$18,3))","v":0},{"$f":"VLOOKUP($I70,'Points Table C'!$D$3:$E$18,2)","v":0},{"$f":"IF($Z70<Lookups!$C$106,(AA70+AB70+AC70),IF(AA70>=Lookups!$C$120,(AA70+AB70+AC70),AA70+AB70))","v":0}]
["Non-core foods","Enter a food name here","Company name",0,0,0,0,0,0,0,0,0,{"$f":"IF((SUM(D71:L71)=0),\"J\",VLOOKUP(P71,Lookups!$A$1:$B$11,2))","v":"J"},{"$f":"H71+(L71*Lookups!$C$102*H71/100)","v":0},0,{"$f":"IF(ROUND(10.499-(((O71-VLOOKUP($A71,Lookups!$A$55:$D$64,3))/(VLOOKUP($A71,Lookups!$A$55:$D$64,4))*VLOOKUP($A71,Lookups!$C$2:$D$11,2))),0)<1,1,IF(ROUND(10.499-(((O71-VLOOKUP($A71,Lookups!$A$55:$D$64,3))/(VLOOKUP($A71,Lookups!$A$55:$D$64,4))*VLOOKUP($A71,Lookups!$C$2:$D$11,2))),0)<11,ROUND(10.499-(((O71-VLOOKUP($A71,Lookups!$A$55:$D$64,3))/(VLOOKUP($A71,Lookups!$A$55:$D$64,4))*VLOOKUP($A71,Lookups!$C$2:$D$11,2))),0),10))","v":7},null,{"$f":"VLOOKUP(A71,Lookups!$A$126:$C$135,3)","v":2},{"$f":"VLOOKUP(A71,Lookups!$A$126:$C$135,2)","v":"Food"},"No",0,{"$f":"IF($R71<>3,VLOOKUP($D71,'Points Table A'!$B$3:$F$33,5),VLOOKUP($D71,'Points Table A'!$H$3:$L$33,5))","v":0},{"$f":"IF($R71<>3,VLOOKUP($E71,'Points Table A'!$C$3:$F$33,4),VLOOKUP($E71,'Points Table A'!$I$3:$L$33,4))","v":0},{"$f":"IF($R71<>3,VLOOKUP($F71,'Points Table A'!$D$3:$F$33,3),VLOOKUP($F71,'Points Table A'!$J$3:$L$33,3))","v":0},{"$f":"IF($R71<>3,VLOOKUP($G71,'Points Table A'!$E$3:$F$33,2),VLOOKUP($G71,'Points Table A'!$K$3:$L$33,2))","v":0},0,{"$f":"IF($T71=Lookups!$B$113,VLOOKUP($J71,'Points Table C'!$A$3:$F$11,5),VLOOKUP($U71,'Points Table C'!$B$3:$F$11,4))","v":0},{"$f":"IF($R71=1,0,VLOOKUP($N71,'Points Table C'!$C$3:$E$18,3))","v":0},{"$f":"VLOOKUP($I71,'Points Table C'!$D$3:$E$18,2)","v":0},{"$f":"IF($Z71<Lookups!$C$106,(AA71+AB71+AC71),IF(AA71>=Lookups!$C$120,(AA71+AB71+AC71),AA71+AB71))","v":0}]
["Non-core foods","Enter a food name here","Company name",0,0,0,0,0,0,0,0,0,{"$f":"IF((SUM(D72:L72)=0),\"J\",VLOOKUP(P72,Lookups!$A$1:$B$11,2))","v":"J"},{"$f":"H72+(L72*Lookups!$C$102*H72/100)","v":0},0,{"$f":"IF(ROUND(10.499-(((O72-VLOOKUP($A72,Lookups!$A$55:$D$64,3))/(VLOOKUP($A72,Lookups!$A$55:$D$64,4))*VLOOKUP($A72,Lookups!$C$2:$D$11,2))),0)<1,1,IF(ROUND(10.499-(((O72-VLOOKUP($A72,Lookups!$A$55:$D$64,3))/(VLOOKUP($A72,Lookups!$A$55:$D$64,4))*VLOOKUP($A72,Lookups!$C$2:$D$11,2))),0)<11,ROUND(10.499-(((O72-VLOOKUP($A72,Lookups!$A$55:$D$64,3))/(VLOOKUP($A72,Lookups!$A$55:$D$64,4))*VLOOKUP($A72,Lookups!$C$2:$D$11,2))),0),10))","v":7},null,{"$f":"VLOOKUP(A72,Lookups!$A$126:$C$135,3)","v":2},{"$f":"VLOOKUP(A72,Lookups!$A$126:$C$135,2)","v":"Food"},"No",0,{"$f":"IF($R72<>3,VLOOKUP($D72,'Points Table A'!$B$3:$F$33,5),VLOOKUP($D72,'Points Table A'!$H$3:$L$33,5))","v":0},{"$f":"IF($R72<>3,VLOOKUP($E72,'Points Table A'!$C$3:$F$33,4),VLOOKUP($E72,'Points Table A'!$I$3:$L$33,4))","v":0},{"$f":"IF($R72<>3,VLOOKUP($F72,'Points Table A'!$D$3:$F$33,3),VLOOKUP($F72,'Points Table A'!$J$3:$L$33,3))","v":0},{"$f":"IF($R72<>3,VLOOKUP($G72,'Points Table A'!$E$3:$F$33,2),VLOOKUP($G72,'Points Table A'!$K$3:$L$33,2))","v":0},0,{"$f":"IF($T72=Lookups!$B$113,VLOOKUP($J72,'Points Table C'!$A$3:$F$11,5),VLOOKUP($U72,'Points Table C'!$B$3:$F$11,4))","v":0},{"$f":"IF($R72=1,0,VLOOKUP($N72,'Points Table C'!$C$3:$E$18,3))","v":0},{"$f":"VLOOKUP($I72,'Points Table C'!$D$3:$E$18,2)","v":0},{"$f":"IF($Z72<Lookups!$C$106,(AA72+AB72+AC72),IF(AA72>=Lookups!$C$120,(AA72+AB72+AC72),AA72+AB72))","v":0}]
["Non-core foods","Enter a food name here","Company name",0,0,0,0,0,0,0,0,0,{"$f":"IF((SUM(D73:L73)=0),\"J\",VLOOKUP(P73,Lookups!$A$1:$B$11,2))","v":"J"},{"$f":"H73+(L73*Lookups!$C$102*H73/100)","v":0},0,{"$f":"IF(ROUND(10.499-(((O73-VLOOKUP($A73,Lookups!$A$55:$D$64,3))/(VLOOKUP($A73,Lookups!$A$55:$D$64,4))*VLOOKUP($A73,Lookups!$C$2:$D$11,2))),0)<1,1,IF(ROUND(10.499-(((O73-VLOOKUP($A73,Lookups!$A$55:$D$64,3))/(VLOOKUP($A73,Lookups!$A$55:$D$64,4))*VLOOKUP($A73,Lookups!$C$2:$D$11,2))),0)<11,ROUND(10.499-(((O73-VLOOKUP($A73,Lookups!$A$55:$D$64,3))/(VLOOKUP($A73,Lookups!$A$55:$D$64,4))*VLOOKUP($A73,Lookups!$C$2:$D$11,2))),0),10))","v":7},null,{"$f":"VLOOKUP(A73,Lookups!$A$126:$C$135,3)","v":2},{"$f":"VLOOKUP(A73,Lookups!$A$126:$C$135,2)","v":"Food"},"No",0,{"$f":"IF($R73<>3,VLOOKUP($D73,'Points Table A'!$B$3:$F$33,5),VLOOKUP($D73,'Points Table A'!$H$3:$L$33,5))","v":0},{"$f":"IF($R73<>3,VLOOKUP($E73,'Points Table A'!$C$3:$F$33,4),VLOOKUP($E73,'Points Table A'!$I$3:$L$33,4))","v":0},{"$f":"IF($R73<>3,VLOOKUP($F73,'Points Table A'!$D$3:$F$33,3),VLOOKUP($F73,'Points Table A'!$J$3:$L$33,3))","v":0},{"$f":"IF($R73<>3,VLOOKUP($G73,'Points Table A'!$E$3:$F$33,2),VLOOKUP($G73,'Points Table A'!$K$3:$L$33,2))","v":0},0,{"$f":"IF($T73=Lookups!$B$113,VLOOKUP($J73,'Points Table C'!$A$3:$F$11,5),VLOOKUP($U73,'Points Table C'!$B$3:$F$11,4))","v":0},{"$f":"IF($R73=1,0,VLOOKUP($N73,'Points Table C'!$C$3:$E$18,3))","v":0},{"$f":"VLOOKUP($I73,'Points Table C'!$D$3:$E$18,2)","v":0},{"$f":"IF($Z73<Lookups!$C$106,(AA73+AB73+AC73),IF(AA73>=Lookups!$C$120,(AA73+AB73+AC73),AA73+AB73))","v":0}]
["Non-core foods","Enter a food name here","Company name",0,0,0,0,0,0,0,0,0,{"$f":"IF((SUM(D74:L74)=0),\"J\",VLOOKUP(P74,Lookups!$A$1:$B$11,2))","v":"J"},{"$f":"H74+(L74*Lookups!$C$102*H74/100)","v":0},0,{"$f":"IF(ROUND(10.499-(((O74-VLOOKUP($A74,Lookups!$A$55:$D$64,3))/(VLOOKUP($A74,Lookups!$A$55:$D$64,4))*VLOOKUP($A74,Lookups!$C$2:$D$11,2))),0)<1,1,IF(ROUND(10.499-(((O74-VLOOKUP($A74,Lookups!$A$55:$D$64,3))/(VLOOKUP($A74,Lookups!$A$55:$D$64,4))*VLOOKUP($A74,Lookups!$C$2:$D$11,2))),0)<11,ROUND(10.499-(((O74-VLOOKUP($A74,Lookups!$A$55:$D$64,3))/(VLOOKUP($A74,Lookups!$A$55:$D$64,4))*VLOOKUP($A74,Lookups!$C$2:$D$11,2))),0),10))","v":7},null,{"$f":"VLOOKUP(A74,Lookups!$A$126:$C$135,3)","v":2},{"$f":"VLOOKUP(A74,Lookups!$A$126:$C$135,2)","v":"Food"},"No",0,{"$f":"IF($R74<>3,VLOOKUP($D74,'Points Table A'!$B$3:$F$33,5),VLOOKUP($D74,'Points Table A'!$H$3:$L$33,5))","v":0},{"$f":"IF($R74<>3,VLOOKUP($E74,'Points Table A'!$C$3:$F$33,4),VLOOKUP($E74,'Points Table A'!$I$3:$L$33,4))","v":0},{"$f":"IF($R74<>3,VLOOKUP($F74,'Points Table A'!$D$3:$F$33,3),VLOOKUP($F74,'Points Table A'!$J$3:$L$33,3))","v":0},{"$f":"IF($R74<>3,VLOOKUP($G74,'Points Table A'!$E$3:$F$33,2),VLOOKUP($G74,'Points Table A'!$K$3:$L$33,2))","v":0},0,{"$f":"IF($T74=Lookups!$B$113,VLOOKUP($J74,'Points Table C'!$A$3:$F$11,5),VLOOKUP($U74,'Points Table C'!$B$3:$F$11,4))","v":0},{"$f":"IF($R74=1,0,VLOOKUP($N74,'Points Table C'!$C$3:$E$18,3))","v":0},{"$f":"VLOOKUP($I74,'Points Table C'!$D$3:$E$18,2)","v":0},{"$f":"IF($Z74<Lookups!$C$106,(AA74+AB74+AC74),IF(AA74>=Lookups!$C$120,(AA74+AB74+AC74),AA74+AB74))","v":0}]
["Non-core foods","Enter a food name here","Company name",0,0,0,0,0,0,0,0,0,{"$f":"IF((SUM(D75:L75)=0),\"J\",VLOOKUP(P75,Lookups!$A$1:$B$11,2))","v":"J"},{"$f":"H75+(L75*Lookups!$C$102*H75/100)","v":0},0,{"$f":"IF(ROUND(10.499-(((O75-VLOOKUP($A75,Lookups!$A$55:$D$64,3))/(VLOOKUP($A75,Lookups!$A$55:$D$64,4))*VLOOKUP($A75,Lookups!$C$2:$D$11,2))),0)<1,1,IF(ROUND(10.499-(((O75-VLOOKUP($A75,Lookups!$A$55:$D$64,3))/(VLOOKUP($A75,Lookups!$A$55:$D$64,4))*VLOOKUP($A75,Lookups!$C$2:$D$11,2))),0)<11,ROUND(10.499-(((O75-VLOOKUP($A75,Lookups!$A$55:$D$64,3))/(VLOOKUP($A75,Lookups!$A$55:$D$64,4))*VLOOKUP($A75,Lookups!$C$2:$D$11,2))),0),10))","v":7},null,{"$f":"VLOOKUP(A75,Lookups!$A$126:$C$135,3)","v":2},{"$f":"VLOOKUP(A75,Lookups!$A$126:$C$135,2)","v":"Food"},"No",0,{"$f":"IF($R75<>3,VLOOKUP($D75,'Points Table A'!$B$3:$F$33,5),VLOOKUP($D75,'Points Table A'!$H$3:$L$33,5))","v":0},{"$f":"IF($R75<>3,VLOOKUP($E75,'Points Table A'!$C$3:$F$33,4),VLOOKUP($E75,'Points Table A'!$I$3:$L$33,4))","v":0},{"$f":"IF($R75<>3,VLOOKUP($F75,'Points Table A'!$D$3:$F$33,3),VLOOKUP($F75,'Points Table A'!$J$3:$L$33,3))","v":0},{"$f":"IF($R75<>3,VLOOKUP($G75,'Points Table A'!$E$3:$F$33,2),VLOOKUP($G75,'Points Table A'!$K$3:$L$33,2))","v":0},0,{"$f":"IF($T75=Lookups!$B$113,VLOOKUP($J75,'Points Table C'!$A$3:$F$11,5),VLOOKUP($U75,'Points Table C'!$B$3:$F$11,4))","v":0},{"$f":"IF($R75=1,0,VLOOKUP($N75,'Points Table C'!$C$3:$E$18,3))","v":0},{"$f":"VLOOKUP($I75,'Points Table C'!$D$3:$E$18,2)","v":0},{"$f":"IF($Z75<Lookups!$C$106,(AA75+AB75+AC75),IF(AA75>=Lookups!$C$120,(AA75+AB75+AC75),AA75+AB75))","v":0}]
["Non-core foods","Enter a food name here","Company name",0,0,0,0,0,0,0,0,0,{"$f":"IF((SUM(D76:L76)=0),\"J\",VLOOKUP(P76,Lookups!$A$1:$B$11,2))","v":"J"},{"$f":"H76+(L76*Lookups!$C$102*H76/100)","v":0},0,{"$f":"IF(ROUND(10.499-(((O76-VLOOKUP($A76,Lookups!$A$55:$D$64,3))/(VLOOKUP($A76,Lookups!$A$55:$D$64,4))*VLOOKUP($A76,Lookups!$C$2:$D$11,2))),0)<1,1,IF(ROUND(10.499-(((O76-VLOOKUP($A76,Lookups!$A$55:$D$64,3))/(VLOOKUP($A76,Lookups!$A$55:$D$64,4))*VLOOKUP($A76,Lookups!$C$2:$D$11,2))),0)<11,ROUND(10.499-(((O76-VLOOKUP($A76,Lookups!$A$55:$D$64,3))/(VLOOKUP($A76,Lookups!$A$55:$D$64,4))*VLOOKUP($A76,Lookups!$C$2:$D$11,2))),0),10))","v":7},null,{"$f":"VLOOKUP(A76,Lookups!$A$126:$C$135,3)","v":2},{"$f":"VLOOKUP(A76,Lookups!$A$126:$C$135,2)","v":"Food"},"No",0,{"$f":"IF($R76<>3,VLOOKUP($D76,'Points Table A'!$B$3:$F$33,5),VLOOKUP($D76,'Points Table A'!$H$3:$L$33,5))","v":0},{"$f":"IF($R76<>3,VLOOKUP($E76,'Points Table A'!$C$3:$F$33,4),VLOOKUP($E76,'Points Table A'!$I$3:$L$33,4))","v":0},{"$f":"IF($R76<>3,VLOOKUP($F76,'Points Table A'!$D$3:$F$33,3),VLOOKUP($F76,'Points Table A'!$J$3:$L$33,3))","v":0},{"$f":"IF($R76<>3,VLOOKUP($G76,'Points Table A'!$E$3:$F$33,2),VLOOKUP($G76,'Points Table A'!$K$3:$L$33,2))","v":0},0,{"$f":"IF($T76=Lookups!$B$113,VLOOKUP($J76,'Points Table C'!$A$3:$F$11,5),VLOOKUP($U76,'Points Table C'!$B$3:$F$11,4))","v":0},{"$f":"IF($R76=1,0,VLOOKUP($N76,'Points Table C'!$C$3:$E$18,3))","v":0},{"$f":"VLOOKUP($I76,'Points Table C'!$D$3:$E$18,2)","v":0},{"$f":"IF($Z76<Lookups!$C$106,(AA76+AB76+AC76),IF(AA76>=Lookups!$C$120,(AA76+AB76+AC76),AA76+AB76))","v":0}]
["Non-core foods","Enter a food name here","Company name",0,0,0,0,0,0,0,0,0,{"$f":"IF((SUM(D77:L77)=0),\"J\",VLOOKUP(P77,Lookups!$A$1:$B$11,2))","v":"J"},{"$f":"H77+(L77*Lookups!$C$102*H77/100)","v":0},0,{"$f":"IF(ROUND(10.499-(((O77-VLOOKUP($A77,Lookups!$A$55:$D$64,3))/(VLOOKUP($A77,Lookups!$A$55:$D$64,4))*VLOOKUP($A77,Lookups!$C$2:$D$11,2))),0)<1,1,IF(ROUND(10.499-(((O77-VLOOKUP($A77,Lookups!$A$55:$D$64,3))/(VLOOKUP($A77,Lookups!$A$55:$D$64,4))*VLOOKUP($A77,Lookups!$C$2:$D$11,2))),0)<11,ROUND(10.499-(((O77-VLOOKUP($A77,Lookups!$A$55:$D$64,3))/(VLOOKUP($A77,Lookups!$A$55:$D$64,4))*VLOOKUP($A77,Lookups!$C$2:$D$11,2))),0),10))","v":7},null,{"$f":"VLOOKUP(A77,Lookups!$A$126:$C$135,3)","v":2},{"$f":"VLOOKUP(A77,Lookups!$A$126:$C$135,2)","v":"Food"},"No",0,{"$f":"IF($R77<>3,VLOOKUP($D77,'Points Table A'!$B$3:$F$33,5),VLOOKUP($D77,'Points Table A'!$H$3:$L$33,5))","v":0},{"$f":"IF($R77<>3,VLOOKUP($E77,'Points Table A'!$C$3:$F$33,4),VLOOKUP($E77,'Points Table A'!$I$3:$L$33,4))","v":0},{"$f":"IF($R77<>3,VLOOKUP($F77,'Points Table A'!$D$3:$F$33,3),VLOOKUP($F77,'Points Table A'!$J$3:$L$33,3))","v":0},{"$f":"IF($R77<>3,VLOOKUP($G77,'Points Table A'!$E$3:$F$33,2),VLOOKUP($G77,'Points Table A'!$K$3:$L$33,2))","v":0},0,{"$f":"IF($T77=Lookups!$B$113,VLOOKUP($J77,'Points Table C'!$A$3:$F$11,5),VLOOKUP($U77,'Points Table C'!$B$3:$F$11,4))","v":0},{"$f":"IF($R77=1,0,VLOOKUP($N77,'Points Table C'!$C$3:$E$18,3))","v":0},{"$f":"VLOOKUP($I77,'Points Table C'!$D$3:$E$18,2)","v":0},{"$f":"IF($Z77<Lookups!$C$106,(AA77+AB77+AC77),IF(AA77>=Lookups!$C$120,(AA77+AB77+AC77),AA77+AB77))","v":0}]
["Non-core foods","Enter a food name here","Company name",0,0,0,0,0,0,0,0,0,{"$f":"IF((SUM(D78:L78)=0),\"J\",VLOOKUP(P78,Lookups!$A$1:$B$11,2))","v":"J"},{"$f":"H78+(L78*Lookups!$C$102*H78/100)","v":0},0,{"$f":"IF(ROUND(10.499-(((O78-VLOOKUP($A78,Lookups!$A$55:$D$64,3))/(VLOOKUP($A78,Lookups!$A$55:$D$64,4))*VLOOKUP($A78,Lookups!$C$2:$D$11,2))),0)<1,1,IF(ROUND(10.499-(((O78-VLOOKUP($A78,Lookups!$A$55:$D$64,3))/(VLOOKUP($A78,Lookups!$A$55:$D$64,4))*VLOOKUP($A78,Lookups!$C$2:$D$11,2))),0)<11,ROUND(10.499-(((O78-VLOOKUP($A78,Lookups!$A$55:$D$64,3))/(VLOOKUP($A78,Lookups!$A$55:$D$64,4))*VLOOKUP($A78,Lookups!$C$2:$D$11,2))),0),10))","v":7},null,{"$f":"VLOOKUP(A78,Lookups!$A$126:$C$135,3)","v":2},{"$f":"VLOOKUP(A78,Lookups!$A$126:$C$135,2)","v":"Food"},"No",0,{"$f":"IF($R78<>3,VLOOKUP($D78,'Points Table A'!$B$3:$F$33,5),VLOOKUP($D78,'Points Table A'!$H$3:$L$33,5))","v":0},{"$f":"IF($R78<>3,VLOOKUP($E78,'Points Table A'!$C$3:$F$33,4),VLOOKUP($E78,'Points Table A'!$I$3:$L$33,4))","v":0},{"$f":"IF($R78<>3,VLOOKUP($F78,'Points Table A'!$D$3:$F$33,3),VLOOKUP($F78,'Points Table A'!$J$3:$L$33,3))","v":0},{"$f":"IF($R78<>3,VLOOKUP($G78,'Points Table A'!$E$3:$F$33,2),VLOOKUP($G78,'Points Table A'!$K$3:$L$33,2))","v":0},0,{"$f":"IF($T78=Lookups!$B$113,VLOOKUP($J78,'Points Table C'!$A$3:$F$11,5),VLOOKUP($U78,'Points Table C'!$B$3:$F$11,4))","v":0},{"$f":"IF($R78=1,0,VLOOKUP($N78,'Points Table C'!$C$3:$E$18,3))","v":0},{"$f":"VLOOKUP($I78,'Points Table C'!$D$3:$E$18,2)","v":0},{"$f":"IF($Z78<Lookups!$C$106,(AA78+AB78+AC78),IF(AA78>=Lookups!$C$120,(AA78+AB78+AC78),AA78+AB78))","v":0}]
["Non-core foods","Enter a food name here","Company name",0,0,0,0,0,0,0,0,0,{"$f":"IF((SUM(D79:L79)=0),\"J\",VLOOKUP(P79,Lookups!$A$1:$B$11,2))","v":"J"},{"$f":"H79+(L79*Lookups!$C$102*H79/100)","v":0},0,{"$f":"IF(ROUND(10.499-(((O79-VLOOKUP($A79,Lookups!$A$55:$D$64,3))/(VLOOKUP($A79,Lookups!$A$55:$D$64,4))*VLOOKUP($A79,Lookups!$C$2:$D$11,2))),0)<1,1,IF(ROUND(10.499-(((O79-VLOOKUP($A79,Lookups!$A$55:$D$64,3))/(VLOOKUP($A79,Lookups!$A$55:$D$64,4))*VLOOKUP($A79,Lookups!$C$2:$D$11,2))),0)<11,ROUND(10.499-(((O79-VLOOKUP($A79,Lookups!$A$55:$D$64,3))/(VLOOKUP($A79,Lookups!$A$55:$D$64,4))*VLOOKUP($A79,Lookups!$C$2:$D$11,2))),0),10))","v":7},null,{"$f":"VLOOKUP(A79,Lookups!$A$126:$C$135,3)","v":2},{"$f":"VLOOKUP(A79,Lookups!$A$126:$C$135,2)","v":"Food"},"No",0,{"$f":"IF($R79<>3,VLOOKUP($D79,'Points Table A'!$B$3:$F$33,5),VLOOKUP($D79,'Points Table A'!$H$3:$L$33,5))","v":0},{"$f":"IF($R79<>3,VLOOKUP($E79,'Points Table A'!$C$3:$F$33,4),VLOOKUP($E79,'Points Table A'!$I$3:$L$33,4))","v":0},{"$f":"IF($R79<>3,VLOOKUP($F79,'Points Table A'!$D$3:$F$33,3),VLOOKUP($F79,'Points Table A'!$J$3:$L$33,3))","v":0},{"$f":"IF($R79<>3,VLOOKUP($G79,'Points Table A'!$E$3:$F$33,2),VLOOKUP($G79,'Points Table A'!$K$3:$L$33,2))","v":0},0,{"$f":"IF($T79=Lookups!$B$113,VLOOKUP($J79,'Points Table C'!$A$3:$F$11,5),VLOOKUP($U79,'Points Table C'!$B$3:$F$11,4))","v":0},{"$f":"IF($R79=1,0,VLOOKUP($N79,'Points Table C'!$C$3:$E$18,3))","v":0},{"$f":"VLOOKUP($I79,'Points Table C'!$D$3:$E$18,2)","v":0},{"$f":"IF($Z79<Lookups!$C$106,(AA79+AB79+AC79),IF(AA79>=Lookups!$C$120,(AA79+AB79+AC79),AA79+AB79))","v":0}]
["Non-core foods","Enter a food name here","Company name",0,0,0,0,0,0,0,0,0,{"$f":"IF((SUM(D80:L80)=0),\"J\",VLOOKUP(P80,Lookups!$A$1:$B$11,2))","v":"J"},{"$f":"H80+(L80*Lookups!$C$102*H80/100)","v":0},0,{"$f":"IF(ROUND(10.499-(((O80-VLOOKUP($A80,Lookups!$A$55:$D$64,3))/(VLOOKUP($A80,Lookups!$A$55:$D$64,4))*VLOOKUP($A80,Lookups!$C$2:$D$11,2))),0)<1,1,IF(ROUND(10.499-(((O80-VLOOKUP($A80,Lookups!$A$55:$D$64,3))/(VLOOKUP($A80,Lookups!$A$55:$D$64,4))*VLOOKUP($A80,Lookups!$C$2:$D$11,2))),0)<11,ROUND(10.499-(((O80-VLOOKUP($A80,Lookups!$A$55:$D$64,3))/(VLOOKUP($A80,Lookups!$A$55:$D$64,4))*VLOOKUP($A80,Lookups!$C$2:$D$11,2))),0),10))","v":7},null,{"$f":"VLOOKUP(A80,Lookups!$A$126:$C$135,3)","v":2},{"$f":"VLOOKUP(A80,Lookups!$A$126:$C$135,2)","v":"Food"},"No",0,{"$f":"IF($R80<>3,VLOOKUP($D80,'Points Table A'!$B$3:$F$33,5),VLOOKUP($D80,'Points Table A'!$H$3:$L$33,5))","v":0},{"$f":"IF($R80<>3,VLOOKUP($E80,'Points Table A'!$C$3:$F$33,4),VLOOKUP($E80,'Points Table A'!$I$3:$L$33,4))","v":0},{"$f":"IF($R80<>3,VLOOKUP($F80,'Points Table A'!$D$3:$F$33,3),VLOOKUP($F80,'Points Table A'!$J$3:$L$33,3))","v":0},{"$f":"IF($R80<>3,VLOOKUP($G80,'Points Table A'!$E$3:$F$33,2),VLOOKUP($G80,'Points Table A'!$K$3:$L$33,2))","v":0},0,{"$f":"IF($T80=Lookups!$B$113,VLOOKUP($J80,'Points Table C'!$A$3:$F$11,5),VLOOKUP($U80,'Points Table C'!$B$3:$F$11,4))","v":0},{"$f":"IF($R80=1,0,VLOOKUP($N80,'Points Table C'!$C$3:$E$18,3))","v":0},{"$f":"VLOOKUP($I80,'Points Table C'!$D$3:$E$18,2)","v":0},{"$f":"IF($Z80<Lookups!$C$106,(AA80+AB80+AC80),IF(AA80>=Lookups!$C$120,(AA80+AB80+AC80),AA80+AB80))","v":0}]
["Non-core foods","Enter a food name here","Company name",0,0,0,0,0,0,0,0,0,{"$f":"IF((SUM(D81:L81)=0),\"J\",VLOOKUP(P81,Lookups!$A$1:$B$11,2))","v":"J"},{"$f":"H81+(L81*Lookups!$C$102*H81/100)","v":0},0,{"$f":"IF(ROUND(10.499-(((O81-VLOOKUP($A81,Lookups!$A$55:$D$64,3))/(VLOOKUP($A81,Lookups!$A$55:$D$64,4))*VLOOKUP($A81,Lookups!$C$2:$D$11,2))),0)<1,1,IF(ROUND(10.499-(((O81-VLOOKUP($A81,Lookups!$A$55:$D$64,3))/(VLOOKUP($A81,Lookups!$A$55:$D$64,4))*VLOOKUP($A81,Lookups!$C$2:$D$11,2))),0)<11,ROUND(10.499-(((O81-VLOOKUP($A81,Lookups!$A$55:$D$64,3))/(VLOOKUP($A81,Lookups!$A$55:$D$64,4))*VLOOKUP($A81,Lookups!$C$2:$D$11,2))),0),10))","v":7},null,{"$f":"VLOOKUP(A81,Lookups!$A$126:$C$135,3)","v":2},{"$f":"VLOOKUP(A81,Lookups!$A$126:$C$135,2)","v":"Food"},"No",0,{"$f":"IF($R81<>3,VLOOKUP($D81,'Points Table A'!$B$3:$F$33,5),VLOOKUP($D81,'Points Table A'!$H$3:$L$33,5))","v":0},{"$f":"IF($R81<>3,VLOOKUP($E81,'Points Table A'!$C$3:$F$33,4),VLOOKUP($E81,'Points Table A'!$I$3:$L$33,4))","v":0},{"$f":"IF($R81<>3,VLOOKUP($F81,'Points Table A'!$D$3:$F$33,3),VLOOKUP($F81,'Points Table A'!$J$3:$L$33,3))","v":0},{"$f":"IF($R81<>3,VLOOKUP($G81,'Points Table A'!$E$3:$F$33,2),VLOOKUP($G81,'Points Table A'!$K$3:$L$33,2))","v":0},0,{"$f":"IF($T81=Lookups!$B$113,VLOOKUP($J81,'Points Table C'!$A$3:$F$11,5),VLOOKUP($U81,'Points Table C'!$B$3:$F$11,4))","v":0},{"$f":"IF($R81=1,0,VLOOKUP($N81,'Points Table C'!$C$3:$E$18,3))","v":0},{"$f":"VLOOKUP($I81,'Points Table C'!$D$3:$E$18,2)","v":0},{"$f":"IF($Z81<Lookups!$C$106,(AA81+AB81+AC81),IF(AA81>=Lookups!$C$120,(AA81+AB81+AC81),AA81+AB81))","v":0}]
["Non-core foods","Enter a food name here","Company name",0,0,0,0,0,0,0,0,0,{"$f":"IF((SUM(D82:L82)=0),\"J\",VLOOKUP(P82,Lookups!$A$1:$B$11,2))","v":"J"},{"$f":"H82+(L82*Lookups!$C$102*H82/100)","v":0},0,{"$f":"IF(ROUND(10.499-(((O82-VLOOKUP($A82,Lookups!$A$55:$D$64,3))/(VLOOKUP($A82,Lookups!$A$55:$D$64,4))*VLOOKUP($A82,Lookups!$C$2:$D$11,2))),0)<1,1,IF(ROUND(10.499-(((O82-VLOOKUP($A82,Lookups!$A$55:$D$64,3))/(VLOOKUP($A82,Lookups!$A$55:$D$64,4))*VLOOKUP($A82,Lookups!$C$2:$D$11,2))),0)<11,ROUND(10.499-(((O82-VLOOKUP($A82,Lookups!$A$55:$D$64,3))/(VLOOKUP($A82,Lookups!$A$55:$D$64,4))*VLOOKUP($A82,Lookups!$C$2:$D$11,2))),0),10))","v":7},null,{"$f":"VLOOKUP(A82,Lookups!$A$126:$C$135,3)","v":2},{"$f":"VLOOKUP(A82,Lookups!$A$126:$C$135,2)","v":"Food"},"No",0,{"$f":"IF($R82<>3,VLOOKUP($D82,'Points Table A'!$B$3:$F$33,5),VLOOKUP($D82,'Points Table A'!$H$3:$L$33,5))","v":0},{"$f":"IF($R82<>3,VLOOKUP($E82,'Points Table A'!$C$3:$F$33,4),VLOOKUP($E82,'Points Table A'!$I$3:$L$33,4))","v":0},{"$f":"IF($R82<>3,VLOOKUP($F82,'Points Table A'!$D$3:$F$33,3),VLOOKUP($F82,'Points Table A'!$J$3:$L$33,3))","v":0},{"$f":"IF($R82<>3,VLOOKUP($G82,'Points Table A'!$E$3:$F$33,2),VLOOKUP($G82,'Points Table A'!$K$3:$L$33,2))","v":0},0,{"$f":"IF($T82=Lookups!$B$113,VLOOKUP($J82,'Points Table C'!$A$3:$F$11,5),VLOOKUP($U82,'Points Table C'!$B$3:$F$11,4))","v":0},{"$f":"IF($R82=1,0,VLOOKUP($N82,'Points Table C'!$C$3:$E$18,3))","v":0},{"$f":"VLOOKUP($I82,'Points Table C'!$D$3:$E$18,2)","v":0},{"$f":"IF($Z82<Lookups!$C$106,(AA82+AB82+AC82),IF(AA82>=Lookups!$C$120,(AA82+AB82+AC82),AA82+AB82))","v":0}]
["Non-core foods","Enter a food name here","Company name",0,0,0,0,0,0,0,0,0,{"$f":"IF((SUM(D83:L83)=0),\"J\",VLOOKUP(P83,Lookups!$A$1:$B$11,2))","v":"J"},{"$f":"H83+(L83*Lookups!$C$102*H83/100)","v":0},0,{"$f":"IF(ROUND(10.499-(((O83-VLOOKUP($A83,Lookups!$A$55:$D$64,3))/(VLOOKUP($A83,Lookups!$A$55:$D$64,4))*VLOOKUP($A83,Lookups!$C$2:$D$11,2))),0)<1,1,IF(ROUND(10.499-(((O83-VLOOKUP($A83,Lookups!$A$55:$D$64,3))/(VLOOKUP($A83,Lookups!$A$55:$D$64,4))*VLOOKUP($A83,Lookups!$C$2:$D$11,2))),0)<11,ROUND(10.499-(((O83-VLOOKUP($A83,Lookups!$A$55:$D$64,3))/(VLOOKUP($A83,Lookups!$A$55:$D$64,4))*VLOOKUP($A83,Lookups!$C$2:$D$11,2))),0),10))","v":7},null,{"$f":"VLOOKUP(A83,Lookups!$A$126:$C$135,3)","v":2},{"$f":"VLOOKUP(A83,Lookups!$A$126:$C$135,2)","v":"Food"},"No",0,{"$f":"IF($R83<>3,VLOOKUP($D83,'Points Table A'!$B$3:$F$33,5),VLOOKUP($D83,'Points Table A'!$H$3:$L$33,5))","v":0},{"$f":"IF($R83<>3,VLOOKUP($E83,'Points Table A'!$C$3:$F$33,4),VLOOKUP($E83,'Points Table A'!$I$3:$L$33,4))","v":0},{"$f":"IF($R83<>3,VLOOKUP($F83,'Points Table A'!$D$3:$F$33,3),VLOOKUP($F83,'Points Table A'!$J$3:$L$33,3))","v":0},{"$f":"IF($R83<>3,VLOOKUP($G83,'Points Table A'!$E$3:$F$33,2),VLOOKUP($G83,'Points Table A'!$K$3:$L$33,2))","v":0},0,{"$f":"IF($T83=Lookups!$B$113,VLOOKUP($J83,'Points Table C'!$A$3:$F$11,5),VLOOKUP($U83,'Points Table C'!$B$3:$F$11,4))","v":0},{"$f":"IF($R83=1,0,VLOOKUP($N83,'Points Table C'!$C$3:$E$18,3))","v":0},{"$f":"VLOOKUP($I83,'Points Table C'!$D$3:$E$18,2)","v":0},{"$f":"IF($Z83<Lookups!$C$106,(AA83+AB83+AC83),IF(AA83>=Lookups!$C$120,(AA83+AB83+AC83),AA83+AB83))","v":0}]
["Non-core foods","Enter a food name here","Company name",0,0,0,0,0,0,0,0,0,{"$f":"IF((SUM(D84:L84)=0),\"J\",VLOOKUP(P84,Lookups!$A$1:$B$11,2))","v":"J"},{"$f":"H84+(L84*Lookups!$C$102*H84/100)","v":0},0,{"$f":"IF(ROUND(10.499-(((O84-VLOOKUP($A84,Lookups!$A$55:$D$64,3))/(VLOOKUP($A84,Lookups!$A$55:$D$64,4))*VLOOKUP($A84,Lookups!$C$2:$D$11,2))),0)<1,1,IF(ROUND(10.499-(((O84-VLOOKUP($A84,Lookups!$A$55:$D$64,3))/(VLOOKUP($A84,Lookups!$A$55:$D$64,4))*VLOOKUP($A84,Lookups!$C$2:$D$11,2))),0)<11,ROUND(10.499-(((O84-VLOOKUP($A84,Lookups!$A$55:$D$64,3))/(VLOOKUP($A84,Lookups!$A$55:$D$64,4))*VLOOKUP($A84,Lookups!$C$2:$D$11,2))),0),10))","v":7},null,{"$f":"VLOOKUP(A84,Lookups!$A$126:$C$135,3)","v":2},{"$f":"VLOOKUP(A84,Lookups!$A$126:$C$135,2)","v":"Food"},"No",0,{"$f":"IF($R84<>3,VLOOKUP($D84,'Points Table A'!$B$3:$F$33,5),VLOOKUP($D84,'Points Table A'!$H$3:$L$33,5))","v":0},{"$f":"IF($R84<>3,VLOOKUP($E84,'Points Table A'!$C$3:$F$33,4),VLOOKUP($E84,'Points Table A'!$I$3:$L$33,4))","v":0},{"$f":"IF($R84<>3,VLOOKUP($F84,'Points Table A'!$D$3:$F$33,3),VLOOKUP($F84,'Points Table A'!$J$3:$L$33,3))","v":0},{"$f":"IF($R84<>3,VLOOKUP($G84,'Points Table A'!$E$3:$F$33,2),VLOOKUP($G84,'Points Table A'!$K$3:$L$33,2))","v":0},0,{"$f":"IF($T84=Lookups!$B$113,VLOOKUP($J84,'Points Table C'!$A$3:$F$11,5),VLOOKUP($U84,'Points Table C'!$B$3:$F$11,4))","v":0},{"$f":"IF($R84=1,0,VLOOKUP($N84,'Points Table C'!$C$3:$E$18,3))","v":0},{"$f":"VLOOKUP($I84,'Points Table C'!$D$3:$E$18,2)","v":0},{"$f":"IF($Z84<Lookups!$C$106,(AA84+AB84+AC84),IF(AA84>=Lookups!$C$120,(AA84+AB84+AC84),AA84+AB84))","v":0}]
["Non-core foods","Enter a food name here","Company name",0,0,0,0,0,0,0,0,0,{"$f":"IF((SUM(D85:L85)=0),\"J\",VLOOKUP(P85,Lookups!$A$1:$B$11,2))","v":"J"},{"$f":"H85+(L85*Lookups!$C$102*H85/100)","v":0},0,{"$f":"IF(ROUND(10.499-(((O85-VLOOKUP($A85,Lookups!$A$55:$D$64,3))/(VLOOKUP($A85,Lookups!$A$55:$D$64,4))*VLOOKUP($A85,Lookups!$C$2:$D$11,2))),0)<1,1,IF(ROUND(10.499-(((O85-VLOOKUP($A85,Lookups!$A$55:$D$64,3))/(VLOOKUP($A85,Lookups!$A$55:$D$64,4))*VLOOKUP($A85,Lookups!$C$2:$D$11,2))),0)<11,ROUND(10.499-(((O85-VLOOKUP($A85,Lookups!$A$55:$D$64,3))/(VLOOKUP($A85,Lookups!$A$55:$D$64,4))*VLOOKUP($A85,Lookups!$C$2:$D$11,2))),0),10))","v":7},null,{"$f":"VLOOKUP(A85,Lookups!$A$126:$C$135,3)","v":2},{"$f":"VLOOKUP(A85,Lookups!$A$126:$C$135,2)","v":"Food"},"No",0,{"$f":"IF($R85<>3,VLOOKUP($D85,'Points Table A'!$B$3:$F$33,5),VLOOKUP($D85,'Points Table A'!$H$3:$L$33,5))","v":0},{"$f":"IF($R85<>3,VLOOKUP($E85,'Points Table A'!$C$3:$F$33,4),VLOOKUP($E85,'Points Table A'!$I$3:$L$33,4))","v":0},{"$f":"IF($R85<>3,VLOOKUP($F85,'Points Table A'!$D$3:$F$33,3),VLOOKUP($F85,'Points Table A'!$J$3:$L$33,3))","v":0},{"$f":"IF($R85<>3,VLOOKUP($G85,'Points Table A'!$E$3:$F$33,2),VLOOKUP($G85,'Points Table A'!$K$3:$L$33,2))","v":0},0,{"$f":"IF($T85=Lookups!$B$113,VLOOKUP($J85,'Points Table C'!$A$3:$F$11,5),VLOOKUP($U85,'Points Table C'!$B$3:$F$11,4))","v":0},{"$f":"IF($R85=1,0,VLOOKUP($N85,'Points Table C'!$C$3:$E$18,3))","v":0},{"$f":"VLOOKUP($I85,'Points Table C'!$D$3:$E$18,2)","v":0},{"$f":"IF($Z85<Lookups!$C$106,(AA85+AB85+AC85),IF(AA85>=Lookups!$C$120,(AA85+AB85+AC85),AA85+AB85))","v":0}]
["Non-core foods","Enter a food name here","Company name",0,0,0,0,0,0,0,0,0,{"$f":"IF((SUM(D86:L86)=0),\"J\",VLOOKUP(P86,Lookups!$A$1:$B$11,2))","v":"J"},{"$f":"H86+(L86*Lookups!$C$102*H86/100)","v":0},0,{"$f":"IF(ROUND(10.499-(((O86-VLOOKUP($A86,Lookups!$A$55:$D$64,3))/(VLOOKUP($A86,Lookups!$A$55:$D$64,4))*VLOOKUP($A86,Lookups!$C$2:$D$11,2))),0)<1,1,IF(ROUND(10.499-(((O86-VLOOKUP($A86,Lookups!$A$55:$D$64,3))/(VLOOKUP($A86,Lookups!$A$55:$D$64,4))*VLOOKUP($A86,Lookups!$C$2:$D$11,2))),0)<11,ROUND(10.499-(((O86-VLOOKUP($A86,Lookups!$A$55:$D$64,3))/(VLOOKUP($A86,Lookups!$A$55:$D$64,4))*VLOOKUP($A86,Lookups!$C$2:$D$11,2))),0),10))","v":7},null,{"$f":"VLOOKUP(A86,Lookups!$A$126:$C$135,3)","v":2},{"$f":"VLOOKUP(A86,Lookups!$A$126:$C$135,2)","v":"Food"},"No",0,{"$f":"IF($R86<>3,VLOOKUP($D86,'Points Table A'!$B$3:$F$33,5),VLOOKUP($D86,'Points Table A'!$H$3:$L$33,5))","v":0},{"$f":"IF($R86<>3,VLOOKUP($E86,'Points Table A'!$C$3:$F$33,4),VLOOKUP($E86,'Points Table A'!$I$3:$L$33,4))","v":0},{"$f":"IF($R86<>3,VLOOKUP($F86,'Points Table A'!$D$3:$F$33,3),VLOOKUP($F86,'Points Table A'!$J$3:$L$33,3))","v":0},{"$f":"IF($R86<>3,VLOOKUP($G86,'Points Table A'!$E$3:$F$33,2),VLOOKUP($G86,'Points Table A'!$K$3:$L$33,2))","v":0},0,{"$f":"IF($T86=Lookups!$B$113,VLOOKUP($J86,'Points Table C'!$A$3:$F$11,5),VLOOKUP($U86,'Points Table C'!$B$3:$F$11,4))","v":0},{"$f":"IF($R86=1,0,VLOOKUP($N86,'Points Table C'!$C$3:$E$18,3))","v":0},{"$f":"VLOOKUP($I86,'Points Table C'!$D$3:$E$18,2)","v":0},{"$f":"IF($Z86<Lookups!$C$106,(AA86+AB86+AC86),IF(AA86>=Lookups!$C$120,(AA86+AB86+AC86),AA86+AB86))","v":0}]
["Non-core foods","Enter a food name here","Company name",0,0,0,0,0,0,0,0,0,{"$f":"IF((SUM(D87:L87)=0),\"J\",VLOOKUP(P87,Lookups!$A$1:$B$11,2))","v":"J"},{"$f":"H87+(L87*Lookups!$C$102*H87/100)","v":0},0,{"$f":"IF(ROUND(10.499-(((O87-VLOOKUP($A87,Lookups!$A$55:$D$64,3))/(VLOOKUP($A87,Lookups!$A$55:$D$64,4))*VLOOKUP($A87,Lookups!$C$2:$D$11,2))),0)<1,1,IF(ROUND(10.499-(((O87-VLOOKUP($A87,Lookups!$A$55:$D$64,3))/(VLOOKUP($A87,Lookups!$A$55:$D$64,4))*VLOOKUP($A87,Lookups!$C$2:$D$11,2))),0)<11,ROUND(10.499-(((O87-VLOOKUP($A87,Lookups!$A$55:$D$64,3))/(VLOOKUP($A87,Lookups!$A$55:$D$64,4))*VLOOKUP($A87,Lookups!$C$2:$D$11,2))),0),10))","v":7},null,{"$f":"VLOOKUP(A87,Lookups!$A$126:$C$135,3)","v":2},{"$f":"VLOOKUP(A87,Lookups!$A$126:$C$135,2)","v":"Food"},"No",0,{"$f":"IF($R87<>3,VLOOKUP($D87,'Points Table A'!$B$3:$F$33,5),VLOOKUP($D87,'Points Table A'!$H$3:$L$33,5))","v":0},{"$f":"IF($R87<>3,VLOOKUP($E87,'Points Table A'!$C$3:$F$33,4),VLOOKUP($E87,'Points Table A'!$I$3:$L$33,4))","v":0},{"$f":"IF($R87<>3,VLOOKUP($F87,'Points Table A'!$D$3:$F$33,3),VLOOKUP($F87,'Points Table A'!$J$3:$L$33,3))","v":0},{"$f":"IF($R87<>3,VLOOKUP($G87,'Points Table A'!$E$3:$F$33,2),VLOOKUP($G87,'Points Table A'!$K$3:$L$33,2))","v":0},0,{"$f":"IF($T87=Lookups!$B$113,VLOOKUP($J87,'Points Table C'!$A$3:$F$11,5),VLOOKUP($U87,'Points Table C'!$B$3:$F$11,4))","v":0},{"$f":"IF($R87=1,0,VLOOKUP($N87,'Points Table C'!$C$3:$E$18,3))","v":0},{"$f":"VLOOKUP($I87,'Points Table C'!$D$3:$E$18,2)","v":0},{"$f":"IF($Z87<Lookups!$C$106,(AA87+AB87+AC87),IF(AA87>=Lookups!$C$120,(AA87+AB87+AC87),AA87+AB87))","v":0}]
["Non-core foods","Enter a food name here","Company name",0,0,0,0,0,0,0,0,0,{"$f":"IF((SUM(D88:L88)=0),\"J\",VLOOKUP(P88,Lookups!$A$1:$B$11,2))","v":"J"},{"$f":"H88+(L88*Lookups!$C$102*H88/100)","v":0},0,{"$f":"IF(ROUND(10.499-(((O88-VLOOKUP($A88,Lookups!$A$55:$D$64,3))/(VLOOKUP($A88,Lookups!$A$55:$D$64,4))*VLOOKUP($A88,Lookups!$C$2:$D$11,2))),0)<1,1,IF(ROUND(10.499-(((O88-VLOOKUP($A88,Lookups!$A$55:$D$64,3))/(VLOOKUP($A88,Lookups!$A$55:$D$64,4))*VLOOKUP($A88,Lookups!$C$2:$D$11,2))),0)<11,ROUND(10.499-(((O88-VLOOKUP($A88,Lookups!$A$55:$D$64,3))/(VLOOKUP($A88,Lookups!$A$55:$D$64,4))*VLOOKUP($A88,Lookups!$C$2:$D$11,2))),0),10))","v":7},null,{"$f":"VLOOKUP(A88,Lookups!$A$126:$C$135,3)","v":2},{"$f":"VLOOKUP(A88,Lookups!$A$126:$C$135,2)","v":"Food"},"No",0,{"$f":"IF($R88<>3,VLOOKUP($D88,'Points Table A'!$B$3:$F$33,5),VLOOKUP($D88,'Points Table A'!$H$3:$L$33,5))","v":0},{"$f":"IF($R88<>3,VLOOKUP($E88,'Points Table A'!$C$3:$F$33,4),VLOOKUP($E88,'Points Table A'!$I$3:$L$33,4))","v":0},{"$f":"IF($R88<>3,VLOOKUP($F88,'Points Table A'!$D$3:$F$33,3),VLOOKUP($F88,'Points Table A'!$J$3:$L$33,3))","v":0},{"$f":"IF($R88<>3,VLOOKUP($G88,'Points Table A'!$E$3:$F$33,2),VLOOKUP($G88,'Points Table A'!$K$3:$L$33,2))","v":0},0,{"$f":"IF($T88=Lookups!$B$113,VLOOKUP($J88,'Points Table C'!$A$3:$F$11,5),VLOOKUP($U88,'Points Table C'!$B$3:$F$11,4))","v":0},{"$f":"IF($R88=1,0,VLOOKUP($N88,'Points Table C'!$C$3:$E$18,3))","v":0},{"$f":"VLOOKUP($I88,'Points Table C'!$D$3:$E$18,2)","v":0},{"$f":"IF($Z88<Lookups!$C$106,(AA88+AB88+AC88),IF(AA88>=Lookups!$C$120,(AA88+AB88+AC88),AA88+AB88))","v":0}]
["Non-core foods","Enter a food name here","Company name",0,0,0,0,0,0,0,0,0,{"$f":"IF((SUM(D89:L89)=0),\"J\",VLOOKUP(P89,Lookups!$A$1:$B$11,2))","v":"J"},{"$f":"H89+(L89*Lookups!$C$102*H89/100)","v":0},0,{"$f":"IF(ROUND(10.499-(((O89-VLOOKUP($A89,Lookups!$A$55:$D$64,3))/(VLOOKUP($A89,Lookups!$A$55:$D$64,4))*VLOOKUP($A89,Lookups!$C$2:$D$11,2))),0)<1,1,IF(ROUND(10.499-(((O89-VLOOKUP($A89,Lookups!$A$55:$D$64,3))/(VLOOKUP($A89,Lookups!$A$55:$D$64,4))*VLOOKUP($A89,Lookups!$C$2:$D$11,2))),0)<11,ROUND(10.499-(((O89-VLOOKUP($A89,Lookups!$A$55:$D$64,3))/(VLOOKUP($A89,Lookups!$A$55:$D$64,4))*VLOOKUP($A89,Lookups!$C$2:$D$11,2))),0),10))","v":7},null,{"$f":"VLOOKUP(A89,Lookups!$A$126:$C$135,3)","v":2},{"$f":"VLOOKUP(A89,Lookups!$A$126:$C$135,2)","v":"Food"},"No",0,{"$f":"IF($R89<>3,VLOOKUP($D89,'Points Table A'!$B$3:$F$33,5),VLOOKUP($D89,'Points Table A'!$H$3:$L$33,5))","v":0},{"$f":"IF($R89<>3,VLOOKUP($E89,'Points Table A'!$C$3:$F$33,4),VLOOKUP($E89,'Points Table A'!$I$3:$L$33,4))","v":0},{"$f":"IF($R89<>3,VLOOKUP($F89,'Points Table A'!$D$3:$F$33,3),VLOOKUP($F89,'Points Table A'!$J$3:$L$33,3))","v":0},{"$f":"IF($R89<>3,VLOOKUP($G89,'Points Table A'!$E$3:$F$33,2),VLOOKUP($G89,'Points Table A'!$K$3:$L$33,2))","v":0},0,{"$f":"IF($T89=Lookups!$B$113,VLOOKUP($J89,'Points Table C'!$A$3:$F$11,5),VLOOKUP($U89,'Points Table C'!$B$3:$F$11,4))","v":0},{"$f":"IF($R89=1,0,VLOOKUP($N89,'Points Table C'!$C$3:$E$18,3))","v":0},{"$f":"VLOOKUP($I89,'Points Table C'!$D$3:$E$18,2)","v":0},{"$f":"IF($Z89<Lookups!$C$106,(AA89+AB89+AC89),IF(AA89>=Lookups!$C$120,(AA89+AB89+AC89),AA89+AB89))","v":0}]
["Non-core foods","Enter a food name here","Company name",0,0,0,0,0,0,0,0,0,{"$f":"IF((SUM(D90:L90)=0),\"J\",VLOOKUP(P90,Lookups!$A$1:$B$11,2))","v":"J"},{"$f":"H90+(L90*Lookups!$C$102*H90/100)","v":0},0,{"$f":"IF(ROUND(10.499-(((O90-VLOOKUP($A90,Lookups!$A$55:$D$64,3))/(VLOOKUP($A90,Lookups!$A$55:$D$64,4))*VLOOKUP($A90,Lookups!$C$2:$D$11,2))),0)<1,1,IF(ROUND(10.499-(((O90-VLOOKUP($A90,Lookups!$A$55:$D$64,3))/(VLOOKUP($A90,Lookups!$A$55:$D$64,4))*VLOOKUP($A90,Lookups!$C$2:$D$11,2))),0)<11,ROUND(10.499-(((O90-VLOOKUP($A90,Lookups!$A$55:$D$64,3))/(VLOOKUP($A90,Lookups!$A$55:$D$64,4))*VLOOKUP($A90,Lookups!$C$2:$D$11,2))),0),10))","v":7},null,{"$f":"VLOOKUP(A90,Lookups!$A$126:$C$135,3)","v":2},{"$f":"VLOOKUP(A90,Lookups!$A$126:$C$135,2)","v":"Food"},"No",0,{"$f":"IF($R90<>3,VLOOKUP($D90,'Points Table A'!$B$3:$F$33,5),VLOOKUP($D90,'Points Table A'!$H$3:$L$33,5))","v":0},{"$f":"IF($R90<>3,VLOOKUP($E90,'Points Table A'!$C$3:$F$33,4),VLOOKUP($E90,'Points Table A'!$I$3:$L$33,4))","v":0},{"$f":"IF($R90<>3,VLOOKUP($F90,'Points Table A'!$D$3:$F$33,3),VLOOKUP($F90,'Points Table A'!$J$3:$L$33,3))","v":0},{"$f":"IF($R90<>3,VLOOKUP($G90,'Points Table A'!$E$3:$F$33,2),VLOOKUP($G90,'Points Table A'!$K$3:$L$33,2))","v":0},0,{"$f":"IF($T90=Lookups!$B$113,VLOOKUP($J90,'Points Table C'!$A$3:$F$11,5),VLOOKUP($U90,'Points Table C'!$B$3:$F$11,4))","v":0},{"$f":"IF($R90=1,0,VLOOKUP($N90,'Points Table C'!$C$3:$E$18,3))","v":0},{"$f":"VLOOKUP($I90,'Points Table C'!$D$3:$E$18,2)","v":0},{"$f":"IF($Z90<Lookups!$C$106,(AA90+AB90+AC90),IF(AA90>=Lookups!$C$120,(AA90+AB90+AC90),AA90+AB90))","v":0}]
["Non-core foods","Enter a food name here","Company name",0,0,0,0,0,0,0,0,0,{"$f":"IF((SUM(D91:L91)=0),\"J\",VLOOKUP(P91,Lookups!$A$1:$B$11,2))","v":"J"},{"$f":"H91+(L91*Lookups!$C$102*H91/100)","v":0},0,{"$f":"IF(ROUND(10.499-(((O91-VLOOKUP($A91,Lookups!$A$55:$D$64,3))/(VLOOKUP($A91,Lookups!$A$55:$D$64,4))*VLOOKUP($A91,Lookups!$C$2:$D$11,2))),0)<1,1,IF(ROUND(10.499-(((O91-VLOOKUP($A91,Lookups!$A$55:$D$64,3))/(VLOOKUP($A91,Lookups!$A$55:$D$64,4))*VLOOKUP($A91,Lookups!$C$2:$D$11,2))),0)<11,ROUND(10.499-(((O91-VLOOKUP($A91,Lookups!$A$55:$D$64,3))/(VLOOKUP($A91,Lookups!$A$55:$D$64,4))*VLOOKUP($A91,Lookups!$C$2:$D$11,2))),0),10))","v":7},null,{"$f":"VLOOKUP(A91,Lookups!$A$126:$C$135,3)","v":2},{"$f":"VLOOKUP(A91,Lookups!$A$126:$C$135,2)","v":"Food"},"No",0,{"$f":"IF($R91<>3,VLOOKUP($D91,'Points Table A'!$B$3:$F$33,5),VLOOKUP($D91,'Points Table A'!$H$3:$L$33,5))","v":0},{"$f":"IF($R91<>3,VLOOKUP($E91,'Points Table A'!$C$3:$F$33,4),VLOOKUP($E91,'Points Table A'!$I$3:$L$33,4))","v":0},{"$f":"IF($R91<>3,VLOOKUP($F91,'Points Table A'!$D$3:$F$33,3),VLOOKUP($F91,'Points Table A'!$J$3:$L$33,3))","v":0},{"$f":"IF($R91<>3,VLOOKUP($G91,'Points Table A'!$E$3:$F$33,2),VLOOKUP($G91,'Points Table A'!$K$3:$L$33,2))","v":0},0,{"$f":"IF($T91=Lookups!$B$113,VLOOKUP($J91,'Points Table C'!$A$3:$F$11,5),VLOOKUP($U91,'Points Table C'!$B$3:$F$11,4))","v":0},{"$f":"IF($R91=1,0,VLOOKUP($N91,'Points Table C'!$C$3:$E$18,3))","v":0},{"$f":"VLOOKUP($I91,'Points Table C'!$D$3:$E$18,2)","v":0},{"$f":"IF($Z91<Lookups!$C$106,(AA91+AB91+AC91),IF(AA91>=Lookups!$C$120,(AA91+AB91+AC91),AA91+AB91))","v":0}]
["Non-core foods","Enter a food name here","Company name",0,0,0,0,0,0,0,0,0,{"$f":"IF((SUM(D92:L92)=0),\"J\",VLOOKUP(P92,Lookups!$A$1:$B$11,2))","v":"J"},{"$f":"H92+(L92*Lookups!$C$102*H92/100)","v":0},0,{"$f":"IF(ROUND(10.499-(((O92-VLOOKUP($A92,Lookups!$A$55:$D$64,3))/(VLOOKUP($A92,Lookups!$A$55:$D$64,4))*VLOOKUP($A92,Lookups!$C$2:$D$11,2))),0)<1,1,IF(ROUND(10.499-(((O92-VLOOKUP($A92,Lookups!$A$55:$D$64,3))/(VLOOKUP($A92,Lookups!$A$55:$D$64,4))*VLOOKUP($A92,Lookups!$C$2:$D$11,2))),0)<11,ROUND(10.499-(((O92-VLOOKUP($A92,Lookups!$A$55:$D$64,3))/(VLOOKUP($A92,Lookups!$A$55:$D$64,4))*VLOOKUP($A92,Lookups!$C$2:$D$11,2))),0),10))","v":7},null,{"$f":"VLOOKUP(A92,Lookups!$A$126:$C$135,3)","v":2},{"$f":"VLOOKUP(A92,Lookups!$A$126:$C$135,2)","v":"Food"},"No",0,{"$f":"IF($R92<>3,VLOOKUP($D92,'Points Table A'!$B$3:$F$33,5),VLOOKUP($D92,'Points Table A'!$H$3:$L$33,5))","v":0},{"$f":"IF($R92<>3,VLOOKUP($E92,'Points Table A'!$C$3:$F$33,4),VLOOKUP($E92,'Points Table A'!$I$3:$L$33,4))","v":0},{"$f":"IF($R92<>3,VLOOKUP($F92,'Points Table A'!$D$3:$F$33,3),VLOOKUP($F92,'Points Table A'!$J$3:$L$33,3))","v":0},{"$f":"IF($R92<>3,VLOOKUP($G92,'Points Table A'!$E$3:$F$33,2),VLOOKUP($G92,'Points Table A'!$K$3:$L$33,2))","v":0},0,{"$f":"IF($T92=Lookups!$B$113,VLOOKUP($J92,'Points Table C'!$A$3:$F$11,5),VLOOKUP($U92,'Points Table C'!$B$3:$F$11,4))","v":0},{"$f":"IF($R92=1,0,VLOOKUP($N92,'Points Table C'!$C$3:$E$18,3))","v":0},{"$f":"VLOOKUP($I92,'Points Table C'!$D$3:$E$18,2)","v":0},{"$f":"IF($Z92<Lookups!$C$106,(AA92+AB92+AC92),IF(AA92>=Lookups!$C$120,(AA92+AB92+AC92),AA92+AB92))","v":0}]
["Non-core foods","Enter a food name here","Company name",0,0,0,0,0,0,0,0,0,{"$f":"IF((SUM(D93:L93)=0),\"J\",VLOOKUP(P93,Lookups!$A$1:$B$11,2))","v":"J"},{"$f":"H93+(L93*Lookups!$C$102*H93/100)","v":0},0,{"$f":"IF(ROUND(10.499-(((O93-VLOOKUP($A93,Lookups!$A$55:$D$64,3))/(VLOOKUP($A93,Lookups!$A$55:$D$64,4))*VLOOKUP($A93,Lookups!$C$2:$D$11,2))),0)<1,1,IF(ROUND(10.499-(((O93-VLOOKUP($A93,Lookups!$A$55:$D$64,3))/(VLOOKUP($A93,Lookups!$A$55:$D$64,4))*VLOOKUP($A93,Lookups!$C$2:$D$11,2))),0)<11,ROUND(10.499-(((O93-VLOOKUP($A93,Lookups!$A$55:$D$64,3))/(VLOOKUP($A93,Lookups!$A$55:$D$64,4))*VLOOKUP($A93,Lookups!$C$2:$D$11,2))),0),10))","v":7},null,{"$f":"VLOOKUP(A93,Lookups!$A$126:$C$135,3)","v":2},{"$f":"VLOOKUP(A93,Lookups!$A$126:$C$135,2)","v":"Food"},"No",0,{"$f":"IF($R93<>3,VLOOKUP($D93,'Points Table A'!$B$3:$F$33,5),VLOOKUP($D93,'Points Table A'!$H$3:$L$33,5))","v":0},{"$f":"IF($R93<>3,VLOOKUP($E93,'Points Table A'!$C$3:$F$33,4),VLOOKUP($E93,'Points Table A'!$I$3:$L$33,4))","v":0},{"$f":"IF($R93<>3,VLOOKUP($F93,'Points Table A'!$D$3:$F$33,3),VLOOKUP($F93,'Points Table A'!$J$3:$L$33,3))","v":0},{"$f":"IF($R93<>3,VLOOKUP($G93,'Points Table A'!$E$3:$F$33,2),VLOOKUP($G93,'Points Table A'!$K$3:$L$33,2))","v":0},0,{"$f":"IF($T93=Lookups!$B$113,VLOOKUP($J93,'Points Table C'!$A$3:$F$11,5),VLOOKUP($U93,'Points Table C'!$B$3:$F$11,4))","v":0},{"$f":"IF($R93=1,0,VLOOKUP($N93,'Points Table C'!$C$3:$E$18,3))","v":0},{"$f":"VLOOKUP($I93,'Points Table C'!$D$3:$E$18,2)","v":0},{"$f":"IF($Z93<Lookups!$C$106,(AA93+AB93+AC93),IF(AA93>=Lookups!$C$120,(AA93+AB93+AC93),AA93+AB93))","v":0}]
["Non-core foods","Enter a food name here","Company name",0,0,0,0,0,0,0,0,0,{"$f":"IF((SUM(D94:L94)=0),\"J\",VLOOKUP(P94,Lookups!$A$1:$B$11,2))","v":"J"},{"$f":"H94+(L94*Lookups!$C$102*H94/100)","v":0},0,{"$f":"IF(ROUND(10.499-(((O94-VLOOKUP($A94,Lookups!$A$55:$D$64,3))/(VLOOKUP($A94,Lookups!$A$55:$D$64,4))*VLOOKUP($A94,Lookups!$C$2:$D$11,2))),0)<1,1,IF(ROUND(10.499-(((O94-VLOOKUP($A94,Lookups!$A$55:$D$64,3))/(VLOOKUP($A94,Lookups!$A$55:$D$64,4))*VLOOKUP($A94,Lookups!$C$2:$D$11,2))),0)<11,ROUND(10.499-(((O94-VLOOKUP($A94,Lookups!$A$55:$D$64,3))/(VLOOKUP($A94,Lookups!$A$55:$D$64,4))*VLOOKUP($A94,Lookups!$C$2:$D$11,2))),0),10))","v":7},null,{"$f":"VLOOKUP(A94,Lookups!$A$126:$C$135,3)","v":2},{"$f":"VLOOKUP(A94,Lookups!$A$126:$C$135,2)","v":"Food"},"No",0,{"$f":"IF($R94<>3,VLOOKUP($D94,'Points Table A'!$B$3:$F$33,5),VLOOKUP($D94,'Points Table A'!$H$3:$L$33,5))","v":0},{"$f":"IF($R94<>3,VLOOKUP($E94,'Points Table A'!$C$3:$F$33,4),VLOOKUP($E94,'Points Table A'!$I$3:$L$33,4))","v":0},{"$f":"IF($R94<>3,VLOOKUP($F94,'Points Table A'!$D$3:$F$33,3),VLOOKUP($F94,'Points Table A'!$J$3:$L$33,3))","v":0},{"$f":"IF($R94<>3,VLOOKUP($G94,'Points Table A'!$E$3:$F$33,2),VLOOKUP($G94,'Points Table A'!$K$3:$L$33,2))","v":0},0,{"$f":"IF($T94=Lookups!$B$113,VLOOKUP($J94,'Points Table C'!$A$3:$F$11,5),VLOOKUP($U94,'Points Table C'!$B$3:$F$11,4))","v":0},{"$f":"IF($R94=1,0,VLOOKUP($N94,'Points Table C'!$C$3:$E$18,3))","v":0},{"$f":"VLOOKUP($I94,'Points Table C'!$D$3:$E$18,2)","v":0},{"$f":"IF($Z94<Lookups!$C$106,(AA94+AB94+AC94),IF(AA94>=Lookups!$C$120,(AA94+AB94+AC94),AA94+AB94))","v":0}]
["Non-core foods","Enter a food name here","Company name",0,0,0,0,0,0,0,0,0,{"$f":"IF((SUM(D95:L95)=0),\"J\",VLOOKUP(P95,Lookups!$A$1:$B$11,2))","v":"J"},{"$f":"H95+(L95*Lookups!$C$102*H95/100)","v":0},0,{"$f":"IF(ROUND(10.499-(((O95-VLOOKUP($A95,Lookups!$A$55:$D$64,3))/(VLOOKUP($A95,Lookups!$A$55:$D$64,4))*VLOOKUP($A95,Lookups!$C$2:$D$11,2))),0)<1,1,IF(ROUND(10.499-(((O95-VLOOKUP($A95,Lookups!$A$55:$D$64,3))/(VLOOKUP($A95,Lookups!$A$55:$D$64,4))*VLOOKUP($A95,Lookups!$C$2:$D$11,2))),0)<11,ROUND(10.499-(((O95-VLOOKUP($A95,Lookups!$A$55:$D$64,3))/(VLOOKUP($A95,Lookups!$A$55:$D$64,4))*VLOOKUP($A95,Lookups!$C$2:$D$11,2))),0),10))","v":7},null,{"$f":"VLOOKUP(A95,Lookups!$A$126:$C$135,3)","v":2},{"$f":"VLOOKUP(A95,Lookups!$A$126:$C$135,2)","v":"Food"},"No",0,{"$f":"IF($R95<>3,VLOOKUP($D95,'Points Table A'!$B$3:$F$33,5),VLOOKUP($D95,'Points Table A'!$H$3:$L$33,5))","v":0},{"$f":"IF($R95<>3,VLOOKUP($E95,'Points Table A'!$C$3:$F$33,4),VLOOKUP($E95,'Points Table A'!$I$3:$L$33,4))","v":0},{"$f":"IF($R95<>3,VLOOKUP($F95,'Points Table A'!$D$3:$F$33,3),VLOOKUP($F95,'Points Table A'!$J$3:$L$33,3))","v":0},{"$f":"IF($R95<>3,VLOOKUP($G95,'Points Table A'!$E$3:$F$33,2),VLOOKUP($G95,'Points Table A'!$K$3:$L$33,2))","v":0},0,{"$f":"IF($T95=Lookups!$B$113,VLOOKUP($J95,'Points Table C'!$A$3:$F$11,5),VLOOKUP($U95,'Points Table C'!$B$3:$F$11,4))","v":0},{"$f":"IF($R95=1,0,VLOOKUP($N95,'Points Table C'!$C$3:$E$18,3))","v":0},{"$f":"VLOOKUP($I95,'Points Table C'!$D$3:$E$18,2)","v":0},{"$f":"IF($Z95<Lookups!$C$106,(AA95+AB95+AC95),IF(AA95>=Lookups!$C$120,(AA95+AB95+AC95),AA95+AB95))","v":0}]
["Non-core foods","Enter a food name here","Company name",0,0,0,0,0,0,0,0,0,{"$f":"IF((SUM(D96:L96)=0),\"J\",VLOOKUP(P96,Lookups!$A$1:$B$11,2))","v":"J"},{"$f":"H96+(L96*Lookups!$C$102*H96/100)","v":0},0,{"$f":"IF(ROUND(10.499-(((O96-VLOOKUP($A96,Lookups!$A$55:$D$64,3))/(VLOOKUP($A96,Lookups!$A$55:$D$64,4))*VLOOKUP($A96,Lookups!$C$2:$D$11,2))),0)<1,1,IF(ROUND(10.499-(((O96-VLOOKUP($A96,Lookups!$A$55:$D$64,3))/(VLOOKUP($A96,Lookups!$A$55:$D$64,4))*VLOOKUP($A96,Lookups!$C$2:$D$11,2))),0)<11,ROUND(10.499-(((O96-VLOOKUP($A96,Lookups!$A$55:$D$64,3))/(VLOOKUP($A96,Lookups!$A$55:$D$64,4))*VLOOKUP($A96,Lookups!$C$2:$D$11,2))),0),10))","v":7},null,{"$f":"VLOOKUP(A96,Lookups!$A$126:$C$135,3)","v":2},{"$f":"VLOOKUP(A96,Lookups!$A$126:$C$135,2)","v":"Food"},"No",0,{"$f":"IF($R96<>3,VLOOKUP($D96,'Points Table A'!$B$3:$F$33,5),VLOOKUP($D96,'Points Table A'!$H$3:$L$33,5))","v":0},{"$f":"IF($R96<>3,VLOOKUP($E96,'Points Table A'!$C$3:$F$33,4),VLOOKUP($E96,'Points Table A'!$I$3:$L$33,4))","v":0},{"$f":"IF($R96<>3,VLOOKUP($F96,'Points Table A'!$D$3:$F$33,3),VLOOKUP($F96,'Points Table A'!$J$3:$L$33,3))","v":0},{"$f":"IF($R96<>3,VLOOKUP($G96,'Points Table A'!$E$3:$F$33,2),VLOOKUP($G96,'Points Table A'!$K$3:$L$33,2))","v":0},0,{"$f":"IF($T96=Lookups!$B$113,VLOOKUP($J96,'Points Table C'!$A$3:$F$11,5),VLOOKUP($U96,'Points Table C'!$B$3:$F$11,4))","v":0},{"$f":"IF($R96=1,0,VLOOKUP($N96,'Points Table C'!$C$3:$E$18,3))","v":0},{"$f":"VLOOKUP($I96,'Points Table C'!$D$3:$E$18,2)","v":0},{"$f":"IF($Z96<Lookups!$C$106,(AA96+AB96+AC96),IF(AA96>=Lookups!$C$120,(AA96+AB96+AC96),AA96+AB96))","v":0}]
["Non-core foods","Enter a food name here","Company name",0,0,0,0,0,0,0,0,0,{"$f":"IF((SUM(D97:L97)=0),\"J\",VLOOKUP(P97,Lookups!$A$1:$B$11,2))","v":"J"},{"$f":"H97+(L97*Lookups!$C$102*H97/100)","v":0},0,{"$f":"IF(ROUND(10.499-(((O97-VLOOKUP($A97,Lookups!$A$55:$D$64,3))/(VLOOKUP($A97,Lookups!$A$55:$D$64,4))*VLOOKUP($A97,Lookups!$C$2:$D$11,2))),0)<1,1,IF(ROUND(10.499-(((O97-VLOOKUP($A97,Lookups!$A$55:$D$64,3))/(VLOOKUP($A97,Lookups!$A$55:$D$64,4))*VLOOKUP($A97,Lookups!$C$2:$D$11,2))),0)<11,ROUND(10.499-(((O97-VLOOKUP($A97,Lookups!$A$55:$D$64,3))/(VLOOKUP($A97,Lookups!$A$55:$D$64,4))*VLOOKUP($A97,Lookups!$C$2:$D$11,2))),0),10))","v":7},null,{"$f":"VLOOKUP(A97,Lookups!$A$126:$C$135,3)","v":2},{"$f":"VLOOKUP(A97,Lookups!$A$126:$C$135,2)","v":"Food"},"No",0,{"$f":"IF($R97<>3,VLOOKUP($D97,'Points Table A'!$B$3:$F$33,5),VLOOKUP($D97,'Points Table A'!$H$3:$L$33,5))","v":0},{"$f":"IF($R97<>3,VLOOKUP($E97,'Points Table A'!$C$3:$F$33,4),VLOOKUP($E97,'Points Table A'!$I$3:$L$33,4))","v":0},{"$f":"IF($R97<>3,VLOOKUP($F97,'Points Table A'!$D$3:$F$33,3),VLOOKUP($F97,'Points Table A'!$J$3:$L$33,3))","v":0},{"$f":"IF($R97<>3,VLOOKUP($G97,'Points Table A'!$E$3:$F$33,2),VLOOKUP($G97,'Points Table A'!$K$3:$L$33,2))","v":0},0,{"$f":"IF($T97=Lookups!$B$113,VLOOKUP($J97,'Points Table C'!$A$3:$F$11,5),VLOOKUP($U97,'Points Table C'!$B$3:$F$11,4))","v":0},{"$f":"IF($R97=1,0,VLOOKUP($N97,'Points Table C'!$C$3:$E$18,3))","v":0},{"$f":"VLOOKUP($I97,'Points Table C'!$D$3:$E$18,2)","v":0},{"$f":"IF($Z97<Lookups!$C$106,(AA97+AB97+AC97),IF(AA97>=Lookups!$C$120,(AA97+AB97+AC97),AA97+AB97))","v":0}]
["Non-core foods","Enter a food name here","Company name",0,0,0,0,0,0,0,0,0,{"$f":"IF((SUM(D98:L98)=0),\"J\",VLOOKUP(P98,Lookups!$A$1:$B$11,2))","v":"J"},{"$f":"H98+(L98*Lookups!$C$102*H98/100)","v":0},0,{"$f":"IF(ROUND(10.499-(((O98-VLOOKUP($A98,Lookups!$A$55:$D$64,3))/(VLOOKUP($A98,Lookups!$A$55:$D$64,4))*VLOOKUP($A98,Lookups!$C$2:$D$11,2))),0)<1,1,IF(ROUND(10.499-(((O98-VLOOKUP($A98,Lookups!$A$55:$D$64,3))/(VLOOKUP($A98,Lookups!$A$55:$D$64,4))*VLOOKUP($A98,Lookups!$C$2:$D$11,2))),0)<11,ROUND(10.499-(((O98-VLOOKUP($A98,Lookups!$A$55:$D$64,3))/(VLOOKUP($A98,Lookups!$A$55:$D$64,4))*VLOOKUP($A98,Lookups!$C$2:$D$11,2))),0),10))","v":7},null,{"$f":"VLOOKUP(A98,Lookups!$A$126:$C$135,3)","v":2},{"$f":"VLOOKUP(A98,Lookups!$A$126:$C$135,2)","v":"Food"},"No",0,{"$f":"IF($R98<>3,VLOOKUP($D98,'Points Table A'!$B$3:$F$33,5),VLOOKUP($D98,'Points Table A'!$H$3:$L$33,5))","v":0},{"$f":"IF($R98<>3,VLOOKUP($E98,'Points Table A'!$C$3:$F$33,4),VLOOKUP($E98,'Points Table A'!$I$3:$L$33,4))","v":0},{"$f":"IF($R98<>3,VLOOKUP($F98,'Points Table A'!$D$3:$F$33,3),VLOOKUP($F98,'Points Table A'!$J$3:$L$33,3))","v":0},{"$f":"IF($R98<>3,VLOOKUP($G98,'Points Table A'!$E$3:$F$33,2),VLOOKUP($G98,'Points Table A'!$K$3:$L$33,2))","v":0},0,{"$f":"IF($T98=Lookups!$B$113,VLOOKUP($J98,'Points Table C'!$A$3:$F$11,5),VLOOKUP($U98,'Points Table C'!$B$3:$F$11,4))","v":0},{"$f":"IF($R98=1,0,VLOOKUP($N98,'Points Table C'!$C$3:$E$18,3))","v":0},{"$f":"VLOOKUP($I98,'Points Table C'!$D$3:$E$18,2)","v":0},{"$f":"IF($Z98<Lookups!$C$106,(AA98+AB98+AC98),IF(AA98>=Lookups!$C$120,(AA98+AB98+AC98),AA98+AB98))","v":0}]
["Non-core foods","Enter a food name here","Company name",0,0,0,0,0,0,0,0,0,{"$f":"IF((SUM(D99:L99)=0),\"J\",VLOOKUP(P99,Lookups!$A$1:$B$11,2))","v":"J"},{"$f":"H99+(L99*Lookups!$C$102*H99/100)","v":0},0,{"$f":"IF(ROUND(10.499-(((O99-VLOOKUP($A99,Lookups!$A$55:$D$64,3))/(VLOOKUP($A99,Lookups!$A$55:$D$64,4))*VLOOKUP($A99,Lookups!$C$2:$D$11,2))),0)<1,1,IF(ROUND(10.499-(((O99-VLOOKUP($A99,Lookups!$A$55:$D$64,3))/(VLOOKUP($A99,Lookups!$A$55:$D$64,4))*VLOOKUP($A99,Lookups!$C$2:$D$11,2))),0)<11,ROUND(10.499-(((O99-VLOOKUP($A99,Lookups!$A$55:$D$64,3))/(VLOOKUP($A99,Lookups!$A$55:$D$64,4))*VLOOKUP($A99,Lookups!$C$2:$D$11,2))),0),10))","v":7},null,{"$f":"VLOOKUP(A99,Lookups!$A$126:$C$135,3)","v":2},{"$f":"VLOOKUP(A99,Lookups!$A$126:$C$135,2)","v":"Food"},"No",0,{"$f":"IF($R99<>3,VLOOKUP($D99,'Points Table A'!$B$3:$F$33,5),VLOOKUP($D99,'Points Table A'!$H$3:$L$33,5))","v":0},{"$f":"IF($R99<>3,VLOOKUP($E99,'Points Table A'!$C$3:$F$33,4),VLOOKUP($E99,'Points Table A'!$I$3:$L$33,4))","v":0},{"$f":"IF($R99<>3,VLOOKUP($F99,'Points Table A'!$D$3:$F$33,3),VLOOKUP($F99,'Points Table A'!$J$3:$L$33,3))","v":0},{"$f":"IF($R99<>3,VLOOKUP($G99,'Points Table A'!$E$3:$F$33,2),VLOOKUP($G99,'Points Table A'!$K$3:$L$33,2))","v":0},0,{"$f":"IF($T99=Lookups!$B$113,VLOOKUP($J99,'Points Table C'!$A$3:$F$11,5),VLOOKUP($U99,'Points Table C'!$B$3:$F$11,4))","v":0},{"$f":"IF($R99=1,0,VLOOKUP($N99,'Points Table C'!$C$3:$E$18,3))","v":0},{"$f":"VLOOKUP($I99,'Points Table C'!$D$3:$E$18,2)","v":0},{"$f":"IF($Z99<Lookups!$C$106,(AA99+AB99+AC99),IF(AA99>=Lookups!$C$120,(AA99+AB99+AC99),AA99+AB99))","v":0}]
["Non-core foods","Enter a food name here","Company name",0,0,0,0,0,0,0,0,0,{"$f":"IF((SUM(D100:L100)=0),\"J\",VLOOKUP(P100,Lookups!$A$1:$B$11,2))","v":"J"},{"$f":"H100+(L100*Lookups!$C$102*H100/100)","v":0},0,{"$f":"IF(ROUND(10.499-(((O100-VLOOKUP($A100,Lookups!$A$55:$D$64,3))/(VLOOKUP($A100,Lookups!$A$55:$D$64,4))*VLOOKUP($A100,Lookups!$C$2:$D$11,2))),0)<1,1,IF(ROUND(10.499-(((O100-VLOOKUP($A100,Lookups!$A$55:$D$64,3))/(VLOOKUP($A100,Lookups!$A$55:$D$64,4))*VLOOKUP($A100,Lookups!$C$2:$D$11,2))),0)<11,ROUND(10.499-(((O100-VLOOKUP($A100,Lookups!$A$55:$D$64,3))/(VLOOKUP($A100,Lookups!$A$55:$D$64,4))*VLOOKUP($A100,Lookups!$C$2:$D$11,2))),0),10))","v":7},null,{"$f":"VLOOKUP(A100,Lookups!$A$126:$C$135,3)","v":2},{"$f":"VLOOKUP(A100,Lookups!$A$126:$C$135,2)","v":"Food"},"No",0,{"$f":"IF($R100<>3,VLOOKUP($D100,'Points Table A'!$B$3:$F$33,5),VLOOKUP($D100,'Points Table A'!$H$3:$L$33,5))","v":0},{"$f":"IF($R100<>3,VLOOKUP($E100,'Points Table A'!$C$3:$F$33,4),VLOOKUP($E100,'Points Table A'!$I$3:$L$33,4))","v":0},{"$f":"IF($R100<>3,VLOOKUP($F100,'Points Table A'!$D$3:$F$33,3),VLOOKUP($F100,'Points Table A'!$J$3:$L$33,3))","v":0},{"$f":"IF($R100<>3,VLOOKUP($G100,'Points Table A'!$E$3:$F$33,2),VLOOKUP($G100,'Points Table A'!$K$3:$L$33,2))","v":0},0,{"$f":"IF($T100=Lookups!$B$113,VLOOKUP($J100,'Points Table C'!$A$3:$F$11,5),VLOOKUP($U100,'Points Table C'!$B$3:$F$11,4))","v":0},{"$f":"IF($R100=1,0,VLOOKUP($N100,'Points Table C'!$C$3:$E$18,3))","v":0},{"$f":"VLOOKUP($I100,'Points Table C'!$D$3:$E$18,2)","v":0},{"$f":"IF($Z100<Lookups!$C$106,(AA100+AB100+AC100),IF(AA100>=Lookups!$C$120,(AA100+AB100+AC100),AA100+AB100))","v":0}]
["Non-core foods","Enter a food name here","Company name",0,0,0,0,0,0,0,0,0,{"$f":"IF((SUM(D101:L101)=0),\"J\",VLOOKUP(P101,Lookups!$A$1:$B$11,2))","v":"J"},{"$f":"H101+(L101*Lookups!$C$102*H101/100)","v":0},0,{"$f":"IF(ROUND(10.499-(((O101-VLOOKUP($A101,Lookups!$A$55:$D$64,3))/(VLOOKUP($A101,Lookups!$A$55:$D$64,4))*VLOOKUP($A101,Lookups!$C$2:$D$11,2))),0)<1,1,IF(ROUND(10.499-(((O101-VLOOKUP($A101,Lookups!$A$55:$D$64,3))/(VLOOKUP($A101,Lookups!$A$55:$D$64,4))*VLOOKUP($A101,Lookups!$C$2:$D$11,2))),0)<11,ROUND(10.499-(((O101-VLOOKUP($A101,Lookups!$A$55:$D$64,3))/(VLOOKUP($A101,Lookups!$A$55:$D$64,4))*VLOOKUP($A101,Lookups!$C$2:$D$11,2))),0),10))","v":7},null,{"$f":"VLOOKUP(A101,Lookups!$A$126:$C$135,3)","v":2},{"$f":"VLOOKUP(A101,Lookups!$A$126:$C$135,2)","v":"Food"},"No",0,{"$f":"IF($R101<>3,VLOOKUP($D101,'Points Table A'!$B$3:$F$33,5),VLOOKUP($D101,'Points Table A'!$H$3:$L$33,5))","v":0},{"$f":"IF($R101<>3,VLOOKUP($E101,'Points Table A'!$C$3:$F$33,4),VLOOKUP($E101,'Points Table A'!$I$3:$L$33,4))","v":0},{"$f":"IF($R101<>3,VLOOKUP($F101,'Points Table A'!$D$3:$F$33,3),VLOOKUP($F101,'Points Table A'!$J$3:$L$33,3))","v":0},{"$f":"IF($R101<>3,VLOOKUP($G101,'Points Table A'!$E$3:$F$33,2),VLOOKUP($G101,'Points Table A'!$K$3:$L$33,2))","v":0},0,{"$f":"IF($T101=Lookups!$B$113,VLOOKUP($J101,'Points Table C'!$A$3:$F$11,5),VLOOKUP($U101,'Points Table C'!$B$3:$F$11,4))","v":0},{"$f":"IF($R101=1,0,VLOOKUP($N101,'Points Table C'!$C$3:$E$18,3))","v":0},{"$f":"VLOOKUP($I101,'Points Table C'!$D$3:$E$18,2)","v":0},{"$f":"IF($Z101<Lookups!$C$106,(AA101+AB101+AC101),IF(AA101>=Lookups!$C$120,(AA101+AB101+AC101),AA101+AB101))","v":0}]
["Non-core foods","Enter a food name here","Company name",0,0,0,0,0,0,0,0,0,{"$f":"IF((SUM(D102:L102)=0),\"J\",VLOOKUP(P102,Lookups!$A$1:$B$11,2))","v":"J"},{"$f":"H102+(L102*Lookups!$C$102*H102/100)","v":0},0,{"$f":"IF(ROUND(10.499-(((O102-VLOOKUP($A102,Lookups!$A$55:$D$64,3))/(VLOOKUP($A102,Lookups!$A$55:$D$64,4))*VLOOKUP($A102,Lookups!$C$2:$D$11,2))),0)<1,1,IF(ROUND(10.499-(((O102-VLOOKUP($A102,Lookups!$A$55:$D$64,3))/(VLOOKUP($A102,Lookups!$A$55:$D$64,4))*VLOOKUP($A102,Lookups!$C$2:$D$11,2))),0)<11,ROUND(10.499-(((O102-VLOOKUP($A102,Lookups!$A$55:$D$64,3))/(VLOOKUP($A102,Lookups!$A$55:$D$64,4))*VLOOKUP($A102,Lookups!$C$2:$D$11,2))),0),10))","v":7},null,{"$f":"VLOOKUP(A102,Lookups!$A$126:$C$135,3)","v":2},{"$f":"VLOOKUP(A102,Lookups!$A$126:$C$135,2)","v":"Food"},"No",0,{"$f":"IF($R102<>3,VLOOKUP($D102,'Points Table A'!$B$3:$F$33,5),VLOOKUP($D102,'Points Table A'!$H$3:$L$33,5))","v":0},{"$f":"IF($R102<>3,VLOOKUP($E102,'Points Table A'!$C$3:$F$33,4),VLOOKUP($E102,'Points Table A'!$I$3:$L$33,4))","v":0},{"$f":"IF($R102<>3,VLOOKUP($F102,'Points Table A'!$D$3:$F$33,3),VLOOKUP($F102,'Points Table A'!$J$3:$L$33,3))","v":0},{"$f":"IF($R102<>3,VLOOKUP($G102,'Points Table A'!$E$3:$F$33,2),VLOOKUP($G102,'Points Table A'!$K$3:$L$33,2))","v":0},0,{"$f":"IF($T102=Lookups!$B$113,VLOOKUP($J102,'Points Table C'!$A$3:$F$11,5),VLOOKUP($U102,'Points Table C'!$B$3:$F$11,4))","v":0},{"$f":"IF($R102=1,0,VLOOKUP($N102,'Points Table C'!$C$3:$E$18,3))","v":0},{"$f":"VLOOKUP($I102,'Points Table C'!$D$3:$E$18,2)","v":0},{"$f":"IF($Z102<Lookups!$C$106,(AA102+AB102+AC102),IF(AA102>=Lookups!$C$120,(AA102+AB102+AC102),AA102+AB102))","v":0}]
["Non-core foods","Enter a food name here","Company name",0,0,0,0,0,0,0,0,0,{"$f":"IF((SUM(D103:L103)=0),\"J\",VLOOKUP(P103,Lookups!$A$1:$B$11,2))","v":"J"},{"$f":"H103+(L103*Lookups!$C$102*H103/100)","v":0},0,{"$f":"IF(ROUND(10.499-(((O103-VLOOKUP($A103,Lookups!$A$55:$D$64,3))/(VLOOKUP($A103,Lookups!$A$55:$D$64,4))*VLOOKUP($A103,Lookups!$C$2:$D$11,2))),0)<1,1,IF(ROUND(10.499-(((O103-VLOOKUP($A103,Lookups!$A$55:$D$64,3))/(VLOOKUP($A103,Lookups!$A$55:$D$64,4))*VLOOKUP($A103,Lookups!$C$2:$D$11,2))),0)<11,ROUND(10.499-(((O103-VLOOKUP($A103,Lookups!$A$55:$D$64,3))/(VLOOKUP($A103,Lookups!$A$55:$D$64,4))*VLOOKUP($A103,Lookups!$C$2:$D$11,2))),0),10))","v":7},null,{"$f":"VLOOKUP(A103,Lookups!$A$126:$C$135,3)","v":2},{"$f":"VLOOKUP(A103,Lookups!$A$126:$C$135,2)","v":"Food"},"No",0,{"$f":"IF($R103<>3,VLOOKUP($D103,'Points Table A'!$B$3:$F$33,5),VLOOKUP($D103,'Points Table A'!$H$3:$L$33,5))","v":0},{"$f":"IF($R103<>3,VLOOKUP($E103,'Points Table A'!$C$3:$F$33,4),VLOOKUP($E103,'Points Table A'!$I$3:$L$33,4))","v":0},{"$f":"IF($R103<>3,VLOOKUP($F103,'Points Table A'!$D$3:$F$33,3),VLOOKUP($F103,'Points Table A'!$J$3:$L$33,3))","v":0},{"$f":"IF($R103<>3,VLOOKUP($G103,'Points Table A'!$E$3:$F$33,2),VLOOKUP($G103,'Points Table A'!$K$3:$L$33,2))","v":0},0,{"$f":"IF($T103=Lookups!$B$113,VLOOKUP($J103,'Points Table C'!$A$3:$F$11,5),VLOOKUP($U103,'Points Table C'!$B$3:$F$11,4))","v":0},{"$f":"IF($R103=1,0,VLOOKUP($N103,'Points Table C'!$C$3:$E$18,3))","v":0},{"$f":"VLOOKUP($I103,'Points Table C'!$D$3:$E$18,2)","v":0},{"$f":"IF($Z103<Lookups!$C$106,(AA103+AB103+AC103),IF(AA103>=Lookups!$C$120,(AA103+AB103+AC103),AA103+AB103))","v":0}]
["Non-core foods","Enter a food name here","Company name",0,0,0,0,0,0,0,0,0,{"$f":"IF((SUM(D104:L104)=0),\"J\",VLOOKUP(P104,Lookups!$A$1:$B$11,2))","v":"J"},{"$f":"H104+(L104*Lookups!$C$102*H104/100)","v":0},0,{"$f":"IF(ROUND(10.499-(((O104-VLOOKUP($A104,Lookups!$A$55:$D$64,3))/(VLOOKUP($A104,Lookups!$A$55:$D$64,4))*VLOOKUP($A104,Lookups!$C$2:$D$11,2))),0)<1,1,IF(ROUND(10.499-(((O104-VLOOKUP($A104,Lookups!$A$55:$D$64,3))/(VLOOKUP($A104,Lookups!$A$55:$D$64,4))*VLOOKUP($A104,Lookups!$C$2:$D$11,2))),0)<11,ROUND(10.499-(((O104-VLOOKUP($A104,Lookups!$A$55:$D$64,3))/(VLOOKUP($A104,Lookups!$A$55:$D$64,4))*VLOOKUP($A104,Lookups!$C$2:$D$11,2))),0),10))","v":7},null,{"$f":"VLOOKUP(A104,Lookups!$A$126:$C$135,3)","v":2},{"$f":"VLOOKUP(A104,Lookups!$A$126:$C$135,2)","v":"Food"},"No",0,{"$f":"IF($R104<>3,VLOOKUP($D104,'Points Table A'!$B$3:$F$33,5),VLOOKUP($D104,'Points Table A'!$H$3:$L$33,5))","v":0},{"$f":"IF($R104<>3,VLOOKUP($E104,'Points Table A'!$C$3:$F$33,4),VLOOKUP($E104,'Points Table A'!$I$3:$L$33,4))","v":0},{"$f":"IF($R104<>3,VLOOKUP($F104,'Points Table A'!$D$3:$F$33,3),VLOOKUP($F104,'Points Table A'!$J$3:$L$33,3))","v":0},{"$f":"IF($R104<>3,VLOOKUP($G104,'Points Table A'!$E$3:$F$33,2),VLOOKUP($G104,'Points Table A'!$K$3:$L$33,2))","v":0},0,{"$f":"IF($T104=Lookups!$B$113,VLOOKUP($J104,'Points Table C'!$A$3:$F$11,5),VLOOKUP($U104,'Points Table C'!$B$3:$F$11,4))","v":0},{"$f":"IF($R104=1,0,VLOOKUP($N104,'Points Table C'!$C$3:$E$18,3))","v":0},{"$f":"VLOOKUP($I104,'Points Table C'!$D$3:$E$18,2)","v":0},{"$f":"IF($Z104<Lookups!$C$106,(AA104+AB104+AC104),IF(AA104>=Lookups!$C$120,(AA104+AB104+AC104),AA104+AB104))","v":0}]
["Non-core foods","Enter a food name here","Company name",0,0,0,0,0,0,0,0,0,{"$f":"IF((SUM(D105:L105)=0),\"J\",VLOOKUP(P105,Lookups!$A$1:$B$11,2))","v":"J"},{"$f":"H105+(L105*Lookups!$C$102*H105/100)","v":0},0,{"$f":"IF(ROUND(10.499-(((O105-VLOOKUP($A105,Lookups!$A$55:$D$64,3))/(VLOOKUP($A105,Lookups!$A$55:$D$64,4))*VLOOKUP($A105,Lookups!$C$2:$D$11,2))),0)<1,1,IF(ROUND(10.499-(((O105-VLOOKUP($A105,Lookups!$A$55:$D$64,3))/(VLOOKUP($A105,Lookups!$A$55:$D$64,4))*VLOOKUP($A105,Lookups!$C$2:$D$11,2))),0)<11,ROUND(10.499-(((O105-VLOOKUP($A105,Lookups!$A$55:$D$64,3))/(VLOOKUP($A105,Lookups!$A$55:$D$64,4))*VLOOKUP($A105,Lookups!$C$2:$D$11,2))),0),10))","v":7},null,{"$f":"VLOOKUP(A105,Lookups!$A$126:$C$135,3)","v":2},{"$f":"VLOOKUP(A105,Lookups!$A$126:$C$135,2)","v":"Food"},"No",0,{"$f":"IF($R105<>3,VLOOKUP($D105,'Points Table A'!$B$3:$F$33,5),VLOOKUP($D105,'Points Table A'!$H$3:$L$33,5))","v":0},{"$f":"IF($R105<>3,VLOOKUP($E105,'Points Table A'!$C$3:$F$33,4),VLOOKUP($E105,'Points Table A'!$I$3:$L$33,4))","v":0},{"$f":"IF($R105<>3,VLOOKUP($F105,'Points Table A'!$D$3:$F$33,3),VLOOKUP($F105,'Points Table A'!$J$3:$L$33,3))","v":0},{"$f":"IF($R105<>3,VLOOKUP($G105,'Points Table A'!$E$3:$F$33,2),VLOOKUP($G105,'Points Table A'!$K$3:$L$33,2))","v":0},0,{"$f":"IF($T105=Lookups!$B$113,VLOOKUP($J105,'Points Table C'!$A$3:$F$11,5),VLOOKUP($U105,'Points Table C'!$B$3:$F$11,4))","v":0},{"$f":"IF($R105=1,0,VLOOKUP($N105,'Points Table C'!$C$3:$E$18,3))","v":0},{"$f":"VLOOKUP($I105,'Points Table C'!$D$3:$E$18,2)","v":0},{"$f":"IF($Z105<Lookups!$C$106,(AA105+AB105+AC105),IF(AA105>=Lookups!$C$120,(AA105+AB105+AC105),AA105+AB105))","v":0}]
["Non-core foods","Enter a food name here","Company name",0,0,0,0,0,0,0,0,0,{"$f":"IF((SUM(D106:L106)=0),\"J\",VLOOKUP(P106,Lookups!$A$1:$B$11,2))","v":"J"},{"$f":"H106+(L106*Lookups!$C$102*H106/100)","v":0},0,{"$f":"IF(ROUND(10.499-(((O106-VLOOKUP($A106,Lookups!$A$55:$D$64,3))/(VLOOKUP($A106,Lookups!$A$55:$D$64,4))*VLOOKUP($A106,Lookups!$C$2:$D$11,2))),0)<1,1,IF(ROUND(10.499-(((O106-VLOOKUP($A106,Lookups!$A$55:$D$64,3))/(VLOOKUP($A106,Lookups!$A$55:$D$64,4))*VLOOKUP($A106,Lookups!$C$2:$D$11,2))),0)<11,ROUND(10.499-(((O106-VLOOKUP($A106,Lookups!$A$55:$D$64,3))/(VLOOKUP($A106,Lookups!$A$55:$D$64,4))*VLOOKUP($A106,Lookups!$C$2:$D$11,2))),0),10))","v":7},null,{"$f":"VLOOKUP(A106,Lookups!$A$126:$C$135,3)","v":2},{"$f":"VLOOKUP(A106,Lookups!$A$126:$C$135,2)","v":"Food"},"No",0,{"$f":"IF($R106<>3,VLOOKUP($D106,'Points Table A'!$B$3:$F$33,5),VLOOKUP($D106,'Points Table A'!$H$3:$L$33,5))","v":0},{"$f":"IF($R106<>3,VLOOKUP($E106,'Points Table A'!$C$3:$F$33,4),VLOOKUP($E106,'Points Table A'!$I$3:$L$33,4))","v":0},{"$f":"IF($R106<>3,VLOOKUP($F106,'Points Table A'!$D$3:$F$33,3),VLOOKUP($F106,'Points Table A'!$J$3:$L$33,3))","v":0},{"$f":"IF($R106<>3,VLOOKUP($G106,'Points Table A'!$E$3:$F$33,2),VLOOKUP($G106,'Points Table A'!$K$3:$L$33,2))","v":0},0,{"$f":"IF($T106=Lookups!$B$113,VLOOKUP($J106,'Points Table C'!$A$3:$F$11,5),VLOOKUP($U106,'Points Table C'!$B$3:$F$11,4))","v":0},{"$f":"IF($R106=1,0,VLOOKUP($N106,'Points Table C'!$C$3:$E$18,3))","v":0},{"$f":"VLOOKUP($I106,'Points Table C'!$D$3:$E$18,2)","v":0},{"$f":"IF($Z106<Lookups!$C$106,(AA106+AB106+AC106),IF(AA106>=Lookups!$C$120,(AA106+AB106+AC106),AA106+AB106))","v":0}]
["Non-core foods","Enter a food name here","Company name",0,0,0,0,0,0,0,0,0,{"$f":"IF((SUM(D107:L107)=0),\"J\",VLOOKUP(P107,Lookups!$A$1:$B$11,2))","v":"J"},{"$f":"H107+(L107*Lookups!$C$102*H107/100)","v":0},0,{"$f":"IF(ROUND(10.499-(((O107-VLOOKUP($A107,Lookups!$A$55:$D$64,3))/(VLOOKUP($A107,Lookups!$A$55:$D$64,4))*VLOOKUP($A107,Lookups!$C$2:$D$11,2))),0)<1,1,IF(ROUND(10.499-(((O107-VLOOKUP($A107,Lookups!$A$55:$D$64,3))/(VLOOKUP($A107,Lookups!$A$55:$D$64,4))*VLOOKUP($A107,Lookups!$C$2:$D$11,2))),0)<11,ROUND(10.499-(((O107-VLOOKUP($A107,Lookups!$A$55:$D$64,3))/(VLOOKUP($A107,Lookups!$A$55:$D$64,4))*VLOOKUP($A107,Lookups!$C$2:$D$11,2))),0),10))","v":7},null,{"$f":"VLOOKUP(A107,Lookups!$A$126:$C$135,3)","v":2},{"$f":"VLOOKUP(A107,Lookups!$A$126:$C$135,2)","v":"Food"},"No",0,{"$f":"IF($R107<>3,VLOOKUP($D107,'Points Table A'!$B$3:$F$33,5),VLOOKUP($D107,'Points Table A'!$H$3:$L$33,5))","v":0},{"$f":"IF($R107<>3,VLOOKUP($E107,'Points Table A'!$C$3:$F$33,4),VLOOKUP($E107,'Points Table A'!$I$3:$L$33,4))","v":0},{"$f":"IF($R107<>3,VLOOKUP($F107,'Points Table A'!$D$3:$F$33,3),VLOOKUP($F107,'Points Table A'!$J$3:$L$33,3))","v":0},{"$f":"IF($R107<>3,VLOOKUP($G107,'Points Table A'!$E$3:$F$33,2),VLOOKUP($G107,'Points Table A'!$K$3:$L$33,2))","v":0},0,{"$f":"IF($T107=Lookups!$B$113,VLOOKUP($J107,'Points Table C'!$A$3:$F$11,5),VLOOKUP($U107,'Points Table C'!$B$3:$F$11,4))","v":0},{"$f":"IF($R107=1,0,VLOOKUP($N107,'Points Table C'!$C$3:$E$18,3))","v":0},{"$f":"VLOOKUP($I107,'Points Table C'!$D$3:$E$18,2)","v":0},{"$f":"IF($Z107<Lookups!$C$106,(AA107+AB107+AC107),IF(AA107>=Lookups!$C$120,(AA107+AB107+AC107),AA107+AB107))","v":0}]
["Non-core foods","Enter a food name here","Company name",0,0,0,0,0,0,0,0,0,{"$f":"IF((SUM(D108:L108)=0),\"J\",VLOOKUP(P108,Lookups!$A$1:$B$11,2))","v":"J"},{"$f":"H108+(L108*Lookups!$C$102*H108/100)","v":0},0,{"$f":"IF(ROUND(10.499-(((O108-VLOOKUP($A108,Lookups!$A$55:$D$64,3))/(VLOOKUP($A108,Lookups!$A$55:$D$64,4))*VLOOKUP($A108,Lookups!$C$2:$D$11,2))),0)<1,1,IF(ROUND(10.499-(((O108-VLOOKUP($A108,Lookups!$A$55:$D$64,3))/(VLOOKUP($A108,Lookups!$A$55:$D$64,4))*VLOOKUP($A108,Lookups!$C$2:$D$11,2))),0)<11,ROUND(10.499-(((O108-VLOOKUP($A108,Lookups!$A$55:$D$64,3))/(VLOOKUP($A108,Lookups!$A$55:$D$64,4))*VLOOKUP($A108,Lookups!$C$2:$D$11,2))),0),10))","v":7},null,{"$f":"VLOOKUP(A108,Lookups!$A$126:$C$135,3)","v":2},{"$f":"VLOOKUP(A108,Lookups!$A$126:$C$135,2)","v":"Food"},"No",0,{"$f":"IF($R108<>3,VLOOKUP($D108,'Points Table A'!$B$3:$F$33,5),VLOOKUP($D108,'Points Table A'!$H$3:$L$33,5))","v":0},{"$f":"IF($R108<>3,VLOOKUP($E108,'Points Table A'!$C$3:$F$33,4),VLOOKUP($E108,'Points Table A'!$I$3:$L$33,4))","v":0},{"$f":"IF($R108<>3,VLOOKUP($F108,'Points Table A'!$D$3:$F$33,3),VLOOKUP($F108,'Points Table A'!$J$3:$L$33,3))","v":0},{"$f":"IF($R108<>3,VLOOKUP($G108,'Points Table A'!$E$3:$F$33,2),VLOOKUP($G108,'Points Table A'!$K$3:$L$33,2))","v":0},0,{"$f":"IF($T108=Lookups!$B$113,VLOOKUP($J108,'Points Table C'!$A$3:$F$11,5),VLOOKUP($U108,'Points Table C'!$B$3:$F$11,4))","v":0},{"$f":"IF($R108=1,0,VLOOKUP($N108,'Points Table C'!$C$3:$E$18,3))","v":0},{"$f":"VLOOKUP($I108,'Points Table C'!$D$3:$E$18,2)","v":0},{"$f":"IF($Z108<Lookups!$C$106,(AA108+AB108+AC108),IF(AA108>=Lookups!$C$120,(AA108+AB108+AC108),AA108+AB108))","v":0}]
["Non-core foods","Enter a food name here","Company name",0,0,0,0,0,0,0,0,0,{"$f":"IF((SUM(D109:L109)=0),\"J\",VLOOKUP(P109,Lookups!$A$1:$B$11,2))","v":"J"},{"$f":"H109+(L109*Lookups!$C$102*H109/100)","v":0},0,{"$f":"IF(ROUND(10.499-(((O109-VLOOKUP($A109,Lookups!$A$55:$D$64,3))/(VLOOKUP($A109,Lookups!$A$55:$D$64,4))*VLOOKUP($A109,Lookups!$C$2:$D$11,2))),0)<1,1,IF(ROUND(10.499-(((O109-VLOOKUP($A109,Lookups!$A$55:$D$64,3))/(VLOOKUP($A109,Lookups!$A$55:$D$64,4))*VLOOKUP($A109,Lookups!$C$2:$D$11,2))),0)<11,ROUND(10.499-(((O109-VLOOKUP($A109,Lookups!$A$55:$D$64,3))/(VLOOKUP($A109,Lookups!$A$55:$D$64,4))*VLOOKUP($A109,Lookups!$C$2:$D$11,2))),0),10))","v":7},null,{"$f":"VLOOKUP(A109,Lookups!$A$126:$C$135,3)","v":2},{"$f":"VLOOKUP(A109,Lookups!$A$126:$C$135,2)","v":"Food"},"No",0,{"$f":"IF($R109<>3,VLOOKUP($D109,'Points Table A'!$B$3:$F$33,5),VLOOKUP($D109,'Points Table A'!$H$3:$L$33,5))","v":0},{"$f":"IF($R109<>3,VLOOKUP($E109,'Points Table A'!$C$3:$F$33,4),VLOOKUP($E109,'Points Table A'!$I$3:$L$33,4))","v":0},{"$f":"IF($R109<>3,VLOOKUP($F109,'Points Table A'!$D$3:$F$33,3),VLOOKUP($F109,'Points Table A'!$J$3:$L$33,3))","v":0},{"$f":"IF($R109<>3,VLOOKUP($G109,'Points Table A'!$E$3:$F$33,2),VLOOKUP($G109,'Points Table A'!$K$3:$L$33,2))","v":0},0,{"$f":"IF($T109=Lookups!$B$113,VLOOKUP($J109,'Points Table C'!$A$3:$F$11,5),VLOOKUP($U109,'Points Table C'!$B$3:$F$11,4))","v":0},{"$f":"IF($R109=1,0,VLOOKUP($N109,'Points Table C'!$C$3:$E$18,3))","v":0},{"$f":"VLOOKUP($I109,'Points Table C'!$D$3:$E$18,2)","v":0},{"$f":"IF($Z109<Lookups!$C$106,(AA109+AB109+AC109),IF(AA109>=Lookups!$C$120,(AA109+AB109+AC109),AA109+AB109))","v":0}]
["Non-core foods","Enter a food name here","Company name",0,0,0,0,0,0,0,0,0,{"$f":"IF((SUM(D110:L110)=0),\"J\",VLOOKUP(P110,Lookups!$A$1:$B$11,2))","v":"J"},{"$f":"H110+(L110*Lookups!$C$102*H110/100)","v":0},0,{"$f":"IF(ROUND(10.499-(((O110-VLOOKUP($A110,Lookups!$A$55:$D$64,3))/(VLOOKUP($A110,Lookups!$A$55:$D$64,4))*VLOOKUP($A110,Lookups!$C$2:$D$11,2))),0)<1,1,IF(ROUND(10.499-(((O110-VLOOKUP($A110,Lookups!$A$55:$D$64,3))/(VLOOKUP($A110,Lookups!$A$55:$D$64,4))*VLOOKUP($A110,Lookups!$C$2:$D$11,2))),0)<11,ROUND(10.499-(((O110-VLOOKUP($A110,Lookups!$A$55:$D$64,3))/(VLOOKUP($A110,Lookups!$A$55:$D$64,4))*VLOOKUP($A110,Lookups!$C$2:$D$11,2))),0),10))","v":7},null,{"$f":"VLOOKUP(A110,Lookups!$A$126:$C$135,3)","v":2},{"$f":"VLOOKUP(A110,Lookups!$A$126:$C$135,2)","v":"Food"},"No",0,{"$f":"IF($R110<>3,VLOOKUP($D110,'Points Table A'!$B$3:$F$33,5),VLOOKUP($D110,'Points Table A'!$H$3:$L$33,5))","v":0},{"$f":"IF($R110<>3,VLOOKUP($E110,'Points Table A'!$C$3:$F$33,4),VLOOKUP($E110,'Points Table A'!$I$3:$L$33,4))","v":0},{"$f":"IF($R110<>3,VLOOKUP($F110,'Points Table A'!$D$3:$F$33,3),VLOOKUP($F110,'Points Table A'!$J$3:$L$33,3))","v":0},{"$f":"IF($R110<>3,VLOOKUP($G110,'Points Table A'!$E$3:$F$33,2),VLOOKUP($G110,'Points Table A'!$K$3:$L$33,2))","v":0},0,{"$f":"IF($T110=Lookups!$B$113,VLOOKUP($J110,'Points Table C'!$A$3:$F$11,5),VLOOKUP($U110,'Points Table C'!$B$3:$F$11,4))","v":0},{"$f":"IF($R110=1,0,VLOOKUP($N110,'Points Table C'!$C$3:$E$18,3))","v":0},{"$f":"VLOOKUP($I110,'Points Table C'!$D$3:$E$18,2)","v":0},{"$f":"IF($Z110<Lookups!$C$106,(AA110+AB110+AC110),IF(AA110>=Lookups!$C$120,(AA110+AB110+AC110),AA110+AB110))","v":0}]
["Non-core foods","Enter a food name here","Company name",0,0,0,0,0,0,0,0,0,{"$f":"IF((SUM(D111:L111)=0),\"J\",VLOOKUP(P111,Lookups!$A$1:$B$11,2))","v":"J"},{"$f":"H111+(L111*Lookups!$C$102*H111/100)","v":0},0,{"$f":"IF(ROUND(10.499-(((O111-VLOOKUP($A111,Lookups!$A$55:$D$64,3))/(VLOOKUP($A111,Lookups!$A$55:$D$64,4))*VLOOKUP($A111,Lookups!$C$2:$D$11,2))),0)<1,1,IF(ROUND(10.499-(((O111-VLOOKUP($A111,Lookups!$A$55:$D$64,3))/(VLOOKUP($A111,Lookups!$A$55:$D$64,4))*VLOOKUP($A111,Lookups!$C$2:$D$11,2))),0)<11,ROUND(10.499-(((O111-VLOOKUP($A111,Lookups!$A$55:$D$64,3))/(VLOOKUP($A111,Lookups!$A$55:$D$64,4))*VLOOKUP($A111,Lookups!$C$2:$D$11,2))),0),10))","v":7},null,{"$f":"VLOOKUP(A111,Lookups!$A$126:$C$135,3)","v":2},{"$f":"VLOOKUP(A111,Lookups!$A$126:$C$135,2)","v":"Food"},"No",0,{"$f":"IF($R111<>3,VLOOKUP($D111,'Points Table A'!$B$3:$F$33,5),VLOOKUP($D111,'Points Table A'!$H$3:$L$33,5))","v":0},{"$f":"IF($R111<>3,VLOOKUP($E111,'Points Table A'!$C$3:$F$33,4),VLOOKUP($E111,'Points Table A'!$I$3:$L$33,4))","v":0},{"$f":"IF($R111<>3,VLOOKUP($F111,'Points Table A'!$D$3:$F$33,3),VLOOKUP($F111,'Points Table A'!$J$3:$L$33,3))","v":0},{"$f":"IF($R111<>3,VLOOKUP($G111,'Points Table A'!$E$3:$F$33,2),VLOOKUP($G111,'Points Table A'!$K$3:$L$33,2))","v":0},0,{"$f":"IF($T111=Lookups!$B$113,VLOOKUP($J111,'Points Table C'!$A$3:$F$11,5),VLOOKUP($U111,'Points Table C'!$B$3:$F$11,4))","v":0},{"$f":"IF($R111=1,0,VLOOKUP($N111,'Points Table C'!$C$3:$E$18,3))","v":0},{"$f":"VLOOKUP($I111,'Points Table C'!$D$3:$E$18,2)","v":0},{"$f":"IF($Z111<Lookups!$C$106,(AA111+AB111+AC111),IF(AA111>=Lookups!$C$120,(AA111+AB111+AC111),AA111+AB111))","v":0}]
["Non-core foods","Enter a food name here","Company name",0,0,0,0,0,0,0,0,0,{"$f":"IF((SUM(D112:L112)=0),\"J\",VLOOKUP(P112,Lookups!$A$1:$B$11,2))","v":"J"},{"$f":"H112+(L112*Lookups!$C$102*H112/100)","v":0},0,{"$f":"IF(ROUND(10.499-(((O112-VLOOKUP($A112,Lookups!$A$55:$D$64,3))/(VLOOKUP($A112,Lookups!$A$55:$D$64,4))*VLOOKUP($A112,Lookups!$C$2:$D$11,2))),0)<1,1,IF(ROUND(10.499-(((O112-VLOOKUP($A112,Lookups!$A$55:$D$64,3))/(VLOOKUP($A112,Lookups!$A$55:$D$64,4))*VLOOKUP($A112,Lookups!$C$2:$D$11,2))),0)<11,ROUND(10.499-(((O112-VLOOKUP($A112,Lookups!$A$55:$D$64,3))/(VLOOKUP($A112,Lookups!$A$55:$D$64,4))*VLOOKUP($A112,Lookups!$C$2:$D$11,2))),0),10))","v":7},null,{"$f":"VLOOKUP(A112,Lookups!$A$126:$C$135,3)","v":2},{"$f":"VLOOKUP(A112,Lookups!$A$126:$C$135,2)","v":"Food"},"No",0,{"$f":"IF($R112<>3,VLOOKUP($D112,'Points Table A'!$B$3:$F$33,5),VLOOKUP($D112,'Points Table A'!$H$3:$L$33,5))","v":0},{"$f":"IF($R112<>3,VLOOKUP($E112,'Points Table A'!$C$3:$F$33,4),VLOOKUP($E112,'Points Table A'!$I$3:$L$33,4))","v":0},{"$f":"IF($R112<>3,VLOOKUP($F112,'Points Table A'!$D$3:$F$33,3),VLOOKUP($F112,'Points Table A'!$J$3:$L$33,3))","v":0},{"$f":"IF($R112<>3,VLOOKUP($G112,'Points Table A'!$E$3:$F$33,2),VLOOKUP($G112,'Points Table A'!$K$3:$L$33,2))","v":0},0,{"$f":"IF($T112=Lookups!$B$113,VLOOKUP($J112,'Points Table C'!$A$3:$F$11,5),VLOOKUP($U112,'Points Table C'!$B$3:$F$11,4))","v":0},{"$f":"IF($R112=1,0,VLOOKUP($N112,'Points Table C'!$C$3:$E$18,3))","v":0},{"$f":"VLOOKUP($I112,'Points Table C'!$D$3:$E$18,2)","v":0},{"$f":"IF($Z112<Lookups!$C$106,(AA112+AB112+AC112),IF(AA112>=Lookups!$C$120,(AA112+AB112+AC112),AA112+AB112))","v":0}]
["Non-core foods","Enter a food name here","Company name",0,0,0,0,0,0,0,0,0,{"$f":"IF((SUM(D113:L113)=0),\"J\",VLOOKUP(P113,Lookups!$A$1:$B$11,2))","v":"J"},{"$f":"H113+(L113*Lookups!$C$102*H113/100)","v":0},0,{"$f":"IF(ROUND(10.499-(((O113-VLOOKUP($A113,Lookups!$A$55:$D$64,3))/(VLOOKUP($A113,Lookups!$A$55:$D$64,4))*VLOOKUP($A113,Lookups!$C$2:$D$11,2))),0)<1,1,IF(ROUND(10.499-(((O113-VLOOKUP($A113,Lookups!$A$55:$D$64,3))/(VLOOKUP($A113,Lookups!$A$55:$D$64,4))*VLOOKUP($A113,Lookups!$C$2:$D$11,2))),0)<11,ROUND(10.499-(((O113-VLOOKUP($A113,Lookups!$A$55:$D$64,3))/(VLOOKUP($A113,Lookups!$A$55:$D$64,4))*VLOOKUP($A113,Lookups!$C$2:$D$11,2))),0),10))","v":7},null,{"$f":"VLOOKUP(A113,Lookups!$A$126:$C$135,3)","v":2},{"$f":"VLOOKUP(A113,Lookups!$A$126:$C$135,2)","v":"Food"},"No",0,{"$f":"IF($R113<>3,VLOOKUP($D113,'Points Table A'!$B$3:$F$33,5),VLOOKUP($D113,'Points Table A'!$H$3:$L$33,5))","v":0},{"$f":"IF($R113<>3,VLOOKUP($E113,'Points Table A'!$C$3:$F$33,4),VLOOKUP($E113,'Points Table A'!$I$3:$L$33,4))","v":0},{"$f":"IF($R113<>3,VLOOKUP($F113,'Points Table A'!$D$3:$F$33,3),VLOOKUP($F113,'Points Table A'!$J$3:$L$33,3))","v":0},{"$f":"IF($R113<>3,VLOOKUP($G113,'Points Table A'!$E$3:$F$33,2),VLOOKUP($G113,'Points Table A'!$K$3:$L$33,2))","v":0},0,{"$f":"IF($T113=Lookups!$B$113,VLOOKUP($J113,'Points Table C'!$A$3:$F$11,5),VLOOKUP($U113,'Points Table C'!$B$3:$F$11,4))","v":0},{"$f":"IF($R113=1,0,VLOOKUP($N113,'Points Table C'!$C$3:$E$18,3))","v":0},{"$f":"VLOOKUP($I113,'Points Table C'!$D$3:$E$18,2)","v":0},{"$f":"IF($Z113<Lookups!$C$106,(AA113+AB113+AC113),IF(AA113>=Lookups!$C$120,(AA113+AB113+AC113),AA113+AB113))","v":0}]
["Non-core foods","Enter a food name here","Company name",0,0,0,0,0,0,0,0,0,{"$f":"IF((SUM(D114:L114)=0),\"J\",VLOOKUP(P114,Lookups!$A$1:$B$11,2))","v":"J"},{"$f":"H114+(L114*Lookups!$C$102*H114/100)","v":0},0,{"$f":"IF(ROUND(10.499-(((O114-VLOOKUP($A114,Lookups!$A$55:$D$64,3))/(VLOOKUP($A114,Lookups!$A$55:$D$64,4))*VLOOKUP($A114,Lookups!$C$2:$D$11,2))),0)<1,1,IF(ROUND(10.499-(((O114-VLOOKUP($A114,Lookups!$A$55:$D$64,3))/(VLOOKUP($A114,Lookups!$A$55:$D$64,4))*VLOOKUP($A114,Lookups!$C$2:$D$11,2))),0)<11,ROUND(10.499-(((O114-VLOOKUP($A114,Lookups!$A$55:$D$64,3))/(VLOOKUP($A114,Lookups!$A$55:$D$64,4))*VLOOKUP($A114,Lookups!$C$2:$D$11,2))),0),10))","v":7},null,{"$f":"VLOOKUP(A114,Lookups!$A$126:$C$135,3)","v":2},{"$f":"VLOOKUP(A114,Lookups!$A$126:$C$135,2)","v":"Food"},"No",0,{"$f":"IF($R114<>3,VLOOKUP($D114,'Points Table A'!$B$3:$F$33,5),VLOOKUP($D114,'Points Table A'!$H$3:$L$33,5))","v":0},{"$f":"IF($R114<>3,VLOOKUP($E114,'Points Table A'!$C$3:$F$33,4),VLOOKUP($E114,'Points Table A'!$I$3:$L$33,4))","v":0},{"$f":"IF($R114<>3,VLOOKUP($F114,'Points Table A'!$D$3:$F$33,3),VLOOKUP($F114,'Points Table A'!$J$3:$L$33,3))","v":0},{"$f":"IF($R114<>3,VLOOKUP($G114,'Points Table A'!$E$3:$F$33,2),VLOOKUP($G114,'Points Table A'!$K$3:$L$33,2))","v":0},0,{"$f":"IF($T114=Lookups!$B$113,VLOOKUP($J114,'Points Table C'!$A$3:$F$11,5),VLOOKUP($U114,'Points Table C'!$B$3:$F$11,4))","v":0},{"$f":"IF($R114=1,0,VLOOKUP($N114,'Points Table C'!$C$3:$E$18,3))","v":0},{"$f":"VLOOKUP($I114,'Points Table C'!$D$3:$E$18,2)","v":0},{"$f":"IF($Z114<Lookups!$C$106,(AA114+AB114+AC114),IF(AA114>=Lookups!$C$120,(AA114+AB114+AC114),AA114+AB114))","v":0}]
["Non-core foods","Enter a food name here","Company name",0,0,0,0,0,0,0,0,0,{"$f":"IF((SUM(D115:L115)=0),\"J\",VLOOKUP(P115,Lookups!$A$1:$B$11,2))","v":"J"},{"$f":"H115+(L115*Lookups!$C$102*H115/100)","v":0},0,{"$f":"IF(ROUND(10.499-(((O115-VLOOKUP($A115,Lookups!$A$55:$D$64,3))/(VLOOKUP($A115,Lookups!$A$55:$D$64,4))*VLOOKUP($A115,Lookups!$C$2:$D$11,2))),0)<1,1,IF(ROUND(10.499-(((O115-VLOOKUP($A115,Lookups!$A$55:$D$64,3))/(VLOOKUP($A115,Lookups!$A$55:$D$64,4))*VLOOKUP($A115,Lookups!$C$2:$D$11,2))),0)<11,ROUND(10.499-(((O115-VLOOKUP($A115,Lookups!$A$55:$D$64,3))/(VLOOKUP($A115,Lookups!$A$55:$D$64,4))*VLOOKUP($A115,Lookups!$C$2:$D$11,2))),0),10))","v":7},null,{"$f":"VLOOKUP(A115,Lookups!$A$126:$C$135,3)","v":2},{"$f":"VLOOKUP(A115,Lookups!$A$126:$C$135,2)","v":"Food"},"No",0,{"$f":"IF($R115<>3,VLOOKUP($D115,'Points Table A'!$B$3:$F$33,5),VLOOKUP($D115,'Points Table A'!$H$3:$L$33,5))","v":0},{"$f":"IF($R115<>3,VLOOKUP($E115,'Points Table A'!$C$3:$F$33,4),VLOOKUP($E115,'Points Table A'!$I$3:$L$33,4))","v":0},{"$f":"IF($R115<>3,VLOOKUP($F115,'Points Table A'!$D$3:$F$33,3),VLOOKUP($F115,'Points Table A'!$J$3:$L$33,3))","v":0},{"$f":"IF($R115<>3,VLOOKUP($G115,'Points Table A'!$E$3:$F$33,2),VLOOKUP($G115,'Points Table A'!$K$3:$L$33,2))","v":0},0,{"$f":"IF($T115=Lookups!$B$113,VLOOKUP($J115,'Points Table C'!$A$3:$F$11,5),VLOOKUP($U115,'Points Table C'!$B$3:$F$11,4))","v":0},{"$f":"IF($R115=1,0,VLOOKUP($N115,'Points Table C'!$C$3:$E$18,3))","v":0},{"$f":"VLOOKUP($I115,'Points Table C'!$D$3:$E$18,2)","v":0},{"$f":"IF($Z115<Lookups!$C$106,(AA115+AB115+AC115),IF(AA115>=Lookups!$C$120,(AA115+AB115+AC115),AA115+AB115))","v":0}]
["Non-core foods","Enter a food name here","Company name",0,0,0,0,0,0,0,0,0,{"$f":"IF((SUM(D116:L116)=0),\"J\",VLOOKUP(P116,Lookups!$A$1:$B$11,2))","v":"J"},{"$f":"H116+(L116*Lookups!$C$102*H116/100)","v":0},0,{"$f":"IF(ROUND(10.499-(((O116-VLOOKUP($A116,Lookups!$A$55:$D$64,3))/(VLOOKUP($A116,Lookups!$A$55:$D$64,4))*VLOOKUP($A116,Lookups!$C$2:$D$11,2))),0)<1,1,IF(ROUND(10.499-(((O116-VLOOKUP($A116,Lookups!$A$55:$D$64,3))/(VLOOKUP($A116,Lookups!$A$55:$D$64,4))*VLOOKUP($A116,Lookups!$C$2:$D$11,2))),0)<11,ROUND(10.499-(((O116-VLOOKUP($A116,Lookups!$A$55:$D$64,3))/(VLOOKUP($A116,Lookups!$A$55:$D$64,4))*VLOOKUP($A116,Lookups!$C$2:$D$11,2))),0),10))","v":7},null,{"$f":"VLOOKUP(A116,Lookups!$A$126:$C$135,3)","v":2},{"$f":"VLOOKUP(A116,Lookups!$A$126:$C$135,2)","v":"Food"},"No",0,{"$f":"IF($R116<>3,VLOOKUP($D116,'Points Table A'!$B$3:$F$33,5),VLOOKUP($D116,'Points Table A'!$H$3:$L$33,5))","v":0},{"$f":"IF($R116<>3,VLOOKUP($E116,'Points Table A'!$C$3:$F$33,4),VLOOKUP($E116,'Points Table A'!$I$3:$L$33,4))","v":0},{"$f":"IF($R116<>3,VLOOKUP($F116,'Points Table A'!$D$3:$F$33,3),VLOOKUP($F116,'Points Table A'!$J$3:$L$33,3))","v":0},{"$f":"IF($R116<>3,VLOOKUP($G116,'Points Table A'!$E$3:$F$33,2),VLOOKUP($G116,'Points Table A'!$K$3:$L$33,2))","v":0},0,{"$f":"IF($T116=Lookups!$B$113,VLOOKUP($J116,'Points Table C'!$A$3:$F$11,5),VLOOKUP($U116,'Points Table C'!$B$3:$F$11,4))","v":0},{"$f":"IF($R116=1,0,VLOOKUP($N116,'Points Table C'!$C$3:$E$18,3))","v":0},{"$f":"VLOOKUP($I116,'Points Table C'!$D$3:$E$18,2)","v":0},{"$f":"IF($Z116<Lookups!$C$106,(AA116+AB116+AC116),IF(AA116>=Lookups!$C$120,(AA116+AB116+AC116),AA116+AB116))","v":0}]
["Non-core foods","Enter a food name here","Company name",0,0,0,0,0,0,0,0,0,{"$f":"IF((SUM(D117:L117)=0),\"J\",VLOOKUP(P117,Lookups!$A$1:$B$11,2))","v":"J"},{"$f":"H117+(L117*Lookups!$C$102*H117/100)","v":0},0,{"$f":"IF(ROUND(10.499-(((O117-VLOOKUP($A117,Lookups!$A$55:$D$64,3))/(VLOOKUP($A117,Lookups!$A$55:$D$64,4))*VLOOKUP($A117,Lookups!$C$2:$D$11,2))),0)<1,1,IF(ROUND(10.499-(((O117-VLOOKUP($A117,Lookups!$A$55:$D$64,3))/(VLOOKUP($A117,Lookups!$A$55:$D$64,4))*VLOOKUP($A117,Lookups!$C$2:$D$11,2))),0)<11,ROUND(10.499-(((O117-VLOOKUP($A117,Lookups!$A$55:$D$64,3))/(VLOOKUP($A117,Lookups!$A$55:$D$64,4))*VLOOKUP($A117,Lookups!$C$2:$D$11,2))),0),10))","v":7},null,{"$f":"VLOOKUP(A117,Lookups!$A$126:$C$135,3)","v":2},{"$f":"VLOOKUP(A117,Lookups!$A$126:$C$135,2)","v":"Food"},"No",0,{"$f":"IF($R117<>3,VLOOKUP($D117,'Points Table A'!$B$3:$F$33,5),VLOOKUP($D117,'Points Table A'!$H$3:$L$33,5))","v":0},{"$f":"IF($R117<>3,VLOOKUP($E117,'Points Table A'!$C$3:$F$33,4),VLOOKUP($E117,'Points Table A'!$I$3:$L$33,4))","v":0},{"$f":"IF($R117<>3,VLOOKUP($F117,'Points Table A'!$D$3:$F$33,3),VLOOKUP($F117,'Points Table A'!$J$3:$L$33,3))","v":0},{"$f":"IF($R117<>3,VLOOKUP($G117,'Points Table A'!$E$3:$F$33,2),VLOOKUP($G117,'Points Table A'!$K$3:$L$33,2))","v":0},0,{"$f":"IF($T117=Lookups!$B$113,VLOOKUP($J117,'Points Table C'!$A$3:$F$11,5),VLOOKUP($U117,'Points Table C'!$B$3:$F$11,4))","v":0},{"$f":"IF($R117=1,0,VLOOKUP($N117,'Points Table C'!$C$3:$E$18,3))","v":0},{"$f":"VLOOKUP($I117,'Points Table C'!$D$3:$E$18,2)","v":0},{"$f":"IF($Z117<Lookups!$C$106,(AA117+AB117+AC117),IF(AA117>=Lookups!$C$120,(AA117+AB117+AC117),AA117+AB117))","v":0}]
["Non-core foods","Enter a food name here","Company name",0,0,0,0,0,0,0,0,0,{"$f":"IF((SUM(D118:L118)=0),\"J\",VLOOKUP(P118,Lookups!$A$1:$B$11,2))","v":"J"},{"$f":"H118+(L118*Lookups!$C$102*H118/100)","v":0},0,{"$f":"IF(ROUND(10.499-(((O118-VLOOKUP($A118,Lookups!$A$55:$D$64,3))/(VLOOKUP($A118,Lookups!$A$55:$D$64,4))*VLOOKUP($A118,Lookups!$C$2:$D$11,2))),0)<1,1,IF(ROUND(10.499-(((O118-VLOOKUP($A118,Lookups!$A$55:$D$64,3))/(VLOOKUP($A118,Lookups!$A$55:$D$64,4))*VLOOKUP($A118,Lookups!$C$2:$D$11,2))),0)<11,ROUND(10.499-(((O118-VLOOKUP($A118,Lookups!$A$55:$D$64,3))/(VLOOKUP($A118,Lookups!$A$55:$D$64,4))*VLOOKUP($A118,Lookups!$C$2:$D$11,2))),0),10))","v":7},null,{"$f":"VLOOKUP(A118,Lookups!$A$126:$C$135,3)","v":2},{"$f":"VLOOKUP(A118,Lookups!$A$126:$C$135,2)","v":"Food"},"No",0,{"$f":"IF($R118<>3,VLOOKUP($D118,'Points Table A'!$B$3:$F$33,5),VLOOKUP($D118,'Points Table A'!$H$3:$L$33,5))","v":0},{"$f":"IF($R118<>3,VLOOKUP($E118,'Points Table A'!$C$3:$F$33,4),VLOOKUP($E118,'Points Table A'!$I$3:$L$33,4))","v":0},{"$f":"IF($R118<>3,VLOOKUP($F118,'Points Table A'!$D$3:$F$33,3),VLOOKUP($F118,'Points Table A'!$J$3:$L$33,3))","v":0},{"$f":"IF($R118<>3,VLOOKUP($G118,'Points Table A'!$E$3:$F$33,2),VLOOKUP($G118,'Points Table A'!$K$3:$L$33,2))","v":0},0,{"$f":"IF($T118=Lookups!$B$113,VLOOKUP($J118,'Points Table C'!$A$3:$F$11,5),VLOOKUP($U118,'Points Table C'!$B$3:$F$11,4))","v":0},{"$f":"IF($R118=1,0,VLOOKUP($N118,'Points Table C'!$C$3:$E$18,3))","v":0},{"$f":"VLOOKUP($I118,'Points Table C'!$D$3:$E$18,2)","v":0},{"$f":"IF($Z118<Lookups!$C$106,(AA118+AB118+AC118),IF(AA118>=Lookups!$C$120,(AA118+AB118+AC118),AA118+AB118))","v":0}]
["Non-core foods","Enter a food name here","Company name",0,0,0,0,0,0,0,0,0,{"$f":"IF((SUM(D119:L119)=0),\"J\",VLOOKUP(P119,Lookups!$A$1:$B$11,2))","v":"J"},{"$f":"H119+(L119*Lookups!$C$102*H119/100)","v":0},0,{"$f":"IF(ROUND(10.499-(((O119-VLOOKUP($A119,Lookups!$A$55:$D$64,3))/(VLOOKUP($A119,Lookups!$A$55:$D$64,4))*VLOOKUP($A119,Lookups!$C$2:$D$11,2))),0)<1,1,IF(ROUND(10.499-(((O119-VLOOKUP($A119,Lookups!$A$55:$D$64,3))/(VLOOKUP($A119,Lookups!$A$55:$D$64,4))*VLOOKUP($A119,Lookups!$C$2:$D$11,2))),0)<11,ROUND(10.499-(((O119-VLOOKUP($A119,Lookups!$A$55:$D$64,3))/(VLOOKUP($A119,Lookups!$A$55:$D$64,4))*VLOOKUP($A119,Lookups!$C$2:$D$11,2))),0),10))","v":7},null,{"$f":"VLOOKUP(A119,Lookups!$A$126:$C$135,3)","v":2},{"$f":"VLOOKUP(A119,Lookups!$A$126:$C$135,2)","v":"Food"},"No",0,{"$f":"IF($R119<>3,VLOOKUP($D119,'Points Table A'!$B$3:$F$33,5),VLOOKUP($D119,'Points Table A'!$H$3:$L$33,5))","v":0},{"$f":"IF($R119<>3,VLOOKUP($E119,'Points Table A'!$C$3:$F$33,4),VLOOKUP($E119,'Points Table A'!$I$3:$L$33,4))","v":0},{"$f":"IF($R119<>3,VLOOKUP($F119,'Points Table A'!$D$3:$F$33,3),VLOOKUP($F119,'Points Table A'!$J$3:$L$33,3))","v":0},{"$f":"IF($R119<>3,VLOOKUP($G119,'Points Table A'!$E$3:$F$33,2),VLOOKUP($G119,'Points Table A'!$K$3:$L$33,2))","v":0},0,{"$f":"IF($T119=Lookups!$B$113,VLOOKUP($J119,'Points Table C'!$A$3:$F$11,5),VLOOKUP($U119,'Points Table C'!$B$3:$F$11,4))","v":0},{"$f":"IF($R119=1,0,VLOOKUP($N119,'Points Table C'!$C$3:$E$18,3))","v":0},{"$f":"VLOOKUP($I119,'Points Table C'!$D$3:$E$18,2)","v":0},{"$f":"IF($Z119<Lookups!$C$106,(AA119+AB119+AC119),IF(AA119>=Lookups!$C$120,(AA119+AB119+AC119),AA119+AB119))","v":0}]
["Non-core foods","Enter a food name here","Company name",0,0,0,0,0,0,0,0,0,{"$f":"IF((SUM(D120:L120)=0),\"J\",VLOOKUP(P120,Lookups!$A$1:$B$11,2))","v":"J"},{"$f":"H120+(L120*Lookups!$C$102*H120/100)","v":0},0,{"$f":"IF(ROUND(10.499-(((O120-VLOOKUP($A120,Lookups!$A$55:$D$64,3))/(VLOOKUP($A120,Lookups!$A$55:$D$64,4))*VLOOKUP($A120,Lookups!$C$2:$D$11,2))),0)<1,1,IF(ROUND(10.499-(((O120-VLOOKUP($A120,Lookups!$A$55:$D$64,3))/(VLOOKUP($A120,Lookups!$A$55:$D$64,4))*VLOOKUP($A120,Lookups!$C$2:$D$11,2))),0)<11,ROUND(10.499-(((O120-VLOOKUP($A120,Lookups!$A$55:$D$64,3))/(VLOOKUP($A120,Lookups!$A$55:$D$64,4))*VLOOKUP($A120,Lookups!$C$2:$D$11,2))),0),10))","v":7},null,{"$f":"VLOOKUP(A120,Lookups!$A$126:$C$135,3)","v":2},{"$f":"VLOOKUP(A120,Lookups!$A$126:$C$135,2)","v":"Food"},"No",0,{"$f":"IF($R120<>3,VLOOKUP($D120,'Points Table A'!$B$3:$F$33,5),VLOOKUP($D120,'Points Table A'!$H$3:$L$33,5))","v":0},{"$f":"IF($R120<>3,VLOOKUP($E120,'Points Table A'!$C$3:$F$33,4),VLOOKUP($E120,'Points Table A'!$I$3:$L$33,4))","v":0},{"$f":"IF($R120<>3,VLOOKUP($F120,'Points Table A'!$D$3:$F$33,3),VLOOKUP($F120,'Points Table A'!$J$3:$L$33,3))","v":0},{"$f":"IF($R120<>3,VLOOKUP($G120,'Points Table A'!$E$3:$F$33,2),VLOOKUP($G120,'Points Table A'!$K$3:$L$33,2))","v":0},0,{"$f":"IF($T120=Lookups!$B$113,VLOOKUP($J120,'Points Table C'!$A$3:$F$11,5),VLOOKUP($U120,'Points Table C'!$B$3:$F$11,4))","v":0},{"$f":"IF($R120=1,0,VLOOKUP($N120,'Points Table C'!$C$3:$E$18,3))","v":0},{"$f":"VLOOKUP($I120,'Points Table C'!$D$3:$E$18,2)","v":0},{"$f":"IF($Z120<Lookups!$C$106,(AA120+AB120+AC120),IF(AA120>=Lookups!$C$120,(AA120+AB120+AC120),AA120+AB120))","v":0}]
["Non-core foods","Enter a food name here","Company name",0,0,0,0,0,0,0,0,0,{"$f":"IF((SUM(D121:L121)=0),\"J\",VLOOKUP(P121,Lookups!$A$1:$B$11,2))","v":"J"},{"$f":"H121+(L121*Lookups!$C$102*H121/100)","v":0},0,{"$f":"IF(ROUND(10.499-(((O121-VLOOKUP($A121,Lookups!$A$55:$D$64,3))/(VLOOKUP($A121,Lookups!$A$55:$D$64,4))*VLOOKUP($A121,Lookups!$C$2:$D$11,2))),0)<1,1,IF(ROUND(10.499-(((O121-VLOOKUP($A121,Lookups!$A$55:$D$64,3))/(VLOOKUP($A121,Lookups!$A$55:$D$64,4))*VLOOKUP($A121,Lookups!$C$2:$D$11,2))),0)<11,ROUND(10.499-(((O121-VLOOKUP($A121,Lookups!$A$55:$D$64,3))/(VLOOKUP($A121,Lookups!$A$55:$D$64,4))*VLOOKUP($A121,Lookups!$C$2:$D$11,2))),0),10))","v":7},null,{"$f":"VLOOKUP(A121,Lookups!$A$126:$C$135,3)","v":2},{"$f":"VLOOKUP(A121,Lookups!$A$126:$C$135,2)","v":"Food"},"No",0,{"$f":"IF($R121<>3,VLOOKUP($D121,'Points Table A'!$B$3:$F$33,5),VLOOKUP($D121,'Points Table A'!$H$3:$L$33,5))","v":0},{"$f":"IF($R121<>3,VLOOKUP($E121,'Points Table A'!$C$3:$F$33,4),VLOOKUP($E121,'Points Table A'!$I$3:$L$33,4))","v":0},{"$f":"IF($R121<>3,VLOOKUP($F121,'Points Table A'!$D$3:$F$33,3),VLOOKUP($F121,'Points Table A'!$J$3:$L$33,3))","v":0},{"$f":"IF($R121<>3,VLOOKUP($G121,'Points Table A'!$E$3:$F$33,2),VLOOKUP($G121,'Points Table A'!$K$3:$L$33,2))","v":0},0,{"$f":"IF($T121=Lookups!$B$113,VLOOKUP($J121,'Points Table C'!$A$3:$F$11,5),VLOOKUP($U121,'Points Table C'!$B$3:$F$11,4))","v":0},{"$f":"IF($R121=1,0,VLOOKUP($N121,'Points Table C'!$C$3:$E$18,3))","v":0},{"$f":"VLOOKUP($I121,'Points Table C'!$D$3:$E$18,2)","v":0},{"$f":"IF($Z121<Lookups!$C$106,(AA121+AB121+AC121),IF(AA121>=Lookups!$C$120,(AA121+AB121+AC121),AA121+AB121))","v":0}]
["Non-core foods","Enter a food name here","Company name",0,0,0,0,0,0,0,0,0,{"$f":"IF((SUM(D122:L122)=0),\"J\",VLOOKUP(P122,Lookups!$A$1:$B$11,2))","v":"J"},{"$f":"H122+(L122*Lookups!$C$102*H122/100)","v":0},0,{"$f":"IF(ROUND(10.499-(((O122-VLOOKUP($A122,Lookups!$A$55:$D$64,3))/(VLOOKUP($A122,Lookups!$A$55:$D$64,4))*VLOOKUP($A122,Lookups!$C$2:$D$11,2))),0)<1,1,IF(ROUND(10.499-(((O122-VLOOKUP($A122,Lookups!$A$55:$D$64,3))/(VLOOKUP($A122,Lookups!$A$55:$D$64,4))*VLOOKUP($A122,Lookups!$C$2:$D$11,2))),0)<11,ROUND(10.499-(((O122-VLOOKUP($A122,Lookups!$A$55:$D$64,3))/(VLOOKUP($A122,Lookups!$A$55:$D$64,4))*VLOOKUP($A122,Lookups!$C$2:$D$11,2))),0),10))","v":7},null,{"$f":"VLOOKUP(A122,Lookups!$A$126:$C$135,3)","v":2},{"$f":"VLOOKUP(A122,Lookups!$A$126:$C$135,2)","v":"Food"},"No",0,{"$f":"IF($R122<>3,VLOOKUP($D122,'Points Table A'!$B$3:$F$33,5),VLOOKUP($D122,'Points Table A'!$H$3:$L$33,5))","v":0},{"$f":"IF($R122<>3,VLOOKUP($E122,'Points Table A'!$C$3:$F$33,4),VLOOKUP($E122,'Points Table A'!$I$3:$L$33,4))","v":0},{"$f":"IF($R122<>3,VLOOKUP($F122,'Points Table A'!$D$3:$F$33,3),VLOOKUP($F122,'Points Table A'!$J$3:$L$33,3))","v":0},{"$f":"IF($R122<>3,VLOOKUP($G122,'Points Table A'!$E$3:$F$33,2),VLOOKUP($G122,'Points Table A'!$K$3:$L$33,2))","v":0},0,{"$f":"IF($T122=Lookups!$B$113,VLOOKUP($J122,'Points Table C'!$A$3:$F$11,5),VLOOKUP($U122,'Points Table C'!$B$3:$F$11,4))","v":0},{"$f":"IF($R122=1,0,VLOOKUP($N122,'Points Table C'!$C$3:$E$18,3))","v":0},{"$f":"VLOOKUP($I122,'Points Table C'!$D$3:$E$18,2)","v":0},{"$f":"IF($Z122<Lookups!$C$106,(AA122+AB122+AC122),IF(AA122>=Lookups!$C$120,(AA122+AB122+AC122),AA122+AB122))","v":0}]
["Non-core foods","Enter a food name here","Company name",0,0,0,0,0,0,0,0,0,{"$f":"IF((SUM(D123:L123)=0),\"J\",VLOOKUP(P123,Lookups!$A$1:$B$11,2))","v":"J"},{"$f":"H123+(L123*Lookups!$C$102*H123/100)","v":0},0,{"$f":"IF(ROUND(10.499-(((O123-VLOOKUP($A123,Lookups!$A$55:$D$64,3))/(VLOOKUP($A123,Lookups!$A$55:$D$64,4))*VLOOKUP($A123,Lookups!$C$2:$D$11,2))),0)<1,1,IF(ROUND(10.499-(((O123-VLOOKUP($A123,Lookups!$A$55:$D$64,3))/(VLOOKUP($A123,Lookups!$A$55:$D$64,4))*VLOOKUP($A123,Lookups!$C$2:$D$11,2))),0)<11,ROUND(10.499-(((O123-VLOOKUP($A123,Lookups!$A$55:$D$64,3))/(VLOOKUP($A123,Lookups!$A$55:$D$64,4))*VLOOKUP($A123,Lookups!$C$2:$D$11,2))),0),10))","v":7},null,{"$f":"VLOOKUP(A123,Lookups!$A$126:$C$135,3)","v":2},{"$f":"VLOOKUP(A123,Lookups!$A$126:$C$135,2)","v":"Food"},"No",0,{"$f":"IF($R123<>3,VLOOKUP($D123,'Points Table A'!$B$3:$F$33,5),VLOOKUP($D123,'Points Table A'!$H$3:$L$33,5))","v":0},{"$f":"IF($R123<>3,VLOOKUP($E123,'Points Table A'!$C$3:$F$33,4),VLOOKUP($E123,'Points Table A'!$I$3:$L$33,4))","v":0},{"$f":"IF($R123<>3,VLOOKUP($F123,'Points Table A'!$D$3:$F$33,3),VLOOKUP($F123,'Points Table A'!$J$3:$L$33,3))","v":0},{"$f":"IF($R123<>3,VLOOKUP($G123,'Points Table A'!$E$3:$F$33,2),VLOOKUP($G123,'Points Table A'!$K$3:$L$33,2))","v":0},0,{"$f":"IF($T123=Lookups!$B$113,VLOOKUP($J123,'Points Table C'!$A$3:$F$11,5),VLOOKUP($U123,'Points Table C'!$B$3:$F$11,4))","v":0},{"$f":"IF($R123=1,0,VLOOKUP($N123,'Points Table C'!$C$3:$E$18,3))","v":0},{"$f":"VLOOKUP($I123,'Points Table C'!$D$3:$E$18,2)","v":0},{"$f":"IF($Z123<Lookups!$C$106,(AA123+AB123+AC123),IF(AA123>=Lookups!$C$120,(AA123+AB123+AC123),AA123+AB123))","v":0}]
["Non-core foods","Enter a food name here","Company name",0,0,0,0,0,0,0,0,0,{"$f":"IF((SUM(D124:L124)=0),\"J\",VLOOKUP(P124,Lookups!$A$1:$B$11,2))","v":"J"},{"$f":"H124+(L124*Lookups!$C$102*H124/100)","v":0},0,{"$f":"IF(ROUND(10.499-(((O124-VLOOKUP($A124,Lookups!$A$55:$D$64,3))/(VLOOKUP($A124,Lookups!$A$55:$D$64,4))*VLOOKUP($A124,Lookups!$C$2:$D$11,2))),0)<1,1,IF(ROUND(10.499-(((O124-VLOOKUP($A124,Lookups!$A$55:$D$64,3))/(VLOOKUP($A124,Lookups!$A$55:$D$64,4))*VLOOKUP($A124,Lookups!$C$2:$D$11,2))),0)<11,ROUND(10.499-(((O124-VLOOKUP($A124,Lookups!$A$55:$D$64,3))/(VLOOKUP($A124,Lookups!$A$55:$D$64,4))*VLOOKUP($A124,Lookups!$C$2:$D$11,2))),0),10))","v":7},null,{"$f":"VLOOKUP(A124,Lookups!$A$126:$C$135,3)","v":2},{"$f":"VLOOKUP(A124,Lookups!$A$126:$C$135,2)","v":"Food"},"No",0,{"$f":"IF($R124<>3,VLOOKUP($D124,'Points Table A'!$B$3:$F$33,5),VLOOKUP($D124,'Points Table A'!$H$3:$L$33,5))","v":0},{"$f":"IF($R124<>3,VLOOKUP($E124,'Points Table A'!$C$3:$F$33,4),VLOOKUP($E124,'Points Table A'!$I$3:$L$33,4))","v":0},{"$f":"IF($R124<>3,VLOOKUP($F124,'Points Table A'!$D$3:$F$33,3),VLOOKUP($F124,'Points Table A'!$J$3:$L$33,3))","v":0},{"$f":"IF($R124<>3,VLOOKUP($G124,'Points Table A'!$E$3:$F$33,2),VLOOKUP($G124,'Points Table A'!$K$3:$L$33,2))","v":0},0,{"$f":"IF($T124=Lookups!$B$113,VLOOKUP($J124,'Points Table C'!$A$3:$F$11,5),VLOOKUP($U124,'Points Table C'!$B$3:$F$11,4))","v":0},{"$f":"IF($R124=1,0,VLOOKUP($N124,'Points Table C'!$C$3:$E$18,3))","v":0},{"$f":"VLOOKUP($I124,'Points Table C'!$D$3:$E$18,2)","v":0},{"$f":"IF($Z124<Lookups!$C$106,(AA124+AB124+AC124),IF(AA124>=Lookups!$C$120,(AA124+AB124+AC124),AA124+AB124))","v":0}]
["Non-core foods","Enter a food name here","Company name",0,0,0,0,0,0,0,0,0,{"$f":"IF((SUM(D125:L125)=0),\"J\",VLOOKUP(P125,Lookups!$A$1:$B$11,2))","v":"J"},{"$f":"H125+(L125*Lookups!$C$102*H125/100)","v":0},0,{"$f":"IF(ROUND(10.499-(((O125-VLOOKUP($A125,Lookups!$A$55:$D$64,3))/(VLOOKUP($A125,Lookups!$A$55:$D$64,4))*VLOOKUP($A125,Lookups!$C$2:$D$11,2))),0)<1,1,IF(ROUND(10.499-(((O125-VLOOKUP($A125,Lookups!$A$55:$D$64,3))/(VLOOKUP($A125,Lookups!$A$55:$D$64,4))*VLOOKUP($A125,Lookups!$C$2:$D$11,2))),0)<11,ROUND(10.499-(((O125-VLOOKUP($A125,Lookups!$A$55:$D$64,3))/(VLOOKUP($A125,Lookups!$A$55:$D$64,4))*VLOOKUP($A125,Lookups!$C$2:$D$11,2))),0),10))","v":7},null,{"$f":"VLOOKUP(A125,Lookups!$A$126:$C$135,3)","v":2},{"$f":"VLOOKUP(A125,Lookups!$A$126:$C$135,2)","v":"Food"},"No",0,{"$f":"IF($R125<>3,VLOOKUP($D125,'Points Table A'!$B$3:$F$33,5),VLOOKUP($D125,'Points Table A'!$H$3:$L$33,5))","v":0},{"$f":"IF($R125<>3,VLOOKUP($E125,'Points Table A'!$C$3:$F$33,4),VLOOKUP($E125,'Points Table A'!$I$3:$L$33,4))","v":0},{"$f":"IF($R125<>3,VLOOKUP($F125,'Points Table A'!$D$3:$F$33,3),VLOOKUP($F125,'Points Table A'!$J$3:$L$33,3))","v":0},{"$f":"IF($R125<>3,VLOOKUP($G125,'Points Table A'!$E$3:$F$33,2),VLOOKUP($G125,'Points Table A'!$K$3:$L$33,2))","v":0},0,{"$f":"IF($T125=Lookups!$B$113,VLOOKUP($J125,'Points Table C'!$A$3:$F$11,5),VLOOKUP($U125,'Points Table C'!$B$3:$F$11,4))","v":0},{"$f":"IF($R125=1,0,VLOOKUP($N125,'Points Table C'!$C$3:$E$18,3))","v":0},{"$f":"VLOOKUP($I125,'Points Table C'!$D$3:$E$18,2)","v":0},{"$f":"IF($Z125<Lookups!$C$106,(AA125+AB125+AC125),IF(AA125>=Lookups!$C$120,(AA125+AB125+AC125),AA125+AB125))","v":0}]
["Non-core foods","Enter a food name here","Company name",0,0,0,0,0,0,0,0,0,{"$f":"IF((SUM(D126:L126)=0),\"J\",VLOOKUP(P126,Lookups!$A$1:$B$11,2))","v":"J"},{"$f":"H126+(L126*Lookups!$C$102*H126/100)","v":0},0,{"$f":"IF(ROUND(10.499-(((O126-VLOOKUP($A126,Lookups!$A$55:$D$64,3))/(VLOOKUP($A126,Lookups!$A$55:$D$64,4))*VLOOKUP($A126,Lookups!$C$2:$D$11,2))),0)<1,1,IF(ROUND(10.499-(((O126-VLOOKUP($A126,Lookups!$A$55:$D$64,3))/(VLOOKUP($A126,Lookups!$A$55:$D$64,4))*VLOOKUP($A126,Lookups!$C$2:$D$11,2))),0)<11,ROUND(10.499-(((O126-VLOOKUP($A126,Lookups!$A$55:$D$64,3))/(VLOOKUP($A126,Lookups!$A$55:$D$64,4))*VLOOKUP($A126,Lookups!$C$2:$D$11,2))),0),10))","v":7},null,{"$f":"VLOOKUP(A126,Lookups!$A$126:$C$135,3)","v":2},{"$f":"VLOOKUP(A126,Lookups!$A$126:$C$135,2)","v":"Food"},"No",0,{"$f":"IF($R126<>3,VLOOKUP($D126,'Points Table A'!$B$3:$F$33,5),VLOOKUP($D126,'Points Table A'!$H$3:$L$33,5))","v":0},{"$f":"IF($R126<>3,VLOOKUP($E126,'Points Table A'!$C$3:$F$33,4),VLOOKUP($E126,'Points Table A'!$I$3:$L$33,4))","v":0},{"$f":"IF($R126<>3,VLOOKUP($F126,'Points Table A'!$D$3:$F$33,3),VLOOKUP($F126,'Points Table A'!$J$3:$L$33,3))","v":0},{"$f":"IF($R126<>3,VLOOKUP($G126,'Points Table A'!$E$3:$F$33,2),VLOOKUP($G126,'Points Table A'!$K$3:$L$33,2))","v":0},0,{"$f":"IF($T126=Lookups!$B$113,VLOOKUP($J126,'Points Table C'!$A$3:$F$11,5),VLOOKUP($U126,'Points Table C'!$B$3:$F$11,4))","v":0},{"$f":"IF($R126=1,0,VLOOKUP($N126,'Points Table C'!$C$3:$E$18,3))","v":0},{"$f":"VLOOKUP($I126,'Points Table C'!$D$3:$E$18,2)","v":0},{"$f":"IF($Z126<Lookups!$C$106,(AA126+AB126+AC126),IF(AA126>=Lookups!$C$120,(AA126+AB126+AC126),AA126+AB126))","v":0}]
["Non-core foods","Enter a food name here","Company name",0,0,0,0,0,0,0,0,0,{"$f":"IF((SUM(D127:L127)=0),\"J\",VLOOKUP(P127,Lookups!$A$1:$B$11,2))","v":"J"},{"$f":"H127+(L127*Lookups!$C$102*H127/100)","v":0},0,{"$f":"IF(ROUND(10.499-(((O127-VLOOKUP($A127,Lookups!$A$55:$D$64,3))/(VLOOKUP($A127,Lookups!$A$55:$D$64,4))*VLOOKUP($A127,Lookups!$C$2:$D$11,2))),0)<1,1,IF(ROUND(10.499-(((O127-VLOOKUP($A127,Lookups!$A$55:$D$64,3))/(VLOOKUP($A127,Lookups!$A$55:$D$64,4))*VLOOKUP($A127,Lookups!$C$2:$D$11,2))),0)<11,ROUND(10.499-(((O127-VLOOKUP($A127,Lookups!$A$55:$D$64,3))/(VLOOKUP($A127,Lookups!$A$55:$D$64,4))*VLOOKUP($A127,Lookups!$C$2:$D$11,2))),0),10))","v":7},null,{"$f":"VLOOKUP(A127,Lookups!$A$126:$C$135,3)","v":2},{"$f":"VLOOKUP(A127,Lookups!$A$126:$C$135,2)","v":"Food"},"No",0,{"$f":"IF($R127<>3,VLOOKUP($D127,'Points Table A'!$B$3:$F$33,5),VLOOKUP($D127,'Points Table A'!$H$3:$L$33,5))","v":0},{"$f":"IF($R127<>3,VLOOKUP($E127,'Points Table A'!$C$3:$F$33,4),VLOOKUP($E127,'Points Table A'!$I$3:$L$33,4))","v":0},{"$f":"IF($R127<>3,VLOOKUP($F127,'Points Table A'!$D$3:$F$33,3),VLOOKUP($F127,'Points Table A'!$J$3:$L$33,3))","v":0},{"$f":"IF($R127<>3,VLOOKUP($G127,'Points Table A'!$E$3:$F$33,2),VLOOKUP($G127,'Points Table A'!$K$3:$L$33,2))","v":0},0,{"$f":"IF($T127=Lookups!$B$113,VLOOKUP($J127,'Points Table C'!$A$3:$F$11,5),VLOOKUP($U127,'Points Table C'!$B$3:$F$11,4))","v":0},{"$f":"IF($R127=1,0,VLOOKUP($N127,'Points Table C'!$C$3:$E$18,3))","v":0},{"$f":"VLOOKUP($I127,'Points Table C'!$D$3:$E$18,2)","v":0},{"$f":"IF($Z127<Lookups!$C$106,(AA127+AB127+AC127),IF(AA127>=Lookups!$C$120,(AA127+AB127+AC127),AA127+AB127))","v":0}]
["Non-core foods","Enter a food name here","Company name",0,0,0,0,0,0,0,0,0,{"$f":"IF((SUM(D128:L128)=0),\"J\",VLOOKUP(P128,Lookups!$A$1:$B$11,2))","v":"J"},{"$f":"H128+(L128*Lookups!$C$102*H128/100)","v":0},0,{"$f":"IF(ROUND(10.499-(((O128-VLOOKUP($A128,Lookups!$A$55:$D$64,3))/(VLOOKUP($A128,Lookups!$A$55:$D$64,4))*VLOOKUP($A128,Lookups!$C$2:$D$11,2))),0)<1,1,IF(ROUND(10.499-(((O128-VLOOKUP($A128,Lookups!$A$55:$D$64,3))/(VLOOKUP($A128,Lookups!$A$55:$D$64,4))*VLOOKUP($A128,Lookups!$C$2:$D$11,2))),0)<11,ROUND(10.499-(((O128-VLOOKUP($A128,Lookups!$A$55:$D$64,3))/(VLOOKUP($A128,Lookups!$A$55:$D$64,4))*VLOOKUP($A128,Lookups!$C$2:$D$11,2))),0),10))","v":7},null,{"$f":"VLOOKUP(A128,Lookups!$A$126:$C$135,3)","v":2},{"$f":"VLOOKUP(A128,Lookups!$A$126:$C$135,2)","v":"Food"},"No",0,{"$f":"IF($R128<>3,VLOOKUP($D128,'Points Table A'!$B$3:$F$33,5),VLOOKUP($D128,'Points Table A'!$H$3:$L$33,5))","v":0},{"$f":"IF($R128<>3,VLOOKUP($E128,'Points Table A'!$C$3:$F$33,4),VLOOKUP($E128,'Points Table A'!$I$3:$L$33,4))","v":0},{"$f":"IF($R128<>3,VLOOKUP($F128,'Points Table A'!$D$3:$F$33,3),VLOOKUP($F128,'Points Table A'!$J$3:$L$33,3))","v":0},{"$f":"IF($R128<>3,VLOOKUP($G128,'Points Table A'!$E$3:$F$33,2),VLOOKUP($G128,'Points Table A'!$K$3:$L$33,2))","v":0},0,{"$f":"IF($T128=Lookups!$B$113,VLOOKUP($J128,'Points Table C'!$A$3:$F$11,5),VLOOKUP($U128,'Points Table C'!$B$3:$F$11,4))","v":0},{"$f":"IF($R128=1,0,VLOOKUP($N128,'Points Table C'!$C$3:$E$18,3))","v":0},{"$f":"VLOOKUP($I128,'Points Table C'!$D$3:$E$18,2)","v":0},{"$f":"IF($Z128<Lookups!$C$106,(AA128+AB128+AC128),IF(AA128>=Lookups!$C$120,(AA128+AB128+AC128),AA128+AB128))","v":0}]
["Non-core foods","Enter a food name here","Company name",0,0,0,0,0,0,0,0,0,{"$f":"IF((SUM(D129:L129)=0),\"J\",VLOOKUP(P129,Lookups!$A$1:$B$11,2))","v":"J"},{"$f":"H129+(L129*Lookups!$C$102*H129/100)","v":0},0,{"$f":"IF(ROUND(10.499-(((O129-VLOOKUP($A129,Lookups!$A$55:$D$64,3))/(VLOOKUP($A129,Lookups!$A$55:$D$64,4))*VLOOKUP($A129,Lookups!$C$2:$D$11,2))),0)<1,1,IF(ROUND(10.499-(((O129-VLOOKUP($A129,Lookups!$A$55:$D$64,3))/(VLOOKUP($A129,Lookups!$A$55:$D$64,4))*VLOOKUP($A129,Lookups!$C$2:$D$11,2))),0)<11,ROUND(10.499-(((O129-VLOOKUP($A129,Lookups!$A$55:$D$64,3))/(VLOOKUP($A129,Lookups!$A$55:$D$64,4))*VLOOKUP($A129,Lookups!$C$2:$D$11,2))),0),10))","v":7},null,{"$f":"VLOOKUP(A129,Lookups!$A$126:$C$135,3)","v":2},{"$f":"VLOOKUP(A129,Lookups!$A$126:$C$135,2)","v":"Food"},"No",0,{"$f":"IF($R129<>3,VLOOKUP($D129,'Points Table A'!$B$3:$F$33,5),VLOOKUP($D129,'Points Table A'!$H$3:$L$33,5))","v":0},{"$f":"IF($R129<>3,VLOOKUP($E129,'Points Table A'!$C$3:$F$33,4),VLOOKUP($E129,'Points Table A'!$I$3:$L$33,4))","v":0},{"$f":"IF($R129<>3,VLOOKUP($F129,'Points Table A'!$D$3:$F$33,3),VLOOKUP($F129,'Points Table A'!$J$3:$L$33,3))","v":0},{"$f":"IF($R129<>3,VLOOKUP($G129,'Points Table A'!$E$3:$F$33,2),VLOOKUP($G129,'Points Table A'!$K$3:$L$33,2))","v":0},0,{"$f":"IF($T129=Lookups!$B$113,VLOOKUP($J129,'Points Table C'!$A$3:$F$11,5),VLOOKUP($U129,'Points Table C'!$B$3:$F$11,4))","v":0},{"$f":"IF($R129=1,0,VLOOKUP($N129,'Points Table C'!$C$3:$E$18,3))","v":0},{"$f":"VLOOKUP($I129,'Points Table C'!$D$3:$E$18,2)","v":0},{"$f":"IF($Z129<Lookups!$C$106,(AA129+AB129+AC129),IF(AA129>=Lookups!$C$120,(AA129+AB129+AC129),AA129+AB129))","v":0}]
["Non-core foods","Enter a food name here","Company name",0,0,0,0,0,0,0,0,0,{"$f":"IF((SUM(D130:L130)=0),\"J\",VLOOKUP(P130,Lookups!$A$1:$B$11,2))","v":"J"},{"$f":"H130+(L130*Lookups!$C$102*H130/100)","v":0},0,{"$f":"IF(ROUND(10.499-(((O130-VLOOKUP($A130,Lookups!$A$55:$D$64,3))/(VLOOKUP($A130,Lookups!$A$55:$D$64,4))*VLOOKUP($A130,Lookups!$C$2:$D$11,2))),0)<1,1,IF(ROUND(10.499-(((O130-VLOOKUP($A130,Lookups!$A$55:$D$64,3))/(VLOOKUP($A130,Lookups!$A$55:$D$64,4))*VLOOKUP($A130,Lookups!$C$2:$D$11,2))),0)<11,ROUND(10.499-(((O130-VLOOKUP($A130,Lookups!$A$55:$D$64,3))/(VLOOKUP($A130,Lookups!$A$55:$D$64,4))*VLOOKUP($A130,Lookups!$C$2:$D$11,2))),0),10))","v":7},null,{"$f":"VLOOKUP(A130,Lookups!$A$126:$C$135,3)","v":2},{"$f":"VLOOKUP(A130,Lookups!$A$126:$C$135,2)","v":"Food"},"No",0,{"$f":"IF($R130<>3,VLOOKUP($D130,'Points Table A'!$B$3:$F$33,5),VLOOKUP($D130,'Points Table A'!$H$3:$L$33,5))","v":0},{"$f":"IF($R130<>3,VLOOKUP($E130,'Points Table A'!$C$3:$F$33,4),VLOOKUP($E130,'Points Table A'!$I$3:$L$33,4))","v":0},{"$f":"IF($R130<>3,VLOOKUP($F130,'Points Table A'!$D$3:$F$33,3),VLOOKUP($F130,'Points Table A'!$J$3:$L$33,3))","v":0},{"$f":"IF($R130<>3,VLOOKUP($G130,'Points Table A'!$E$3:$F$33,2),VLOOKUP($G130,'Points Table A'!$K$3:$L$33,2))","v":0},0,{"$f":"IF($T130=Lookups!$B$113,VLOOKUP($J130,'Points Table C'!$A$3:$F$11,5),VLOOKUP($U130,'Points Table C'!$B$3:$F$11,4))","v":0},{"$f":"IF($R130=1,0,VLOOKUP($N130,'Points Table C'!$C$3:$E$18,3))","v":0},{"$f":"VLOOKUP($I130,'Points Table C'!$D$3:$E$18,2)","v":0},{"$f":"IF($Z130<Lookups!$C$106,(AA130+AB130+AC130),IF(AA130>=Lookups!$C$120,(AA130+AB130+AC130),AA130+AB130))","v":0}]
["Non-core foods","Enter a food name here","Company name",0,0,0,0,0,0,0,0,0,{"$f":"IF((SUM(D131:L131)=0),\"J\",VLOOKUP(P131,Lookups!$A$1:$B$11,2))","v":"J"},{"$f":"H131+(L131*Lookups!$C$102*H131/100)","v":0},{"$f":"$Z131-$AD131","v":0},{"$f":"IF(ROUND(10.499-(((O131-VLOOKUP($A131,Lookups!$A$55:$D$64,3))/(VLOOKUP($A131,Lookups!$A$55:$D$64,4))*VLOOKUP($A131,Lookups!$C$2:$D$11,2))),0)<1,1,IF(ROUND(10.499-(((O131-VLOOKUP($A131,Lookups!$A$55:$D$64,3))/(VLOOKUP($A131,Lookups!$A$55:$D$64,4))*VLOOKUP($A131,Lookups!$C$2:$D$11,2))),0)<11,ROUND(10.499-(((O131-VLOOKUP($A131,Lookups!$A$55:$D$64,3))/(VLOOKUP($A131,Lookups!$A$55:$D$64,4))*VLOOKUP($A131,Lookups!$C$2:$D$11,2))),0),10))","v":7},null,{"$f":"VLOOKUP(A131,Lookups!$A$126:$C$135,3)","v":2},{"$f":"VLOOKUP(A131,Lookups!$A$126:$C$135,2)","v":"Food"},{"$f":"IF(AND(J131>0,K131=0),\"Yes\",\"No\")","v":"No"},{"$f":"ROUND(100*(K131+2*J131)/(K131+2*J131+(100-J131-K131)),2)","v":0},{"$f":"IF($R131<>3,VLOOKUP($D131,'Points Table A'!$B$3:$F$33,5),VLOOKUP($D131,'Points Table A'!$H$3:$L$33,5))","v":0},{"$f":"IF($R131<>3,VLOOKUP($E131,'Points Table A'!$C$3:$F$33,4),VLOOKUP($E131,'Points Table A'!$I$3:$L$33,4))","v":0},{"$f":"IF($R131<>3,VLOOKUP($F131,'Points Table A'!$D$3:$F$33,3),VLOOKUP($F131,'Points Table A'!$J$3:$L$33,3))","v":0},{"$f":"IF($R131<>3,VLOOKUP($G131,'Points Table A'!$E$3:$F$33,2),VLOOKUP($G131,'Points Table A'!$K$3:$L$33,2))","v":0},0,{"$f":"IF($T131=Lookups!$B$113,VLOOKUP($J131,'Points Table C'!$A$3:$F$11,5),VLOOKUP($U131,'Points Table C'!$B$3:$F$11,4))","v":0},{"$f":"IF($R131=1,0,VLOOKUP($N131,'Points Table C'!$C$3:$E$18,3))","v":0},{"$f":"VLOOKUP($I131,'Points Table C'!$D$3:$E$18,2)","v":0},{"$f":"IF($Z131<Lookups!$C$106,(AA131+AB131+AC131),IF(AA131>=Lookups!$C$120,(AA131+AB131+AC131),AA131+AB131))","v":0}]
["Non-core foods","Enter a food name here","Company name",0,0,0,0,0,0,0,0,0,{"$f":"IF((SUM(D132:L132)=0),\"J\",VLOOKUP(P132,Lookups!$A$1:$B$11,2))","v":"J"},{"$f":"H132+(L132*Lookups!$C$102*H132/100)","v":0},0,{"$f":"IF(ROUND(10.499-(((O132-VLOOKUP($A132,Lookups!$A$55:$D$64,3))/(VLOOKUP($A132,Lookups!$A$55:$D$64,4))*VLOOKUP($A132,Lookups!$C$2:$D$11,2))),0)<1,1,IF(ROUND(10.499-(((O132-VLOOKUP($A132,Lookups!$A$55:$D$64,3))/(VLOOKUP($A132,Lookups!$A$55:$D$64,4))*VLOOKUP($A132,Lookups!$C$2:$D$11,2))),0)<11,ROUND(10.499-(((O132-VLOOKUP($A132,Lookups!$A$55:$D$64,3))/(VLOOKUP($A132,Lookups!$A$55:$D$64,4))*VLOOKUP($A132,Lookups!$C$2:$D$11,2))),0),10))","v":7},null,{"$f":"VLOOKUP(A132,Lookups!$A$126:$C$135,3)","v":2},{"$f":"VLOOKUP(A132,Lookups!$A$126:$C$135,2)","v":"Food"},"No",0,{"$f":"IF($R132<>3,VLOOKUP($D132,'Points Table A'!$B$3:$F$33,5),VLOOKUP($D132,'Points Table A'!$H$3:$L$33,5))","v":0},{"$f":"IF($R132<>3,VLOOKUP($E132,'Points Table A'!$C$3:$F$33,4),VLOOKUP($E132,'Points Table A'!$I$3:$L$33,4))","v":0},{"$f":"IF($R132<>3,VLOOKUP($F132,'Points Table A'!$D$3:$F$33,3),VLOOKUP($F132,'Points Table A'!$J$3:$L$33,3))","v":0},{"$f":"IF($R132<>3,VLOOKUP($G132,'Points Table A'!$E$3:$F$33,2),VLOOKUP($G132,'Points Table A'!$K$3:$L$33,2))","v":0},{"$f":"SUM(V132:Y132)","v":0},{"$f":"IF($T132=Lookups!$B$113,VLOOKUP($J132,'Points Table C'!$A$3:$F$11,5),VLOOKUP($U132,'Points Table C'!$B$3:$F$11,4))","v":0},{"$f":"IF($R132=1,0,VLOOKUP($N132,'Points Table C'!$C$3:$E$18,3))","v":0},{"$f":"VLOOKUP($I132,'Points Table C'!$D$3:$E$18,2)","v":0},{"$f":"IF($Z132<Lookups!$C$106,(AA132+AB132+AC132),IF(AA132>=Lookups!$C$120,(AA132+AB132+AC132),AA132+AB132))","v":0}]
["Non-core foods","Enter a food name here","Company name",0,0,0,0,0,0,0,0,0,{"$f":"IF((SUM(D133:L133)=0),\"J\",VLOOKUP(P133,Lookups!$A$1:$B$11,2))","v":"J"},{"$f":"H133+(L133*Lookups!$C$102*H133/100)","v":0},0,{"$f":"IF(ROUND(10.499-(((O133-VLOOKUP($A133,Lookups!$A$55:$D$64,3))/(VLOOKUP($A133,Lookups!$A$55:$D$64,4))*VLOOKUP($A133,Lookups!$C$2:$D$11,2))),0)<1,1,IF(ROUND(10.499-(((O133-VLOOKUP($A133,Lookups!$A$55:$D$64,3))/(VLOOKUP($A133,Lookups!$A$55:$D$64,4))*VLOOKUP($A133,Lookups!$C$2:$D$11,2))),0)<11,ROUND(10.499-(((O133-VLOOKUP($A133,Lookups!$A$55:$D$64,3))/(VLOOKUP($A133,Lookups!$A$55:$D$64,4))*VLOOKUP($A133,Lookups!$C$2:$D$11,2))),0),10))","v":7},null,{"$f":"VLOOKUP(A133,Lookups!$A$126:$C$135,3)","v":2},{"$f":"VLOOKUP(A133,Lookups!$A$126:$C$135,2)","v":"Food"},"No",0,{"$f":"IF($R133<>3,VLOOKUP($D133,'Points Table A'!$B$3:$F$33,5),VLOOKUP($D133,'Points Table A'!$H$3:$L$33,5))","v":0},{"$f":"IF($R133<>3,VLOOKUP($E133,'Points Table A'!$C$3:$F$33,4),VLOOKUP($E133,'Points Table A'!$I$3:$L$33,4))","v":0},{"$f":"IF($R133<>3,VLOOKUP($F133,'Points Table A'!$D$3:$F$33,3),VLOOKUP($F133,'Points Table A'!$J$3:$L$33,3))","v":0},{"$f":"IF($R133<>3,VLOOKUP($G133,'Points Table A'!$E$3:$F$33,2),VLOOKUP($G133,'Points Table A'!$K$3:$L$33,2))","v":0},0,{"$f":"IF($T133=Lookups!$B$113,VLOOKUP($J133,'Points Table C'!$A$3:$F$11,5),VLOOKUP($U133,'Points Table C'!$B$3:$F$11,4))","v":0},{"$f":"IF($R133=1,0,VLOOKUP($N133,'Points Table C'!$C$3:$E$18,3))","v":0},{"$f":"VLOOKUP($I133,'Points Table C'!$D$3:$E$18,2)","v":0},{"$f":"IF($Z133<Lookups!$C$106,(AA133+AB133+AC133),IF(AA133>=Lookups!$C$120,(AA133+AB133+AC133),AA133+AB133))","v":0}]
["Non-core foods","Enter a food name here","Company name",0,0,0,0,0,0,0,0,0,{"$f":"IF((SUM(D134:L134)=0),\"J\",VLOOKUP(P134,Lookups!$A$1:$B$11,2))","v":"J"},{"$f":"H134+(L134*Lookups!$C$102*H134/100)","v":0},0,{"$f":"IF(ROUND(10.499-(((O134-VLOOKUP($A134,Lookups!$A$55:$D$64,3))/(VLOOKUP($A134,Lookups!$A$55:$D$64,4))*VLOOKUP($A134,Lookups!$C$2:$D$11,2))),0)<1,1,IF(ROUND(10.499-(((O134-VLOOKUP($A134,Lookups!$A$55:$D$64,3))/(VLOOKUP($A134,Lookups!$A$55:$D$64,4))*VLOOKUP($A134,Lookups!$C$2:$D$11,2))),0)<11,ROUND(10.499-(((O134-VLOOKUP($A134,Lookups!$A$55:$D$64,3))/(VLOOKUP($A134,Lookups!$A$55:$D$64,4))*VLOOKUP($A134,Lookups!$C$2:$D$11,2))),0),10))","v":7},null,{"$f":"VLOOKUP(A134,Lookups!$A$126:$C$135,3)","v":2},{"$f":"VLOOKUP(A134,Lookups!$A$126:$C$135,2)","v":"Food"},"No",0,{"$f":"IF($R134<>3,VLOOKUP($D134,'Points Table A'!$B$3:$F$33,5),VLOOKUP($D134,'Points Table A'!$H$3:$L$33,5))","v":0},{"$f":"IF($R134<>3,VLOOKUP($E134,'Points Table A'!$C$3:$F$33,4),VLOOKUP($E134,'Points Table A'!$I$3:$L$33,4))","v":0},{"$f":"IF($R134<>3,VLOOKUP($F134,'Points Table A'!$D$3:$F$33,3),VLOOKUP($F134,'Points Table A'!$J$3:$L$33,3))","v":0},{"$f":"IF($R134<>3,VLOOKUP($G134,'Points Table A'!$E$3:$F$33,2),VLOOKUP($G134,'Points Table A'!$K$3:$L$33,2))","v":0},0,{"$f":"IF($T134=Lookups!$B$113,VLOOKUP($J134,'Points Table C'!$A$3:$F$11,5),VLOOKUP($U134,'Points Table C'!$B$3:$F$11,4))","v":0},{"$f":"IF($R134=1,0,VLOOKUP($N134,'Points Table C'!$C$3:$E$18,3))","v":0},{"$f":"VLOOKUP($I134,'Points Table C'!$D$3:$E$18,2)","v":0},{"$f":"IF($Z134<Lookups!$C$106,(AA134+AB134+AC134),IF(AA134>=Lookups!$C$120,(AA134+AB134+AC134),AA134+AB134))","v":0}]
["Non-core foods","Enter a food name here","Company name",0,0,0,0,0,0,0,0,0,{"$f":"IF((SUM(D135:L135)=0),\"J\",VLOOKUP(P135,Lookups!$A$1:$B$11,2))","v":"J"},{"$f":"H135+(L135*Lookups!$C$102*H135/100)","v":0},0,{"$f":"IF(ROUND(10.499-(((O135-VLOOKUP($A135,Lookups!$A$55:$D$64,3))/(VLOOKUP($A135,Lookups!$A$55:$D$64,4))*VLOOKUP($A135,Lookups!$C$2:$D$11,2))),0)<1,1,IF(ROUND(10.499-(((O135-VLOOKUP($A135,Lookups!$A$55:$D$64,3))/(VLOOKUP($A135,Lookups!$A$55:$D$64,4))*VLOOKUP($A135,Lookups!$C$2:$D$11,2))),0)<11,ROUND(10.499-(((O135-VLOOKUP($A135,Lookups!$A$55:$D$64,3))/(VLOOKUP($A135,Lookups!$A$55:$D$64,4))*VLOOKUP($A135,Lookups!$C$2:$D$11,2))),0),10))","v":7},null,{"$f":"VLOOKUP(A135,Lookups!$A$126:$C$135,3)","v":2},{"$f":"VLOOKUP(A135,Lookups!$A$126:$C$135,2)","v":"Food"},"No",0,{"$f":"IF($R135<>3,VLOOKUP($D135,'Points Table A'!$B$3:$F$33,5),VLOOKUP($D135,'Points Table A'!$H$3:$L$33,5))","v":0},{"$f":"IF($R135<>3,VLOOKUP($E135,'Points Table A'!$C$3:$F$33,4),VLOOKUP($E135,'Points Table A'!$I$3:$L$33,4))","v":0},{"$f":"IF($R135<>3,VLOOKUP($F135,'Points Table A'!$D$3:$F$33,3),VLOOKUP($F135,'Points Table A'!$J$3:$L$33,3))","v":0},{"$f":"IF($R135<>3,VLOOKUP($G135,'Points Table A'!$E$3:$F$33,2),VLOOKUP($G135,'Points Table A'!$K$3:$L$33,2))","v":0},0,{"$f":"IF($T135=Lookups!$B$113,VLOOKUP($J135,'Points Table C'!$A$3:$F$11,5),VLOOKUP($U135,'Points Table C'!$B$3:$F$11,4))","v":0},{"$f":"IF($R135=1,0,VLOOKUP($N135,'Points Table C'!$C$3:$E$18,3))","v":0},{"$f":"VLOOKUP($I135,'Points Table C'!$D$3:$E$18,2)","v":0},{"$f":"IF($Z135<Lookups!$C$106,(AA135+AB135+AC135),IF(AA135>=Lookups!$C$120,(AA135+AB135+AC135),AA135+AB135))","v":0}]
["Non-core foods","Enter a food name here","Company name",0,0,0,0,0,0,0,0,0,{"$f":"IF((SUM(D136:L136)=0),\"J\",VLOOKUP(P136,Lookups!$A$1:$B$11,2))","v":"J"},{"$f":"H136+(L136*Lookups!$C$102*H136/100)","v":0},0,{"$f":"IF(ROUND(10.499-(((O136-VLOOKUP($A136,Lookups!$A$55:$D$64,3))/(VLOOKUP($A136,Lookups!$A$55:$D$64,4))*VLOOKUP($A136,Lookups!$C$2:$D$11,2))),0)<1,1,IF(ROUND(10.499-(((O136-VLOOKUP($A136,Lookups!$A$55:$D$64,3))/(VLOOKUP($A136,Lookups!$A$55:$D$64,4))*VLOOKUP($A136,Lookups!$C$2:$D$11,2))),0)<11,ROUND(10.499-(((O136-VLOOKUP($A136,Lookups!$A$55:$D$64,3))/(VLOOKUP($A136,Lookups!$A$55:$D$64,4))*VLOOKUP($A136,Lookups!$C$2:$D$11,2))),0),10))","v":7},null,{"$f":"VLOOKUP(A136,Lookups!$A$126:$C$135,3)","v":2},{"$f":"VLOOKUP(A136,Lookups!$A$126:$C$135,2)","v":"Food"},"No",0,{"$f":"IF($R136<>3,VLOOKUP($D136,'Points Table A'!$B$3:$F$33,5),VLOOKUP($D136,'Points Table A'!$H$3:$L$33,5))","v":0},{"$f":"IF($R136<>3,VLOOKUP($E136,'Points Table A'!$C$3:$F$33,4),VLOOKUP($E136,'Points Table A'!$I$3:$L$33,4))","v":0},{"$f":"IF($R136<>3,VLOOKUP($F136,'Points Table A'!$D$3:$F$33,3),VLOOKUP($F136,'Points Table A'!$J$3:$L$33,3))","v":0},{"$f":"IF($R136<>3,VLOOKUP($G136,'Points Table A'!$E$3:$F$33,2),VLOOKUP($G136,'Points Table A'!$K$3:$L$33,2))","v":0},0,{"$f":"IF($T136=Lookups!$B$113,VLOOKUP($J136,'Points Table C'!$A$3:$F$11,5),VLOOKUP($U136,'Points Table C'!$B$3:$F$11,4))","v":0},{"$f":"IF($R136=1,0,VLOOKUP($N136,'Points Table C'!$C$3:$E$18,3))","v":0},{"$f":"VLOOKUP($I136,'Points Table C'!$D$3:$E$18,2)","v":0},{"$f":"IF($Z136<Lookups!$C$106,(AA136+AB136+AC136),IF(AA136>=Lookups!$C$120,(AA136+AB136+AC136),AA136+AB136))","v":0}]
["Non-core foods","Enter a food name here","Company name",0,0,0,0,0,0,0,0,0,{"$f":"IF((SUM(D137:L137)=0),\"J\",VLOOKUP(P137,Lookups!$A$1:$B$11,2))","v":"J"},{"$f":"H137+(L137*Lookups!$C$102*H137/100)","v":0},0,{"$f":"IF(ROUND(10.499-(((O137-VLOOKUP($A137,Lookups!$A$55:$D$64,3))/(VLOOKUP($A137,Lookups!$A$55:$D$64,4))*VLOOKUP($A137,Lookups!$C$2:$D$11,2))),0)<1,1,IF(ROUND(10.499-(((O137-VLOOKUP($A137,Lookups!$A$55:$D$64,3))/(VLOOKUP($A137,Lookups!$A$55:$D$64,4))*VLOOKUP($A137,Lookups!$C$2:$D$11,2))),0)<11,ROUND(10.499-(((O137-VLOOKUP($A137,Lookups!$A$55:$D$64,3))/(VLOOKUP($A137,Lookups!$A$55:$D$64,4))*VLOOKUP($A137,Lookups!$C$2:$D$11,2))),0),10))","v":7},null,{"$f":"VLOOKUP(A137,Lookups!$A$126:$C$135,3)","v":2},{"$f":"VLOOKUP(A137,Lookups!$A$126:$C$135,2)","v":"Food"},"No",0,{"$f":"IF($R137<>3,VLOOKUP($D137,'Points Table A'!$B$3:$F$33,5),VLOOKUP($D137,'Points Table A'!$H$3:$L$33,5))","v":0},{"$f":"IF($R137<>3,VLOOKUP($E137,'Points Table A'!$C$3:$F$33,4),VLOOKUP($E137,'Points Table A'!$I$3:$L$33,4))","v":0},{"$f":"IF($R137<>3,VLOOKUP($F137,'Points Table A'!$D$3:$F$33,3),VLOOKUP($F137,'Points Table A'!$J$3:$L$33,3))","v":0},{"$f":"IF($R137<>3,VLOOKUP($G137,'Points Table A'!$E$3:$F$33,2),VLOOKUP($G137,'Points Table A'!$K$3:$L$33,2))","v":0},0,{"$f":"IF($T137=Lookups!$B$113,VLOOKUP($J137,'Points Table C'!$A$3:$F$11,5),VLOOKUP($U137,'Points Table C'!$B$3:$F$11,4))","v":0},{"$f":"IF($R137=1,0,VLOOKUP($N137,'Points Table C'!$C$3:$E$18,3))","v":0},{"$f":"VLOOKUP($I137,'Points Table C'!$D$3:$E$18,2)","v":0},{"$f":"IF($Z137<Lookups!$C$106,(AA137+AB137+AC137),IF(AA137>=Lookups!$C$120,(AA137+AB137+AC137),AA137+AB137))","v":0}]
["Non-core foods","Enter a food name here","Company name",0,0,0,0,0,0,0,0,0,{"$f":"IF((SUM(D138:L138)=0),\"J\",VLOOKUP(P138,Lookups!$A$1:$B$11,2))","v":"J"},{"$f":"H138+(L138*Lookups!$C$102*H138/100)","v":0},0,{"$f":"IF(ROUND(10.499-(((O138-VLOOKUP($A138,Lookups!$A$55:$D$64,3))/(VLOOKUP($A138,Lookups!$A$55:$D$64,4))*VLOOKUP($A138,Lookups!$C$2:$D$11,2))),0)<1,1,IF(ROUND(10.499-(((O138-VLOOKUP($A138,Lookups!$A$55:$D$64,3))/(VLOOKUP($A138,Lookups!$A$55:$D$64,4))*VLOOKUP($A138,Lookups!$C$2:$D$11,2))),0)<11,ROUND(10.499-(((O138-VLOOKUP($A138,Lookups!$A$55:$D$64,3))/(VLOOKUP($A138,Lookups!$A$55:$D$64,4))*VLOOKUP($A138,Lookups!$C$2:$D$11,2))),0),10))","v":7},null,{"$f":"VLOOKUP(A138,Lookups!$A$126:$C$135,3)","v":2},{"$f":"VLOOKUP(A138,Lookups!$A$126:$C$135,2)","v":"Food"},"No",0,{"$f":"IF($R138<>3,VLOOKUP($D138,'Points Table A'!$B$3:$F$33,5),VLOOKUP($D138,'Points Table A'!$H$3:$L$33,5))","v":0},{"$f":"IF($R138<>3,VLOOKUP($E138,'Points Table A'!$C$3:$F$33,4),VLOOKUP($E138,'Points Table A'!$I$3:$L$33,4))","v":0},{"$f":"IF($R138<>3,VLOOKUP($F138,'Points Table A'!$D$3:$F$33,3),VLOOKUP($F138,'Points Table A'!$J$3:$L$33,3))","v":0},{"$f":"IF($R138<>3,VLOOKUP($G138,'Points Table A'!$E$3:$F$33,2),VLOOKUP($G138,'Points Table A'!$K$3:$L$33,2))","v":0},0,{"$f":"IF($T138=Lookups!$B$113,VLOOKUP($J138,'Points Table C'!$A$3:$F$11,5),VLOOKUP($U138,'Points Table C'!$B$3:$F$11,4))","v":0},{"$f":"IF($R138=1,0,VLOOKUP($N138,'Points Table C'!$C$3:$E$18,3))","v":0},{"$f":"VLOOKUP($I138,'Points Table C'!$D$3:$E$18,2)","v":0},{"$f":"IF($Z138<Lookups!$C$106,(AA138+AB138+AC138),IF(AA138>=Lookups!$C$120,(AA138+AB138+AC138),AA138+AB138))","v":0}]
["Non-core foods","Enter a food name here","Company name",0,0,0,0,0,0,0,0,0,{"$f":"IF((SUM(D139:L139)=0),\"J\",VLOOKUP(P139,Lookups!$A$1:$B$11,2))","v":"J"},{"$f":"H139+(L139*Lookups!$C$102*H139/100)","v":0},0,{"$f":"IF(ROUND(10.499-(((O139-VLOOKUP($A139,Lookups!$A$55:$D$64,3))/(VLOOKUP($A139,Lookups!$A$55:$D$64,4))*VLOOKUP($A139,Lookups!$C$2:$D$11,2))),0)<1,1,IF(ROUND(10.499-(((O139-VLOOKUP($A139,Lookups!$A$55:$D$64,3))/(VLOOKUP($A139,Lookups!$A$55:$D$64,4))*VLOOKUP($A139,Lookups!$C$2:$D$11,2))),0)<11,ROUND(10.499-(((O139-VLOOKUP($A139,Lookups!$A$55:$D$64,3))/(VLOOKUP($A139,Lookups!$A$55:$D$64,4))*VLOOKUP($A139,Lookups!$C$2:$D$11,2))),0),10))","v":7},null,{"$f":"VLOOKUP(A139,Lookups!$A$126:$C$135,3)","v":2},{"$f":"VLOOKUP(A139,Lookups!$A$126:$C$135,2)","v":"Food"},"No",0,{"$f":"IF($R139<>3,VLOOKUP($D139,'Points Table A'!$B$3:$F$33,5),VLOOKUP($D139,'Points Table A'!$H$3:$L$33,5))","v":0},{"$f":"IF($R139<>3,VLOOKUP($E139,'Points Table A'!$C$3:$F$33,4),VLOOKUP($E139,'Points Table A'!$I$3:$L$33,4))","v":0},{"$f":"IF($R139<>3,VLOOKUP($F139,'Points Table A'!$D$3:$F$33,3),VLOOKUP($F139,'Points Table A'!$J$3:$L$33,3))","v":0},{"$f":"IF($R139<>3,VLOOKUP($G139,'Points Table A'!$E$3:$F$33,2),VLOOKUP($G139,'Points Table A'!$K$3:$L$33,2))","v":0},0,{"$f":"IF($T139=Lookups!$B$113,VLOOKUP($J139,'Points Table C'!$A$3:$F$11,5),VLOOKUP($U139,'Points Table C'!$B$3:$F$11,4))","v":0},{"$f":"IF($R139=1,0,VLOOKUP($N139,'Points Table C'!$C$3:$E$18,3))","v":0},{"$f":"VLOOKUP($I139,'Points Table C'!$D$3:$E$18,2)","v":0},{"$f":"IF($Z139<Lookups!$C$106,(AA139+AB139+AC139),IF(AA139>=Lookups!$C$120,(AA139+AB139+AC139),AA139+AB139))","v":0}]
["Non-core foods","Enter a food name here","Company name",0,0,0,0,0,0,0,0,0,{"$f":"IF((SUM(D140:L140)=0),\"J\",VLOOKUP(P140,Lookups!$A$1:$B$11,2))","v":"J"},{"$f":"H140+(L140*Lookups!$C$102*H140/100)","v":0},0,{"$f":"IF(ROUND(10.499-(((O140-VLOOKUP($A140,Lookups!$A$55:$D$64,3))/(VLOOKUP($A140,Lookups!$A$55:$D$64,4))*VLOOKUP($A140,Lookups!$C$2:$D$11,2))),0)<1,1,IF(ROUND(10.499-(((O140-VLOOKUP($A140,Lookups!$A$55:$D$64,3))/(VLOOKUP($A140,Lookups!$A$55:$D$64,4))*VLOOKUP($A140,Lookups!$C$2:$D$11,2))),0)<11,ROUND(10.499-(((O140-VLOOKUP($A140,Lookups!$A$55:$D$64,3))/(VLOOKUP($A140,Lookups!$A$55:$D$64,4))*VLOOKUP($A140,Lookups!$C$2:$D$11,2))),0),10))","v":7},null,{"$f":"VLOOKUP(A140,Lookups!$A$126:$C$135,3)","v":2},{"$f":"VLOOKUP(A140,Lookups!$A$126:$C$135,2)","v":"Food"},"No",0,{"$f":"IF($R140<>3,VLOOKUP($D140,'Points Table A'!$B$3:$F$33,5),VLOOKUP($D140,'Points Table A'!$H$3:$L$33,5))","v":0},{"$f":"IF($R140<>3,VLOOKUP($E140,'Points Table A'!$C$3:$F$33,4),VLOOKUP($E140,'Points Table A'!$I$3:$L$33,4))","v":0},{"$f":"IF($R140<>3,VLOOKUP($F140,'Points Table A'!$D$3:$F$33,3),VLOOKUP($F140,'Points Table A'!$J$3:$L$33,3))","v":0},{"$f":"IF($R140<>3,VLOOKUP($G140,'Points Table A'!$E$3:$F$33,2),VLOOKUP($G140,'Points Table A'!$K$3:$L$33,2))","v":0},0,{"$f":"IF($T140=Lookups!$B$113,VLOOKUP($J140,'Points Table C'!$A$3:$F$11,5),VLOOKUP($U140,'Points Table C'!$B$3:$F$11,4))","v":0},{"$f":"IF($R140=1,0,VLOOKUP($N140,'Points Table C'!$C$3:$E$18,3))","v":0},{"$f":"VLOOKUP($I140,'Points Table C'!$D$3:$E$18,2)","v":0},{"$f":"IF($Z140<Lookups!$C$106,(AA140+AB140+AC140),IF(AA140>=Lookups!$C$120,(AA140+AB140+AC140),AA140+AB140))","v":0}]
["Non-core foods","Enter a food name here","Company name",0,0,0,0,0,0,0,0,0,{"$f":"IF((SUM(D141:L141)=0),\"J\",VLOOKUP(P141,Lookups!$A$1:$B$11,2))","v":"J"},{"$f":"H141+(L141*Lookups!$C$102*H141/100)","v":0},0,{"$f":"IF(ROUND(10.499-(((O141-VLOOKUP($A141,Lookups!$A$55:$D$64,3))/(VLOOKUP($A141,Lookups!$A$55:$D$64,4))*VLOOKUP($A141,Lookups!$C$2:$D$11,2))),0)<1,1,IF(ROUND(10.499-(((O141-VLOOKUP($A141,Lookups!$A$55:$D$64,3))/(VLOOKUP($A141,Lookups!$A$55:$D$64,4))*VLOOKUP($A141,Lookups!$C$2:$D$11,2))),0)<11,ROUND(10.499-(((O141-VLOOKUP($A141,Lookups!$A$55:$D$64,3))/(VLOOKUP($A141,Lookups!$A$55:$D$64,4))*VLOOKUP($A141,Lookups!$C$2:$D$11,2))),0),10))","v":7},null,{"$f":"VLOOKUP(A141,Lookups!$A$126:$C$135,3)","v":2},{"$f":"VLOOKUP(A141,Lookups!$A$126:$C$135,2)","v":"Food"},"No",0,{"$f":"IF($R141<>3,VLOOKUP($D141,'Points Table A'!$B$3:$F$33,5),VLOOKUP($D141,'Points Table A'!$H$3:$L$33,5))","v":0},{"$f":"IF($R141<>3,VLOOKUP($E141,'Points Table A'!$C$3:$F$33,4),VLOOKUP($E141,'Points Table A'!$I$3:$L$33,4))","v":0},{"$f":"IF($R141<>3,VLOOKUP($F141,'Points Table A'!$D$3:$F$33,3),VLOOKUP($F141,'Points Table A'!$J$3:$L$33,3))","v":0},{"$f":"IF($R141<>3,VLOOKUP($G141,'Points Table A'!$E$3:$F$33,2),VLOOKUP($G141,'Points Table A'!$K$3:$L$33,2))","v":0},0,{"$f":"IF($T141=Lookups!$B$113,VLOOKUP($J141,'Points Table C'!$A$3:$F$11,5),VLOOKUP($U141,'Points Table C'!$B$3:$F$11,4))","v":0},{"$f":"IF($R141=1,0,VLOOKUP($N141,'Points Table C'!$C$3:$E$18,3))","v":0},{"$f":"VLOOKUP($I141,'Points Table C'!$D$3:$E$18,2)","v":0},{"$f":"IF($Z141<Lookups!$C$106,(AA141+AB141+AC141),IF(AA141>=Lookups!$C$120,(AA141+AB141+AC141),AA141+AB141))","v":0}]
["Non-core foods","Enter a food name here","Company name",0,0,0,0,0,0,0,0,0,{"$f":"IF((SUM(D142:L142)=0),\"J\",VLOOKUP(P142,Lookups!$A$1:$B$11,2))","v":"J"},{"$f":"H142+(L142*Lookups!$C$102*H142/100)","v":0},0,{"$f":"IF(ROUND(10.499-(((O142-VLOOKUP($A142,Lookups!$A$55:$D$64,3))/(VLOOKUP($A142,Lookups!$A$55:$D$64,4))*VLOOKUP($A142,Lookups!$C$2:$D$11,2))),0)<1,1,IF(ROUND(10.499-(((O142-VLOOKUP($A142,Lookups!$A$55:$D$64,3))/(VLOOKUP($A142,Lookups!$A$55:$D$64,4))*VLOOKUP($A142,Lookups!$C$2:$D$11,2))),0)<11,ROUND(10.499-(((O142-VLOOKUP($A142,Lookups!$A$55:$D$64,3))/(VLOOKUP($A142,Lookups!$A$55:$D$64,4))*VLOOKUP($A142,Lookups!$C$2:$D$11,2))),0),10))","v":7},null,{"$f":"VLOOKUP(A142,Lookups!$A$126:$C$135,3)","v":2},{"$f":"VLOOKUP(A142,Lookups!$A$126:$C$135,2)","v":"Food"},"No",0,{"$f":"IF($R142<>3,VLOOKUP($D142,'Points Table A'!$B$3:$F$33,5),VLOOKUP($D142,'Points Table A'!$H$3:$L$33,5))","v":0},{"$f":"IF($R142<>3,VLOOKUP($E142,'Points Table A'!$C$3:$F$33,4),VLOOKUP($E142,'Points Table A'!$I$3:$L$33,4))","v":0},{"$f":"IF($R142<>3,VLOOKUP($F142,'Points Table A'!$D$3:$F$33,3),VLOOKUP($F142,'Points Table A'!$J$3:$L$33,3))","v":0},{"$f":"IF($R142<>3,VLOOKUP($G142,'Points Table A'!$E$3:$F$33,2),VLOOKUP($G142,'Points Table A'!$K$3:$L$33,2))","v":0},0,{"$f":"IF($T142=Lookups!$B$113,VLOOKUP($J142,'Points Table C'!$A$3:$F$11,5),VLOOKUP($U142,'Points Table C'!$B$3:$F$11,4))","v":0},{"$f":"IF($R142=1,0,VLOOKUP($N142,'Points Table C'!$C$3:$E$18,3))","v":0},{"$f":"VLOOKUP($I142,'Points Table C'!$D$3:$E$18,2)","v":0},{"$f":"IF($Z142<Lookups!$C$106,(AA142+AB142+AC142),IF(AA142>=Lookups!$C$120,(AA142+AB142+AC142),AA142+AB142))","v":0}]
["Non-core foods","Enter a food name here","Company name",0,0,0,0,0,0,0,0,0,{"$f":"IF((SUM(D143:L143)=0),\"J\",VLOOKUP(P143,Lookups!$A$1:$B$11,2))","v":"J"},{"$f":"H143+(L143*Lookups!$C$102*H143/100)","v":0},0,{"$f":"IF(ROUND(10.499-(((O143-VLOOKUP($A143,Lookups!$A$55:$D$64,3))/(VLOOKUP($A143,Lookups!$A$55:$D$64,4))*VLOOKUP($A143,Lookups!$C$2:$D$11,2))),0)<1,1,IF(ROUND(10.499-(((O143-VLOOKUP($A143,Lookups!$A$55:$D$64,3))/(VLOOKUP($A143,Lookups!$A$55:$D$64,4))*VLOOKUP($A143,Lookups!$C$2:$D$11,2))),0)<11,ROUND(10.499-(((O143-VLOOKUP($A143,Lookups!$A$55:$D$64,3))/(VLOOKUP($A143,Lookups!$A$55:$D$64,4))*VLOOKUP($A143,Lookups!$C$2:$D$11,2))),0),10))","v":7},null,{"$f":"VLOOKUP(A143,Lookups!$A$126:$C$135,3)","v":2},{"$f":"VLOOKUP(A143,Lookups!$A$126:$C$135,2)","v":"Food"},"No",0,{"$f":"IF($R143<>3,VLOOKUP($D143,'Points Table A'!$B$3:$F$33,5),VLOOKUP($D143,'Points Table A'!$H$3:$L$33,5))","v":0},{"$f":"IF($R143<>3,VLOOKUP($E143,'Points Table A'!$C$3:$F$33,4),VLOOKUP($E143,'Points Table A'!$I$3:$L$33,4))","v":0},{"$f":"IF($R143<>3,VLOOKUP($F143,'Points Table A'!$D$3:$F$33,3),VLOOKUP($F143,'Points Table A'!$J$3:$L$33,3))","v":0},{"$f":"IF($R143<>3,VLOOKUP($G143,'Points Table A'!$E$3:$F$33,2),VLOOKUP($G143,'Points Table A'!$K$3:$L$33,2))","v":0},0,{"$f":"IF($T143=Lookups!$B$113,VLOOKUP($J143,'Points Table C'!$A$3:$F$11,5),VLOOKUP($U143,'Points Table C'!$B$3:$F$11,4))","v":0},{"$f":"IF($R143=1,0,VLOOKUP($N143,'Points Table C'!$C$3:$E$18,3))","v":0},{"$f":"VLOOKUP($I143,'Points Table C'!$D$3:$E$18,2)","v":0},{"$f":"IF($Z143<Lookups!$C$106,(AA143+AB143+AC143),IF(AA143>=Lookups!$C$120,(AA143+AB143+AC143),AA143+AB143))","v":0}]
["Non-core foods","Enter a food name here","Company name",0,0,0,0,0,0,0,0,0,{"$f":"IF((SUM(D144:L144)=0),\"J\",VLOOKUP(P144,Lookups!$A$1:$B$11,2))","v":"J"},{"$f":"H144+(L144*Lookups!$C$102*H144/100)","v":0},0,{"$f":"IF(ROUND(10.499-(((O144-VLOOKUP($A144,Lookups!$A$55:$D$64,3))/(VLOOKUP($A144,Lookups!$A$55:$D$64,4))*VLOOKUP($A144,Lookups!$C$2:$D$11,2))),0)<1,1,IF(ROUND(10.499-(((O144-VLOOKUP($A144,Lookups!$A$55:$D$64,3))/(VLOOKUP($A144,Lookups!$A$55:$D$64,4))*VLOOKUP($A144,Lookups!$C$2:$D$11,2))),0)<11,ROUND(10.499-(((O144-VLOOKUP($A144,Lookups!$A$55:$D$64,3))/(VLOOKUP($A144,Lookups!$A$55:$D$64,4))*VLOOKUP($A144,Lookups!$C$2:$D$11,2))),0),10))","v":7},null,{"$f":"VLOOKUP(A144,Lookups!$A$126:$C$135,3)","v":2},{"$f":"VLOOKUP(A144,Lookups!$A$126:$C$135,2)","v":"Food"},"No",0,{"$f":"IF($R144<>3,VLOOKUP($D144,'Points Table A'!$B$3:$F$33,5),VLOOKUP($D144,'Points Table A'!$H$3:$L$33,5))","v":0},{"$f":"IF($R144<>3,VLOOKUP($E144,'Points Table A'!$C$3:$F$33,4),VLOOKUP($E144,'Points Table A'!$I$3:$L$33,4))","v":0},{"$f":"IF($R144<>3,VLOOKUP($F144,'Points Table A'!$D$3:$F$33,3),VLOOKUP($F144,'Points Table A'!$J$3:$L$33,3))","v":0},{"$f":"IF($R144<>3,VLOOKUP($G144,'Points Table A'!$E$3:$F$33,2),VLOOKUP($G144,'Points Table A'!$K$3:$L$33,2))","v":0},0,{"$f":"IF($T144=Lookups!$B$113,VLOOKUP($J144,'Points Table C'!$A$3:$F$11,5),VLOOKUP($U144,'Points Table C'!$B$3:$F$11,4))","v":0},{"$f":"IF($R144=1,0,VLOOKUP($N144,'Points Table C'!$C$3:$E$18,3))","v":0},{"$f":"VLOOKUP($I144,'Points Table C'!$D$3:$E$18,2)","v":0},{"$f":"IF($Z144<Lookups!$C$106,(AA144+AB144+AC144),IF(AA144>=Lookups!$C$120,(AA144+AB144+AC144),AA144+AB144))","v":0}]
["Non-core foods","Enter a food name here","Company name",0,0,0,0,0,0,0,0,0,{"$f":"IF((SUM(D145:L145)=0),\"J\",VLOOKUP(P145,Lookups!$A$1:$B$11,2))","v":"J"},{"$f":"H145+(L145*Lookups!$C$102*H145/100)","v":0},0,{"$f":"IF(ROUND(10.499-(((O145-VLOOKUP($A145,Lookups!$A$55:$D$64,3))/(VLOOKUP($A145,Lookups!$A$55:$D$64,4))*VLOOKUP($A145,Lookups!$C$2:$D$11,2))),0)<1,1,IF(ROUND(10.499-(((O145-VLOOKUP($A145,Lookups!$A$55:$D$64,3))/(VLOOKUP($A145,Lookups!$A$55:$D$64,4))*VLOOKUP($A145,Lookups!$C$2:$D$11,2))),0)<11,ROUND(10.499-(((O145-VLOOKUP($A145,Lookups!$A$55:$D$64,3))/(VLOOKUP($A145,Lookups!$A$55:$D$64,4))*VLOOKUP($A145,Lookups!$C$2:$D$11,2))),0),10))","v":7},null,{"$f":"VLOOKUP(A145,Lookups!$A$126:$C$135,3)","v":2},{"$f":"VLOOKUP(A145,Lookups!$A$126:$C$135,2)","v":"Food"},"No",0,{"$f":"IF($R145<>3,VLOOKUP($D145,'Points Table A'!$B$3:$F$33,5),VLOOKUP($D145,'Points Table A'!$H$3:$L$33,5))","v":0},{"$f":"IF($R145<>3,VLOOKUP($E145,'Points Table A'!$C$3:$F$33,4),VLOOKUP($E145,'Points Table A'!$I$3:$L$33,4))","v":0},{"$f":"IF($R145<>3,VLOOKUP($F145,'Points Table A'!$D$3:$F$33,3),VLOOKUP($F145,'Points Table A'!$J$3:$L$33,3))","v":0},{"$f":"IF($R145<>3,VLOOKUP($G145,'Points Table A'!$E$3:$F$33,2),VLOOKUP($G145,'Points Table A'!$K$3:$L$33,2))","v":0},0,{"$f":"IF($T145=Lookups!$B$113,VLOOKUP($J145,'Points Table C'!$A$3:$F$11,5),VLOOKUP($U145,'Points Table C'!$B$3:$F$11,4))","v":0},{"$f":"IF($R145=1,0,VLOOKUP($N145,'Points Table C'!$C$3:$E$18,3))","v":0},{"$f":"VLOOKUP($I145,'Points Table C'!$D$3:$E$18,2)","v":0},{"$f":"IF($Z145<Lookups!$C$106,(AA145+AB145+AC145),IF(AA145>=Lookups!$C$120,(AA145+AB145+AC145),AA145+AB145))","v":0}]
["Non-core foods","Enter a food name here","Company name",0,0,0,0,0,0,0,0,0,{"$f":"IF((SUM(D146:L146)=0),\"J\",VLOOKUP(P146,Lookups!$A$1:$B$11,2))","v":"J"},{"$f":"H146+(L146*Lookups!$C$102*H146/100)","v":0},0,{"$f":"IF(ROUND(10.499-(((O146-VLOOKUP($A146,Lookups!$A$55:$D$64,3))/(VLOOKUP($A146,Lookups!$A$55:$D$64,4))*VLOOKUP($A146,Lookups!$C$2:$D$11,2))),0)<1,1,IF(ROUND(10.499-(((O146-VLOOKUP($A146,Lookups!$A$55:$D$64,3))/(VLOOKUP($A146,Lookups!$A$55:$D$64,4))*VLOOKUP($A146,Lookups!$C$2:$D$11,2))),0)<11,ROUND(10.499-(((O146-VLOOKUP($A146,Lookups!$A$55:$D$64,3))/(VLOOKUP($A146,Lookups!$A$55:$D$64,4))*VLOOKUP($A146,Lookups!$C$2:$D$11,2))),0),10))","v":7},null,{"$f":"VLOOKUP(A146,Lookups!$A$126:$C$135,3)","v":2},{"$f":"VLOOKUP(A146,Lookups!$A$126:$C$135,2)","v":"Food"},"No",0,{"$f":"IF($R146<>3,VLOOKUP($D146,'Points Table A'!$B$3:$F$33,5),VLOOKUP($D146,'Points Table A'!$H$3:$L$33,5))","v":0},{"$f":"IF($R146<>3,VLOOKUP($E146,'Points Table A'!$C$3:$F$33,4),VLOOKUP($E146,'Points Table A'!$I$3:$L$33,4))","v":0},{"$f":"IF($R146<>3,VLOOKUP($F146,'Points Table A'!$D$3:$F$33,3),VLOOKUP($F146,'Points Table A'!$J$3:$L$33,3))","v":0},{"$f":"IF($R146<>3,VLOOKUP($G146,'Points Table A'!$E$3:$F$33,2),VLOOKUP($G146,'Points Table A'!$K$3:$L$33,2))","v":0},0,{"$f":"IF($T146=Lookups!$B$113,VLOOKUP($J146,'Points Table C'!$A$3:$F$11,5),VLOOKUP($U146,'Points Table C'!$B$3:$F$11,4))","v":0},{"$f":"IF($R146=1,0,VLOOKUP($N146,'Points Table C'!$C$3:$E$18,3))","v":0},{"$f":"VLOOKUP($I146,'Points Table C'!$D$3:$E$18,2)","v":0},{"$f":"IF($Z146<Lookups!$C$106,(AA146+AB146+AC146),IF(AA146>=Lookups!$C$120,(AA146+AB146+AC146),AA146+AB146))","v":0}]
["Non-core foods","Enter a food name here","Company name",0,0,0,0,0,0,0,0,0,{"$f":"IF((SUM(D147:L147)=0),\"J\",VLOOKUP(P147,Lookups!$A$1:$B$11,2))","v":"J"},{"$f":"H147+(L147*Lookups!$C$102*H147/100)","v":0},0,{"$f":"IF(ROUND(10.499-(((O147-VLOOKUP($A147,Lookups!$A$55:$D$64,3))/(VLOOKUP($A147,Lookups!$A$55:$D$64,4))*VLOOKUP($A147,Lookups!$C$2:$D$11,2))),0)<1,1,IF(ROUND(10.499-(((O147-VLOOKUP($A147,Lookups!$A$55:$D$64,3))/(VLOOKUP($A147,Lookups!$A$55:$D$64,4))*VLOOKUP($A147,Lookups!$C$2:$D$11,2))),0)<11,ROUND(10.499-(((O147-VLOOKUP($A147,Lookups!$A$55:$D$64,3))/(VLOOKUP($A147,Lookups!$A$55:$D$64,4))*VLOOKUP($A147,Lookups!$C$2:$D$11,2))),0),10))","v":7},null,{"$f":"VLOOKUP(A147,Lookups!$A$126:$C$135,3)","v":2},{"$f":"VLOOKUP(A147,Lookups!$A$126:$C$135,2)","v":"Food"},"No",0,{"$f":"IF($R147<>3,VLOOKUP($D147,'Points Table A'!$B$3:$F$33,5),VLOOKUP($D147,'Points Table A'!$H$3:$L$33,5))","v":0},{"$f":"IF($R147<>3,VLOOKUP($E147,'Points Table A'!$C$3:$F$33,4),VLOOKUP($E147,'Points Table A'!$I$3:$L$33,4))","v":0},{"$f":"IF($R147<>3,VLOOKUP($F147,'Points Table A'!$D$3:$F$33,3),VLOOKUP($F147,'Points Table A'!$J$3:$L$33,3))","v":0},{"$f":"IF($R147<>3,VLOOKUP($G147,'Points Table A'!$E$3:$F$33,2),VLOOKUP($G147,'Points Table A'!$K$3:$L$33,2))","v":0},0,{"$f":"IF($T147=Lookups!$B$113,VLOOKUP($J147,'Points Table C'!$A$3:$F$11,5),VLOOKUP($U147,'Points Table C'!$B$3:$F$11,4))","v":0},{"$f":"IF($R147=1,0,VLOOKUP($N147,'Points Table C'!$C$3:$E$18,3))","v":0},{"$f":"VLOOKUP($I147,'Points Table C'!$D$3:$E$18,2)","v":0},{"$f":"IF($Z147<Lookups!$C$106,(AA147+AB147+AC147),IF(AA147>=Lookups!$C$120,(AA147+AB147+AC147),AA147+AB147))","v":0}]
["Non-core foods","Enter a food name here","Company name",0,0,0,0,0,0,0,0,0,{"$f":"IF((SUM(D148:L148)=0),\"J\",VLOOKUP(P148,Lookups!$A$1:$B$11,2))","v":"J"},{"$f":"H148+(L148*Lookups!$C$102*H148/100)","v":0},0,{"$f":"IF(ROUND(10.499-(((O148-VLOOKUP($A148,Lookups!$A$55:$D$64,3))/(VLOOKUP($A148,Lookups!$A$55:$D$64,4))*VLOOKUP($A148,Lookups!$C$2:$D$11,2))),0)<1,1,IF(ROUND(10.499-(((O148-VLOOKUP($A148,Lookups!$A$55:$D$64,3))/(VLOOKUP($A148,Lookups!$A$55:$D$64,4))*VLOOKUP($A148,Lookups!$C$2:$D$11,2))),0)<11,ROUND(10.499-(((O148-VLOOKUP($A148,Lookups!$A$55:$D$64,3))/(VLOOKUP($A148,Lookups!$A$55:$D$64,4))*VLOOKUP($A148,Lookups!$C$2:$D$11,2))),0),10))","v":7},null,{"$f":"VLOOKUP(A148,Lookups!$A$126:$C$135,3)","v":2},{"$f":"VLOOKUP(A148,Lookups!$A$126:$C$135,2)","v":"Food"},"No",0,{"$f":"IF($R148<>3,VLOOKUP($D148,'Points Table A'!$B$3:$F$33,5),VLOOKUP($D148,'Points Table A'!$H$3:$L$33,5))","v":0},{"$f":"IF($R148<>3,VLOOKUP($E148,'Points Table A'!$C$3:$F$33,4),VLOOKUP($E148,'Points Table A'!$I$3:$L$33,4))","v":0},{"$f":"IF($R148<>3,VLOOKUP($F148,'Points Table A'!$D$3:$F$33,3),VLOOKUP($F148,'Points Table A'!$J$3:$L$33,3))","v":0},{"$f":"IF($R148<>3,VLOOKUP($G148,'Points Table A'!$E$3:$F$33,2),VLOOKUP($G148,'Points Table A'!$K$3:$L$33,2))","v":0},0,{"$f":"IF($T148=Lookups!$B$113,VLOOKUP($J148,'Points Table C'!$A$3:$F$11,5),VLOOKUP($U148,'Points Table C'!$B$3:$F$11,4))","v":0},{"$f":"IF($R148=1,0,VLOOKUP($N148,'Points Table C'!$C$3:$E$18,3))","v":0},{"$f":"VLOOKUP($I148,'Points Table C'!$D$3:$E$18,2)","v":0},{"$f":"IF($Z148<Lookups!$C$106,(AA148+AB148+AC148),IF(AA148>=Lookups!$C$120,(AA148+AB148+AC148),AA148+AB148))","v":0}]
["Non-core foods","Enter a food name here","Company name",0,0,0,0,0,0,0,0,0,{"$f":"IF((SUM(D149:L149)=0),\"J\",VLOOKUP(P149,Lookups!$A$1:$B$11,2))","v":"J"},{"$f":"H149+(L149*Lookups!$C$102*H149/100)","v":0},0,{"$f":"IF(ROUND(10.499-(((O149-VLOOKUP($A149,Lookups!$A$55:$D$64,3))/(VLOOKUP($A149,Lookups!$A$55:$D$64,4))*VLOOKUP($A149,Lookups!$C$2:$D$11,2))),0)<1,1,IF(ROUND(10.499-(((O149-VLOOKUP($A149,Lookups!$A$55:$D$64,3))/(VLOOKUP($A149,Lookups!$A$55:$D$64,4))*VLOOKUP($A149,Lookups!$C$2:$D$11,2))),0)<11,ROUND(10.499-(((O149-VLOOKUP($A149,Lookups!$A$55:$D$64,3))/(VLOOKUP($A149,Lookups!$A$55:$D$64,4))*VLOOKUP($A149,Lookups!$C$2:$D$11,2))),0),10))","v":7},null,{"$f":"VLOOKUP(A149,Lookups!$A$126:$C$135,3)","v":2},{"$f":"VLOOKUP(A149,Lookups!$A$126:$C$135,2)","v":"Food"},"No",0,{"$f":"IF($R149<>3,VLOOKUP($D149,'Points Table A'!$B$3:$F$33,5),VLOOKUP($D149,'Points Table A'!$H$3:$L$33,5))","v":0},{"$f":"IF($R149<>3,VLOOKUP($E149,'Points Table A'!$C$3:$F$33,4),VLOOKUP($E149,'Points Table A'!$I$3:$L$33,4))","v":0},{"$f":"IF($R149<>3,VLOOKUP($F149,'Points Table A'!$D$3:$F$33,3),VLOOKUP($F149,'Points Table A'!$J$3:$L$33,3))","v":0},{"$f":"IF($R149<>3,VLOOKUP($G149,'Points Table A'!$E$3:$F$33,2),VLOOKUP($G149,'Points Table A'!$K$3:$L$33,2))","v":0},0,{"$f":"IF($T149=Lookups!$B$113,VLOOKUP($J149,'Points Table C'!$A$3:$F$11,5),VLOOKUP($U149,'Points Table C'!$B$3:$F$11,4))","v":0},{"$f":"IF($R149=1,0,VLOOKUP($N149,'Points Table C'!$C$3:$E$18,3))","v":0},{"$f":"VLOOKUP($I149,'Points Table C'!$D$3:$E$18,2)","v":0},{"$f":"IF($Z149<Lookups!$C$106,(AA149+AB149+AC149),IF(AA149>=Lookups!$C$120,(AA149+AB149+AC149),AA149+AB149))","v":0}]
["Non-core foods","Enter a food name here","Company name",0,0,0,0,0,0,0,0,0,{"$f":"IF((SUM(D150:L150)=0),\"J\",VLOOKUP(P150,Lookups!$A$1:$B$11,2))","v":"J"},{"$f":"H150+(L150*Lookups!$C$102*H150/100)","v":0},0,{"$f":"IF(ROUND(10.499-(((O150-VLOOKUP($A150,Lookups!$A$55:$D$64,3))/(VLOOKUP($A150,Lookups!$A$55:$D$64,4))*VLOOKUP($A150,Lookups!$C$2:$D$11,2))),0)<1,1,IF(ROUND(10.499-(((O150-VLOOKUP($A150,Lookups!$A$55:$D$64,3))/(VLOOKUP($A150,Lookups!$A$55:$D$64,4))*VLOOKUP($A150,Lookups!$C$2:$D$11,2))),0)<11,ROUND(10.499-(((O150-VLOOKUP($A150,Lookups!$A$55:$D$64,3))/(VLOOKUP($A150,Lookups!$A$55:$D$64,4))*VLOOKUP($A150,Lookups!$C$2:$D$11,2))),0),10))","v":7},null,{"$f":"VLOOKUP(A150,Lookups!$A$126:$C$135,3)","v":2},{"$f":"VLOOKUP(A150,Lookups!$A$126:$C$135,2)","v":"Food"},"No",0,{"$f":"IF($R150<>3,VLOOKUP($D150,'Points Table A'!$B$3:$F$33,5),VLOOKUP($D150,'Points Table A'!$H$3:$L$33,5))","v":0},{"$f":"IF($R150<>3,VLOOKUP($E150,'Points Table A'!$C$3:$F$33,4),VLOOKUP($E150,'Points Table A'!$I$3:$L$33,4))","v":0},{"$f":"IF($R150<>3,VLOOKUP($F150,'Points Table A'!$D$3:$F$33,3),VLOOKUP($F150,'Points Table A'!$J$3:$L$33,3))","v":0},{"$f":"IF($R150<>3,VLOOKUP($G150,'Points Table A'!$E$3:$F$33,2),VLOOKUP($G150,'Points Table A'!$K$3:$L$33,2))","v":0},0,{"$f":"IF($T150=Lookups!$B$113,VLOOKUP($J150,'Points Table C'!$A$3:$F$11,5),VLOOKUP($U150,'Points Table C'!$B$3:$F$11,4))","v":0},{"$f":"IF($R150=1,0,VLOOKUP($N150,'Points Table C'!$C$3:$E$18,3))","v":0},{"$f":"VLOOKUP($I150,'Points Table C'!$D$3:$E$18,2)","v":0},{"$f":"IF($Z150<Lookups!$C$106,(AA150+AB150+AC150),IF(AA150>=Lookups!$C$120,(AA150+AB150+AC150),AA150+AB150))","v":0}]
["Non-core foods","Enter a food name here","Company name",0,0,0,0,0,0,0,0,0,{"$f":"IF((SUM(D151:L151)=0),\"J\",VLOOKUP(P151,Lookups!$A$1:$B$11,2))","v":"J"},{"$f":"H151+(L151*Lookups!$C$102*H151/100)","v":0},0,{"$f":"IF(ROUND(10.499-(((O151-VLOOKUP($A151,Lookups!$A$55:$D$64,3))/(VLOOKUP($A151,Lookups!$A$55:$D$64,4))*VLOOKUP($A151,Lookups!$C$2:$D$11,2))),0)<1,1,IF(ROUND(10.499-(((O151-VLOOKUP($A151,Lookups!$A$55:$D$64,3))/(VLOOKUP($A151,Lookups!$A$55:$D$64,4))*VLOOKUP($A151,Lookups!$C$2:$D$11,2))),0)<11,ROUND(10.499-(((O151-VLOOKUP($A151,Lookups!$A$55:$D$64,3))/(VLOOKUP($A151,Lookups!$A$55:$D$64,4))*VLOOKUP($A151,Lookups!$C$2:$D$11,2))),0),10))","v":7},null,{"$f":"VLOOKUP(A151,Lookups!$A$126:$C$135,3)","v":2},{"$f":"VLOOKUP(A151,Lookups!$A$126:$C$135,2)","v":"Food"},"No",0,{"$f":"IF($R151<>3,VLOOKUP($D151,'Points Table A'!$B$3:$F$33,5),VLOOKUP($D151,'Points Table A'!$H$3:$L$33,5))","v":0},{"$f":"IF($R151<>3,VLOOKUP($E151,'Points Table A'!$C$3:$F$33,4),VLOOKUP($E151,'Points Table A'!$I$3:$L$33,4))","v":0},{"$f":"IF($R151<>3,VLOOKUP($F151,'Points Table A'!$D$3:$F$33,3),VLOOKUP($F151,'Points Table A'!$J$3:$L$33,3))","v":0},{"$f":"IF($R151<>3,VLOOKUP($G151,'Points Table A'!$E$3:$F$33,2),VLOOKUP($G151,'Points Table A'!$K$3:$L$33,2))","v":0},0,{"$f":"IF($T151=Lookups!$B$113,VLOOKUP($J151,'Points Table C'!$A$3:$F$11,5),VLOOKUP($U151,'Points Table C'!$B$3:$F$11,4))","v":0},{"$f":"IF($R151=1,0,VLOOKUP($N151,'Points Table C'!$C$3:$E$18,3))","v":0},{"$f":"VLOOKUP($I151,'Points Table C'!$D$3:$E$18,2)","v":0},{"$f":"IF($Z151<Lookups!$C$106,(AA151+AB151+AC151),IF(AA151>=Lookups!$C$120,(AA151+AB151+AC151),AA151+AB151))","v":0}]
["Non-core foods","Enter a food name here","Company name",0,0,0,0,0,0,0,0,0,{"$f":"IF((SUM(D152:L152)=0),\"J\",VLOOKUP(P152,Lookups!$A$1:$B$11,2))","v":"J"},{"$f":"H152+(L152*Lookups!$C$102*H152/100)","v":0},0,{"$f":"IF(ROUND(10.499-(((O152-VLOOKUP($A152,Lookups!$A$55:$D$64,3))/(VLOOKUP($A152,Lookups!$A$55:$D$64,4))*VLOOKUP($A152,Lookups!$C$2:$D$11,2))),0)<1,1,IF(ROUND(10.499-(((O152-VLOOKUP($A152,Lookups!$A$55:$D$64,3))/(VLOOKUP($A152,Lookups!$A$55:$D$64,4))*VLOOKUP($A152,Lookups!$C$2:$D$11,2))),0)<11,ROUND(10.499-(((O152-VLOOKUP($A152,Lookups!$A$55:$D$64,3))/(VLOOKUP($A152,Lookups!$A$55:$D$64,4))*VLOOKUP($A152,Lookups!$C$2:$D$11,2))),0),10))","v":7},null,{"$f":"VLOOKUP(A152,Lookups!$A$126:$C$135,3)","v":2},{"$f":"VLOOKUP(A152,Lookups!$A$126:$C$135,2)","v":"Food"},"No",0,{"$f":"IF($R152<>3,VLOOKUP($D152,'Points Table A'!$B$3:$F$33,5),VLOOKUP($D152,'Points Table A'!$H$3:$L$33,5))","v":0},{"$f":"IF($R152<>3,VLOOKUP($E152,'Points Table A'!$C$3:$F$33,4),VLOOKUP($E152,'Points Table A'!$I$3:$L$33,4))","v":0},{"$f":"IF($R152<>3,VLOOKUP($F152,'Points Table A'!$D$3:$F$33,3),VLOOKUP($F152,'Points Table A'!$J$3:$L$33,3))","v":0},{"$f":"IF($R152<>3,VLOOKUP($G152,'Points Table A'!$E$3:$F$33,2),VLOOKUP($G152,'Points Table A'!$K$3:$L$33,2))","v":0},0,{"$f":"IF($T152=Lookups!$B$113,VLOOKUP($J152,'Points Table C'!$A$3:$F$11,5),VLOOKUP($U152,'Points Table C'!$B$3:$F$11,4))","v":0},{"$f":"IF($R152=1,0,VLOOKUP($N152,'Points Table C'!$C$3:$E$18,3))","v":0},{"$f":"VLOOKUP($I152,'Points Table C'!$D$3:$E$18,2)","v":0},{"$f":"IF($Z152<Lookups!$C$106,(AA152+AB152+AC152),IF(AA152>=Lookups!$C$120,(AA152+AB152+AC152),AA152+AB152))","v":0}]
["Non-core foods","Enter a food name here","Company name",0,0,0,0,0,0,0,0,0,{"$f":"IF((SUM(D153:L153)=0),\"J\",VLOOKUP(P153,Lookups!$A$1:$B$11,2))","v":"J"},{"$f":"H153+(L153*Lookups!$C$102*H153/100)","v":0},0,{"$f":"IF(ROUND(10.499-(((O153-VLOOKUP($A153,Lookups!$A$55:$D$64,3))/(VLOOKUP($A153,Lookups!$A$55:$D$64,4))*VLOOKUP($A153,Lookups!$C$2:$D$11,2))),0)<1,1,IF(ROUND(10.499-(((O153-VLOOKUP($A153,Lookups!$A$55:$D$64,3))/(VLOOKUP($A153,Lookups!$A$55:$D$64,4))*VLOOKUP($A153,Lookups!$C$2:$D$11,2))),0)<11,ROUND(10.499-(((O153-VLOOKUP($A153,Lookups!$A$55:$D$64,3))/(VLOOKUP($A153,Lookups!$A$55:$D$64,4))*VLOOKUP($A153,Lookups!$C$2:$D$11,2))),0),10))","v":7},null,{"$f":"VLOOKUP(A153,Lookups!$A$126:$C$135,3)","v":2},{"$f":"VLOOKUP(A153,Lookups!$A$126:$C$135,2)","v":"Food"},"No",0,{"$f":"IF($R153<>3,VLOOKUP($D153,'Points Table A'!$B$3:$F$33,5),VLOOKUP($D153,'Points Table A'!$H$3:$L$33,5))","v":0},{"$f":"IF($R153<>3,VLOOKUP($E153,'Points Table A'!$C$3:$F$33,4),VLOOKUP($E153,'Points Table A'!$I$3:$L$33,4))","v":0},{"$f":"IF($R153<>3,VLOOKUP($F153,'Points Table A'!$D$3:$F$33,3),VLOOKUP($F153,'Points Table A'!$J$3:$L$33,3))","v":0},{"$f":"IF($R153<>3,VLOOKUP($G153,'Points Table A'!$E$3:$F$33,2),VLOOKUP($G153,'Points Table A'!$K$3:$L$33,2))","v":0},0,{"$f":"IF($T153=Lookups!$B$113,VLOOKUP($J153,'Points Table C'!$A$3:$F$11,5),VLOOKUP($U153,'Points Table C'!$B$3:$F$11,4))","v":0},{"$f":"IF($R153=1,0,VLOOKUP($N153,'Points Table C'!$C$3:$E$18,3))","v":0},{"$f":"VLOOKUP($I153,'Points Table C'!$D$3:$E$18,2)","v":0},{"$f":"IF($Z153<Lookups!$C$106,(AA153+AB153+AC153),IF(AA153>=Lookups!$C$120,(AA153+AB153+AC153),AA153+AB153))","v":0}]
["Non-core foods","Enter a food name here","Company name",0,0,0,0,0,0,0,0,0,{"$f":"IF((SUM(D154:L154)=0),\"J\",VLOOKUP(P154,Lookups!$A$1:$B$11,2))","v":"J"},{"$f":"H154+(L154*Lookups!$C$102*H154/100)","v":0},0,{"$f":"IF(ROUND(10.499-(((O154-VLOOKUP($A154,Lookups!$A$55:$D$64,3))/(VLOOKUP($A154,Lookups!$A$55:$D$64,4))*VLOOKUP($A154,Lookups!$C$2:$D$11,2))),0)<1,1,IF(ROUND(10.499-(((O154-VLOOKUP($A154,Lookups!$A$55:$D$64,3))/(VLOOKUP($A154,Lookups!$A$55:$D$64,4))*VLOOKUP($A154,Lookups!$C$2:$D$11,2))),0)<11,ROUND(10.499-(((O154-VLOOKUP($A154,Lookups!$A$55:$D$64,3))/(VLOOKUP($A154,Lookups!$A$55:$D$64,4))*VLOOKUP($A154,Lookups!$C$2:$D$11,2))),0),10))","v":7},null,{"$f":"VLOOKUP(A154,Lookups!$A$126:$C$135,3)","v":2},{"$f":"VLOOKUP(A154,Lookups!$A$126:$C$135,2)","v":"Food"},"No",0,{"$f":"IF($R154<>3,VLOOKUP($D154,'Points Table A'!$B$3:$F$33,5),VLOOKUP($D154,'Points Table A'!$H$3:$L$33,5))","v":0},{"$f":"IF($R154<>3,VLOOKUP($E154,'Points Table A'!$C$3:$F$33,4),VLOOKUP($E154,'Points Table A'!$I$3:$L$33,4))","v":0},{"$f":"IF($R154<>3,VLOOKUP($F154,'Points Table A'!$D$3:$F$33,3),VLOOKUP($F154,'Points Table A'!$J$3:$L$33,3))","v":0},{"$f":"IF($R154<>3,VLOOKUP($G154,'Points Table A'!$E$3:$F$33,2),VLOOKUP($G154,'Points Table A'!$K$3:$L$33,2))","v":0},0,{"$f":"IF($T154=Lookups!$B$113,VLOOKUP($J154,'Points Table C'!$A$3:$F$11,5),VLOOKUP($U154,'Points Table C'!$B$3:$F$11,4))","v":0},{"$f":"IF($R154=1,0,VLOOKUP($N154,'Points Table C'!$C$3:$E$18,3))","v":0},{"$f":"VLOOKUP($I154,'Points Table C'!$D$3:$E$18,2)","v":0},{"$f":"IF($Z154<Lookups!$C$106,(AA154+AB154+AC154),IF(AA154>=Lookups!$C$120,(AA154+AB154+AC154),AA154+AB154))","v":0}]
["Non-core foods","Enter a food name here","Company name",0,0,0,0,0,0,0,0,0,{"$f":"IF((SUM(D155:L155)=0),\"J\",VLOOKUP(P155,Lookups!$A$1:$B$11,2))","v":"J"},{"$f":"H155+(L155*Lookups!$C$102*H155/100)","v":0},0,{"$f":"IF(ROUND(10.499-(((O155-VLOOKUP($A155,Lookups!$A$55:$D$64,3))/(VLOOKUP($A155,Lookups!$A$55:$D$64,4))*VLOOKUP($A155,Lookups!$C$2:$D$11,2))),0)<1,1,IF(ROUND(10.499-(((O155-VLOOKUP($A155,Lookups!$A$55:$D$64,3))/(VLOOKUP($A155,Lookups!$A$55:$D$64,4))*VLOOKUP($A155,Lookups!$C$2:$D$11,2))),0)<11,ROUND(10.499-(((O155-VLOOKUP($A155,Lookups!$A$55:$D$64,3))/(VLOOKUP($A155,Lookups!$A$55:$D$64,4))*VLOOKUP($A155,Lookups!$C$2:$D$11,2))),0),10))","v":7},null,{"$f":"VLOOKUP(A155,Lookups!$A$126:$C$135,3)","v":2},{"$f":"VLOOKUP(A155,Lookups!$A$126:$C$135,2)","v":"Food"},"No",0,{"$f":"IF($R155<>3,VLOOKUP($D155,'Points Table A'!$B$3:$F$33,5),VLOOKUP($D155,'Points Table A'!$H$3:$L$33,5))","v":0},{"$f":"IF($R155<>3,VLOOKUP($E155,'Points Table A'!$C$3:$F$33,4),VLOOKUP($E155,'Points Table A'!$I$3:$L$33,4))","v":0},{"$f":"IF($R155<>3,VLOOKUP($F155,'Points Table A'!$D$3:$F$33,3),VLOOKUP($F155,'Points Table A'!$J$3:$L$33,3))","v":0},{"$f":"IF($R155<>3,VLOOKUP($G155,'Points Table A'!$E$3:$F$33,2),VLOOKUP($G155,'Points Table A'!$K$3:$L$33,2))","v":0},0,{"$f":"IF($T155=Lookups!$B$113,VLOOKUP($J155,'Points Table C'!$A$3:$F$11,5),VLOOKUP($U155,'Points Table C'!$B$3:$F$11,4))","v":0},{"$f":"IF($R155=1,0,VLOOKUP($N155,'Points Table C'!$C$3:$E$18,3))","v":0},{"$f":"VLOOKUP($I155,'Points Table C'!$D$3:$E$18,2)","v":0},{"$f":"IF($Z155<Lookups!$C$106,(AA155+AB155+AC155),IF(AA155>=Lookups!$C$120,(AA155+AB155+AC155),AA155+AB155))","v":0}]
["Non-core foods","Enter a food name here","Company name",0,0,0,0,0,0,0,0,0,{"$f":"IF((SUM(D156:L156)=0),\"J\",VLOOKUP(P156,Lookups!$A$1:$B$11,2))","v":"J"},{"$f":"H156+(L156*Lookups!$C$102*H156/100)","v":0},0,{"$f":"IF(ROUND(10.499-(((O156-VLOOKUP($A156,Lookups!$A$55:$D$64,3))/(VLOOKUP($A156,Lookups!$A$55:$D$64,4))*VLOOKUP($A156,Lookups!$C$2:$D$11,2))),0)<1,1,IF(ROUND(10.499-(((O156-VLOOKUP($A156,Lookups!$A$55:$D$64,3))/(VLOOKUP($A156,Lookups!$A$55:$D$64,4))*VLOOKUP($A156,Lookups!$C$2:$D$11,2))),0)<11,ROUND(10.499-(((O156-VLOOKUP($A156,Lookups!$A$55:$D$64,3))/(VLOOKUP($A156,Lookups!$A$55:$D$64,4))*VLOOKUP($A156,Lookups!$C$2:$D$11,2))),0),10))","v":7},null,{"$f":"VLOOKUP(A156,Lookups!$A$126:$C$135,3)","v":2},{"$f":"VLOOKUP(A156,Lookups!$A$126:$C$135,2)","v":"Food"},"No",0,{"$f":"IF($R156<>3,VLOOKUP($D156,'Points Table A'!$B$3:$F$33,5),VLOOKUP($D156,'Points Table A'!$H$3:$L$33,5))","v":0},{"$f":"IF($R156<>3,VLOOKUP($E156,'Points Table A'!$C$3:$F$33,4),VLOOKUP($E156,'Points Table A'!$I$3:$L$33,4))","v":0},{"$f":"IF($R156<>3,VLOOKUP($F156,'Points Table A'!$D$3:$F$33,3),VLOOKUP($F156,'Points Table A'!$J$3:$L$33,3))","v":0},{"$f":"IF($R156<>3,VLOOKUP($G156,'Points Table A'!$E$3:$F$33,2),VLOOKUP($G156,'Points Table A'!$K$3:$L$33,2))","v":0},0,{"$f":"IF($T156=Lookups!$B$113,VLOOKUP($J156,'Points Table C'!$A$3:$F$11,5),VLOOKUP($U156,'Points Table C'!$B$3:$F$11,4))","v":0},{"$f":"IF($R156=1,0,VLOOKUP($N156,'Points Table C'!$C$3:$E$18,3))","v":0},{"$f":"VLOOKUP($I156,'Points Table C'!$D$3:$E$18,2)","v":0},{"$f":"IF($Z156<Lookups!$C$106,(AA156+AB156+AC156),IF(AA156>=Lookups!$C$120,(AA156+AB156+AC156),AA156+AB156))","v":0}]
["Non-core foods","Enter a food name here","Company name",0,0,0,0,0,0,0,0,0,{"$f":"IF((SUM(D157:L157)=0),\"J\",VLOOKUP(P157,Lookups!$A$1:$B$11,2))","v":"J"},{"$f":"H157+(L157*Lookups!$C$102*H157/100)","v":0},0,{"$f":"IF(ROUND(10.499-(((O157-VLOOKUP($A157,Lookups!$A$55:$D$64,3))/(VLOOKUP($A157,Lookups!$A$55:$D$64,4))*VLOOKUP($A157,Lookups!$C$2:$D$11,2))),0)<1,1,IF(ROUND(10.499-(((O157-VLOOKUP($A157,Lookups!$A$55:$D$64,3))/(VLOOKUP($A157,Lookups!$A$55:$D$64,4))*VLOOKUP($A157,Lookups!$C$2:$D$11,2))),0)<11,ROUND(10.499-(((O157-VLOOKUP($A157,Lookups!$A$55:$D$64,3))/(VLOOKUP($A157,Lookups!$A$55:$D$64,4))*VLOOKUP($A157,Lookups!$C$2:$D$11,2))),0),10))","v":7},null,{"$f":"VLOOKUP(A157,Lookups!$A$126:$C$135,3)","v":2},{"$f":"VLOOKUP(A157,Lookups!$A$126:$C$135,2)","v":"Food"},"No",0,{"$f":"IF($R157<>3,VLOOKUP($D157,'Points Table A'!$B$3:$F$33,5),VLOOKUP($D157,'Points Table A'!$H$3:$L$33,5))","v":0},{"$f":"IF($R157<>3,VLOOKUP($E157,'Points Table A'!$C$3:$F$33,4),VLOOKUP($E157,'Points Table A'!$I$3:$L$33,4))","v":0},{"$f":"IF($R157<>3,VLOOKUP($F157,'Points Table A'!$D$3:$F$33,3),VLOOKUP($F157,'Points Table A'!$J$3:$L$33,3))","v":0},{"$f":"IF($R157<>3,VLOOKUP($G157,'Points Table A'!$E$3:$F$33,2),VLOOKUP($G157,'Points Table A'!$K$3:$L$33,2))","v":0},0,{"$f":"IF($T157=Lookups!$B$113,VLOOKUP($J157,'Points Table C'!$A$3:$F$11,5),VLOOKUP($U157,'Points Table C'!$B$3:$F$11,4))","v":0},{"$f":"IF($R157=1,0,VLOOKUP($N157,'Points Table C'!$C$3:$E$18,3))","v":0},{"$f":"VLOOKUP($I157,'Points Table C'!$D$3:$E$18,2)","v":0},{"$f":"IF($Z157<Lookups!$C$106,(AA157+AB157+AC157),IF(AA157>=Lookups!$C$120,(AA157+AB157+AC157),AA157+AB157))","v":0}]
["Non-core foods","Enter a food name here","Company name",0,0,0,0,0,0,0,0,0,{"$f":"IF((SUM(D158:L158)=0),\"J\",VLOOKUP(P158,Lookups!$A$1:$B$11,2))","v":"J"},{"$f":"H158+(L158*Lookups!$C$102*H158/100)","v":0},0,{"$f":"IF(ROUND(10.499-(((O158-VLOOKUP($A158,Lookups!$A$55:$D$64,3))/(VLOOKUP($A158,Lookups!$A$55:$D$64,4))*VLOOKUP($A158,Lookups!$C$2:$D$11,2))),0)<1,1,IF(ROUND(10.499-(((O158-VLOOKUP($A158,Lookups!$A$55:$D$64,3))/(VLOOKUP($A158,Lookups!$A$55:$D$64,4))*VLOOKUP($A158,Lookups!$C$2:$D$11,2))),0)<11,ROUND(10.499-(((O158-VLOOKUP($A158,Lookups!$A$55:$D$64,3))/(VLOOKUP($A158,Lookups!$A$55:$D$64,4))*VLOOKUP($A158,Lookups!$C$2:$D$11,2))),0),10))","v":7},null,{"$f":"VLOOKUP(A158,Lookups!$A$126:$C$135,3)","v":2},{"$f":"VLOOKUP(A158,Lookups!$A$126:$C$135,2)","v":"Food"},"No",0,{"$f":"IF($R158<>3,VLOOKUP($D158,'Points Table A'!$B$3:$F$33,5),VLOOKUP($D158,'Points Table A'!$H$3:$L$33,5))","v":0},{"$f":"IF($R158<>3,VLOOKUP($E158,'Points Table A'!$C$3:$F$33,4),VLOOKUP($E158,'Points Table A'!$I$3:$L$33,4))","v":0},{"$f":"IF($R158<>3,VLOOKUP($F158,'Points Table A'!$D$3:$F$33,3),VLOOKUP($F158,'Points Table A'!$J$3:$L$33,3))","v":0},{"$f":"IF($R158<>3,VLOOKUP($G158,'Points Table A'!$E$3:$F$33,2),VLOOKUP($G158,'Points Table A'!$K$3:$L$33,2))","v":0},0,{"$f":"IF($T158=Lookups!$B$113,VLOOKUP($J158,'Points Table C'!$A$3:$F$11,5),VLOOKUP($U158,'Points Table C'!$B$3:$F$11,4))","v":0},{"$f":"IF($R158=1,0,VLOOKUP($N158,'Points Table C'!$C$3:$E$18,3))","v":0},{"$f":"VLOOKUP($I158,'Points Table C'!$D$3:$E$18,2)","v":0},{"$f":"IF($Z158<Lookups!$C$106,(AA158+AB158+AC158),IF(AA158>=Lookups!$C$120,(AA158+AB158+AC158),AA158+AB158))","v":0}]
["Non-core foods","Enter a food name here","Company name",0,0,0,0,0,0,0,0,0,{"$f":"IF((SUM(D159:L159)=0),\"J\",VLOOKUP(P159,Lookups!$A$1:$B$11,2))","v":"J"},{"$f":"H159+(L159*Lookups!$C$102*H159/100)","v":0},0,{"$f":"IF(ROUND(10.499-(((O159-VLOOKUP($A159,Lookups!$A$55:$D$64,3))/(VLOOKUP($A159,Lookups!$A$55:$D$64,4))*VLOOKUP($A159,Lookups!$C$2:$D$11,2))),0)<1,1,IF(ROUND(10.499-(((O159-VLOOKUP($A159,Lookups!$A$55:$D$64,3))/(VLOOKUP($A159,Lookups!$A$55:$D$64,4))*VLOOKUP($A159,Lookups!$C$2:$D$11,2))),0)<11,ROUND(10.499-(((O159-VLOOKUP($A159,Lookups!$A$55:$D$64,3))/(VLOOKUP($A159,Lookups!$A$55:$D$64,4))*VLOOKUP($A159,Lookups!$C$2:$D$11,2))),0),10))","v":7},null,{"$f":"VLOOKUP(A159,Lookups!$A$126:$C$135,3)","v":2},{"$f":"VLOOKUP(A159,Lookups!$A$126:$C$135,2)","v":"Food"},"No",0,{"$f":"IF($R159<>3,VLOOKUP($D159,'Points Table A'!$B$3:$F$33,5),VLOOKUP($D159,'Points Table A'!$H$3:$L$33,5))","v":0},{"$f":"IF($R159<>3,VLOOKUP($E159,'Points Table A'!$C$3:$F$33,4),VLOOKUP($E159,'Points Table A'!$I$3:$L$33,4))","v":0},{"$f":"IF($R159<>3,VLOOKUP($F159,'Points Table A'!$D$3:$F$33,3),VLOOKUP($F159,'Points Table A'!$J$3:$L$33,3))","v":0},{"$f":"IF($R159<>3,VLOOKUP($G159,'Points Table A'!$E$3:$F$33,2),VLOOKUP($G159,'Points Table A'!$K$3:$L$33,2))","v":0},0,{"$f":"IF($T159=Lookups!$B$113,VLOOKUP($J159,'Points Table C'!$A$3:$F$11,5),VLOOKUP($U159,'Points Table C'!$B$3:$F$11,4))","v":0},{"$f":"IF($R159=1,0,VLOOKUP($N159,'Points Table C'!$C$3:$E$18,3))","v":0},{"$f":"VLOOKUP($I159,'Points Table C'!$D$3:$E$18,2)","v":0},{"$f":"IF($Z159<Lookups!$C$106,(AA159+AB159+AC159),IF(AA159>=Lookups!$C$120,(AA159+AB159+AC159),AA159+AB159))","v":0}]
["Non-core foods","Enter a food name here","Company name",0,0,0,0,0,0,0,0,0,{"$f":"IF((SUM(D160:L160)=0),\"J\",VLOOKUP(P160,Lookups!$A$1:$B$11,2))","v":"J"},{"$f":"H160+(L160*Lookups!$C$102*H160/100)","v":0},0,{"$f":"IF(ROUND(10.499-(((O160-VLOOKUP($A160,Lookups!$A$55:$D$64,3))/(VLOOKUP($A160,Lookups!$A$55:$D$64,4))*VLOOKUP($A160,Lookups!$C$2:$D$11,2))),0)<1,1,IF(ROUND(10.499-(((O160-VLOOKUP($A160,Lookups!$A$55:$D$64,3))/(VLOOKUP($A160,Lookups!$A$55:$D$64,4))*VLOOKUP($A160,Lookups!$C$2:$D$11,2))),0)<11,ROUND(10.499-(((O160-VLOOKUP($A160,Lookups!$A$55:$D$64,3))/(VLOOKUP($A160,Lookups!$A$55:$D$64,4))*VLOOKUP($A160,Lookups!$C$2:$D$11,2))),0),10))","v":7},null,{"$f":"VLOOKUP(A160,Lookups!$A$126:$C$135,3)","v":2},{"$f":"VLOOKUP(A160,Lookups!$A$126:$C$135,2)","v":"Food"},"No",0,{"$f":"IF($R160<>3,VLOOKUP($D160,'Points Table A'!$B$3:$F$33,5),VLOOKUP($D160,'Points Table A'!$H$3:$L$33,5))","v":0},{"$f":"IF($R160<>3,VLOOKUP($E160,'Points Table A'!$C$3:$F$33,4),VLOOKUP($E160,'Points Table A'!$I$3:$L$33,4))","v":0},{"$f":"IF($R160<>3,VLOOKUP($F160,'Points Table A'!$D$3:$F$33,3),VLOOKUP($F160,'Points Table A'!$J$3:$L$33,3))","v":0},{"$f":"IF($R160<>3,VLOOKUP($G160,'Points Table A'!$E$3:$F$33,2),VLOOKUP($G160,'Points Table A'!$K$3:$L$33,2))","v":0},0,{"$f":"IF($T160=Lookups!$B$113,VLOOKUP($J160,'Points Table C'!$A$3:$F$11,5),VLOOKUP($U160,'Points Table C'!$B$3:$F$11,4))","v":0},{"$f":"IF($R160=1,0,VLOOKUP($N160,'Points Table C'!$C$3:$E$18,3))","v":0},{"$f":"VLOOKUP($I160,'Points Table C'!$D$3:$E$18,2)","v":0},{"$f":"IF($Z160<Lookups!$C$106,(AA160+AB160+AC160),IF(AA160>=Lookups!$C$120,(AA160+AB160+AC160),AA160+AB160))","v":0}]
["Non-core foods","Enter a food name here","Company name",0,0,0,0,0,0,0,0,0,{"$f":"IF((SUM(D161:L161)=0),\"J\",VLOOKUP(P161,Lookups!$A$1:$B$11,2))","v":"J"},{"$f":"H161+(L161*Lookups!$C$102*H161/100)","v":0},0,{"$f":"IF(ROUND(10.499-(((O161-VLOOKUP($A161,Lookups!$A$55:$D$64,3))/(VLOOKUP($A161,Lookups!$A$55:$D$64,4))*VLOOKUP($A161,Lookups!$C$2:$D$11,2))),0)<1,1,IF(ROUND(10.499-(((O161-VLOOKUP($A161,Lookups!$A$55:$D$64,3))/(VLOOKUP($A161,Lookups!$A$55:$D$64,4))*VLOOKUP($A161,Lookups!$C$2:$D$11,2))),0)<11,ROUND(10.499-(((O161-VLOOKUP($A161,Lookups!$A$55:$D$64,3))/(VLOOKUP($A161,Lookups!$A$55:$D$64,4))*VLOOKUP($A161,Lookups!$C$2:$D$11,2))),0),10))","v":7},null,{"$f":"VLOOKUP(A161,Lookups!$A$126:$C$135,3)","v":2},{"$f":"VLOOKUP(A161,Lookups!$A$126:$C$135,2)","v":"Food"},"No",0,{"$f":"IF($R161<>3,VLOOKUP($D161,'Points Table A'!$B$3:$F$33,5),VLOOKUP($D161,'Points Table A'!$H$3:$L$33,5))","v":0},{"$f":"IF($R161<>3,VLOOKUP($E161,'Points Table A'!$C$3:$F$33,4),VLOOKUP($E161,'Points Table A'!$I$3:$L$33,4))","v":0},{"$f":"IF($R161<>3,VLOOKUP($F161,'Points Table A'!$D$3:$F$33,3),VLOOKUP($F161,'Points Table A'!$J$3:$L$33,3))","v":0},{"$f":"IF($R161<>3,VLOOKUP($G161,'Points Table A'!$E$3:$F$33,2),VLOOKUP($G161,'Points Table A'!$K$3:$L$33,2))","v":0},0,{"$f":"IF($T161=Lookups!$B$113,VLOOKUP($J161,'Points Table C'!$A$3:$F$11,5),VLOOKUP($U161,'Points Table C'!$B$3:$F$11,4))","v":0},{"$f":"IF($R161=1,0,VLOOKUP($N161,'Points Table C'!$C$3:$E$18,3))","v":0},{"$f":"VLOOKUP($I161,'Points Table C'!$D$3:$E$18,2)","v":0},{"$f":"IF($Z161<Lookups!$C$106,(AA161+AB161+AC161),IF(AA161>=Lookups!$C$120,(AA161+AB161+AC161),AA161+AB161))","v":0}]
["Non-core foods","Enter a food name here","Company name",0,0,0,0,0,0,0,0,0,{"$f":"IF((SUM(D162:L162)=0),\"J\",VLOOKUP(P162,Lookups!$A$1:$B$11,2))","v":"J"},{"$f":"H162+(L162*Lookups!$C$102*H162/100)","v":0},0,{"$f":"IF(ROUND(10.499-(((O162-VLOOKUP($A162,Lookups!$A$55:$D$64,3))/(VLOOKUP($A162,Lookups!$A$55:$D$64,4))*VLOOKUP($A162,Lookups!$C$2:$D$11,2))),0)<1,1,IF(ROUND(10.499-(((O162-VLOOKUP($A162,Lookups!$A$55:$D$64,3))/(VLOOKUP($A162,Lookups!$A$55:$D$64,4))*VLOOKUP($A162,Lookups!$C$2:$D$11,2))),0)<11,ROUND(10.499-(((O162-VLOOKUP($A162,Lookups!$A$55:$D$64,3))/(VLOOKUP($A162,Lookups!$A$55:$D$64,4))*VLOOKUP($A162,Lookups!$C$2:$D$11,2))),0),10))","v":7},null,{"$f":"VLOOKUP(A162,Lookups!$A$126:$C$135,3)","v":2},{"$f":"VLOOKUP(A162,Lookups!$A$126:$C$135,2)","v":"Food"},"No",0,{"$f":"IF($R162<>3,VLOOKUP($D162,'Points Table A'!$B$3:$F$33,5),VLOOKUP($D162,'Points Table A'!$H$3:$L$33,5))","v":0},{"$f":"IF($R162<>3,VLOOKUP($E162,'Points Table A'!$C$3:$F$33,4),VLOOKUP($E162,'Points Table A'!$I$3:$L$33,4))","v":0},{"$f":"IF($R162<>3,VLOOKUP($F162,'Points Table A'!$D$3:$F$33,3),VLOOKUP($F162,'Points Table A'!$J$3:$L$33,3))","v":0},{"$f":"IF($R162<>3,VLOOKUP($G162,'Points Table A'!$E$3:$F$33,2),VLOOKUP($G162,'Points Table A'!$K$3:$L$33,2))","v":0},0,{"$f":"IF($T162=Lookups!$B$113,VLOOKUP($J162,'Points Table C'!$A$3:$F$11,5),VLOOKUP($U162,'Points Table C'!$B$3:$F$11,4))","v":0},{"$f":"IF($R162=1,0,VLOOKUP($N162,'Points Table C'!$C$3:$E$18,3))","v":0},{"$f":"VLOOKUP($I162,'Points Table C'!$D$3:$E$18,2)","v":0},{"$f":"IF($Z162<Lookups!$C$106,(AA162+AB162+AC162),IF(AA162>=Lookups!$C$120,(AA162+AB162+AC162),AA162+AB162))","v":0}]
["Non-core foods","Enter a food name here","Company name",0,0,0,0,0,0,0,0,0,{"$f":"IF((SUM(D163:L163)=0),\"J\",VLOOKUP(P163,Lookups!$A$1:$B$11,2))","v":"J"},{"$f":"H163+(L163*Lookups!$C$102*H163/100)","v":0},0,{"$f":"IF(ROUND(10.499-(((O163-VLOOKUP($A163,Lookups!$A$55:$D$64,3))/(VLOOKUP($A163,Lookups!$A$55:$D$64,4))*VLOOKUP($A163,Lookups!$C$2:$D$11,2))),0)<1,1,IF(ROUND(10.499-(((O163-VLOOKUP($A163,Lookups!$A$55:$D$64,3))/(VLOOKUP($A163,Lookups!$A$55:$D$64,4))*VLOOKUP($A163,Lookups!$C$2:$D$11,2))),0)<11,ROUND(10.499-(((O163-VLOOKUP($A163,Lookups!$A$55:$D$64,3))/(VLOOKUP($A163,Lookups!$A$55:$D$64,4))*VLOOKUP($A163,Lookups!$C$2:$D$11,2))),0),10))","v":7},null,{"$f":"VLOOKUP(A163,Lookups!$A$126:$C$135,3)","v":2},{"$f":"VLOOKUP(A163,Lookups!$A$126:$C$135,2)","v":"Food"},"No",0,{"$f":"IF($R163<>3,VLOOKUP($D163,'Points Table A'!$B$3:$F$33,5),VLOOKUP($D163,'Points Table A'!$H$3:$L$33,5))","v":0},{"$f":"IF($R163<>3,VLOOKUP($E163,'Points Table A'!$C$3:$F$33,4),VLOOKUP($E163,'Points Table A'!$I$3:$L$33,4))","v":0},{"$f":"IF($R163<>3,VLOOKUP($F163,'Points Table A'!$D$3:$F$33,3),VLOOKUP($F163,'Points Table A'!$J$3:$L$33,3))","v":0},{"$f":"IF($R163<>3,VLOOKUP($G163,'Points Table A'!$E$3:$F$33,2),VLOOKUP($G163,'Points Table A'!$K$3:$L$33,2))","v":0},0,{"$f":"IF($T163=Lookups!$B$113,VLOOKUP($J163,'Points Table C'!$A$3:$F$11,5),VLOOKUP($U163,'Points Table C'!$B$3:$F$11,4))","v":0},{"$f":"IF($R163=1,0,VLOOKUP($N163,'Points Table C'!$C$3:$E$18,3))","v":0},{"$f":"VLOOKUP($I163,'Points Table C'!$D$3:$E$18,2)","v":0},{"$f":"IF($Z163<Lookups!$C$106,(AA163+AB163+AC163),IF(AA163>=Lookups!$C$120,(AA163+AB163+AC163),AA163+AB163))","v":0}]
["Non-core foods","Enter a food name here","Company name",0,0,0,0,0,0,0,0,0,{"$f":"IF((SUM(D164:L164)=0),\"J\",VLOOKUP(P164,Lookups!$A$1:$B$11,2))","v":"J"},{"$f":"H164+(L164*Lookups!$C$102*H164/100)","v":0},0,{"$f":"IF(ROUND(10.499-(((O164-VLOOKUP($A164,Lookups!$A$55:$D$64,3))/(VLOOKUP($A164,Lookups!$A$55:$D$64,4))*VLOOKUP($A164,Lookups!$C$2:$D$11,2))),0)<1,1,IF(ROUND(10.499-(((O164-VLOOKUP($A164,Lookups!$A$55:$D$64,3))/(VLOOKUP($A164,Lookups!$A$55:$D$64,4))*VLOOKUP($A164,Lookups!$C$2:$D$11,2))),0)<11,ROUND(10.499-(((O164-VLOOKUP($A164,Lookups!$A$55:$D$64,3))/(VLOOKUP($A164,Lookups!$A$55:$D$64,4))*VLOOKUP($A164,Lookups!$C$2:$D$11,2))),0),10))","v":7},null,{"$f":"VLOOKUP(A164,Lookups!$A$126:$C$135,3)","v":2},{"$f":"VLOOKUP(A164,Lookups!$A$126:$C$135,2)","v":"Food"},"No",0,{"$f":"IF($R164<>3,VLOOKUP($D164,'Points Table A'!$B$3:$F$33,5),VLOOKUP($D164,'Points Table A'!$H$3:$L$33,5))","v":0},{"$f":"IF($R164<>3,VLOOKUP($E164,'Points Table A'!$C$3:$F$33,4),VLOOKUP($E164,'Points Table A'!$I$3:$L$33,4))","v":0},{"$f":"IF($R164<>3,VLOOKUP($F164,'Points Table A'!$D$3:$F$33,3),VLOOKUP($F164,'Points Table A'!$J$3:$L$33,3))","v":0},{"$f":"IF($R164<>3,VLOOKUP($G164,'Points Table A'!$E$3:$F$33,2),VLOOKUP($G164,'Points Table A'!$K$3:$L$33,2))","v":0},0,{"$f":"IF($T164=Lookups!$B$113,VLOOKUP($J164,'Points Table C'!$A$3:$F$11,5),VLOOKUP($U164,'Points Table C'!$B$3:$F$11,4))","v":0},{"$f":"IF($R164=1,0,VLOOKUP($N164,'Points Table C'!$C$3:$E$18,3))","v":0},{"$f":"VLOOKUP($I164,'Points Table C'!$D$3:$E$18,2)","v":0},{"$f":"IF($Z164<Lookups!$C$106,(AA164+AB164+AC164),IF(AA164>=Lookups!$C$120,(AA164+AB164+AC164),AA164+AB164))","v":0}]
["Non-core foods","Enter a food name here","Company name",0,0,0,0,0,0,0,0,0,{"$f":"IF((SUM(D165:L165)=0),\"J\",VLOOKUP(P165,Lookups!$A$1:$B$11,2))","v":"J"},{"$f":"H165+(L165*Lookups!$C$102*H165/100)","v":0},0,{"$f":"IF(ROUND(10.499-(((O165-VLOOKUP($A165,Lookups!$A$55:$D$64,3))/(VLOOKUP($A165,Lookups!$A$55:$D$64,4))*VLOOKUP($A165,Lookups!$C$2:$D$11,2))),0)<1,1,IF(ROUND(10.499-(((O165-VLOOKUP($A165,Lookups!$A$55:$D$64,3))/(VLOOKUP($A165,Lookups!$A$55:$D$64,4))*VLOOKUP($A165,Lookups!$C$2:$D$11,2))),0)<11,ROUND(10.499-(((O165-VLOOKUP($A165,Lookups!$A$55:$D$64,3))/(VLOOKUP($A165,Lookups!$A$55:$D$64,4))*VLOOKUP($A165,Lookups!$C$2:$D$11,2))),0),10))","v":7},null,{"$f":"VLOOKUP(A165,Lookups!$A$126:$C$135,3)","v":2},{"$f":"VLOOKUP(A165,Lookups!$A$126:$C$135,2)","v":"Food"},"No",0,{"$f":"IF($R165<>3,VLOOKUP($D165,'Points Table A'!$B$3:$F$33,5),VLOOKUP($D165,'Points Table A'!$H$3:$L$33,5))","v":0},{"$f":"IF($R165<>3,VLOOKUP($E165,'Points Table A'!$C$3:$F$33,4),VLOOKUP($E165,'Points Table A'!$I$3:$L$33,4))","v":0},{"$f":"IF($R165<>3,VLOOKUP($F165,'Points Table A'!$D$3:$F$33,3),VLOOKUP($F165,'Points Table A'!$J$3:$L$33,3))","v":0},{"$f":"IF($R165<>3,VLOOKUP($G165,'Points Table A'!$E$3:$F$33,2),VLOOKUP($G165,'Points Table A'!$K$3:$L$33,2))","v":0},0,{"$f":"IF($T165=Lookups!$B$113,VLOOKUP($J165,'Points Table C'!$A$3:$F$11,5),VLOOKUP($U165,'Points Table C'!$B$3:$F$11,4))","v":0},{"$f":"IF($R165=1,0,VLOOKUP($N165,'Points Table C'!$C$3:$E$18,3))","v":0},{"$f":"VLOOKUP($I165,'Points Table C'!$D$3:$E$18,2)","v":0},{"$f":"IF($Z165<Lookups!$C$106,(AA165+AB165+AC165),IF(AA165>=Lookups!$C$120,(AA165+AB165+AC165),AA165+AB165))","v":0}]
["Non-core foods","Enter a food name here","Company name",0,0,0,0,0,0,0,0,0,{"$f":"IF((SUM(D166:L166)=0),\"J\",VLOOKUP(P166,Lookups!$A$1:$B$11,2))","v":"J"},{"$f":"H166+(L166*Lookups!$C$102*H166/100)","v":0},0,{"$f":"IF(ROUND(10.499-(((O166-VLOOKUP($A166,Lookups!$A$55:$D$64,3))/(VLOOKUP($A166,Lookups!$A$55:$D$64,4))*VLOOKUP($A166,Lookups!$C$2:$D$11,2))),0)<1,1,IF(ROUND(10.499-(((O166-VLOOKUP($A166,Lookups!$A$55:$D$64,3))/(VLOOKUP($A166,Lookups!$A$55:$D$64,4))*VLOOKUP($A166,Lookups!$C$2:$D$11,2))),0)<11,ROUND(10.499-(((O166-VLOOKUP($A166,Lookups!$A$55:$D$64,3))/(VLOOKUP($A166,Lookups!$A$55:$D$64,4))*VLOOKUP($A166,Lookups!$C$2:$D$11,2))),0),10))","v":7},null,{"$f":"VLOOKUP(A166,Lookups!$A$126:$C$135,3)","v":2},{"$f":"VLOOKUP(A166,Lookups!$A$126:$C$135,2)","v":"Food"},"No",0,{"$f":"IF($R166<>3,VLOOKUP($D166,'Points Table A'!$B$3:$F$33,5),VLOOKUP($D166,'Points Table A'!$H$3:$L$33,5))","v":0},{"$f":"IF($R166<>3,VLOOKUP($E166,'Points Table A'!$C$3:$F$33,4),VLOOKUP($E166,'Points Table A'!$I$3:$L$33,4))","v":0},{"$f":"IF($R166<>3,VLOOKUP($F166,'Points Table A'!$D$3:$F$33,3),VLOOKUP($F166,'Points Table A'!$J$3:$L$33,3))","v":0},{"$f":"IF($R166<>3,VLOOKUP($G166,'Points Table A'!$E$3:$F$33,2),VLOOKUP($G166,'Points Table A'!$K$3:$L$33,2))","v":0},0,{"$f":"IF($T166=Lookups!$B$113,VLOOKUP($J166,'Points Table C'!$A$3:$F$11,5),VLOOKUP($U166,'Points Table C'!$B$3:$F$11,4))","v":0},{"$f":"IF($R166=1,0,VLOOKUP($N166,'Points Table C'!$C$3:$E$18,3))","v":0},{"$f":"VLOOKUP($I166,'Points Table C'!$D$3:$E$18,2)","v":0},{"$f":"IF($Z166<Lookups!$C$106,(AA166+AB166+AC166),IF(AA166>=Lookups!$C$120,(AA166+AB166+AC166),AA166+AB166))","v":0}]
["Non-core foods","Enter a food name here","Company name",0,0,0,0,0,0,0,0,0,{"$f":"IF((SUM(D167:L167)=0),\"J\",VLOOKUP(P167,Lookups!$A$1:$B$11,2))","v":"J"},{"$f":"H167+(L167*Lookups!$C$102*H167/100)","v":0},0,{"$f":"IF(ROUND(10.499-(((O167-VLOOKUP($A167,Lookups!$A$55:$D$64,3))/(VLOOKUP($A167,Lookups!$A$55:$D$64,4))*VLOOKUP($A167,Lookups!$C$2:$D$11,2))),0)<1,1,IF(ROUND(10.499-(((O167-VLOOKUP($A167,Lookups!$A$55:$D$64,3))/(VLOOKUP($A167,Lookups!$A$55:$D$64,4))*VLOOKUP($A167,Lookups!$C$2:$D$11,2))),0)<11,ROUND(10.499-(((O167-VLOOKUP($A167,Lookups!$A$55:$D$64,3))/(VLOOKUP($A167,Lookups!$A$55:$D$64,4))*VLOOKUP($A167,Lookups!$C$2:$D$11,2))),0),10))","v":7},null,{"$f":"VLOOKUP(A167,Lookups!$A$126:$C$135,3)","v":2},{"$f":"VLOOKUP(A167,Lookups!$A$126:$C$135,2)","v":"Food"},"No",0,{"$f":"IF($R167<>3,VLOOKUP($D167,'Points Table A'!$B$3:$F$33,5),VLOOKUP($D167,'Points Table A'!$H$3:$L$33,5))","v":0},{"$f":"IF($R167<>3,VLOOKUP($E167,'Points Table A'!$C$3:$F$33,4),VLOOKUP($E167,'Points Table A'!$I$3:$L$33,4))","v":0},{"$f":"IF($R167<>3,VLOOKUP($F167,'Points Table A'!$D$3:$F$33,3),VLOOKUP($F167,'Points Table A'!$J$3:$L$33,3))","v":0},{"$f":"IF($R167<>3,VLOOKUP($G167,'Points Table A'!$E$3:$F$33,2),VLOOKUP($G167,'Points Table A'!$K$3:$L$33,2))","v":0},0,{"$f":"IF($T167=Lookups!$B$113,VLOOKUP($J167,'Points Table C'!$A$3:$F$11,5),VLOOKUP($U167,'Points Table C'!$B$3:$F$11,4))","v":0},{"$f":"IF($R167=1,0,VLOOKUP($N167,'Points Table C'!$C$3:$E$18,3))","v":0},{"$f":"VLOOKUP($I167,'Points Table C'!$D$3:$E$18,2)","v":0},{"$f":"IF($Z167<Lookups!$C$106,(AA167+AB167+AC167),IF(AA167>=Lookups!$C$120,(AA167+AB167+AC167),AA167+AB167))","v":0}]
["Non-core foods","Enter a food name here","Company name",0,0,0,0,0,0,0,0,0,{"$f":"IF((SUM(D168:L168)=0),\"J\",VLOOKUP(P168,Lookups!$A$1:$B$11,2))","v":"J"},{"$f":"H168+(L168*Lookups!$C$102*H168/100)","v":0},0,{"$f":"IF(ROUND(10.499-(((O168-VLOOKUP($A168,Lookups!$A$55:$D$64,3))/(VLOOKUP($A168,Lookups!$A$55:$D$64,4))*VLOOKUP($A168,Lookups!$C$2:$D$11,2))),0)<1,1,IF(ROUND(10.499-(((O168-VLOOKUP($A168,Lookups!$A$55:$D$64,3))/(VLOOKUP($A168,Lookups!$A$55:$D$64,4))*VLOOKUP($A168,Lookups!$C$2:$D$11,2))),0)<11,ROUND(10.499-(((O168-VLOOKUP($A168,Lookups!$A$55:$D$64,3))/(VLOOKUP($A168,Lookups!$A$55:$D$64,4))*VLOOKUP($A168,Lookups!$C$2:$D$11,2))),0),10))","v":7},null,{"$f":"VLOOKUP(A168,Lookups!$A$126:$C$135,3)","v":2},{"$f":"VLOOKUP(A168,Lookups!$A$126:$C$135,2)","v":"Food"},"No",0,{"$f":"IF($R168<>3,VLOOKUP($D168,'Points Table A'!$B$3:$F$33,5),VLOOKUP($D168,'Points Table A'!$H$3:$L$33,5))","v":0},{"$f":"IF($R168<>3,VLOOKUP($E168,'Points Table A'!$C$3:$F$33,4),VLOOKUP($E168,'Points Table A'!$I$3:$L$33,4))","v":0},{"$f":"IF($R168<>3,VLOOKUP($F168,'Points Table A'!$D$3:$F$33,3),VLOOKUP($F168,'Points Table A'!$J$3:$L$33,3))","v":0},{"$f":"IF($R168<>3,VLOOKUP($G168,'Points Table A'!$E$3:$F$33,2),VLOOKUP($G168,'Points Table A'!$K$3:$L$33,2))","v":0},0,{"$f":"IF($T168=Lookups!$B$113,VLOOKUP($J168,'Points Table C'!$A$3:$F$11,5),VLOOKUP($U168,'Points Table C'!$B$3:$F$11,4))","v":0},{"$f":"IF($R168=1,0,VLOOKUP($N168,'Points Table C'!$C$3:$E$18,3))","v":0},{"$f":"VLOOKUP($I168,'Points Table C'!$D$3:$E$18,2)","v":0},{"$f":"IF($Z168<Lookups!$C$106,(AA168+AB168+AC168),IF(AA168>=Lookups!$C$120,(AA168+AB168+AC168),AA168+AB168))","v":0}]
["Non-core foods","Enter a food name here","Company name",0,0,0,0,0,0,0,0,0,{"$f":"IF((SUM(D169:L169)=0),\"J\",VLOOKUP(P169,Lookups!$A$1:$B$11,2))","v":"J"},{"$f":"H169+(L169*Lookups!$C$102*H169/100)","v":0},0,{"$f":"IF(ROUND(10.499-(((O169-VLOOKUP($A169,Lookups!$A$55:$D$64,3))/(VLOOKUP($A169,Lookups!$A$55:$D$64,4))*VLOOKUP($A169,Lookups!$C$2:$D$11,2))),0)<1,1,IF(ROUND(10.499-(((O169-VLOOKUP($A169,Lookups!$A$55:$D$64,3))/(VLOOKUP($A169,Lookups!$A$55:$D$64,4))*VLOOKUP($A169,Lookups!$C$2:$D$11,2))),0)<11,ROUND(10.499-(((O169-VLOOKUP($A169,Lookups!$A$55:$D$64,3))/(VLOOKUP($A169,Lookups!$A$55:$D$64,4))*VLOOKUP($A169,Lookups!$C$2:$D$11,2))),0),10))","v":7},null,{"$f":"VLOOKUP(A169,Lookups!$A$126:$C$135,3)","v":2},{"$f":"VLOOKUP(A169,Lookups!$A$126:$C$135,2)","v":"Food"},"No",0,{"$f":"IF($R169<>3,VLOOKUP($D169,'Points Table A'!$B$3:$F$33,5),VLOOKUP($D169,'Points Table A'!$H$3:$L$33,5))","v":0},{"$f":"IF($R169<>3,VLOOKUP($E169,'Points Table A'!$C$3:$F$33,4),VLOOKUP($E169,'Points Table A'!$I$3:$L$33,4))","v":0},{"$f":"IF($R169<>3,VLOOKUP($F169,'Points Table A'!$D$3:$F$33,3),VLOOKUP($F169,'Points Table A'!$J$3:$L$33,3))","v":0},{"$f":"IF($R169<>3,VLOOKUP($G169,'Points Table A'!$E$3:$F$33,2),VLOOKUP($G169,'Points Table A'!$K$3:$L$33,2))","v":0},0,{"$f":"IF($T169=Lookups!$B$113,VLOOKUP($J169,'Points Table C'!$A$3:$F$11,5),VLOOKUP($U169,'Points Table C'!$B$3:$F$11,4))","v":0},{"$f":"IF($R169=1,0,VLOOKUP($N169,'Points Table C'!$C$3:$E$18,3))","v":0},{"$f":"VLOOKUP($I169,'Points Table C'!$D$3:$E$18,2)","v":0},{"$f":"IF($Z169<Lookups!$C$106,(AA169+AB169+AC169),IF(AA169>=Lookups!$C$120,(AA169+AB169+AC169),AA169+AB169))","v":0}]
["Non-core foods","Enter a food name here","Company name",0,0,0,0,0,0,0,0,0,{"$f":"IF((SUM(D170:L170)=0),\"J\",VLOOKUP(P170,Lookups!$A$1:$B$11,2))","v":"J"},{"$f":"H170+(L170*Lookups!$C$102*H170/100)","v":0},0,{"$f":"IF(ROUND(10.499-(((O170-VLOOKUP($A170,Lookups!$A$55:$D$64,3))/(VLOOKUP($A170,Lookups!$A$55:$D$64,4))*VLOOKUP($A170,Lookups!$C$2:$D$11,2))),0)<1,1,IF(ROUND(10.499-(((O170-VLOOKUP($A170,Lookups!$A$55:$D$64,3))/(VLOOKUP($A170,Lookups!$A$55:$D$64,4))*VLOOKUP($A170,Lookups!$C$2:$D$11,2))),0)<11,ROUND(10.499-(((O170-VLOOKUP($A170,Lookups!$A$55:$D$64,3))/(VLOOKUP($A170,Lookups!$A$55:$D$64,4))*VLOOKUP($A170,Lookups!$C$2:$D$11,2))),0),10))","v":7},null,{"$f":"VLOOKUP(A170,Lookups!$A$126:$C$135,3)","v":2},{"$f":"VLOOKUP(A170,Lookups!$A$126:$C$135,2)","v":"Food"},"No",0,{"$f":"IF($R170<>3,VLOOKUP($D170,'Points Table A'!$B$3:$F$33,5),VLOOKUP($D170,'Points Table A'!$H$3:$L$33,5))","v":0},{"$f":"IF($R170<>3,VLOOKUP($E170,'Points Table A'!$C$3:$F$33,4),VLOOKUP($E170,'Points Table A'!$I$3:$L$33,4))","v":0},{"$f":"IF($R170<>3,VLOOKUP($F170,'Points Table A'!$D$3:$F$33,3),VLOOKUP($F170,'Points Table A'!$J$3:$L$33,3))","v":0},{"$f":"IF($R170<>3,VLOOKUP($G170,'Points Table A'!$E$3:$F$33,2),VLOOKUP($G170,'Points Table A'!$K$3:$L$33,2))","v":0},0,{"$f":"IF($T170=Lookups!$B$113,VLOOKUP($J170,'Points Table C'!$A$3:$F$11,5),VLOOKUP($U170,'Points Table C'!$B$3:$F$11,4))","v":0},{"$f":"IF($R170=1,0,VLOOKUP($N170,'Points Table C'!$C$3:$E$18,3))","v":0},{"$f":"VLOOKUP($I170,'Points Table C'!$D$3:$E$18,2)","v":0},{"$f":"IF($Z170<Lookups!$C$106,(AA170+AB170+AC170),IF(AA170>=Lookups!$C$120,(AA170+AB170+AC170),AA170+AB170))","v":0}]
["Non-core foods","Enter a food name here","Company name",0,0,0,0,0,0,0,0,0,{"$f":"IF((SUM(D171:L171)=0),\"J\",VLOOKUP(P171,Lookups!$A$1:$B$11,2))","v":"J"},{"$f":"H171+(L171*Lookups!$C$102*H171/100)","v":0},0,{"$f":"IF(ROUND(10.499-(((O171-VLOOKUP($A171,Lookups!$A$55:$D$64,3))/(VLOOKUP($A171,Lookups!$A$55:$D$64,4))*VLOOKUP($A171,Lookups!$C$2:$D$11,2))),0)<1,1,IF(ROUND(10.499-(((O171-VLOOKUP($A171,Lookups!$A$55:$D$64,3))/(VLOOKUP($A171,Lookups!$A$55:$D$64,4))*VLOOKUP($A171,Lookups!$C$2:$D$11,2))),0)<11,ROUND(10.499-(((O171-VLOOKUP($A171,Lookups!$A$55:$D$64,3))/(VLOOKUP($A171,Lookups!$A$55:$D$64,4))*VLOOKUP($A171,Lookups!$C$2:$D$11,2))),0),10))","v":7},null,{"$f":"VLOOKUP(A171,Lookups!$A$126:$C$135,3)","v":2},{"$f":"VLOOKUP(A171,Lookups!$A$126:$C$135,2)","v":"Food"},"No",0,{"$f":"IF($R171<>3,VLOOKUP($D171,'Points Table A'!$B$3:$F$33,5),VLOOKUP($D171,'Points Table A'!$H$3:$L$33,5))","v":0},{"$f":"IF($R171<>3,VLOOKUP($E171,'Points Table A'!$C$3:$F$33,4),VLOOKUP($E171,'Points Table A'!$I$3:$L$33,4))","v":0},{"$f":"IF($R171<>3,VLOOKUP($F171,'Points Table A'!$D$3:$F$33,3),VLOOKUP($F171,'Points Table A'!$J$3:$L$33,3))","v":0},{"$f":"IF($R171<>3,VLOOKUP($G171,'Points Table A'!$E$3:$F$33,2),VLOOKUP($G171,'Points Table A'!$K$3:$L$33,2))","v":0},0,{"$f":"IF($T171=Lookups!$B$113,VLOOKUP($J171,'Points Table C'!$A$3:$F$11,5),VLOOKUP($U171,'Points Table C'!$B$3:$F$11,4))","v":0},{"$f":"IF($R171=1,0,VLOOKUP($N171,'Points Table C'!$C$3:$E$18,3))","v":0},{"$f":"VLOOKUP($I171,'Points Table C'!$D$3:$E$18,2)","v":0},{"$f":"IF($Z171<Lookups!$C$106,(AA171+AB171+AC171),IF(AA171>=Lookups!$C$120,(AA171+AB171+AC171),AA171+AB171))","v":0}]
["Non-core foods","Enter a food name here","Company name",0,0,0,0,0,0,0,0,0,{"$f":"IF((SUM(D172:L172)=0),\"J\",VLOOKUP(P172,Lookups!$A$1:$B$11,2))","v":"J"},{"$f":"H172+(L172*Lookups!$C$102*H172/100)","v":0},0,{"$f":"IF(ROUND(10.499-(((O172-VLOOKUP($A172,Lookups!$A$55:$D$64,3))/(VLOOKUP($A172,Lookups!$A$55:$D$64,4))*VLOOKUP($A172,Lookups!$C$2:$D$11,2))),0)<1,1,IF(ROUND(10.499-(((O172-VLOOKUP($A172,Lookups!$A$55:$D$64,3))/(VLOOKUP($A172,Lookups!$A$55:$D$64,4))*VLOOKUP($A172,Lookups!$C$2:$D$11,2))),0)<11,ROUND(10.499-(((O172-VLOOKUP($A172,Lookups!$A$55:$D$64,3))/(VLOOKUP($A172,Lookups!$A$55:$D$64,4))*VLOOKUP($A172,Lookups!$C$2:$D$11,2))),0),10))","v":7},null,{"$f":"VLOOKUP(A172,Lookups!$A$126:$C$135,3)","v":2},{"$f":"VLOOKUP(A172,Lookups!$A$126:$C$135,2)","v":"Food"},"No",0,{"$f":"IF($R172<>3,VLOOKUP($D172,'Points Table A'!$B$3:$F$33,5),VLOOKUP($D172,'Points Table A'!$H$3:$L$33,5))","v":0},{"$f":"IF($R172<>3,VLOOKUP($E172,'Points Table A'!$C$3:$F$33,4),VLOOKUP($E172,'Points Table A'!$I$3:$L$33,4))","v":0},{"$f":"IF($R172<>3,VLOOKUP($F172,'Points Table A'!$D$3:$F$33,3),VLOOKUP($F172,'Points Table A'!$J$3:$L$33,3))","v":0},{"$f":"IF($R172<>3,VLOOKUP($G172,'Points Table A'!$E$3:$F$33,2),VLOOKUP($G172,'Points Table A'!$K$3:$L$33,2))","v":0},0,{"$f":"IF($T172=Lookups!$B$113,VLOOKUP($J172,'Points Table C'!$A$3:$F$11,5),VLOOKUP($U172,'Points Table C'!$B$3:$F$11,4))","v":0},{"$f":"IF($R172=1,0,VLOOKUP($N172,'Points Table C'!$C$3:$E$18,3))","v":0},{"$f":"VLOOKUP($I172,'Points Table C'!$D$3:$E$18,2)","v":0},{"$f":"IF($Z172<Lookups!$C$106,(AA172+AB172+AC172),IF(AA172>=Lookups!$C$120,(AA172+AB172+AC172),AA172+AB172))","v":0}]
["Non-core foods","Enter a food name here","Company name",0,0,0,0,0,0,0,0,0,{"$f":"IF((SUM(D173:L173)=0),\"J\",VLOOKUP(P173,Lookups!$A$1:$B$11,2))","v":"J"},{"$f":"H173+(L173*Lookups!$C$102*H173/100)","v":0},0,{"$f":"IF(ROUND(10.499-(((O173-VLOOKUP($A173,Lookups!$A$55:$D$64,3))/(VLOOKUP($A173,Lookups!$A$55:$D$64,4))*VLOOKUP($A173,Lookups!$C$2:$D$11,2))),0)<1,1,IF(ROUND(10.499-(((O173-VLOOKUP($A173,Lookups!$A$55:$D$64,3))/(VLOOKUP($A173,Lookups!$A$55:$D$64,4))*VLOOKUP($A173,Lookups!$C$2:$D$11,2))),0)<11,ROUND(10.499-(((O173-VLOOKUP($A173,Lookups!$A$55:$D$64,3))/(VLOOKUP($A173,Lookups!$A$55:$D$64,4))*VLOOKUP($A173,Lookups!$C$2:$D$11,2))),0),10))","v":7},null,{"$f":"VLOOKUP(A173,Lookups!$A$126:$C$135,3)","v":2},{"$f":"VLOOKUP(A173,Lookups!$A$126:$C$135,2)","v":"Food"},"No",0,{"$f":"IF($R173<>3,VLOOKUP($D173,'Points Table A'!$B$3:$F$33,5),VLOOKUP($D173,'Points Table A'!$H$3:$L$33,5))","v":0},{"$f":"IF($R173<>3,VLOOKUP($E173,'Points Table A'!$C$3:$F$33,4),VLOOKUP($E173,'Points Table A'!$I$3:$L$33,4))","v":0},{"$f":"IF($R173<>3,VLOOKUP($F173,'Points Table A'!$D$3:$F$33,3),VLOOKUP($F173,'Points Table A'!$J$3:$L$33,3))","v":0},{"$f":"IF($R173<>3,VLOOKUP($G173,'Points Table A'!$E$3:$F$33,2),VLOOKUP($G173,'Points Table A'!$K$3:$L$33,2))","v":0},0,{"$f":"IF($T173=Lookups!$B$113,VLOOKUP($J173,'Points Table C'!$A$3:$F$11,5),VLOOKUP($U173,'Points Table C'!$B$3:$F$11,4))","v":0},{"$f":"IF($R173=1,0,VLOOKUP($N173,'Points Table C'!$C$3:$E$18,3))","v":0},{"$f":"VLOOKUP($I173,'Points Table C'!$D$3:$E$18,2)","v":0},{"$f":"IF($Z173<Lookups!$C$106,(AA173+AB173+AC173),IF(AA173>=Lookups!$C$120,(AA173+AB173+AC173),AA173+AB173))","v":0}]
["Non-core foods","Enter a food name here","Company name",0,0,0,0,0,0,0,0,0,{"$f":"IF((SUM(D174:L174)=0),\"J\",VLOOKUP(P174,Lookups!$A$1:$B$11,2))","v":"J"},{"$f":"H174+(L174*Lookups!$C$102*H174/100)","v":0},0,{"$f":"IF(ROUND(10.499-(((O174-VLOOKUP($A174,Lookups!$A$55:$D$64,3))/(VLOOKUP($A174,Lookups!$A$55:$D$64,4))*VLOOKUP($A174,Lookups!$C$2:$D$11,2))),0)<1,1,IF(ROUND(10.499-(((O174-VLOOKUP($A174,Lookups!$A$55:$D$64,3))/(VLOOKUP($A174,Lookups!$A$55:$D$64,4))*VLOOKUP($A174,Lookups!$C$2:$D$11,2))),0)<11,ROUND(10.499-(((O174-VLOOKUP($A174,Lookups!$A$55:$D$64,3))/(VLOOKUP($A174,Lookups!$A$55:$D$64,4))*VLOOKUP($A174,Lookups!$C$2:$D$11,2))),0),10))","v":7},null,{"$f":"VLOOKUP(A174,Lookups!$A$126:$C$135,3)","v":2},{"$f":"VLOOKUP(A174,Lookups!$A$126:$C$135,2)","v":"Food"},"No",0,{"$f":"IF($R174<>3,VLOOKUP($D174,'Points Table A'!$B$3:$F$33,5),VLOOKUP($D174,'Points Table A'!$H$3:$L$33,5))","v":0},{"$f":"IF($R174<>3,VLOOKUP($E174,'Points Table A'!$C$3:$F$33,4),VLOOKUP($E174,'Points Table A'!$I$3:$L$33,4))","v":0},{"$f":"IF($R174<>3,VLOOKUP($F174,'Points Table A'!$D$3:$F$33,3),VLOOKUP($F174,'Points Table A'!$J$3:$L$33,3))","v":0},{"$f":"IF($R174<>3,VLOOKUP($G174,'Points Table A'!$E$3:$F$33,2),VLOOKUP($G174,'Points Table A'!$K$3:$L$33,2))","v":0},0,{"$f":"IF($T174=Lookups!$B$113,VLOOKUP($J174,'Points Table C'!$A$3:$F$11,5),VLOOKUP($U174,'Points Table C'!$B$3:$F$11,4))","v":0},{"$f":"IF($R174=1,0,VLOOKUP($N174,'Points Table C'!$C$3:$E$18,3))","v":0},{"$f":"VLOOKUP($I174,'Points Table C'!$D$3:$E$18,2)","v":0},{"$f":"IF($Z174<Lookups!$C$106,(AA174+AB174+AC174),IF(AA174>=Lookups!$C$120,(AA174+AB174+AC174),AA174+AB174))","v":0}]
["Non-core foods","Enter a food name here","Company name",0,0,0,0,0,0,0,0,0,{"$f":"IF((SUM(D175:L175)=0),\"J\",VLOOKUP(P175,Lookups!$A$1:$B$11,2))","v":"J"},{"$f":"H175+(L175*Lookups!$C$102*H175/100)","v":0},0,{"$f":"IF(ROUND(10.499-(((O175-VLOOKUP($A175,Lookups!$A$55:$D$64,3))/(VLOOKUP($A175,Lookups!$A$55:$D$64,4))*VLOOKUP($A175,Lookups!$C$2:$D$11,2))),0)<1,1,IF(ROUND(10.499-(((O175-VLOOKUP($A175,Lookups!$A$55:$D$64,3))/(VLOOKUP($A175,Lookups!$A$55:$D$64,4))*VLOOKUP($A175,Lookups!$C$2:$D$11,2))),0)<11,ROUND(10.499-(((O175-VLOOKUP($A175,Lookups!$A$55:$D$64,3))/(VLOOKUP($A175,Lookups!$A$55:$D$64,4))*VLOOKUP($A175,Lookups!$C$2:$D$11,2))),0),10))","v":7},null,{"$f":"VLOOKUP(A175,Lookups!$A$126:$C$135,3)","v":2},{"$f":"VLOOKUP(A175,Lookups!$A$126:$C$135,2)","v":"Food"},"No",0,{"$f":"IF($R175<>3,VLOOKUP($D175,'Points Table A'!$B$3:$F$33,5),VLOOKUP($D175,'Points Table A'!$H$3:$L$33,5))","v":0},{"$f":"IF($R175<>3,VLOOKUP($E175,'Points Table A'!$C$3:$F$33,4),VLOOKUP($E175,'Points Table A'!$I$3:$L$33,4))","v":0},{"$f":"IF($R175<>3,VLOOKUP($F175,'Points Table A'!$D$3:$F$33,3),VLOOKUP($F175,'Points Table A'!$J$3:$L$33,3))","v":0},{"$f":"IF($R175<>3,VLOOKUP($G175,'Points Table A'!$E$3:$F$33,2),VLOOKUP($G175,'Points Table A'!$K$3:$L$33,2))","v":0},0,{"$f":"IF($T175=Lookups!$B$113,VLOOKUP($J175,'Points Table C'!$A$3:$F$11,5),VLOOKUP($U175,'Points Table C'!$B$3:$F$11,4))","v":0},{"$f":"IF($R175=1,0,VLOOKUP($N175,'Points Table C'!$C$3:$E$18,3))","v":0},{"$f":"VLOOKUP($I175,'Points Table C'!$D$3:$E$18,2)","v":0},{"$f":"IF($Z175<Lookups!$C$106,(AA175+AB175+AC175),IF(AA175>=Lookups!$C$120,(AA175+AB175+AC175),AA175+AB175))","v":0}]
["Non-core foods","Enter a food name here","Company name",0,0,0,0,0,0,0,0,0,{"$f":"IF((SUM(D176:L176)=0),\"J\",VLOOKUP(P176,Lookups!$A$1:$B$11,2))","v":"J"},{"$f":"H176+(L176*Lookups!$C$102*H176/100)","v":0},0,{"$f":"IF(ROUND(10.499-(((O176-VLOOKUP($A176,Lookups!$A$55:$D$64,3))/(VLOOKUP($A176,Lookups!$A$55:$D$64,4))*VLOOKUP($A176,Lookups!$C$2:$D$11,2))),0)<1,1,IF(ROUND(10.499-(((O176-VLOOKUP($A176,Lookups!$A$55:$D$64,3))/(VLOOKUP($A176,Lookups!$A$55:$D$64,4))*VLOOKUP($A176,Lookups!$C$2:$D$11,2))),0)<11,ROUND(10.499-(((O176-VLOOKUP($A176,Lookups!$A$55:$D$64,3))/(VLOOKUP($A176,Lookups!$A$55:$D$64,4))*VLOOKUP($A176,Lookups!$C$2:$D$11,2))),0),10))","v":7},null,{"$f":"VLOOKUP(A176,Lookups!$A$126:$C$135,3)","v":2},{"$f":"VLOOKUP(A176,Lookups!$A$126:$C$135,2)","v":"Food"},"No",0,{"$f":"IF($R176<>3,VLOOKUP($D176,'Points Table A'!$B$3:$F$33,5),VLOOKUP($D176,'Points Table A'!$H$3:$L$33,5))","v":0},{"$f":"IF($R176<>3,VLOOKUP($E176,'Points Table A'!$C$3:$F$33,4),VLOOKUP($E176,'Points Table A'!$I$3:$L$33,4))","v":0},{"$f":"IF($R176<>3,VLOOKUP($F176,'Points Table A'!$D$3:$F$33,3),VLOOKUP($F176,'Points Table A'!$J$3:$L$33,3))","v":0},{"$f":"IF($R176<>3,VLOOKUP($G176,'Points Table A'!$E$3:$F$33,2),VLOOKUP($G176,'Points Table A'!$K$3:$L$33,2))","v":0},0,{"$f":"IF($T176=Lookups!$B$113,VLOOKUP($J176,'Points Table C'!$A$3:$F$11,5),VLOOKUP($U176,'Points Table C'!$B$3:$F$11,4))","v":0},{"$f":"IF($R176=1,0,VLOOKUP($N176,'Points Table C'!$C$3:$E$18,3))","v":0},{"$f":"VLOOKUP($I176,'Points Table C'!$D$3:$E$18,2)","v":0},{"$f":"IF($Z176<Lookups!$C$106,(AA176+AB176+AC176),IF(AA176>=Lookups!$C$120,(AA176+AB176+AC176),AA176+AB176))","v":0}]
["Non-core foods","Enter a food name here","Company name",0,0,0,0,0,0,0,0,0,{"$f":"IF((SUM(D177:L177)=0),\"J\",VLOOKUP(P177,Lookups!$A$1:$B$11,2))","v":"J"},{"$f":"H177+(L177*Lookups!$C$102*H177/100)","v":0},0,{"$f":"IF(ROUND(10.499-(((O177-VLOOKUP($A177,Lookups!$A$55:$D$64,3))/(VLOOKUP($A177,Lookups!$A$55:$D$64,4))*VLOOKUP($A177,Lookups!$C$2:$D$11,2))),0)<1,1,IF(ROUND(10.499-(((O177-VLOOKUP($A177,Lookups!$A$55:$D$64,3))/(VLOOKUP($A177,Lookups!$A$55:$D$64,4))*VLOOKUP($A177,Lookups!$C$2:$D$11,2))),0)<11,ROUND(10.499-(((O177-VLOOKUP($A177,Lookups!$A$55:$D$64,3))/(VLOOKUP($A177,Lookups!$A$55:$D$64,4))*VLOOKUP($A177,Lookups!$C$2:$D$11,2))),0),10))","v":7},null,{"$f":"VLOOKUP(A177,Lookups!$A$126:$C$135,3)","v":2},{"$f":"VLOOKUP(A177,Lookups!$A$126:$C$135,2)","v":"Food"},"No",0,{"$f":"IF($R177<>3,VLOOKUP($D177,'Points Table A'!$B$3:$F$33,5),VLOOKUP($D177,'Points Table A'!$H$3:$L$33,5))","v":0},{"$f":"IF($R177<>3,VLOOKUP($E177,'Points Table A'!$C$3:$F$33,4),VLOOKUP($E177,'Points Table A'!$I$3:$L$33,4))","v":0},{"$f":"IF($R177<>3,VLOOKUP($F177,'Points Table A'!$D$3:$F$33,3),VLOOKUP($F177,'Points Table A'!$J$3:$L$33,3))","v":0},{"$f":"IF($R177<>3,VLOOKUP($G177,'Points Table A'!$E$3:$F$33,2),VLOOKUP($G177,'Points Table A'!$K$3:$L$33,2))","v":0},0,{"$f":"IF($T177=Lookups!$B$113,VLOOKUP($J177,'Points Table C'!$A$3:$F$11,5),VLOOKUP($U177,'Points Table C'!$B$3:$F$11,4))","v":0},{"$f":"IF($R177=1,0,VLOOKUP($N177,'Points Table C'!$C$3:$E$18,3))","v":0},{"$f":"VLOOKUP($I177,'Points Table C'!$D$3:$E$18,2)","v":0},{"$f":"IF($Z177<Lookups!$C$106,(AA177+AB177+AC177),IF(AA177>=Lookups!$C$120,(AA177+AB177+AC177),AA177+AB177))","v":0}]
["Non-core foods","Enter a food name here","Company name",0,0,0,0,0,0,0,0,0,{"$f":"IF((SUM(D178:L178)=0),\"J\",VLOOKUP(P178,Lookups!$A$1:$B$11,2))","v":"J"},{"$f":"H178+(L178*Lookups!$C$102*H178/100)","v":0},0,{"$f":"IF(ROUND(10.499-(((O178-VLOOKUP($A178,Lookups!$A$55:$D$64,3))/(VLOOKUP($A178,Lookups!$A$55:$D$64,4))*VLOOKUP($A178,Lookups!$C$2:$D$11,2))),0)<1,1,IF(ROUND(10.499-(((O178-VLOOKUP($A178,Lookups!$A$55:$D$64,3))/(VLOOKUP($A178,Lookups!$A$55:$D$64,4))*VLOOKUP($A178,Lookups!$C$2:$D$11,2))),0)<11,ROUND(10.499-(((O178-VLOOKUP($A178,Lookups!$A$55:$D$64,3))/(VLOOKUP($A178,Lookups!$A$55:$D$64,4))*VLOOKUP($A178,Lookups!$C$2:$D$11,2))),0),10))","v":7},null,{"$f":"VLOOKUP(A178,Lookups!$A$126:$C$135,3)","v":2},{"$f":"VLOOKUP(A178,Lookups!$A$126:$C$135,2)","v":"Food"},"No",0,{"$f":"IF($R178<>3,VLOOKUP($D178,'Points Table A'!$B$3:$F$33,5),VLOOKUP($D178,'Points Table A'!$H$3:$L$33,5))","v":0},{"$f":"IF($R178<>3,VLOOKUP($E178,'Points Table A'!$C$3:$F$33,4),VLOOKUP($E178,'Points Table A'!$I$3:$L$33,4))","v":0},{"$f":"IF($R178<>3,VLOOKUP($F178,'Points Table A'!$D$3:$F$33,3),VLOOKUP($F178,'Points Table A'!$J$3:$L$33,3))","v":0},{"$f":"IF($R178<>3,VLOOKUP($G178,'Points Table A'!$E$3:$F$33,2),VLOOKUP($G178,'Points Table A'!$K$3:$L$33,2))","v":0},0,{"$f":"IF($T178=Lookups!$B$113,VLOOKUP($J178,'Points Table C'!$A$3:$F$11,5),VLOOKUP($U178,'Points Table C'!$B$3:$F$11,4))","v":0},{"$f":"IF($R178=1,0,VLOOKUP($N178,'Points Table C'!$C$3:$E$18,3))","v":0},{"$f":"VLOOKUP($I178,'Points Table C'!$D$3:$E$18,2)","v":0},{"$f":"IF($Z178<Lookups!$C$106,(AA178+AB178+AC178),IF(AA178>=Lookups!$C$120,(AA178+AB178+AC178),AA178+AB178))","v":0}]
["Non-core foods","Enter a food name here","Company name",0,0,0,0,0,0,0,0,0,{"$f":"IF((SUM(D179:L179)=0),\"J\",VLOOKUP(P179,Lookups!$A$1:$B$11,2))","v":"J"},{"$f":"H179+(L179*Lookups!$C$102*H179/100)","v":0},0,{"$f":"IF(ROUND(10.499-(((O179-VLOOKUP($A179,Lookups!$A$55:$D$64,3))/(VLOOKUP($A179,Lookups!$A$55:$D$64,4))*VLOOKUP($A179,Lookups!$C$2:$D$11,2))),0)<1,1,IF(ROUND(10.499-(((O179-VLOOKUP($A179,Lookups!$A$55:$D$64,3))/(VLOOKUP($A179,Lookups!$A$55:$D$64,4))*VLOOKUP($A179,Lookups!$C$2:$D$11,2))),0)<11,ROUND(10.499-(((O179-VLOOKUP($A179,Lookups!$A$55:$D$64,3))/(VLOOKUP($A179,Lookups!$A$55:$D$64,4))*VLOOKUP($A179,Lookups!$C$2:$D$11,2))),0),10))","v":7},null,{"$f":"VLOOKUP(A179,Lookups!$A$126:$C$135,3)","v":2},{"$f":"VLOOKUP(A179,Lookups!$A$126:$C$135,2)","v":"Food"},"No",0,{"$f":"IF($R179<>3,VLOOKUP($D179,'Points Table A'!$B$3:$F$33,5),VLOOKUP($D179,'Points Table A'!$H$3:$L$33,5))","v":0},{"$f":"IF($R179<>3,VLOOKUP($E179,'Points Table A'!$C$3:$F$33,4),VLOOKUP($E179,'Points Table A'!$I$3:$L$33,4))","v":0},{"$f":"IF($R179<>3,VLOOKUP($F179,'Points Table A'!$D$3:$F$33,3),VLOOKUP($F179,'Points Table A'!$J$3:$L$33,3))","v":0},{"$f":"IF($R179<>3,VLOOKUP($G179,'Points Table A'!$E$3:$F$33,2),VLOOKUP($G179,'Points Table A'!$K$3:$L$33,2))","v":0},0,{"$f":"IF($T179=Lookups!$B$113,VLOOKUP($J179,'Points Table C'!$A$3:$F$11,5),VLOOKUP($U179,'Points Table C'!$B$3:$F$11,4))","v":0},{"$f":"IF($R179=1,0,VLOOKUP($N179,'Points Table C'!$C$3:$E$18,3))","v":0},{"$f":"VLOOKUP($I179,'Points Table C'!$D$3:$E$18,2)","v":0},{"$f":"IF($Z179<Lookups!$C$106,(AA179+AB179+AC179),IF(AA179>=Lookups!$C$120,(AA179+AB179+AC179),AA179+AB179))","v":0}]
["Non-core foods","Enter a food name here","Company name",0,0,0,0,0,0,0,0,0,{"$f":"IF((SUM(D180:L180)=0),\"J\",VLOOKUP(P180,Lookups!$A$1:$B$11,2))","v":"J"},{"$f":"H180+(L180*Lookups!$C$102*H180/100)","v":0},0,{"$f":"IF(ROUND(10.499-(((O180-VLOOKUP($A180,Lookups!$A$55:$D$64,3))/(VLOOKUP($A180,Lookups!$A$55:$D$64,4))*VLOOKUP($A180,Lookups!$C$2:$D$11,2))),0)<1,1,IF(ROUND(10.499-(((O180-VLOOKUP($A180,Lookups!$A$55:$D$64,3))/(VLOOKUP($A180,Lookups!$A$55:$D$64,4))*VLOOKUP($A180,Lookups!$C$2:$D$11,2))),0)<11,ROUND(10.499-(((O180-VLOOKUP($A180,Lookups!$A$55:$D$64,3))/(VLOOKUP($A180,Lookups!$A$55:$D$64,4))*VLOOKUP($A180,Lookups!$C$2:$D$11,2))),0),10))","v":7},null,{"$f":"VLOOKUP(A180,Lookups!$A$126:$C$135,3)","v":2},{"$f":"VLOOKUP(A180,Lookups!$A$126:$C$135,2)","v":"Food"},"No",0,{"$f":"IF($R180<>3,VLOOKUP($D180,'Points Table A'!$B$3:$F$33,5),VLOOKUP($D180,'Points Table A'!$H$3:$L$33,5))","v":0},{"$f":"IF($R180<>3,VLOOKUP($E180,'Points Table A'!$C$3:$F$33,4),VLOOKUP($E180,'Points Table A'!$I$3:$L$33,4))","v":0},{"$f":"IF($R180<>3,VLOOKUP($F180,'Points Table A'!$D$3:$F$33,3),VLOOKUP($F180,'Points Table A'!$J$3:$L$33,3))","v":0},{"$f":"IF($R180<>3,VLOOKUP($G180,'Points Table A'!$E$3:$F$33,2),VLOOKUP($G180,'Points Table A'!$K$3:$L$33,2))","v":0},0,{"$f":"IF($T180=Lookups!$B$113,VLOOKUP($J180,'Points Table C'!$A$3:$F$11,5),VLOOKUP($U180,'Points Table C'!$B$3:$F$11,4))","v":0},{"$f":"IF($R180=1,0,VLOOKUP($N180,'Points Table C'!$C$3:$E$18,3))","v":0},{"$f":"VLOOKUP($I180,'Points Table C'!$D$3:$E$18,2)","v":0},{"$f":"IF($Z180<Lookups!$C$106,(AA180+AB180+AC180),IF(AA180>=Lookups!$C$120,(AA180+AB180+AC180),AA180+AB180))","v":0}]
["Non-core foods","Enter a food name here","Company name",0,0,0,0,0,0,0,0,0,{"$f":"IF((SUM(D181:L181)=0),\"J\",VLOOKUP(P181,Lookups!$A$1:$B$11,2))","v":"J"},{"$f":"H181+(L181*Lookups!$C$102*H181/100)","v":0},0,{"$f":"IF(ROUND(10.499-(((O181-VLOOKUP($A181,Lookups!$A$55:$D$64,3))/(VLOOKUP($A181,Lookups!$A$55:$D$64,4))*VLOOKUP($A181,Lookups!$C$2:$D$11,2))),0)<1,1,IF(ROUND(10.499-(((O181-VLOOKUP($A181,Lookups!$A$55:$D$64,3))/(VLOOKUP($A181,Lookups!$A$55:$D$64,4))*VLOOKUP($A181,Lookups!$C$2:$D$11,2))),0)<11,ROUND(10.499-(((O181-VLOOKUP($A181,Lookups!$A$55:$D$64,3))/(VLOOKUP($A181,Lookups!$A$55:$D$64,4))*VLOOKUP($A181,Lookups!$C$2:$D$11,2))),0),10))","v":7},null,{"$f":"VLOOKUP(A181,Lookups!$A$126:$C$135,3)","v":2},{"$f":"VLOOKUP(A181,Lookups!$A$126:$C$135,2)","v":"Food"},"No",0,{"$f":"IF($R181<>3,VLOOKUP($D181,'Points Table A'!$B$3:$F$33,5),VLOOKUP($D181,'Points Table A'!$H$3:$L$33,5))","v":0},{"$f":"IF($R181<>3,VLOOKUP($E181,'Points Table A'!$C$3:$F$33,4),VLOOKUP($E181,'Points Table A'!$I$3:$L$33,4))","v":0},{"$f":"IF($R181<>3,VLOOKUP($F181,'Points Table A'!$D$3:$F$33,3),VLOOKUP($F181,'Points Table A'!$J$3:$L$33,3))","v":0},{"$f":"IF($R181<>3,VLOOKUP($G181,'Points Table A'!$E$3:$F$33,2),VLOOKUP($G181,'Points Table A'!$K$3:$L$33,2))","v":0},0,{"$f":"IF($T181=Lookups!$B$113,VLOOKUP($J181,'Points Table C'!$A$3:$F$11,5),VLOOKUP($U181,'Points Table C'!$B$3:$F$11,4))","v":0},{"$f":"IF($R181=1,0,VLOOKUP($N181,'Points Table C'!$C$3:$E$18,3))","v":0},{"$f":"VLOOKUP($I181,'Points Table C'!$D$3:$E$18,2)","v":0},{"$f":"IF($Z181<Lookups!$C$106,(AA181+AB181+AC181),IF(AA181>=Lookups!$C$120,(AA181+AB181+AC181),AA181+AB181))","v":0}]
["Non-core foods","Enter a food name here","Company name",0,0,0,0,0,0,0,0,0,{"$f":"IF((SUM(D182:L182)=0),\"J\",VLOOKUP(P182,Lookups!$A$1:$B$11,2))","v":"J"},{"$f":"H182+(L182*Lookups!$C$102*H182/100)","v":0},0,{"$f":"IF(ROUND(10.499-(((O182-VLOOKUP($A182,Lookups!$A$55:$D$64,3))/(VLOOKUP($A182,Lookups!$A$55:$D$64,4))*VLOOKUP($A182,Lookups!$C$2:$D$11,2))),0)<1,1,IF(ROUND(10.499-(((O182-VLOOKUP($A182,Lookups!$A$55:$D$64,3))/(VLOOKUP($A182,Lookups!$A$55:$D$64,4))*VLOOKUP($A182,Lookups!$C$2:$D$11,2))),0)<11,ROUND(10.499-(((O182-VLOOKUP($A182,Lookups!$A$55:$D$64,3))/(VLOOKUP($A182,Lookups!$A$55:$D$64,4))*VLOOKUP($A182,Lookups!$C$2:$D$11,2))),0),10))","v":7},null,{"$f":"VLOOKUP(A182,Lookups!$A$126:$C$135,3)","v":2},{"$f":"VLOOKUP(A182,Lookups!$A$126:$C$135,2)","v":"Food"},"No",0,{"$f":"IF($R182<>3,VLOOKUP($D182,'Points Table A'!$B$3:$F$33,5),VLOOKUP($D182,'Points Table A'!$H$3:$L$33,5))","v":0},{"$f":"IF($R182<>3,VLOOKUP($E182,'Points Table A'!$C$3:$F$33,4),VLOOKUP($E182,'Points Table A'!$I$3:$L$33,4))","v":0},{"$f":"IF($R182<>3,VLOOKUP($F182,'Points Table A'!$D$3:$F$33,3),VLOOKUP($F182,'Points Table A'!$J$3:$L$33,3))","v":0},{"$f":"IF($R182<>3,VLOOKUP($G182,'Points Table A'!$E$3:$F$33,2),VLOOKUP($G182,'Points Table A'!$K$3:$L$33,2))","v":0},0,{"$f":"IF($T182=Lookups!$B$113,VLOOKUP($J182,'Points Table C'!$A$3:$F$11,5),VLOOKUP($U182,'Points Table C'!$B$3:$F$11,4))","v":0},{"$f":"IF($R182=1,0,VLOOKUP($N182,'Points Table C'!$C$3:$E$18,3))","v":0},{"$f":"VLOOKUP($I182,'Points Table C'!$D$3:$E$18,2)","v":0},{"$f":"IF($Z182<Lookups!$C$106,(AA182+AB182+AC182),IF(AA182>=Lookups!$C$120,(AA182+AB182+AC182),AA182+AB182))","v":0}]
["Non-core foods","Enter a food name here","Company name",0,0,0,0,0,0,0,0,0,{"$f":"IF((SUM(D183:L183)=0),\"J\",VLOOKUP(P183,Lookups!$A$1:$B$11,2))","v":"J"},{"$f":"H183+(L183*Lookups!$C$102*H183/100)","v":0},0,{"$f":"IF(ROUND(10.499-(((O183-VLOOKUP($A183,Lookups!$A$55:$D$64,3))/(VLOOKUP($A183,Lookups!$A$55:$D$64,4))*VLOOKUP($A183,Lookups!$C$2:$D$11,2))),0)<1,1,IF(ROUND(10.499-(((O183-VLOOKUP($A183,Lookups!$A$55:$D$64,3))/(VLOOKUP($A183,Lookups!$A$55:$D$64,4))*VLOOKUP($A183,Lookups!$C$2:$D$11,2))),0)<11,ROUND(10.499-(((O183-VLOOKUP($A183,Lookups!$A$55:$D$64,3))/(VLOOKUP($A183,Lookups!$A$55:$D$64,4))*VLOOKUP($A183,Lookups!$C$2:$D$11,2))),0),10))","v":7},null,{"$f":"VLOOKUP(A183,Lookups!$A$126:$C$135,3)","v":2},{"$f":"VLOOKUP(A183,Lookups!$A$126:$C$135,2)","v":"Food"},"No",0,{"$f":"IF($R183<>3,VLOOKUP($D183,'Points Table A'!$B$3:$F$33,5),VLOOKUP($D183,'Points Table A'!$H$3:$L$33,5))","v":0},{"$f":"IF($R183<>3,VLOOKUP($E183,'Points Table A'!$C$3:$F$33,4),VLOOKUP($E183,'Points Table A'!$I$3:$L$33,4))","v":0},{"$f":"IF($R183<>3,VLOOKUP($F183,'Points Table A'!$D$3:$F$33,3),VLOOKUP($F183,'Points Table A'!$J$3:$L$33,3))","v":0},{"$f":"IF($R183<>3,VLOOKUP($G183,'Points Table A'!$E$3:$F$33,2),VLOOKUP($G183,'Points Table A'!$K$3:$L$33,2))","v":0},0,{"$f":"IF($T183=Lookups!$B$113,VLOOKUP($J183,'Points Table C'!$A$3:$F$11,5),VLOOKUP($U183,'Points Table C'!$B$3:$F$11,4))","v":0},{"$f":"IF($R183=1,0,VLOOKUP($N183,'Points Table C'!$C$3:$E$18,3))","v":0},{"$f":"VLOOKUP($I183,'Points Table C'!$D$3:$E$18,2)","v":0},{"$f":"IF($Z183<Lookups!$C$106,(AA183+AB183+AC183),IF(AA183>=Lookups!$C$120,(AA183+AB183+AC183),AA183+AB183))","v":0}]
["Non-core foods","Enter a food name here","Company name",0,0,0,0,0,0,0,0,0,{"$f":"IF((SUM(D184:L184)=0),\"J\",VLOOKUP(P184,Lookups!$A$1:$B$11,2))","v":"J"},{"$f":"H184+(L184*Lookups!$C$102*H184/100)","v":0},0,{"$f":"IF(ROUND(10.499-(((O184-VLOOKUP($A184,Lookups!$A$55:$D$64,3))/(VLOOKUP($A184,Lookups!$A$55:$D$64,4))*VLOOKUP($A184,Lookups!$C$2:$D$11,2))),0)<1,1,IF(ROUND(10.499-(((O184-VLOOKUP($A184,Lookups!$A$55:$D$64,3))/(VLOOKUP($A184,Lookups!$A$55:$D$64,4))*VLOOKUP($A184,Lookups!$C$2:$D$11,2))),0)<11,ROUND(10.499-(((O184-VLOOKUP($A184,Lookups!$A$55:$D$64,3))/(VLOOKUP($A184,Lookups!$A$55:$D$64,4))*VLOOKUP($A184,Lookups!$C$2:$D$11,2))),0),10))","v":7},null,{"$f":"VLOOKUP(A184,Lookups!$A$126:$C$135,3)","v":2},{"$f":"VLOOKUP(A184,Lookups!$A$126:$C$135,2)","v":"Food"},"No",0,{"$f":"IF($R184<>3,VLOOKUP($D184,'Points Table A'!$B$3:$F$33,5),VLOOKUP($D184,'Points Table A'!$H$3:$L$33,5))","v":0},{"$f":"IF($R184<>3,VLOOKUP($E184,'Points Table A'!$C$3:$F$33,4),VLOOKUP($E184,'Points Table A'!$I$3:$L$33,4))","v":0},{"$f":"IF($R184<>3,VLOOKUP($F184,'Points Table A'!$D$3:$F$33,3),VLOOKUP($F184,'Points Table A'!$J$3:$L$33,3))","v":0},{"$f":"IF($R184<>3,VLOOKUP($G184,'Points Table A'!$E$3:$F$33,2),VLOOKUP($G184,'Points Table A'!$K$3:$L$33,2))","v":0},0,{"$f":"IF($T184=Lookups!$B$113,VLOOKUP($J184,'Points Table C'!$A$3:$F$11,5),VLOOKUP($U184,'Points Table C'!$B$3:$F$11,4))","v":0},{"$f":"IF($R184=1,0,VLOOKUP($N184,'Points Table C'!$C$3:$E$18,3))","v":0},{"$f":"VLOOKUP($I184,'Points Table C'!$D$3:$E$18,2)","v":0},{"$f":"IF($Z184<Lookups!$C$106,(AA184+AB184+AC184),IF(AA184>=Lookups!$C$120,(AA184+AB184+AC184),AA184+AB184))","v":0}]
["Non-core foods","Enter a food name here","Company name",0,0,0,0,0,0,0,0,0,{"$f":"IF((SUM(D185:L185)=0),\"J\",VLOOKUP(P185,Lookups!$A$1:$B$11,2))","v":"J"},{"$f":"H185+(L185*Lookups!$C$102*H185/100)","v":0},0,{"$f":"IF(ROUND(10.499-(((O185-VLOOKUP($A185,Lookups!$A$55:$D$64,3))/(VLOOKUP($A185,Lookups!$A$55:$D$64,4))*VLOOKUP($A185,Lookups!$C$2:$D$11,2))),0)<1,1,IF(ROUND(10.499-(((O185-VLOOKUP($A185,Lookups!$A$55:$D$64,3))/(VLOOKUP($A185,Lookups!$A$55:$D$64,4))*VLOOKUP($A185,Lookups!$C$2:$D$11,2))),0)<11,ROUND(10.499-(((O185-VLOOKUP($A185,Lookups!$A$55:$D$64,3))/(VLOOKUP($A185,Lookups!$A$55:$D$64,4))*VLOOKUP($A185,Lookups!$C$2:$D$11,2))),0),10))","v":7},null,{"$f":"VLOOKUP(A185,Lookups!$A$126:$C$135,3)","v":2},{"$f":"VLOOKUP(A185,Lookups!$A$126:$C$135,2)","v":"Food"},"No",0,{"$f":"IF($R185<>3,VLOOKUP($D185,'Points Table A'!$B$3:$F$33,5),VLOOKUP($D185,'Points Table A'!$H$3:$L$33,5))","v":0},{"$f":"IF($R185<>3,VLOOKUP($E185,'Points Table A'!$C$3:$F$33,4),VLOOKUP($E185,'Points Table A'!$I$3:$L$33,4))","v":0},{"$f":"IF($R185<>3,VLOOKUP($F185,'Points Table A'!$D$3:$F$33,3),VLOOKUP($F185,'Points Table A'!$J$3:$L$33,3))","v":0},{"$f":"IF($R185<>3,VLOOKUP($G185,'Points Table A'!$E$3:$F$33,2),VLOOKUP($G185,'Points Table A'!$K$3:$L$33,2))","v":0},0,{"$f":"IF($T185=Lookups!$B$113,VLOOKUP($J185,'Points Table C'!$A$3:$F$11,5),VLOOKUP($U185,'Points Table C'!$B$3:$F$11,4))","v":0},{"$f":"IF($R185=1,0,VLOOKUP($N185,'Points Table C'!$C$3:$E$18,3))","v":0},{"$f":"VLOOKUP($I185,'Points Table C'!$D$3:$E$18,2)","v":0},{"$f":"IF($Z185<Lookups!$C$106,(AA185+AB185+AC185),IF(AA185>=Lookups!$C$120,(AA185+AB185+AC185),AA185+AB185))","v":0}]
["Non-core foods","Enter a food name here","Company name",0,0,0,0,0,0,0,0,0,{"$f":"IF((SUM(D186:L186)=0),\"J\",VLOOKUP(P186,Lookups!$A$1:$B$11,2))","v":"J"},{"$f":"H186+(L186*Lookups!$C$102*H186/100)","v":0},0,{"$f":"IF(ROUND(10.499-(((O186-VLOOKUP($A186,Lookups!$A$55:$D$64,3))/(VLOOKUP($A186,Lookups!$A$55:$D$64,4))*VLOOKUP($A186,Lookups!$C$2:$D$11,2))),0)<1,1,IF(ROUND(10.499-(((O186-VLOOKUP($A186,Lookups!$A$55:$D$64,3))/(VLOOKUP($A186,Lookups!$A$55:$D$64,4))*VLOOKUP($A186,Lookups!$C$2:$D$11,2))),0)<11,ROUND(10.499-(((O186-VLOOKUP($A186,Lookups!$A$55:$D$64,3))/(VLOOKUP($A186,Lookups!$A$55:$D$64,4))*VLOOKUP($A186,Lookups!$C$2:$D$11,2))),0),10))","v":7},null,{"$f":"VLOOKUP(A186,Lookups!$A$126:$C$135,3)","v":2},{"$f":"VLOOKUP(A186,Lookups!$A$126:$C$135,2)","v":"Food"},"No",0,{"$f":"IF($R186<>3,VLOOKUP($D186,'Points Table A'!$B$3:$F$33,5),VLOOKUP($D186,'Points Table A'!$H$3:$L$33,5))","v":0},{"$f":"IF($R186<>3,VLOOKUP($E186,'Points Table A'!$C$3:$F$33,4),VLOOKUP($E186,'Points Table A'!$I$3:$L$33,4))","v":0},{"$f":"IF($R186<>3,VLOOKUP($F186,'Points Table A'!$D$3:$F$33,3),VLOOKUP($F186,'Points Table A'!$J$3:$L$33,3))","v":0},{"$f":"IF($R186<>3,VLOOKUP($G186,'Points Table A'!$E$3:$F$33,2),VLOOKUP($G186,'Points Table A'!$K$3:$L$33,2))","v":0},0,{"$f":"IF($T186=Lookups!$B$113,VLOOKUP($J186,'Points Table C'!$A$3:$F$11,5),VLOOKUP($U186,'Points Table C'!$B$3:$F$11,4))","v":0},{"$f":"IF($R186=1,0,VLOOKUP($N186,'Points Table C'!$C$3:$E$18,3))","v":0},{"$f":"VLOOKUP($I186,'Points Table C'!$D$3:$E$18,2)","v":0},{"$f":"IF($Z186<Lookups!$C$106,(AA186+AB186+AC186),IF(AA186>=Lookups!$C$120,(AA186+AB186+AC186),AA186+AB186))","v":0}]
["Non-core foods","Enter a food name here","Company name",0,0,0,0,0,0,0,0,0,{"$f":"IF((SUM(D187:L187)=0),\"J\",VLOOKUP(P187,Lookups!$A$1:$B$11,2))","v":"J"},{"$f":"H187+(L187*Lookups!$C$102*H187/100)","v":0},0,{"$f":"IF(ROUND(10.499-(((O187-VLOOKUP($A187,Lookups!$A$55:$D$64,3))/(VLOOKUP($A187,Lookups!$A$55:$D$64,4))*VLOOKUP($A187,Lookups!$C$2:$D$11,2))),0)<1,1,IF(ROUND(10.499-(((O187-VLOOKUP($A187,Lookups!$A$55:$D$64,3))/(VLOOKUP($A187,Lookups!$A$55:$D$64,4))*VLOOKUP($A187,Lookups!$C$2:$D$11,2))),0)<11,ROUND(10.499-(((O187-VLOOKUP($A187,Lookups!$A$55:$D$64,3))/(VLOOKUP($A187,Lookups!$A$55:$D$64,4))*VLOOKUP($A187,Lookups!$C$2:$D$11,2))),0),10))","v":7},null,{"$f":"VLOOKUP(A187,Lookups!$A$126:$C$135,3)","v":2},{"$f":"VLOOKUP(A187,Lookups!$A$126:$C$135,2)","v":"Food"},"No",0,{"$f":"IF($R187<>3,VLOOKUP($D187,'Points Table A'!$B$3:$F$33,5),VLOOKUP($D187,'Points Table A'!$H$3:$L$33,5))","v":0},{"$f":"IF($R187<>3,VLOOKUP($E187,'Points Table A'!$C$3:$F$33,4),VLOOKUP($E187,'Points Table A'!$I$3:$L$33,4))","v":0},{"$f":"IF($R187<>3,VLOOKUP($F187,'Points Table A'!$D$3:$F$33,3),VLOOKUP($F187,'Points Table A'!$J$3:$L$33,3))","v":0},{"$f":"IF($R187<>3,VLOOKUP($G187,'Points Table A'!$E$3:$F$33,2),VLOOKUP($G187,'Points Table A'!$K$3:$L$33,2))","v":0},0,{"$f":"IF($T187=Lookups!$B$113,VLOOKUP($J187,'Points Table C'!$A$3:$F$11,5),VLOOKUP($U187,'Points Table C'!$B$3:$F$11,4))","v":0},{"$f":"IF($R187=1,0,VLOOKUP($N187,'Points Table C'!$C$3:$E$18,3))","v":0},{"$f":"VLOOKUP($I187,'Points Table C'!$D$3:$E$18,2)","v":0},{"$f":"IF($Z187<Lookups!$C$106,(AA187+AB187+AC187),IF(AA187>=Lookups!$C$120,(AA187+AB187+AC187),AA187+AB187))","v":0}]
["Non-core foods","Enter a food name here","Company name",0,0,0,0,0,0,0,0,0,{"$f":"IF((SUM(D188:L188)=0),\"J\",VLOOKUP(P188,Lookups!$A$1:$B$11,2))","v":"J"},{"$f":"H188+(L188*Lookups!$C$102*H188/100)","v":0},0,{"$f":"IF(ROUND(10.499-(((O188-VLOOKUP($A188,Lookups!$A$55:$D$64,3))/(VLOOKUP($A188,Lookups!$A$55:$D$64,4))*VLOOKUP($A188,Lookups!$C$2:$D$11,2))),0)<1,1,IF(ROUND(10.499-(((O188-VLOOKUP($A188,Lookups!$A$55:$D$64,3))/(VLOOKUP($A188,Lookups!$A$55:$D$64,4))*VLOOKUP($A188,Lookups!$C$2:$D$11,2))),0)<11,ROUND(10.499-(((O188-VLOOKUP($A188,Lookups!$A$55:$D$64,3))/(VLOOKUP($A188,Lookups!$A$55:$D$64,4))*VLOOKUP($A188,Lookups!$C$2:$D$11,2))),0),10))","v":7},null,{"$f":"VLOOKUP(A188,Lookups!$A$126:$C$135,3)","v":2},{"$f":"VLOOKUP(A188,Lookups!$A$126:$C$135,2)","v":"Food"},"No",0,{"$f":"IF($R188<>3,VLOOKUP($D188,'Points Table A'!$B$3:$F$33,5),VLOOKUP($D188,'Points Table A'!$H$3:$L$33,5))","v":0},{"$f":"IF($R188<>3,VLOOKUP($E188,'Points Table A'!$C$3:$F$33,4),VLOOKUP($E188,'Points Table A'!$I$3:$L$33,4))","v":0},{"$f":"IF($R188<>3,VLOOKUP($F188,'Points Table A'!$D$3:$F$33,3),VLOOKUP($F188,'Points Table A'!$J$3:$L$33,3))","v":0},{"$f":"IF($R188<>3,VLOOKUP($G188,'Points Table A'!$E$3:$F$33,2),VLOOKUP($G188,'Points Table A'!$K$3:$L$33,2))","v":0},0,{"$f":"IF($T188=Lookups!$B$113,VLOOKUP($J188,'Points Table C'!$A$3:$F$11,5),VLOOKUP($U188,'Points Table C'!$B$3:$F$11,4))","v":0},{"$f":"IF($R188=1,0,VLOOKUP($N188,'Points Table C'!$C$3:$E$18,3))","v":0},{"$f":"VLOOKUP($I188,'Points Table C'!$D$3:$E$18,2)","v":0},{"$f":"IF($Z188<Lookups!$C$106,(AA188+AB188+AC188),IF(AA188>=Lookups!$C$120,(AA188+AB188+AC188),AA188+AB188))","v":0}]
["Non-core foods","Enter a food name here","Company name",0,0,0,0,0,0,0,0,0,{"$f":"IF((SUM(D189:L189)=0),\"J\",VLOOKUP(P189,Lookups!$A$1:$B$11,2))","v":"J"},{"$f":"H189+(L189*Lookups!$C$102*H189/100)","v":0},0,{"$f":"IF(ROUND(10.499-(((O189-VLOOKUP($A189,Lookups!$A$55:$D$64,3))/(VLOOKUP($A189,Lookups!$A$55:$D$64,4))*VLOOKUP($A189,Lookups!$C$2:$D$11,2))),0)<1,1,IF(ROUND(10.499-(((O189-VLOOKUP($A189,Lookups!$A$55:$D$64,3))/(VLOOKUP($A189,Lookups!$A$55:$D$64,4))*VLOOKUP($A189,Lookups!$C$2:$D$11,2))),0)<11,ROUND(10.499-(((O189-VLOOKUP($A189,Lookups!$A$55:$D$64,3))/(VLOOKUP($A189,Lookups!$A$55:$D$64,4))*VLOOKUP($A189,Lookups!$C$2:$D$11,2))),0),10))","v":7},null,{"$f":"VLOOKUP(A189,Lookups!$A$126:$C$135,3)","v":2},{"$f":"VLOOKUP(A189,Lookups!$A$126:$C$135,2)","v":"Food"},"No",0,{"$f":"IF($R189<>3,VLOOKUP($D189,'Points Table A'!$B$3:$F$33,5),VLOOKUP($D189,'Points Table A'!$H$3:$L$33,5))","v":0},{"$f":"IF($R189<>3,VLOOKUP($E189,'Points Table A'!$C$3:$F$33,4),VLOOKUP($E189,'Points Table A'!$I$3:$L$33,4))","v":0},{"$f":"IF($R189<>3,VLOOKUP($F189,'Points Table A'!$D$3:$F$33,3),VLOOKUP($F189,'Points Table A'!$J$3:$L$33,3))","v":0},{"$f":"IF($R189<>3,VLOOKUP($G189,'Points Table A'!$E$3:$F$33,2),VLOOKUP($G189,'Points Table A'!$K$3:$L$33,2))","v":0},0,{"$f":"IF($T189=Lookups!$B$113,VLOOKUP($J189,'Points Table C'!$A$3:$F$11,5),VLOOKUP($U189,'Points Table C'!$B$3:$F$11,4))","v":0},{"$f":"IF($R189=1,0,VLOOKUP($N189,'Points Table C'!$C$3:$E$18,3))","v":0},{"$f":"VLOOKUP($I189,'Points Table C'!$D$3:$E$18,2)","v":0},{"$f":"IF($Z189<Lookups!$C$106,(AA189+AB189+AC189),IF(AA189>=Lookups!$C$120,(AA189+AB189+AC189),AA189+AB189))","v":0}]
["Non-core foods","Enter a food name here","Company name",0,0,0,0,0,0,0,0,0,{"$f":"IF((SUM(D190:L190)=0),\"J\",VLOOKUP(P190,Lookups!$A$1:$B$11,2))","v":"J"},{"$f":"H190+(L190*Lookups!$C$102*H190/100)","v":0},0,{"$f":"IF(ROUND(10.499-(((O190-VLOOKUP($A190,Lookups!$A$55:$D$64,3))/(VLOOKUP($A190,Lookups!$A$55:$D$64,4))*VLOOKUP($A190,Lookups!$C$2:$D$11,2))),0)<1,1,IF(ROUND(10.499-(((O190-VLOOKUP($A190,Lookups!$A$55:$D$64,3))/(VLOOKUP($A190,Lookups!$A$55:$D$64,4))*VLOOKUP($A190,Lookups!$C$2:$D$11,2))),0)<11,ROUND(10.499-(((O190-VLOOKUP($A190,Lookups!$A$55:$D$64,3))/(VLOOKUP($A190,Lookups!$A$55:$D$64,4))*VLOOKUP($A190,Lookups!$C$2:$D$11,2))),0),10))","v":7},null,{"$f":"VLOOKUP(A190,Lookups!$A$126:$C$135,3)","v":2},{"$f":"VLOOKUP(A190,Lookups!$A$126:$C$135,2)","v":"Food"},"No",0,{"$f":"IF($R190<>3,VLOOKUP($D190,'Points Table A'!$B$3:$F$33,5),VLOOKUP($D190,'Points Table A'!$H$3:$L$33,5))","v":0},{"$f":"IF($R190<>3,VLOOKUP($E190,'Points Table A'!$C$3:$F$33,4),VLOOKUP($E190,'Points Table A'!$I$3:$L$33,4))","v":0},{"$f":"IF($R190<>3,VLOOKUP($F190,'Points Table A'!$D$3:$F$33,3),VLOOKUP($F190,'Points Table A'!$J$3:$L$33,3))","v":0},{"$f":"IF($R190<>3,VLOOKUP($G190,'Points Table A'!$E$3:$F$33,2),VLOOKUP($G190,'Points Table A'!$K$3:$L$33,2))","v":0},0,{"$f":"IF($T190=Lookups!$B$113,VLOOKUP($J190,'Points Table C'!$A$3:$F$11,5),VLOOKUP($U190,'Points Table C'!$B$3:$F$11,4))","v":0},{"$f":"IF($R190=1,0,VLOOKUP($N190,'Points Table C'!$C$3:$E$18,3))","v":0},{"$f":"VLOOKUP($I190,'Points Table C'!$D$3:$E$18,2)","v":0},{"$f":"IF($Z190<Lookups!$C$106,(AA190+AB190+AC190),IF(AA190>=Lookups!$C$120,(AA190+AB190+AC190),AA190+AB190))","v":0}]
["Non-core foods","Enter a food name here","Company name",0,0,0,0,0,0,0,0,0,{"$f":"IF((SUM(D191:L191)=0),\"J\",VLOOKUP(P191,Lookups!$A$1:$B$11,2))","v":"J"},{"$f":"H191+(L191*Lookups!$C$102*H191/100)","v":0},0,{"$f":"IF(ROUND(10.499-(((O191-VLOOKUP($A191,Lookups!$A$55:$D$64,3))/(VLOOKUP($A191,Lookups!$A$55:$D$64,4))*VLOOKUP($A191,Lookups!$C$2:$D$11,2))),0)<1,1,IF(ROUND(10.499-(((O191-VLOOKUP($A191,Lookups!$A$55:$D$64,3))/(VLOOKUP($A191,Lookups!$A$55:$D$64,4))*VLOOKUP($A191,Lookups!$C$2:$D$11,2))),0)<11,ROUND(10.499-(((O191-VLOOKUP($A191,Lookups!$A$55:$D$64,3))/(VLOOKUP($A191,Lookups!$A$55:$D$64,4))*VLOOKUP($A191,Lookups!$C$2:$D$11,2))),0),10))","v":7},null,{"$f":"VLOOKUP(A191,Lookups!$A$126:$C$135,3)","v":2},{"$f":"VLOOKUP(A191,Lookups!$A$126:$C$135,2)","v":"Food"},"No",0,{"$f":"IF($R191<>3,VLOOKUP($D191,'Points Table A'!$B$3:$F$33,5),VLOOKUP($D191,'Points Table A'!$H$3:$L$33,5))","v":0},{"$f":"IF($R191<>3,VLOOKUP($E191,'Points Table A'!$C$3:$F$33,4),VLOOKUP($E191,'Points Table A'!$I$3:$L$33,4))","v":0},{"$f":"IF($R191<>3,VLOOKUP($F191,'Points Table A'!$D$3:$F$33,3),VLOOKUP($F191,'Points Table A'!$J$3:$L$33,3))","v":0},{"$f":"IF($R191<>3,VLOOKUP($G191,'Points Table A'!$E$3:$F$33,2),VLOOKUP($G191,'Points Table A'!$K$3:$L$33,2))","v":0},0,{"$f":"IF($T191=Lookups!$B$113,VLOOKUP($J191,'Points Table C'!$A$3:$F$11,5),VLOOKUP($U191,'Points Table C'!$B$3:$F$11,4))","v":0},{"$f":"IF($R191=1,0,VLOOKUP($N191,'Points Table C'!$C$3:$E$18,3))","v":0},{"$f":"VLOOKUP($I191,'Points Table C'!$D$3:$E$18,2)","v":0},{"$f":"IF($Z191<Lookups!$C$106,(AA191+AB191+AC191),IF(AA191>=Lookups!$C$120,(AA191+AB191+AC191),AA191+AB191))","v":0}]
["Non-core foods","Enter a food name here","Company name",0,0,0,0,0,0,0,0,0,{"$f":"IF((SUM(D192:L192)=0),\"J\",VLOOKUP(P192,Lookups!$A$1:$B$11,2))","v":"J"},{"$f":"H192+(L192*Lookups!$C$102*H192/100)","v":0},0,{"$f":"IF(ROUND(10.499-(((O192-VLOOKUP($A192,Lookups!$A$55:$D$64,3))/(VLOOKUP($A192,Lookups!$A$55:$D$64,4))*VLOOKUP($A192,Lookups!$C$2:$D$11,2))),0)<1,1,IF(ROUND(10.499-(((O192-VLOOKUP($A192,Lookups!$A$55:$D$64,3))/(VLOOKUP($A192,Lookups!$A$55:$D$64,4))*VLOOKUP($A192,Lookups!$C$2:$D$11,2))),0)<11,ROUND(10.499-(((O192-VLOOKUP($A192,Lookups!$A$55:$D$64,3))/(VLOOKUP($A192,Lookups!$A$55:$D$64,4))*VLOOKUP($A192,Lookups!$C$2:$D$11,2))),0),10))","v":7},null,{"$f":"VLOOKUP(A192,Lookups!$A$126:$C$135,3)","v":2},{"$f":"VLOOKUP(A192,Lookups!$A$126:$C$135,2)","v":"Food"},"No",0,{"$f":"IF($R192<>3,VLOOKUP($D192,'Points Table A'!$B$3:$F$33,5),VLOOKUP($D192,'Points Table A'!$H$3:$L$33,5))","v":0},{"$f":"IF($R192<>3,VLOOKUP($E192,'Points Table A'!$C$3:$F$33,4),VLOOKUP($E192,'Points Table A'!$I$3:$L$33,4))","v":0},{"$f":"IF($R192<>3,VLOOKUP($F192,'Points Table A'!$D$3:$F$33,3),VLOOKUP($F192,'Points Table A'!$J$3:$L$33,3))","v":0},{"$f":"IF($R192<>3,VLOOKUP($G192,'Points Table A'!$E$3:$F$33,2),VLOOKUP($G192,'Points Table A'!$K$3:$L$33,2))","v":0},0,{"$f":"IF($T192=Lookups!$B$113,VLOOKUP($J192,'Points Table C'!$A$3:$F$11,5),VLOOKUP($U192,'Points Table C'!$B$3:$F$11,4))","v":0},{"$f":"IF($R192=1,0,VLOOKUP($N192,'Points Table C'!$C$3:$E$18,3))","v":0},{"$f":"VLOOKUP($I192,'Points Table C'!$D$3:$E$18,2)","v":0},{"$f":"IF($Z192<Lookups!$C$106,(AA192+AB192+AC192),IF(AA192>=Lookups!$C$120,(AA192+AB192+AC192),AA192+AB192))","v":0}]
["Non-core foods","Enter a food name here","Company name",0,0,0,0,0,0,0,0,0,{"$f":"IF((SUM(D193:L193)=0),\"J\",VLOOKUP(P193,Lookups!$A$1:$B$11,2))","v":"J"},{"$f":"H193+(L193*Lookups!$C$102*H193/100)","v":0},0,{"$f":"IF(ROUND(10.499-(((O193-VLOOKUP($A193,Lookups!$A$55:$D$64,3))/(VLOOKUP($A193,Lookups!$A$55:$D$64,4))*VLOOKUP($A193,Lookups!$C$2:$D$11,2))),0)<1,1,IF(ROUND(10.499-(((O193-VLOOKUP($A193,Lookups!$A$55:$D$64,3))/(VLOOKUP($A193,Lookups!$A$55:$D$64,4))*VLOOKUP($A193,Lookups!$C$2:$D$11,2))),0)<11,ROUND(10.499-(((O193-VLOOKUP($A193,Lookups!$A$55:$D$64,3))/(VLOOKUP($A193,Lookups!$A$55:$D$64,4))*VLOOKUP($A193,Lookups!$C$2:$D$11,2))),0),10))","v":7},null,{"$f":"VLOOKUP(A193,Lookups!$A$126:$C$135,3)","v":2},{"$f":"VLOOKUP(A193,Lookups!$A$126:$C$135,2)","v":"Food"},"No",0,{"$f":"IF($R193<>3,VLOOKUP($D193,'Points Table A'!$B$3:$F$33,5),VLOOKUP($D193,'Points Table A'!$H$3:$L$33,5))","v":0},{"$f":"IF($R193<>3,VLOOKUP($E193,'Points Table A'!$C$3:$F$33,4),VLOOKUP($E193,'Points Table A'!$I$3:$L$33,4))","v":0},{"$f":"IF($R193<>3,VLOOKUP($F193,'Points Table A'!$D$3:$F$33,3),VLOOKUP($F193,'Points Table A'!$J$3:$L$33,3))","v":0},{"$f":"IF($R193<>3,VLOOKUP($G193,'Points Table A'!$E$3:$F$33,2),VLOOKUP($G193,'Points Table A'!$K$3:$L$33,2))","v":0},0,{"$f":"IF($T193=Lookups!$B$113,VLOOKUP($J193,'Points Table C'!$A$3:$F$11,5),VLOOKUP($U193,'Points Table C'!$B$3:$F$11,4))","v":0},{"$f":"IF($R193=1,0,VLOOKUP($N193,'Points Table C'!$C$3:$E$18,3))","v":0},{"$f":"VLOOKUP($I193,'Points Table C'!$D$3:$E$18,2)","v":0},{"$f":"IF($Z193<Lookups!$C$106,(AA193+AB193+AC193),IF(AA193>=Lookups!$C$120,(AA193+AB193+AC193),AA193+AB193))","v":0}]
["Non-core foods","Enter a food name here","Company name",0,0,0,0,0,0,0,0,0,{"$f":"IF((SUM(D194:L194)=0),\"J\",VLOOKUP(P194,Lookups!$A$1:$B$11,2))","v":"J"},{"$f":"H194+(L194*Lookups!$C$102*H194/100)","v":0},0,{"$f":"IF(ROUND(10.499-(((O194-VLOOKUP($A194,Lookups!$A$55:$D$64,3))/(VLOOKUP($A194,Lookups!$A$55:$D$64,4))*VLOOKUP($A194,Lookups!$C$2:$D$11,2))),0)<1,1,IF(ROUND(10.499-(((O194-VLOOKUP($A194,Lookups!$A$55:$D$64,3))/(VLOOKUP($A194,Lookups!$A$55:$D$64,4))*VLOOKUP($A194,Lookups!$C$2:$D$11,2))),0)<11,ROUND(10.499-(((O194-VLOOKUP($A194,Lookups!$A$55:$D$64,3))/(VLOOKUP($A194,Lookups!$A$55:$D$64,4))*VLOOKUP($A194,Lookups!$C$2:$D$11,2))),0),10))","v":7},null,{"$f":"VLOOKUP(A194,Lookups!$A$126:$C$135,3)","v":2},{"$f":"VLOOKUP(A194,Lookups!$A$126:$C$135,2)","v":"Food"},"No",0,{"$f":"IF($R194<>3,VLOOKUP($D194,'Points Table A'!$B$3:$F$33,5),VLOOKUP($D194,'Points Table A'!$H$3:$L$33,5))","v":0},{"$f":"IF($R194<>3,VLOOKUP($E194,'Points Table A'!$C$3:$F$33,4),VLOOKUP($E194,'Points Table A'!$I$3:$L$33,4))","v":0},{"$f":"IF($R194<>3,VLOOKUP($F194,'Points Table A'!$D$3:$F$33,3),VLOOKUP($F194,'Points Table A'!$J$3:$L$33,3))","v":0},{"$f":"IF($R194<>3,VLOOKUP($G194,'Points Table A'!$E$3:$F$33,2),VLOOKUP($G194,'Points Table A'!$K$3:$L$33,2))","v":0},0,{"$f":"IF($T194=Lookups!$B$113,VLOOKUP($J194,'Points Table C'!$A$3:$F$11,5),VLOOKUP($U194,'Points Table C'!$B$3:$F$11,4))","v":0},{"$f":"IF($R194=1,0,VLOOKUP($N194,'Points Table C'!$C$3:$E$18,3))","v":0},{"$f":"VLOOKUP($I194,'Points Table C'!$D$3:$E$18,2)","v":0},{"$f":"IF($Z194<Lookups!$C$106,(AA194+AB194+AC194),IF(AA194>=Lookups!$C$120,(AA194+AB194+AC194),AA194+AB194))","v":0}]
["Non-core foods","Enter a food name here","Company name",0,0,0,0,0,0,0,0,0,{"$f":"IF((SUM(D195:L195)=0),\"J\",VLOOKUP(P195,Lookups!$A$1:$B$11,2))","v":"J"},{"$f":"H195+(L195*Lookups!$C$102*H195/100)","v":0},{"$f":"$Z195-$AD195","v":0},{"$f":"IF(ROUND(10.499-(((O195-VLOOKUP($A195,Lookups!$A$55:$D$64,3))/(VLOOKUP($A195,Lookups!$A$55:$D$64,4))*VLOOKUP($A195,Lookups!$C$2:$D$11,2))),0)<1,1,IF(ROUND(10.499-(((O195-VLOOKUP($A195,Lookups!$A$55:$D$64,3))/(VLOOKUP($A195,Lookups!$A$55:$D$64,4))*VLOOKUP($A195,Lookups!$C$2:$D$11,2))),0)<11,ROUND(10.499-(((O195-VLOOKUP($A195,Lookups!$A$55:$D$64,3))/(VLOOKUP($A195,Lookups!$A$55:$D$64,4))*VLOOKUP($A195,Lookups!$C$2:$D$11,2))),0),10))","v":7},null,{"$f":"VLOOKUP(A195,Lookups!$A$126:$C$135,3)","v":2},{"$f":"VLOOKUP(A195,Lookups!$A$126:$C$135,2)","v":"Food"},{"$f":"IF(AND(J195>0,K195=0),\"Yes\",\"No\")","v":"No"},{"$f":"ROUND(100*(K195+2*J195)/(K195+2*J195+(100-J195-K195)),2)","v":0},{"$f":"IF($R195<>3,VLOOKUP($D195,'Points Table A'!$B$3:$F$33,5),VLOOKUP($D195,'Points Table A'!$H$3:$L$33,5))","v":0},{"$f":"IF($R195<>3,VLOOKUP($E195,'Points Table A'!$C$3:$F$33,4),VLOOKUP($E195,'Points Table A'!$I$3:$L$33,4))","v":0},{"$f":"IF($R195<>3,VLOOKUP($F195,'Points Table A'!$D$3:$F$33,3),VLOOKUP($F195,'Points Table A'!$J$3:$L$33,3))","v":0},{"$f":"IF($R195<>3,VLOOKUP($G195,'Points Table A'!$E$3:$F$33,2),VLOOKUP($G195,'Points Table A'!$K$3:$L$33,2))","v":0},0,{"$f":"IF($T195=Lookups!$B$113,VLOOKUP($J195,'Points Table C'!$A$3:$F$11,5),VLOOKUP($U195,'Points Table C'!$B$3:$F$11,4))","v":0},{"$f":"IF($R195=1,0,VLOOKUP($N195,'Points Table C'!$C$3:$E$18,3))","v":0},{"$f":"VLOOKUP($I195,'Points Table C'!$D$3:$E$18,2)","v":0},{"$f":"IF($Z195<Lookups!$C$106,(AA195+AB195+AC195),IF(AA195>=Lookups!$C$120,(AA195+AB195+AC195),AA195+AB195))","v":0}]
["Non-core foods","Enter a food name here","Company name",0,0,0,0,0,0,0,0,0,{"$f":"IF((SUM(D196:L196)=0),\"J\",VLOOKUP(P196,Lookups!$A$1:$B$11,2))","v":"J"},{"$f":"H196+(L196*Lookups!$C$102*H196/100)","v":0},0,{"$f":"IF(ROUND(10.499-(((O196-VLOOKUP($A196,Lookups!$A$55:$D$64,3))/(VLOOKUP($A196,Lookups!$A$55:$D$64,4))*VLOOKUP($A196,Lookups!$C$2:$D$11,2))),0)<1,1,IF(ROUND(10.499-(((O196-VLOOKUP($A196,Lookups!$A$55:$D$64,3))/(VLOOKUP($A196,Lookups!$A$55:$D$64,4))*VLOOKUP($A196,Lookups!$C$2:$D$11,2))),0)<11,ROUND(10.499-(((O196-VLOOKUP($A196,Lookups!$A$55:$D$64,3))/(VLOOKUP($A196,Lookups!$A$55:$D$64,4))*VLOOKUP($A196,Lookups!$C$2:$D$11,2))),0),10))","v":7},null,{"$f":"VLOOKUP(A196,Lookups!$A$126:$C$135,3)","v":2},{"$f":"VLOOKUP(A196,Lookups!$A$126:$C$135,2)","v":"Food"},"No",0,{"$f":"IF($R196<>3,VLOOKUP($D196,'Points Table A'!$B$3:$F$33,5),VLOOKUP($D196,'Points Table A'!$H$3:$L$33,5))","v":0},{"$f":"IF($R196<>3,VLOOKUP($E196,'Points Table A'!$C$3:$F$33,4),VLOOKUP($E196,'Points Table A'!$I$3:$L$33,4))","v":0},{"$f":"IF($R196<>3,VLOOKUP($F196,'Points Table A'!$D$3:$F$33,3),VLOOKUP($F196,'Points Table A'!$J$3:$L$33,3))","v":0},{"$f":"IF($R196<>3,VLOOKUP($G196,'Points Table A'!$E$3:$F$33,2),VLOOKUP($G196,'Points Table A'!$K$3:$L$33,2))","v":0},{"$f":"SUM(V196:Y196)","v":0},{"$f":"IF($T196=Lookups!$B$113,VLOOKUP($J196,'Points Table C'!$A$3:$F$11,5),VLOOKUP($U196,'Points Table C'!$B$3:$F$11,4))","v":0},{"$f":"IF($R196=1,0,VLOOKUP($N196,'Points Table C'!$C$3:$E$18,3))","v":0},{"$f":"VLOOKUP($I196,'Points Table C'!$D$3:$E$18,2)","v":0},{"$f":"IF($Z196<Lookups!$C$106,(AA196+AB196+AC196),IF(AA196>=Lookups!$C$120,(AA196+AB196+AC196),AA196+AB196))","v":0}]
["Non-core foods","Enter a food name here","Company name",0,0,0,0,0,0,0,0,0,{"$f":"IF((SUM(D197:L197)=0),\"J\",VLOOKUP(P197,Lookups!$A$1:$B$11,2))","v":"J"},{"$f":"H197+(L197*Lookups!$C$102*H197/100)","v":0},0,{"$f":"IF(ROUND(10.499-(((O197-VLOOKUP($A197,Lookups!$A$55:$D$64,3))/(VLOOKUP($A197,Lookups!$A$55:$D$64,4))*VLOOKUP($A197,Lookups!$C$2:$D$11,2))),0)<1,1,IF(ROUND(10.499-(((O197-VLOOKUP($A197,Lookups!$A$55:$D$64,3))/(VLOOKUP($A197,Lookups!$A$55:$D$64,4))*VLOOKUP($A197,Lookups!$C$2:$D$11,2))),0)<11,ROUND(10.499-(((O197-VLOOKUP($A197,Lookups!$A$55:$D$64,3))/(VLOOKUP($A197,Lookups!$A$55:$D$64,4))*VLOOKUP($A197,Lookups!$C$2:$D$11,2))),0),10))","v":7},null,{"$f":"VLOOKUP(A197,Lookups!$A$126:$C$135,3)","v":2},{"$f":"VLOOKUP(A197,Lookups!$A$126:$C$135,2)","v":"Food"},"No",0,{"$f":"IF($R197<>3,VLOOKUP($D197,'Points Table A'!$B$3:$F$33,5),VLOOKUP($D197,'Points Table A'!$H$3:$L$33,5))","v":0},{"$f":"IF($R197<>3,VLOOKUP($E197,'Points Table A'!$C$3:$F$33,4),VLOOKUP($E197,'Points Table A'!$I$3:$L$33,4))","v":0},{"$f":"IF($R197<>3,VLOOKUP($F197,'Points Table A'!$D$3:$F$33,3),VLOOKUP($F197,'Points Table A'!$J$3:$L$33,3))","v":0},{"$f":"IF($R197<>3,VLOOKUP($G197,'Points Table A'!$E$3:$F$33,2),VLOOKUP($G197,'Points Table A'!$K$3:$L$33,2))","v":0},0,{"$f":"IF($T197=Lookups!$B$113,VLOOKUP($J197,'Points Table C'!$A$3:$F$11,5),VLOOKUP($U197,'Points Table C'!$B$3:$F$11,4))","v":0},{"$f":"IF($R197=1,0,VLOOKUP($N197,'Points Table C'!$C$3:$E$18,3))","v":0},{"$f":"VLOOKUP($I197,'Points Table C'!$D$3:$E$18,2)","v":0},{"$f":"IF($Z197<Lookups!$C$106,(AA197+AB197+AC197),IF(AA197>=Lookups!$C$120,(AA197+AB197+AC197),AA197+AB197))","v":0}]
["Non-core foods","Enter a food name here","Company name",0,0,0,0,0,0,0,0,0,{"$f":"IF((SUM(D198:L198)=0),\"J\",VLOOKUP(P198,Lookups!$A$1:$B$11,2))","v":"J"},{"$f":"H198+(L198*Lookups!$C$102*H198/100)","v":0},0,{"$f":"IF(ROUND(10.499-(((O198-VLOOKUP($A198,Lookups!$A$55:$D$64,3))/(VLOOKUP($A198,Lookups!$A$55:$D$64,4))*VLOOKUP($A198,Lookups!$C$2:$D$11,2))),0)<1,1,IF(ROUND(10.499-(((O198-VLOOKUP($A198,Lookups!$A$55:$D$64,3))/(VLOOKUP($A198,Lookups!$A$55:$D$64,4))*VLOOKUP($A198,Lookups!$C$2:$D$11,2))),0)<11,ROUND(10.499-(((O198-VLOOKUP($A198,Lookups!$A$55:$D$64,3))/(VLOOKUP($A198,Lookups!$A$55:$D$64,4))*VLOOKUP($A198,Lookups!$C$2:$D$11,2))),0),10))","v":7},null,{"$f":"VLOOKUP(A198,Lookups!$A$126:$C$135,3)","v":2},{"$f":"VLOOKUP(A198,Lookups!$A$126:$C$135,2)","v":"Food"},"No",0,{"$f":"IF($R198<>3,VLOOKUP($D198,'Points Table A'!$B$3:$F$33,5),VLOOKUP($D198,'Points Table A'!$H$3:$L$33,5))","v":0},{"$f":"IF($R198<>3,VLOOKUP($E198,'Points Table A'!$C$3:$F$33,4),VLOOKUP($E198,'Points Table A'!$I$3:$L$33,4))","v":0},{"$f":"IF($R198<>3,VLOOKUP($F198,'Points Table A'!$D$3:$F$33,3),VLOOKUP($F198,'Points Table A'!$J$3:$L$33,3))","v":0},{"$f":"IF($R198<>3,VLOOKUP($G198,'Points Table A'!$E$3:$F$33,2),VLOOKUP($G198,'Points Table A'!$K$3:$L$33,2))","v":0},0,{"$f":"IF($T198=Lookups!$B$113,VLOOKUP($J198,'Points Table C'!$A$3:$F$11,5),VLOOKUP($U198,'Points Table C'!$B$3:$F$11,4))","v":0},{"$f":"IF($R198=1,0,VLOOKUP($N198,'Points Table C'!$C$3:$E$18,3))","v":0},{"$f":"VLOOKUP($I198,'Points Table C'!$D$3:$E$18,2)","v":0},{"$f":"IF($Z198<Lookups!$C$106,(AA198+AB198+AC198),IF(AA198>=Lookups!$C$120,(AA198+AB198+AC198),AA198+AB198))","v":0}]
["Non-core foods","Enter a food name here","Company name",0,0,0,0,0,0,0,0,0,{"$f":"IF((SUM(D199:L199)=0),\"J\",VLOOKUP(P199,Lookups!$A$1:$B$11,2))","v":"J"},{"$f":"H199+(L199*Lookups!$C$102*H199/100)","v":0},0,{"$f":"IF(ROUND(10.499-(((O199-VLOOKUP($A199,Lookups!$A$55:$D$64,3))/(VLOOKUP($A199,Lookups!$A$55:$D$64,4))*VLOOKUP($A199,Lookups!$C$2:$D$11,2))),0)<1,1,IF(ROUND(10.499-(((O199-VLOOKUP($A199,Lookups!$A$55:$D$64,3))/(VLOOKUP($A199,Lookups!$A$55:$D$64,4))*VLOOKUP($A199,Lookups!$C$2:$D$11,2))),0)<11,ROUND(10.499-(((O199-VLOOKUP($A199,Lookups!$A$55:$D$64,3))/(VLOOKUP($A199,Lookups!$A$55:$D$64,4))*VLOOKUP($A199,Lookups!$C$2:$D$11,2))),0),10))","v":7},null,{"$f":"VLOOKUP(A199,Lookups!$A$126:$C$135,3)","v":2},{"$f":"VLOOKUP(A199,Lookups!$A$126:$C$135,2)","v":"Food"},"No",0,{"$f":"IF($R199<>3,VLOOKUP($D199,'Points Table A'!$B$3:$F$33,5),VLOOKUP($D199,'Points Table A'!$H$3:$L$33,5))","v":0},{"$f":"IF($R199<>3,VLOOKUP($E199,'Points Table A'!$C$3:$F$33,4),VLOOKUP($E199,'Points Table A'!$I$3:$L$33,4))","v":0},{"$f":"IF($R199<>3,VLOOKUP($F199,'Points Table A'!$D$3:$F$33,3),VLOOKUP($F199,'Points Table A'!$J$3:$L$33,3))","v":0},{"$f":"IF($R199<>3,VLOOKUP($G199,'Points Table A'!$E$3:$F$33,2),VLOOKUP($G199,'Points Table A'!$K$3:$L$33,2))","v":0},0,{"$f":"IF($T199=Lookups!$B$113,VLOOKUP($J199,'Points Table C'!$A$3:$F$11,5),VLOOKUP($U199,'Points Table C'!$B$3:$F$11,4))","v":0},{"$f":"IF($R199=1,0,VLOOKUP($N199,'Points Table C'!$C$3:$E$18,3))","v":0},{"$f":"VLOOKUP($I199,'Points Table C'!$D$3:$E$18,2)","v":0},{"$f":"IF($Z199<Lookups!$C$106,(AA199+AB199+AC199),IF(AA199>=Lookups!$C$120,(AA199+AB199+AC199),AA199+AB199))","v":0}]
["Non-core foods","Enter a food name here","Company name",0,0,0,0,0,0,0,0,0,{"$f":"IF((SUM(D200:L200)=0),\"J\",VLOOKUP(P200,Lookups!$A$1:$B$11,2))","v":"J"},{"$f":"H200+(L200*Lookups!$C$102*H200/100)","v":0},0,{"$f":"IF(ROUND(10.499-(((O200-VLOOKUP($A200,Lookups!$A$55:$D$64,3))/(VLOOKUP($A200,Lookups!$A$55:$D$64,4))*VLOOKUP($A200,Lookups!$C$2:$D$11,2))),0)<1,1,IF(ROUND(10.499-(((O200-VLOOKUP($A200,Lookups!$A$55:$D$64,3))/(VLOOKUP($A200,Lookups!$A$55:$D$64,4))*VLOOKUP($A200,Lookups!$C$2:$D$11,2))),0)<11,ROUND(10.499-(((O200-VLOOKUP($A200,Lookups!$A$55:$D$64,3))/(VLOOKUP($A200,Lookups!$A$55:$D$64,4))*VLOOKUP($A200,Lookups!$C$2:$D$11,2))),0),10))","v":7},null,{"$f":"VLOOKUP(A200,Lookups!$A$126:$C$135,3)","v":2},{"$f":"VLOOKUP(A200,Lookups!$A$126:$C$135,2)","v":"Food"},"No",0,{"$f":"IF($R200<>3,VLOOKUP($D200,'Points Table A'!$B$3:$F$33,5),VLOOKUP($D200,'Points Table A'!$H$3:$L$33,5))","v":0},{"$f":"IF($R200<>3,VLOOKUP($E200,'Points Table A'!$C$3:$F$33,4),VLOOKUP($E200,'Points Table A'!$I$3:$L$33,4))","v":0},{"$f":"IF($R200<>3,VLOOKUP($F200,'Points Table A'!$D$3:$F$33,3),VLOOKUP($F200,'Points Table A'!$J$3:$L$33,3))","v":0},{"$f":"IF($R200<>3,VLOOKUP($G200,'Points Table A'!$E$3:$F$33,2),VLOOKUP($G200,'Points Table A'!$K$3:$L$33,2))","v":0},0,{"$f":"IF($T200=Lookups!$B$113,VLOOKUP($J200,'Points Table C'!$A$3:$F$11,5),VLOOKUP($U200,'Points Table C'!$B$3:$F$11,4))","v":0},{"$f":"IF($R200=1,0,VLOOKUP($N200,'Points Table C'!$C$3:$E$18,3))","v":0},{"$f":"VLOOKUP($I200,'Points Table C'!$D$3:$E$18,2)","v":0},{"$f":"IF($Z200<Lookups!$C$106,(AA200+AB200+AC200),IF(AA200>=Lookups!$C$120,(AA200+AB200+AC200),AA200+AB200))","v":0}]
["Non-core foods","Enter a food name here","Company name",0,0,0,0,0,0,0,0,0,{"$f":"IF((SUM(D201:L201)=0),\"J\",VLOOKUP(P201,Lookups!$A$1:$B$11,2))","v":"J"},{"$f":"H201+(L201*Lookups!$C$102*H201/100)","v":0},0,{"$f":"IF(ROUND(10.499-(((O201-VLOOKUP($A201,Lookups!$A$55:$D$64,3))/(VLOOKUP($A201,Lookups!$A$55:$D$64,4))*VLOOKUP($A201,Lookups!$C$2:$D$11,2))),0)<1,1,IF(ROUND(10.499-(((O201-VLOOKUP($A201,Lookups!$A$55:$D$64,3))/(VLOOKUP($A201,Lookups!$A$55:$D$64,4))*VLOOKUP($A201,Lookups!$C$2:$D$11,2))),0)<11,ROUND(10.499-(((O201-VLOOKUP($A201,Lookups!$A$55:$D$64,3))/(VLOOKUP($A201,Lookups!$A$55:$D$64,4))*VLOOKUP($A201,Lookups!$C$2:$D$11,2))),0),10))","v":7},null,{"$f":"VLOOKUP(A201,Lookups!$A$126:$C$135,3)","v":2},{"$f":"VLOOKUP(A201,Lookups!$A$126:$C$135,2)","v":"Food"},"No",0,{"$f":"IF($R201<>3,VLOOKUP($D201,'Points Table A'!$B$3:$F$33,5),VLOOKUP($D201,'Points Table A'!$H$3:$L$33,5))","v":0},{"$f":"IF($R201<>3,VLOOKUP($E201,'Points Table A'!$C$3:$F$33,4),VLOOKUP($E201,'Points Table A'!$I$3:$L$33,4))","v":0},{"$f":"IF($R201<>3,VLOOKUP($F201,'Points Table A'!$D$3:$F$33,3),VLOOKUP($F201,'Points Table A'!$J$3:$L$33,3))","v":0},{"$f":"IF($R201<>3,VLOOKUP($G201,'Points Table A'!$E$3:$F$33,2),VLOOKUP($G201,'Points Table A'!$K$3:$L$33,2))","v":0},0,{"$f":"IF($T201=Lookups!$B$113,VLOOKUP($J201,'Points Table C'!$A$3:$F$11,5),VLOOKUP($U201,'Points Table C'!$B$3:$F$11,4))","v":0},{"$f":"IF($R201=1,0,VLOOKUP($N201,'Points Table C'!$C$3:$E$18,3))","v":0},{"$f":"VLOOKUP($I201,'Points Table C'!$D$3:$E$18,2)","v":0},{"$f":"IF($Z201<Lookups!$C$106,(AA201+AB201+AC201),IF(AA201>=Lookups!$C$120,(AA201+AB201+AC201),AA201+AB201))","v":0}]
["Non-core foods","Enter a food name here","Company name",0,0,0,0,0,0,0,0,0,{"$f":"IF((SUM(D202:L202)=0),\"J\",VLOOKUP(P202,Lookups!$A$1:$B$11,2))","v":"J"},{"$f":"H202+(L202*Lookups!$C$102*H202/100)","v":0},0,{"$f":"IF(ROUND(10.499-(((O202-VLOOKUP($A202,Lookups!$A$55:$D$64,3))/(VLOOKUP($A202,Lookups!$A$55:$D$64,4))*VLOOKUP($A202,Lookups!$C$2:$D$11,2))),0)<1,1,IF(ROUND(10.499-(((O202-VLOOKUP($A202,Lookups!$A$55:$D$64,3))/(VLOOKUP($A202,Lookups!$A$55:$D$64,4))*VLOOKUP($A202,Lookups!$C$2:$D$11,2))),0)<11,ROUND(10.499-(((O202-VLOOKUP($A202,Lookups!$A$55:$D$64,3))/(VLOOKUP($A202,Lookups!$A$55:$D$64,4))*VLOOKUP($A202,Lookups!$C$2:$D$11,2))),0),10))","v":7},null,{"$f":"VLOOKUP(A202,Lookups!$A$126:$C$135,3)","v":2},{"$f":"VLOOKUP(A202,Lookups!$A$126:$C$135,2)","v":"Food"},"No",0,{"$f":"IF($R202<>3,VLOOKUP($D202,'Points Table A'!$B$3:$F$33,5),VLOOKUP($D202,'Points Table A'!$H$3:$L$33,5))","v":0},{"$f":"IF($R202<>3,VLOOKUP($E202,'Points Table A'!$C$3:$F$33,4),VLOOKUP($E202,'Points Table A'!$I$3:$L$33,4))","v":0},{"$f":"IF($R202<>3,VLOOKUP($F202,'Points Table A'!$D$3:$F$33,3),VLOOKUP($F202,'Points Table A'!$J$3:$L$33,3))","v":0},{"$f":"IF($R202<>3,VLOOKUP($G202,'Points Table A'!$E$3:$F$33,2),VLOOKUP($G202,'Points Table A'!$K$3:$L$33,2))","v":0},0,{"$f":"IF($T202=Lookups!$B$113,VLOOKUP($J202,'Points Table C'!$A$3:$F$11,5),VLOOKUP($U202,'Points Table C'!$B$3:$F$11,4))","v":0},{"$f":"IF($R202=1,0,VLOOKUP($N202,'Points Table C'!$C$3:$E$18,3))","v":0},{"$f":"VLOOKUP($I202,'Points Table C'!$D$3:$E$18,2)","v":0},{"$f":"IF($Z202<Lookups!$C$106,(AA202+AB202+AC202),IF(AA202>=Lookups!$C$120,(AA202+AB202+AC202),AA202+AB202))","v":0}]
["Non-core foods","Enter a food name here","Company name",0,0,0,0,0,0,0,0,0,{"$f":"IF((SUM(D203:L203)=0),\"J\",VLOOKUP(P203,Lookups!$A$1:$B$11,2))","v":"J"},{"$f":"H203+(L203*Lookups!$C$102*H203/100)","v":0},0,{"$f":"IF(ROUND(10.499-(((O203-VLOOKUP($A203,Lookups!$A$55:$D$64,3))/(VLOOKUP($A203,Lookups!$A$55:$D$64,4))*VLOOKUP($A203,Lookups!$C$2:$D$11,2))),0)<1,1,IF(ROUND(10.499-(((O203-VLOOKUP($A203,Lookups!$A$55:$D$64,3))/(VLOOKUP($A203,Lookups!$A$55:$D$64,4))*VLOOKUP($A203,Lookups!$C$2:$D$11,2))),0)<11,ROUND(10.499-(((O203-VLOOKUP($A203,Lookups!$A$55:$D$64,3))/(VLOOKUP($A203,Lookups!$A$55:$D$64,4))*VLOOKUP($A203,Lookups!$C$2:$D$11,2))),0),10))","v":7},null,{"$f":"VLOOKUP(A203,Lookups!$A$126:$C$135,3)","v":2},{"$f":"VLOOKUP(A203,Lookups!$A$126:$C$135,2)","v":"Food"},"No",0,{"$f":"IF($R203<>3,VLOOKUP($D203,'Points Table A'!$B$3:$F$33,5),VLOOKUP($D203,'Points Table A'!$H$3:$L$33,5))","v":0},{"$f":"IF($R203<>3,VLOOKUP($E203,'Points Table A'!$C$3:$F$33,4),VLOOKUP($E203,'Points Table A'!$I$3:$L$33,4))","v":0},{"$f":"IF($R203<>3,VLOOKUP($F203,'Points Table A'!$D$3:$F$33,3),VLOOKUP($F203,'Points Table A'!$J$3:$L$33,3))","v":0},{"$f":"IF($R203<>3,VLOOKUP($G203,'Points Table A'!$E$3:$F$33,2),VLOOKUP($G203,'Points Table A'!$K$3:$L$33,2))","v":0},0,{"$f":"IF($T203=Lookups!$B$113,VLOOKUP($J203,'Points Table C'!$A$3:$F$11,5),VLOOKUP($U203,'Points Table C'!$B$3:$F$11,4))","v":0},{"$f":"IF($R203=1,0,VLOOKUP($N203,'Points Table C'!$C$3:$E$18,3))","v":0},{"$f":"VLOOKUP($I203,'Points Table C'!$D$3:$E$18,2)","v":0},{"$f":"IF($Z203<Lookups!$C$106,(AA203+AB203+AC203),IF(AA203>=Lookups!$C$120,(AA203+AB203+AC203),AA203+AB203))","v":0}]
["Non-core foods","Enter a food name here","Company name",0,0,0,0,0,0,0,0,0,{"$f":"IF((SUM(D204:L204)=0),\"J\",VLOOKUP(P204,Lookups!$A$1:$B$11,2))","v":"J"},{"$f":"H204+(L204*Lookups!$C$102*H204/100)","v":0},0,{"$f":"IF(ROUND(10.499-(((O204-VLOOKUP($A204,Lookups!$A$55:$D$64,3))/(VLOOKUP($A204,Lookups!$A$55:$D$64,4))*VLOOKUP($A204,Lookups!$C$2:$D$11,2))),0)<1,1,IF(ROUND(10.499-(((O204-VLOOKUP($A204,Lookups!$A$55:$D$64,3))/(VLOOKUP($A204,Lookups!$A$55:$D$64,4))*VLOOKUP($A204,Lookups!$C$2:$D$11,2))),0)<11,ROUND(10.499-(((O204-VLOOKUP($A204,Lookups!$A$55:$D$64,3))/(VLOOKUP($A204,Lookups!$A$55:$D$64,4))*VLOOKUP($A204,Lookups!$C$2:$D$11,2))),0),10))","v":7},null,{"$f":"VLOOKUP(A204,Lookups!$A$126:$C$135,3)","v":2},{"$f":"VLOOKUP(A204,Lookups!$A$126:$C$135,2)","v":"Food"},"No",0,{"$f":"IF($R204<>3,VLOOKUP($D204,'Points Table A'!$B$3:$F$33,5),VLOOKUP($D204,'Points Table A'!$H$3:$L$33,5))","v":0},{"$f":"IF($R204<>3,VLOOKUP($E204,'Points Table A'!$C$3:$F$33,4),VLOOKUP($E204,'Points Table A'!$I$3:$L$33,4))","v":0},{"$f":"IF($R204<>3,VLOOKUP($F204,'Points Table A'!$D$3:$F$33,3),VLOOKUP($F204,'Points Table A'!$J$3:$L$33,3))","v":0},{"$f":"IF($R204<>3,VLOOKUP($G204,'Points Table A'!$E$3:$F$33,2),VLOOKUP($G204,'Points Table A'!$K$3:$L$33,2))","v":0},0,{"$f":"IF($T204=Lookups!$B$113,VLOOKUP($J204,'Points Table C'!$A$3:$F$11,5),VLOOKUP($U204,'Points Table C'!$B$3:$F$11,4))","v":0},{"$f":"IF($R204=1,0,VLOOKUP($N204,'Points Table C'!$C$3:$E$18,3))","v":0},{"$f":"VLOOKUP($I204,'Points Table C'!$D$3:$E$18,2)","v":0},{"$f":"IF($Z204<Lookups!$C$106,(AA204+AB204+AC204),IF(AA204>=Lookups!$C$120,(AA204+AB204+AC204),AA204+AB204))","v":0}]
["Non-core foods","Enter a food name here","Company name",0,0,0,0,0,0,0,0,0,{"$f":"IF((SUM(D205:L205)=0),\"J\",VLOOKUP(P205,Lookups!$A$1:$B$11,2))","v":"J"},{"$f":"H205+(L205*Lookups!$C$102*H205/100)","v":0},0,{"$f":"IF(ROUND(10.499-(((O205-VLOOKUP($A205,Lookups!$A$55:$D$64,3))/(VLOOKUP($A205,Lookups!$A$55:$D$64,4))*VLOOKUP($A205,Lookups!$C$2:$D$11,2))),0)<1,1,IF(ROUND(10.499-(((O205-VLOOKUP($A205,Lookups!$A$55:$D$64,3))/(VLOOKUP($A205,Lookups!$A$55:$D$64,4))*VLOOKUP($A205,Lookups!$C$2:$D$11,2))),0)<11,ROUND(10.499-(((O205-VLOOKUP($A205,Lookups!$A$55:$D$64,3))/(VLOOKUP($A205,Lookups!$A$55:$D$64,4))*VLOOKUP($A205,Lookups!$C$2:$D$11,2))),0),10))","v":7},null,{"$f":"VLOOKUP(A205,Lookups!$A$126:$C$135,3)","v":2},{"$f":"VLOOKUP(A205,Lookups!$A$126:$C$135,2)","v":"Food"},"No",0,{"$f":"IF($R205<>3,VLOOKUP($D205,'Points Table A'!$B$3:$F$33,5),VLOOKUP($D205,'Points Table A'!$H$3:$L$33,5))","v":0},{"$f":"IF($R205<>3,VLOOKUP($E205,'Points Table A'!$C$3:$F$33,4),VLOOKUP($E205,'Points Table A'!$I$3:$L$33,4))","v":0},{"$f":"IF($R205<>3,VLOOKUP($F205,'Points Table A'!$D$3:$F$33,3),VLOOKUP($F205,'Points Table A'!$J$3:$L$33,3))","v":0},{"$f":"IF($R205<>3,VLOOKUP($G205,'Points Table A'!$E$3:$F$33,2),VLOOKUP($G205,'Points Table A'!$K$3:$L$33,2))","v":0},0,{"$f":"IF($T205=Lookups!$B$113,VLOOKUP($J205,'Points Table C'!$A$3:$F$11,5),VLOOKUP($U205,'Points Table C'!$B$3:$F$11,4))","v":0},{"$f":"IF($R205=1,0,VLOOKUP($N205,'Points Table C'!$C$3:$E$18,3))","v":0},{"$f":"VLOOKUP($I205,'Points Table C'!$D$3:$E$18,2)","v":0},{"$f":"IF($Z205<Lookups!$C$106,(AA205+AB205+AC205),IF(AA205>=Lookups!$C$120,(AA205+AB205+AC205),AA205+AB205))","v":0}]
["Non-core foods","Enter a food name here","Company name",0,0,0,0,0,0,0,0,0,{"$f":"IF((SUM(D206:L206)=0),\"J\",VLOOKUP(P206,Lookups!$A$1:$B$11,2))","v":"J"},{"$f":"H206+(L206*Lookups!$C$102*H206/100)","v":0},0,{"$f":"IF(ROUND(10.499-(((O206-VLOOKUP($A206,Lookups!$A$55:$D$64,3))/(VLOOKUP($A206,Lookups!$A$55:$D$64,4))*VLOOKUP($A206,Lookups!$C$2:$D$11,2))),0)<1,1,IF(ROUND(10.499-(((O206-VLOOKUP($A206,Lookups!$A$55:$D$64,3))/(VLOOKUP($A206,Lookups!$A$55:$D$64,4))*VLOOKUP($A206,Lookups!$C$2:$D$11,2))),0)<11,ROUND(10.499-(((O206-VLOOKUP($A206,Lookups!$A$55:$D$64,3))/(VLOOKUP($A206,Lookups!$A$55:$D$64,4))*VLOOKUP($A206,Lookups!$C$2:$D$11,2))),0),10))","v":7},null,{"$f":"VLOOKUP(A206,Lookups!$A$126:$C$135,3)","v":2},{"$f":"VLOOKUP(A206,Lookups!$A$126:$C$135,2)","v":"Food"},"No",0,{"$f":"IF($R206<>3,VLOOKUP($D206,'Points Table A'!$B$3:$F$33,5),VLOOKUP($D206,'Points Table A'!$H$3:$L$33,5))","v":0},{"$f":"IF($R206<>3,VLOOKUP($E206,'Points Table A'!$C$3:$F$33,4),VLOOKUP($E206,'Points Table A'!$I$3:$L$33,4))","v":0},{"$f":"IF($R206<>3,VLOOKUP($F206,'Points Table A'!$D$3:$F$33,3),VLOOKUP($F206,'Points Table A'!$J$3:$L$33,3))","v":0},{"$f":"IF($R206<>3,VLOOKUP($G206,'Points Table A'!$E$3:$F$33,2),VLOOKUP($G206,'Points Table A'!$K$3:$L$33,2))","v":0},0,{"$f":"IF($T206=Lookups!$B$113,VLOOKUP($J206,'Points Table C'!$A$3:$F$11,5),VLOOKUP($U206,'Points Table C'!$B$3:$F$11,4))","v":0},{"$f":"IF($R206=1,0,VLOOKUP($N206,'Points Table C'!$C$3:$E$18,3))","v":0},{"$f":"VLOOKUP($I206,'Points Table C'!$D$3:$E$18,2)","v":0},{"$f":"IF($Z206<Lookups!$C$106,(AA206+AB206+AC206),IF(AA206>=Lookups!$C$120,(AA206+AB206+AC206),AA206+AB206))","v":0}]
["Non-core foods","Enter a food name here","Company name",0,0,0,0,0,0,0,0,0,{"$f":"IF((SUM(D207:L207)=0),\"J\",VLOOKUP(P207,Lookups!$A$1:$B$11,2))","v":"J"},{"$f":"H207+(L207*Lookups!$C$102*H207/100)","v":0},0,{"$f":"IF(ROUND(10.499-(((O207-VLOOKUP($A207,Lookups!$A$55:$D$64,3))/(VLOOKUP($A207,Lookups!$A$55:$D$64,4))*VLOOKUP($A207,Lookups!$C$2:$D$11,2))),0)<1,1,IF(ROUND(10.499-(((O207-VLOOKUP($A207,Lookups!$A$55:$D$64,3))/(VLOOKUP($A207,Lookups!$A$55:$D$64,4))*VLOOKUP($A207,Lookups!$C$2:$D$11,2))),0)<11,ROUND(10.499-(((O207-VLOOKUP($A207,Lookups!$A$55:$D$64,3))/(VLOOKUP($A207,Lookups!$A$55:$D$64,4))*VLOOKUP($A207,Lookups!$C$2:$D$11,2))),0),10))","v":7},null,{"$f":"VLOOKUP(A207,Lookups!$A$126:$C$135,3)","v":2},{"$f":"VLOOKUP(A207,Lookups!$A$126:$C$135,2)","v":"Food"},"No",0,{"$f":"IF($R207<>3,VLOOKUP($D207,'Points Table A'!$B$3:$F$33,5),VLOOKUP($D207,'Points Table A'!$H$3:$L$33,5))","v":0},{"$f":"IF($R207<>3,VLOOKUP($E207,'Points Table A'!$C$3:$F$33,4),VLOOKUP($E207,'Points Table A'!$I$3:$L$33,4))","v":0},{"$f":"IF($R207<>3,VLOOKUP($F207,'Points Table A'!$D$3:$F$33,3),VLOOKUP($F207,'Points Table A'!$J$3:$L$33,3))","v":0},{"$f":"IF($R207<>3,VLOOKUP($G207,'Points Table A'!$E$3:$F$33,2),VLOOKUP($G207,'Points Table A'!$K$3:$L$33,2))","v":0},0,{"$f":"IF($T207=Lookups!$B$113,VLOOKUP($J207,'Points Table C'!$A$3:$F$11,5),VLOOKUP($U207,'Points Table C'!$B$3:$F$11,4))","v":0},{"$f":"IF($R207=1,0,VLOOKUP($N207,'Points Table C'!$C$3:$E$18,3))","v":0},{"$f":"VLOOKUP($I207,'Points Table C'!$D$3:$E$18,2)","v":0},{"$f":"IF($Z207<Lookups!$C$106,(AA207+AB207+AC207),IF(AA207>=Lookups!$C$120,(AA207+AB207+AC207),AA207+AB207))","v":0}]
["Non-core foods","Enter a food name here","Company name",0,0,0,0,0,0,0,0,0,{"$f":"IF((SUM(D208:L208)=0),\"J\",VLOOKUP(P208,Lookups!$A$1:$B$11,2))","v":"J"},{"$f":"H208+(L208*Lookups!$C$102*H208/100)","v":0},0,{"$f":"IF(ROUND(10.499-(((O208-VLOOKUP($A208,Lookups!$A$55:$D$64,3))/(VLOOKUP($A208,Lookups!$A$55:$D$64,4))*VLOOKUP($A208,Lookups!$C$2:$D$11,2))),0)<1,1,IF(ROUND(10.499-(((O208-VLOOKUP($A208,Lookups!$A$55:$D$64,3))/(VLOOKUP($A208,Lookups!$A$55:$D$64,4))*VLOOKUP($A208,Lookups!$C$2:$D$11,2))),0)<11,ROUND(10.499-(((O208-VLOOKUP($A208,Lookups!$A$55:$D$64,3))/(VLOOKUP($A208,Lookups!$A$55:$D$64,4))*VLOOKUP($A208,Lookups!$C$2:$D$11,2))),0),10))","v":7},null,{"$f":"VLOOKUP(A208,Lookups!$A$126:$C$135,3)","v":2},{"$f":"VLOOKUP(A208,Lookups!$A$126:$C$135,2)","v":"Food"},"No",0,{"$f":"IF($R208<>3,VLOOKUP($D208,'Points Table A'!$B$3:$F$33,5),VLOOKUP($D208,'Points Table A'!$H$3:$L$33,5))","v":0},{"$f":"IF($R208<>3,VLOOKUP($E208,'Points Table A'!$C$3:$F$33,4),VLOOKUP($E208,'Points Table A'!$I$3:$L$33,4))","v":0},{"$f":"IF($R208<>3,VLOOKUP($F208,'Points Table A'!$D$3:$F$33,3),VLOOKUP($F208,'Points Table A'!$J$3:$L$33,3))","v":0},{"$f":"IF($R208<>3,VLOOKUP($G208,'Points Table A'!$E$3:$F$33,2),VLOOKUP($G208,'Points Table A'!$K$3:$L$33,2))","v":0},0,{"$f":"IF($T208=Lookups!$B$113,VLOOKUP($J208,'Points Table C'!$A$3:$F$11,5),VLOOKUP($U208,'Points Table C'!$B$3:$F$11,4))","v":0},{"$f":"IF($R208=1,0,VLOOKUP($N208,'Points Table C'!$C$3:$E$18,3))","v":0},{"$f":"VLOOKUP($I208,'Points Table C'!$D$3:$E$18,2)","v":0},{"$f":"IF($Z208<Lookups!$C$106,(AA208+AB208+AC208),IF(AA208>=Lookups!$C$120,(AA208+AB208+AC208),AA208+AB208))","v":0}]
["Non-core foods","Enter a food name here","Company name",0,0,0,0,0,0,0,0,0,{"$f":"IF((SUM(D209:L209)=0),\"J\",VLOOKUP(P209,Lookups!$A$1:$B$11,2))","v":"J"},{"$f":"H209+(L209*Lookups!$C$102*H209/100)","v":0},0,{"$f":"IF(ROUND(10.499-(((O209-VLOOKUP($A209,Lookups!$A$55:$D$64,3))/(VLOOKUP($A209,Lookups!$A$55:$D$64,4))*VLOOKUP($A209,Lookups!$C$2:$D$11,2))),0)<1,1,IF(ROUND(10.499-(((O209-VLOOKUP($A209,Lookups!$A$55:$D$64,3))/(VLOOKUP($A209,Lookups!$A$55:$D$64,4))*VLOOKUP($A209,Lookups!$C$2:$D$11,2))),0)<11,ROUND(10.499-(((O209-VLOOKUP($A209,Lookups!$A$55:$D$64,3))/(VLOOKUP($A209,Lookups!$A$55:$D$64,4))*VLOOKUP($A209,Lookups!$C$2:$D$11,2))),0),10))","v":7},null,{"$f":"VLOOKUP(A209,Lookups!$A$126:$C$135,3)","v":2},{"$f":"VLOOKUP(A209,Lookups!$A$126:$C$135,2)","v":"Food"},"No",0,{"$f":"IF($R209<>3,VLOOKUP($D209,'Points Table A'!$B$3:$F$33,5),VLOOKUP($D209,'Points Table A'!$H$3:$L$33,5))","v":0},{"$f":"IF($R209<>3,VLOOKUP($E209,'Points Table A'!$C$3:$F$33,4),VLOOKUP($E209,'Points Table A'!$I$3:$L$33,4))","v":0},{"$f":"IF($R209<>3,VLOOKUP($F209,'Points Table A'!$D$3:$F$33,3),VLOOKUP($F209,'Points Table A'!$J$3:$L$33,3))","v":0},{"$f":"IF($R209<>3,VLOOKUP($G209,'Points Table A'!$E$3:$F$33,2),VLOOKUP($G209,'Points Table A'!$K$3:$L$33,2))","v":0},0,{"$f":"IF($T209=Lookups!$B$113,VLOOKUP($J209,'Points Table C'!$A$3:$F$11,5),VLOOKUP($U209,'Points Table C'!$B$3:$F$11,4))","v":0},{"$f":"IF($R209=1,0,VLOOKUP($N209,'Points Table C'!$C$3:$E$18,3))","v":0},{"$f":"VLOOKUP($I209,'Points Table C'!$D$3:$E$18,2)","v":0},{"$f":"IF($Z209<Lookups!$C$106,(AA209+AB209+AC209),IF(AA209>=Lookups!$C$120,(AA209+AB209+AC209),AA209+AB209))","v":0}]
["Non-core foods","Enter a food name here","Company name",0,0,0,0,0,0,0,0,0,{"$f":"IF((SUM(D210:L210)=0),\"J\",VLOOKUP(P210,Lookups!$A$1:$B$11,2))","v":"J"},{"$f":"H210+(L210*Lookups!$C$102*H210/100)","v":0},0,{"$f":"IF(ROUND(10.499-(((O210-VLOOKUP($A210,Lookups!$A$55:$D$64,3))/(VLOOKUP($A210,Lookups!$A$55:$D$64,4))*VLOOKUP($A210,Lookups!$C$2:$D$11,2))),0)<1,1,IF(ROUND(10.499-(((O210-VLOOKUP($A210,Lookups!$A$55:$D$64,3))/(VLOOKUP($A210,Lookups!$A$55:$D$64,4))*VLOOKUP($A210,Lookups!$C$2:$D$11,2))),0)<11,ROUND(10.499-(((O210-VLOOKUP($A210,Lookups!$A$55:$D$64,3))/(VLOOKUP($A210,Lookups!$A$55:$D$64,4))*VLOOKUP($A210,Lookups!$C$2:$D$11,2))),0),10))","v":7},null,{"$f":"VLOOKUP(A210,Lookups!$A$126:$C$135,3)","v":2},{"$f":"VLOOKUP(A210,Lookups!$A$126:$C$135,2)","v":"Food"},"No",0,{"$f":"IF($R210<>3,VLOOKUP($D210,'Points Table A'!$B$3:$F$33,5),VLOOKUP($D210,'Points Table A'!$H$3:$L$33,5))","v":0},{"$f":"IF($R210<>3,VLOOKUP($E210,'Points Table A'!$C$3:$F$33,4),VLOOKUP($E210,'Points Table A'!$I$3:$L$33,4))","v":0},{"$f":"IF($R210<>3,VLOOKUP($F210,'Points Table A'!$D$3:$F$33,3),VLOOKUP($F210,'Points Table A'!$J$3:$L$33,3))","v":0},{"$f":"IF($R210<>3,VLOOKUP($G210,'Points Table A'!$E$3:$F$33,2),VLOOKUP($G210,'Points Table A'!$K$3:$L$33,2))","v":0},0,{"$f":"IF($T210=Lookups!$B$113,VLOOKUP($J210,'Points Table C'!$A$3:$F$11,5),VLOOKUP($U210,'Points Table C'!$B$3:$F$11,4))","v":0},{"$f":"IF($R210=1,0,VLOOKUP($N210,'Points Table C'!$C$3:$E$18,3))","v":0},{"$f":"VLOOKUP($I210,'Points Table C'!$D$3:$E$18,2)","v":0},{"$f":"IF($Z210<Lookups!$C$106,(AA210+AB210+AC210),IF(AA210>=Lookups!$C$120,(AA210+AB210+AC210),AA210+AB210))","v":0}]
["Non-core foods","Enter a food name here","Company name",0,0,0,0,0,0,0,0,0,{"$f":"IF((SUM(D211:L211)=0),\"J\",VLOOKUP(P211,Lookups!$A$1:$B$11,2))","v":"J"},{"$f":"H211+(L211*Lookups!$C$102*H211/100)","v":0},0,{"$f":"IF(ROUND(10.499-(((O211-VLOOKUP($A211,Lookups!$A$55:$D$64,3))/(VLOOKUP($A211,Lookups!$A$55:$D$64,4))*VLOOKUP($A211,Lookups!$C$2:$D$11,2))),0)<1,1,IF(ROUND(10.499-(((O211-VLOOKUP($A211,Lookups!$A$55:$D$64,3))/(VLOOKUP($A211,Lookups!$A$55:$D$64,4))*VLOOKUP($A211,Lookups!$C$2:$D$11,2))),0)<11,ROUND(10.499-(((O211-VLOOKUP($A211,Lookups!$A$55:$D$64,3))/(VLOOKUP($A211,Lookups!$A$55:$D$64,4))*VLOOKUP($A211,Lookups!$C$2:$D$11,2))),0),10))","v":7},null,{"$f":"VLOOKUP(A211,Lookups!$A$126:$C$135,3)","v":2},{"$f":"VLOOKUP(A211,Lookups!$A$126:$C$135,2)","v":"Food"},"No",0,{"$f":"IF($R211<>3,VLOOKUP($D211,'Points Table A'!$B$3:$F$33,5),VLOOKUP($D211,'Points Table A'!$H$3:$L$33,5))","v":0},{"$f":"IF($R211<>3,VLOOKUP($E211,'Points Table A'!$C$3:$F$33,4),VLOOKUP($E211,'Points Table A'!$I$3:$L$33,4))","v":0},{"$f":"IF($R211<>3,VLOOKUP($F211,'Points Table A'!$D$3:$F$33,3),VLOOKUP($F211,'Points Table A'!$J$3:$L$33,3))","v":0},{"$f":"IF($R211<>3,VLOOKUP($G211,'Points Table A'!$E$3:$F$33,2),VLOOKUP($G211,'Points Table A'!$K$3:$L$33,2))","v":0},0,{"$f":"IF($T211=Lookups!$B$113,VLOOKUP($J211,'Points Table C'!$A$3:$F$11,5),VLOOKUP($U211,'Points Table C'!$B$3:$F$11,4))","v":0},{"$f":"IF($R211=1,0,VLOOKUP($N211,'Points Table C'!$C$3:$E$18,3))","v":0},{"$f":"VLOOKUP($I211,'Points Table C'!$D$3:$E$18,2)","v":0},{"$f":"IF($Z211<Lookups!$C$106,(AA211+AB211+AC211),IF(AA211>=Lookups!$C$120,(AA211+AB211+AC211),AA211+AB211))","v":0}]
["Non-core foods","Enter a food name here","Company name",0,0,0,0,0,0,0,0,0,{"$f":"IF((SUM(D212:L212)=0),\"J\",VLOOKUP(P212,Lookups!$A$1:$B$11,2))","v":"J"},{"$f":"H212+(L212*Lookups!$C$102*H212/100)","v":0},0,{"$f":"IF(ROUND(10.499-(((O212-VLOOKUP($A212,Lookups!$A$55:$D$64,3))/(VLOOKUP($A212,Lookups!$A$55:$D$64,4))*VLOOKUP($A212,Lookups!$C$2:$D$11,2))),0)<1,1,IF(ROUND(10.499-(((O212-VLOOKUP($A212,Lookups!$A$55:$D$64,3))/(VLOOKUP($A212,Lookups!$A$55:$D$64,4))*VLOOKUP($A212,Lookups!$C$2:$D$11,2))),0)<11,ROUND(10.499-(((O212-VLOOKUP($A212,Lookups!$A$55:$D$64,3))/(VLOOKUP($A212,Lookups!$A$55:$D$64,4))*VLOOKUP($A212,Lookups!$C$2:$D$11,2))),0),10))","v":7},null,{"$f":"VLOOKUP(A212,Lookups!$A$126:$C$135,3)","v":2},{"$f":"VLOOKUP(A212,Lookups!$A$126:$C$135,2)","v":"Food"},"No",0,{"$f":"IF($R212<>3,VLOOKUP($D212,'Points Table A'!$B$3:$F$33,5),VLOOKUP($D212,'Points Table A'!$H$3:$L$33,5))","v":0},{"$f":"IF($R212<>3,VLOOKUP($E212,'Points Table A'!$C$3:$F$33,4),VLOOKUP($E212,'Points Table A'!$I$3:$L$33,4))","v":0},{"$f":"IF($R212<>3,VLOOKUP($F212,'Points Table A'!$D$3:$F$33,3),VLOOKUP($F212,'Points Table A'!$J$3:$L$33,3))","v":0},{"$f":"IF($R212<>3,VLOOKUP($G212,'Points Table A'!$E$3:$F$33,2),VLOOKUP($G212,'Points Table A'!$K$3:$L$33,2))","v":0},0,{"$f":"IF($T212=Lookups!$B$113,VLOOKUP($J212,'Points Table C'!$A$3:$F$11,5),VLOOKUP($U212,'Points Table C'!$B$3:$F$11,4))","v":0},{"$f":"IF($R212=1,0,VLOOKUP($N212,'Points Table C'!$C$3:$E$18,3))","v":0},{"$f":"VLOOKUP($I212,'Points Table C'!$D$3:$E$18,2)","v":0},{"$f":"IF($Z212<Lookups!$C$106,(AA212+AB212+AC212),IF(AA212>=Lookups!$C$120,(AA212+AB212+AC212),AA212+AB212))","v":0}]
["Non-core foods","Enter a food name here","Company name",0,0,0,0,0,0,0,0,0,{"$f":"IF((SUM(D213:L213)=0),\"J\",VLOOKUP(P213,Lookups!$A$1:$B$11,2))","v":"J"},{"$f":"H213+(L213*Lookups!$C$102*H213/100)","v":0},0,{"$f":"IF(ROUND(10.499-(((O213-VLOOKUP($A213,Lookups!$A$55:$D$64,3))/(VLOOKUP($A213,Lookups!$A$55:$D$64,4))*VLOOKUP($A213,Lookups!$C$2:$D$11,2))),0)<1,1,IF(ROUND(10.499-(((O213-VLOOKUP($A213,Lookups!$A$55:$D$64,3))/(VLOOKUP($A213,Lookups!$A$55:$D$64,4))*VLOOKUP($A213,Lookups!$C$2:$D$11,2))),0)<11,ROUND(10.499-(((O213-VLOOKUP($A213,Lookups!$A$55:$D$64,3))/(VLOOKUP($A213,Lookups!$A$55:$D$64,4))*VLOOKUP($A213,Lookups!$C$2:$D$11,2))),0),10))","v":7},null,{"$f":"VLOOKUP(A213,Lookups!$A$126:$C$135,3)","v":2},{"$f":"VLOOKUP(A213,Lookups!$A$126:$C$135,2)","v":"Food"},"No",0,{"$f":"IF($R213<>3,VLOOKUP($D213,'Points Table A'!$B$3:$F$33,5),VLOOKUP($D213,'Points Table A'!$H$3:$L$33,5))","v":0},{"$f":"IF($R213<>3,VLOOKUP($E213,'Points Table A'!$C$3:$F$33,4),VLOOKUP($E213,'Points Table A'!$I$3:$L$33,4))","v":0},{"$f":"IF($R213<>3,VLOOKUP($F213,'Points Table A'!$D$3:$F$33,3),VLOOKUP($F213,'Points Table A'!$J$3:$L$33,3))","v":0},{"$f":"IF($R213<>3,VLOOKUP($G213,'Points Table A'!$E$3:$F$33,2),VLOOKUP($G213,'Points Table A'!$K$3:$L$33,2))","v":0},0,{"$f":"IF($T213=Lookups!$B$113,VLOOKUP($J213,'Points Table C'!$A$3:$F$11,5),VLOOKUP($U213,'Points Table C'!$B$3:$F$11,4))","v":0},{"$f":"IF($R213=1,0,VLOOKUP($N213,'Points Table C'!$C$3:$E$18,3))","v":0},{"$f":"VLOOKUP($I213,'Points Table C'!$D$3:$E$18,2)","v":0},{"$f":"IF($Z213<Lookups!$C$106,(AA213+AB213+AC213),IF(AA213>=Lookups!$C$120,(AA213+AB213+AC213),AA213+AB213))","v":0}]
["Non-core foods","Enter a food name here","Company name",0,0,0,0,0,0,0,0,0,{"$f":"IF((SUM(D214:L214)=0),\"J\",VLOOKUP(P214,Lookups!$A$1:$B$11,2))","v":"J"},{"$f":"H214+(L214*Lookups!$C$102*H214/100)","v":0},0,{"$f":"IF(ROUND(10.499-(((O214-VLOOKUP($A214,Lookups!$A$55:$D$64,3))/(VLOOKUP($A214,Lookups!$A$55:$D$64,4))*VLOOKUP($A214,Lookups!$C$2:$D$11,2))),0)<1,1,IF(ROUND(10.499-(((O214-VLOOKUP($A214,Lookups!$A$55:$D$64,3))/(VLOOKUP($A214,Lookups!$A$55:$D$64,4))*VLOOKUP($A214,Lookups!$C$2:$D$11,2))),0)<11,ROUND(10.499-(((O214-VLOOKUP($A214,Lookups!$A$55:$D$64,3))/(VLOOKUP($A214,Lookups!$A$55:$D$64,4))*VLOOKUP($A214,Lookups!$C$2:$D$11,2))),0),10))","v":7},null,{"$f":"VLOOKUP(A214,Lookups!$A$126:$C$135,3)","v":2},{"$f":"VLOOKUP(A214,Lookups!$A$126:$C$135,2)","v":"Food"},"No",0,{"$f":"IF($R214<>3,VLOOKUP($D214,'Points Table A'!$B$3:$F$33,5),VLOOKUP($D214,'Points Table A'!$H$3:$L$33,5))","v":0},{"$f":"IF($R214<>3,VLOOKUP($E214,'Points Table A'!$C$3:$F$33,4),VLOOKUP($E214,'Points Table A'!$I$3:$L$33,4))","v":0},{"$f":"IF($R214<>3,VLOOKUP($F214,'Points Table A'!$D$3:$F$33,3),VLOOKUP($F214,'Points Table A'!$J$3:$L$33,3))","v":0},{"$f":"IF($R214<>3,VLOOKUP($G214,'Points Table A'!$E$3:$F$33,2),VLOOKUP($G214,'Points Table A'!$K$3:$L$33,2))","v":0},0,{"$f":"IF($T214=Lookups!$B$113,VLOOKUP($J214,'Points Table C'!$A$3:$F$11,5),VLOOKUP($U214,'Points Table C'!$B$3:$F$11,4))","v":0},{"$f":"IF($R214=1,0,VLOOKUP($N214,'Points Table C'!$C$3:$E$18,3))","v":0},{"$f":"VLOOKUP($I214,'Points Table C'!$D$3:$E$18,2)","v":0},{"$f":"IF($Z214<Lookups!$C$106,(AA214+AB214+AC214),IF(AA214>=Lookups!$C$120,(AA214+AB214+AC214),AA214+AB214))","v":0}]
["Non-core foods","Enter a food name here","Company name",0,0,0,0,0,0,0,0,0,{"$f":"IF((SUM(D215:L215)=0),\"J\",VLOOKUP(P215,Lookups!$A$1:$B$11,2))","v":"J"},{"$f":"H215+(L215*Lookups!$C$102*H215/100)","v":0},0,{"$f":"IF(ROUND(10.499-(((O215-VLOOKUP($A215,Lookups!$A$55:$D$64,3))/(VLOOKUP($A215,Lookups!$A$55:$D$64,4))*VLOOKUP($A215,Lookups!$C$2:$D$11,2))),0)<1,1,IF(ROUND(10.499-(((O215-VLOOKUP($A215,Lookups!$A$55:$D$64,3))/(VLOOKUP($A215,Lookups!$A$55:$D$64,4))*VLOOKUP($A215,Lookups!$C$2:$D$11,2))),0)<11,ROUND(10.499-(((O215-VLOOKUP($A215,Lookups!$A$55:$D$64,3))/(VLOOKUP($A215,Lookups!$A$55:$D$64,4))*VLOOKUP($A215,Lookups!$C$2:$D$11,2))),0),10))","v":7},null,{"$f":"VLOOKUP(A215,Lookups!$A$126:$C$135,3)","v":2},{"$f":"VLOOKUP(A215,Lookups!$A$126:$C$135,2)","v":"Food"},"No",0,{"$f":"IF($R215<>3,VLOOKUP($D215,'Points Table A'!$B$3:$F$33,5),VLOOKUP($D215,'Points Table A'!$H$3:$L$33,5))","v":0},{"$f":"IF($R215<>3,VLOOKUP($E215,'Points Table A'!$C$3:$F$33,4),VLOOKUP($E215,'Points Table A'!$I$3:$L$33,4))","v":0},{"$f":"IF($R215<>3,VLOOKUP($F215,'Points Table A'!$D$3:$F$33,3),VLOOKUP($F215,'Points Table A'!$J$3:$L$33,3))","v":0},{"$f":"IF($R215<>3,VLOOKUP($G215,'Points Table A'!$E$3:$F$33,2),VLOOKUP($G215,'Points Table A'!$K$3:$L$33,2))","v":0},0,{"$f":"IF($T215=Lookups!$B$113,VLOOKUP($J215,'Points Table C'!$A$3:$F$11,5),VLOOKUP($U215,'Points Table C'!$B$3:$F$11,4))","v":0},{"$f":"IF($R215=1,0,VLOOKUP($N215,'Points Table C'!$C$3:$E$18,3))","v":0},{"$f":"VLOOKUP($I215,'Points Table C'!$D$3:$E$18,2)","v":0},{"$f":"IF($Z215<Lookups!$C$106,(AA215+AB215+AC215),IF(AA215>=Lookups!$C$120,(AA215+AB215+AC215),AA215+AB215))","v":0}]
["Non-core foods","Enter a food name here","Company name",0,0,0,0,0,0,0,0,0,{"$f":"IF((SUM(D216:L216)=0),\"J\",VLOOKUP(P216,Lookups!$A$1:$B$11,2))","v":"J"},{"$f":"H216+(L216*Lookups!$C$102*H216/100)","v":0},0,{"$f":"IF(ROUND(10.499-(((O216-VLOOKUP($A216,Lookups!$A$55:$D$64,3))/(VLOOKUP($A216,Lookups!$A$55:$D$64,4))*VLOOKUP($A216,Lookups!$C$2:$D$11,2))),0)<1,1,IF(ROUND(10.499-(((O216-VLOOKUP($A216,Lookups!$A$55:$D$64,3))/(VLOOKUP($A216,Lookups!$A$55:$D$64,4))*VLOOKUP($A216,Lookups!$C$2:$D$11,2))),0)<11,ROUND(10.499-(((O216-VLOOKUP($A216,Lookups!$A$55:$D$64,3))/(VLOOKUP($A216,Lookups!$A$55:$D$64,4))*VLOOKUP($A216,Lookups!$C$2:$D$11,2))),0),10))","v":7},null,{"$f":"VLOOKUP(A216,Lookups!$A$126:$C$135,3)","v":2},{"$f":"VLOOKUP(A216,Lookups!$A$126:$C$135,2)","v":"Food"},"No",0,{"$f":"IF($R216<>3,VLOOKUP($D216,'Points Table A'!$B$3:$F$33,5),VLOOKUP($D216,'Points Table A'!$H$3:$L$33,5))","v":0},{"$f":"IF($R216<>3,VLOOKUP($E216,'Points Table A'!$C$3:$F$33,4),VLOOKUP($E216,'Points Table A'!$I$3:$L$33,4))","v":0},{"$f":"IF($R216<>3,VLOOKUP($F216,'Points Table A'!$D$3:$F$33,3),VLOOKUP($F216,'Points Table A'!$J$3:$L$33,3))","v":0},{"$f":"IF($R216<>3,VLOOKUP($G216,'Points Table A'!$E$3:$F$33,2),VLOOKUP($G216,'Points Table A'!$K$3:$L$33,2))","v":0},0,{"$f":"IF($T216=Lookups!$B$113,VLOOKUP($J216,'Points Table C'!$A$3:$F$11,5),VLOOKUP($U216,'Points Table C'!$B$3:$F$11,4))","v":0},{"$f":"IF($R216=1,0,VLOOKUP($N216,'Points Table C'!$C$3:$E$18,3))","v":0},{"$f":"VLOOKUP($I216,'Points Table C'!$D$3:$E$18,2)","v":0},{"$f":"IF($Z216<Lookups!$C$106,(AA216+AB216+AC216),IF(AA216>=Lookups!$C$120,(AA216+AB216+AC216),AA216+AB216))","v":0}]
["Non-core foods","Enter a food name here","Company name",0,0,0,0,0,0,0,0,0,{"$f":"IF((SUM(D217:L217)=0),\"J\",VLOOKUP(P217,Lookups!$A$1:$B$11,2))","v":"J"},{"$f":"H217+(L217*Lookups!$C$102*H217/100)","v":0},0,{"$f":"IF(ROUND(10.499-(((O217-VLOOKUP($A217,Lookups!$A$55:$D$64,3))/(VLOOKUP($A217,Lookups!$A$55:$D$64,4))*VLOOKUP($A217,Lookups!$C$2:$D$11,2))),0)<1,1,IF(ROUND(10.499-(((O217-VLOOKUP($A217,Lookups!$A$55:$D$64,3))/(VLOOKUP($A217,Lookups!$A$55:$D$64,4))*VLOOKUP($A217,Lookups!$C$2:$D$11,2))),0)<11,ROUND(10.499-(((O217-VLOOKUP($A217,Lookups!$A$55:$D$64,3))/(VLOOKUP($A217,Lookups!$A$55:$D$64,4))*VLOOKUP($A217,Lookups!$C$2:$D$11,2))),0),10))","v":7},null,{"$f":"VLOOKUP(A217,Lookups!$A$126:$C$135,3)","v":2},{"$f":"VLOOKUP(A217,Lookups!$A$126:$C$135,2)","v":"Food"},"No",0,{"$f":"IF($R217<>3,VLOOKUP($D217,'Points Table A'!$B$3:$F$33,5),VLOOKUP($D217,'Points Table A'!$H$3:$L$33,5))","v":0},{"$f":"IF($R217<>3,VLOOKUP($E217,'Points Table A'!$C$3:$F$33,4),VLOOKUP($E217,'Points Table A'!$I$3:$L$33,4))","v":0},{"$f":"IF($R217<>3,VLOOKUP($F217,'Points Table A'!$D$3:$F$33,3),VLOOKUP($F217,'Points Table A'!$J$3:$L$33,3))","v":0},{"$f":"IF($R217<>3,VLOOKUP($G217,'Points Table A'!$E$3:$F$33,2),VLOOKUP($G217,'Points Table A'!$K$3:$L$33,2))","v":0},0,{"$f":"IF($T217=Lookups!$B$113,VLOOKUP($J217,'Points Table C'!$A$3:$F$11,5),VLOOKUP($U217,'Points Table C'!$B$3:$F$11,4))","v":0},{"$f":"IF($R217=1,0,VLOOKUP($N217,'Points Table C'!$C$3:$E$18,3))","v":0},{"$f":"VLOOKUP($I217,'Points Table C'!$D$3:$E$18,2)","v":0},{"$f":"IF($Z217<Lookups!$C$106,(AA217+AB217+AC217),IF(AA217>=Lookups!$C$120,(AA217+AB217+AC217),AA217+AB217))","v":0}]
["Non-core foods","Enter a food name here","Company name",0,0,0,0,0,0,0,0,0,{"$f":"IF((SUM(D218:L218)=0),\"J\",VLOOKUP(P218,Lookups!$A$1:$B$11,2))","v":"J"},{"$f":"H218+(L218*Lookups!$C$102*H218/100)","v":0},0,{"$f":"IF(ROUND(10.499-(((O218-VLOOKUP($A218,Lookups!$A$55:$D$64,3))/(VLOOKUP($A218,Lookups!$A$55:$D$64,4))*VLOOKUP($A218,Lookups!$C$2:$D$11,2))),0)<1,1,IF(ROUND(10.499-(((O218-VLOOKUP($A218,Lookups!$A$55:$D$64,3))/(VLOOKUP($A218,Lookups!$A$55:$D$64,4))*VLOOKUP($A218,Lookups!$C$2:$D$11,2))),0)<11,ROUND(10.499-(((O218-VLOOKUP($A218,Lookups!$A$55:$D$64,3))/(VLOOKUP($A218,Lookups!$A$55:$D$64,4))*VLOOKUP($A218,Lookups!$C$2:$D$11,2))),0),10))","v":7},null,{"$f":"VLOOKUP(A218,Lookups!$A$126:$C$135,3)","v":2},{"$f":"VLOOKUP(A218,Lookups!$A$126:$C$135,2)","v":"Food"},"No",0,{"$f":"IF($R218<>3,VLOOKUP($D218,'Points Table A'!$B$3:$F$33,5),VLOOKUP($D218,'Points Table A'!$H$3:$L$33,5))","v":0},{"$f":"IF($R218<>3,VLOOKUP($E218,'Points Table A'!$C$3:$F$33,4),VLOOKUP($E218,'Points Table A'!$I$3:$L$33,4))","v":0},{"$f":"IF($R218<>3,VLOOKUP($F218,'Points Table A'!$D$3:$F$33,3),VLOOKUP($F218,'Points Table A'!$J$3:$L$33,3))","v":0},{"$f":"IF($R218<>3,VLOOKUP($G218,'Points Table A'!$E$3:$F$33,2),VLOOKUP($G218,'Points Table A'!$K$3:$L$33,2))","v":0},0,{"$f":"IF($T218=Lookups!$B$113,VLOOKUP($J218,'Points Table C'!$A$3:$F$11,5),VLOOKUP($U218,'Points Table C'!$B$3:$F$11,4))","v":0},{"$f":"IF($R218=1,0,VLOOKUP($N218,'Points Table C'!$C$3:$E$18,3))","v":0},{"$f":"VLOOKUP($I218,'Points Table C'!$D$3:$E$18,2)","v":0},{"$f":"IF($Z218<Lookups!$C$106,(AA218+AB218+AC218),IF(AA218>=Lookups!$C$120,(AA218+AB218+AC218),AA218+AB218))","v":0}]
["Non-core foods","Enter a food name here","Company name",0,0,0,0,0,0,0,0,0,{"$f":"IF((SUM(D219:L219)=0),\"J\",VLOOKUP(P219,Lookups!$A$1:$B$11,2))","v":"J"},{"$f":"H219+(L219*Lookups!$C$102*H219/100)","v":0},0,{"$f":"IF(ROUND(10.499-(((O219-VLOOKUP($A219,Lookups!$A$55:$D$64,3))/(VLOOKUP($A219,Lookups!$A$55:$D$64,4))*VLOOKUP($A219,Lookups!$C$2:$D$11,2))),0)<1,1,IF(ROUND(10.499-(((O219-VLOOKUP($A219,Lookups!$A$55:$D$64,3))/(VLOOKUP($A219,Lookups!$A$55:$D$64,4))*VLOOKUP($A219,Lookups!$C$2:$D$11,2))),0)<11,ROUND(10.499-(((O219-VLOOKUP($A219,Lookups!$A$55:$D$64,3))/(VLOOKUP($A219,Lookups!$A$55:$D$64,4))*VLOOKUP($A219,Lookups!$C$2:$D$11,2))),0),10))","v":7},null,{"$f":"VLOOKUP(A219,Lookups!$A$126:$C$135,3)","v":2},{"$f":"VLOOKUP(A219,Lookups!$A$126:$C$135,2)","v":"Food"},"No",0,{"$f":"IF($R219<>3,VLOOKUP($D219,'Points Table A'!$B$3:$F$33,5),VLOOKUP($D219,'Points Table A'!$H$3:$L$33,5))","v":0},{"$f":"IF($R219<>3,VLOOKUP($E219,'Points Table A'!$C$3:$F$33,4),VLOOKUP($E219,'Points Table A'!$I$3:$L$33,4))","v":0},{"$f":"IF($R219<>3,VLOOKUP($F219,'Points Table A'!$D$3:$F$33,3),VLOOKUP($F219,'Points Table A'!$J$3:$L$33,3))","v":0},{"$f":"IF($R219<>3,VLOOKUP($G219,'Points Table A'!$E$3:$F$33,2),VLOOKUP($G219,'Points Table A'!$K$3:$L$33,2))","v":0},0,{"$f":"IF($T219=Lookups!$B$113,VLOOKUP($J219,'Points Table C'!$A$3:$F$11,5),VLOOKUP($U219,'Points Table C'!$B$3:$F$11,4))","v":0},{"$f":"IF($R219=1,0,VLOOKUP($N219,'Points Table C'!$C$3:$E$18,3))","v":0},{"$f":"VLOOKUP($I219,'Points Table C'!$D$3:$E$18,2)","v":0},{"$f":"IF($Z219<Lookups!$C$106,(AA219+AB219+AC219),IF(AA219>=Lookups!$C$120,(AA219+AB219+AC219),AA219+AB219))","v":0}]
["Non-core foods","Enter a food name here","Company name",0,0,0,0,0,0,0,0,0,{"$f":"IF((SUM(D220:L220)=0),\"J\",VLOOKUP(P220,Lookups!$A$1:$B$11,2))","v":"J"},{"$f":"H220+(L220*Lookups!$C$102*H220/100)","v":0},0,{"$f":"IF(ROUND(10.499-(((O220-VLOOKUP($A220,Lookups!$A$55:$D$64,3))/(VLOOKUP($A220,Lookups!$A$55:$D$64,4))*VLOOKUP($A220,Lookups!$C$2:$D$11,2))),0)<1,1,IF(ROUND(10.499-(((O220-VLOOKUP($A220,Lookups!$A$55:$D$64,3))/(VLOOKUP($A220,Lookups!$A$55:$D$64,4))*VLOOKUP($A220,Lookups!$C$2:$D$11,2))),0)<11,ROUND(10.499-(((O220-VLOOKUP($A220,Lookups!$A$55:$D$64,3))/(VLOOKUP($A220,Lookups!$A$55:$D$64,4))*VLOOKUP($A220,Lookups!$C$2:$D$11,2))),0),10))","v":7},null,{"$f":"VLOOKUP(A220,Lookups!$A$126:$C$135,3)","v":2},{"$f":"VLOOKUP(A220,Lookups!$A$126:$C$135,2)","v":"Food"},"No",0,{"$f":"IF($R220<>3,VLOOKUP($D220,'Points Table A'!$B$3:$F$33,5),VLOOKUP($D220,'Points Table A'!$H$3:$L$33,5))","v":0},{"$f":"IF($R220<>3,VLOOKUP($E220,'Points Table A'!$C$3:$F$33,4),VLOOKUP($E220,'Points Table A'!$I$3:$L$33,4))","v":0},{"$f":"IF($R220<>3,VLOOKUP($F220,'Points Table A'!$D$3:$F$33,3),VLOOKUP($F220,'Points Table A'!$J$3:$L$33,3))","v":0},{"$f":"IF($R220<>3,VLOOKUP($G220,'Points Table A'!$E$3:$F$33,2),VLOOKUP($G220,'Points Table A'!$K$3:$L$33,2))","v":0},0,{"$f":"IF($T220=Lookups!$B$113,VLOOKUP($J220,'Points Table C'!$A$3:$F$11,5),VLOOKUP($U220,'Points Table C'!$B$3:$F$11,4))","v":0},{"$f":"IF($R220=1,0,VLOOKUP($N220,'Points Table C'!$C$3:$E$18,3))","v":0},{"$f":"VLOOKUP($I220,'Points Table C'!$D$3:$E$18,2)","v":0},{"$f":"IF($Z220<Lookups!$C$106,(AA220+AB220+AC220),IF(AA220>=Lookups!$C$120,(AA220+AB220+AC220),AA220+AB220))","v":0}]
["Non-core foods","Enter a food name here","Company name",0,0,0,0,0,0,0,0,0,{"$f":"IF((SUM(D221:L221)=0),\"J\",VLOOKUP(P221,Lookups!$A$1:$B$11,2))","v":"J"},{"$f":"H221+(L221*Lookups!$C$102*H221/100)","v":0},0,{"$f":"IF(ROUND(10.499-(((O221-VLOOKUP($A221,Lookups!$A$55:$D$64,3))/(VLOOKUP($A221,Lookups!$A$55:$D$64,4))*VLOOKUP($A221,Lookups!$C$2:$D$11,2))),0)<1,1,IF(ROUND(10.499-(((O221-VLOOKUP($A221,Lookups!$A$55:$D$64,3))/(VLOOKUP($A221,Lookups!$A$55:$D$64,4))*VLOOKUP($A221,Lookups!$C$2:$D$11,2))),0)<11,ROUND(10.499-(((O221-VLOOKUP($A221,Lookups!$A$55:$D$64,3))/(VLOOKUP($A221,Lookups!$A$55:$D$64,4))*VLOOKUP($A221,Lookups!$C$2:$D$11,2))),0),10))","v":7},null,{"$f":"VLOOKUP(A221,Lookups!$A$126:$C$135,3)","v":2},{"$f":"VLOOKUP(A221,Lookups!$A$126:$C$135,2)","v":"Food"},"No",0,{"$f":"IF($R221<>3,VLOOKUP($D221,'Points Table A'!$B$3:$F$33,5),VLOOKUP($D221,'Points Table A'!$H$3:$L$33,5))","v":0},{"$f":"IF($R221<>3,VLOOKUP($E221,'Points Table A'!$C$3:$F$33,4),VLOOKUP($E221,'Points Table A'!$I$3:$L$33,4))","v":0},{"$f":"IF($R221<>3,VLOOKUP($F221,'Points Table A'!$D$3:$F$33,3),VLOOKUP($F221,'Points Table A'!$J$3:$L$33,3))","v":0},{"$f":"IF($R221<>3,VLOOKUP($G221,'Points Table A'!$E$3:$F$33,2),VLOOKUP($G221,'Points Table A'!$K$3:$L$33,2))","v":0},0,{"$f":"IF($T221=Lookups!$B$113,VLOOKUP($J221,'Points Table C'!$A$3:$F$11,5),VLOOKUP($U221,'Points Table C'!$B$3:$F$11,4))","v":0},{"$f":"IF($R221=1,0,VLOOKUP($N221,'Points Table C'!$C$3:$E$18,3))","v":0},{"$f":"VLOOKUP($I221,'Points Table C'!$D$3:$E$18,2)","v":0},{"$f":"IF($Z221<Lookups!$C$106,(AA221+AB221+AC221),IF(AA221>=Lookups!$C$120,(AA221+AB221+AC221),AA221+AB221))","v":0}]
["Non-core foods","Enter a food name here","Company name",0,0,0,0,0,0,0,0,0,{"$f":"IF((SUM(D222:L222)=0),\"J\",VLOOKUP(P222,Lookups!$A$1:$B$11,2))","v":"J"},{"$f":"H222+(L222*Lookups!$C$102*H222/100)","v":0},0,{"$f":"IF(ROUND(10.499-(((O222-VLOOKUP($A222,Lookups!$A$55:$D$64,3))/(VLOOKUP($A222,Lookups!$A$55:$D$64,4))*VLOOKUP($A222,Lookups!$C$2:$D$11,2))),0)<1,1,IF(ROUND(10.499-(((O222-VLOOKUP($A222,Lookups!$A$55:$D$64,3))/(VLOOKUP($A222,Lookups!$A$55:$D$64,4))*VLOOKUP($A222,Lookups!$C$2:$D$11,2))),0)<11,ROUND(10.499-(((O222-VLOOKUP($A222,Lookups!$A$55:$D$64,3))/(VLOOKUP($A222,Lookups!$A$55:$D$64,4))*VLOOKUP($A222,Lookups!$C$2:$D$11,2))),0),10))","v":7},null,{"$f":"VLOOKUP(A222,Lookups!$A$126:$C$135,3)","v":2},{"$f":"VLOOKUP(A222,Lookups!$A$126:$C$135,2)","v":"Food"},"No",0,{"$f":"IF($R222<>3,VLOOKUP($D222,'Points Table A'!$B$3:$F$33,5),VLOOKUP($D222,'Points Table A'!$H$3:$L$33,5))","v":0},{"$f":"IF($R222<>3,VLOOKUP($E222,'Points Table A'!$C$3:$F$33,4),VLOOKUP($E222,'Points Table A'!$I$3:$L$33,4))","v":0},{"$f":"IF($R222<>3,VLOOKUP($F222,'Points Table A'!$D$3:$F$33,3),VLOOKUP($F222,'Points Table A'!$J$3:$L$33,3))","v":0},{"$f":"IF($R222<>3,VLOOKUP($G222,'Points Table A'!$E$3:$F$33,2),VLOOKUP($G222,'Points Table A'!$K$3:$L$33,2))","v":0},0,{"$f":"IF($T222=Lookups!$B$113,VLOOKUP($J222,'Points Table C'!$A$3:$F$11,5),VLOOKUP($U222,'Points Table C'!$B$3:$F$11,4))","v":0},{"$f":"IF($R222=1,0,VLOOKUP($N222,'Points Table C'!$C$3:$E$18,3))","v":0},{"$f":"VLOOKUP($I222,'Points Table C'!$D$3:$E$18,2)","v":0},{"$f":"IF($Z222<Lookups!$C$106,(AA222+AB222+AC222),IF(AA222>=Lookups!$C$120,(AA222+AB222+AC222),AA222+AB222))","v":0}]
["Non-core foods","Enter a food name here","Company name",0,0,0,0,0,0,0,0,0,{"$f":"IF((SUM(D223:L223)=0),\"J\",VLOOKUP(P223,Lookups!$A$1:$B$11,2))","v":"J"},{"$f":"H223+(L223*Lookups!$C$102*H223/100)","v":0},0,{"$f":"IF(ROUND(10.499-(((O223-VLOOKUP($A223,Lookups!$A$55:$D$64,3))/(VLOOKUP($A223,Lookups!$A$55:$D$64,4))*VLOOKUP($A223,Lookups!$C$2:$D$11,2))),0)<1,1,IF(ROUND(10.499-(((O223-VLOOKUP($A223,Lookups!$A$55:$D$64,3))/(VLOOKUP($A223,Lookups!$A$55:$D$64,4))*VLOOKUP($A223,Lookups!$C$2:$D$11,2))),0)<11,ROUND(10.499-(((O223-VLOOKUP($A223,Lookups!$A$55:$D$64,3))/(VLOOKUP($A223,Lookups!$A$55:$D$64,4))*VLOOKUP($A223,Lookups!$C$2:$D$11,2))),0),10))","v":7},null,{"$f":"VLOOKUP(A223,Lookups!$A$126:$C$135,3)","v":2},{"$f":"VLOOKUP(A223,Lookups!$A$126:$C$135,2)","v":"Food"},"No",0,{"$f":"IF($R223<>3,VLOOKUP($D223,'Points Table A'!$B$3:$F$33,5),VLOOKUP($D223,'Points Table A'!$H$3:$L$33,5))","v":0},{"$f":"IF($R223<>3,VLOOKUP($E223,'Points Table A'!$C$3:$F$33,4),VLOOKUP($E223,'Points Table A'!$I$3:$L$33,4))","v":0},{"$f":"IF($R223<>3,VLOOKUP($F223,'Points Table A'!$D$3:$F$33,3),VLOOKUP($F223,'Points Table A'!$J$3:$L$33,3))","v":0},{"$f":"IF($R223<>3,VLOOKUP($G223,'Points Table A'!$E$3:$F$33,2),VLOOKUP($G223,'Points Table A'!$K$3:$L$33,2))","v":0},0,{"$f":"IF($T223=Lookups!$B$113,VLOOKUP($J223,'Points Table C'!$A$3:$F$11,5),VLOOKUP($U223,'Points Table C'!$B$3:$F$11,4))","v":0},{"$f":"IF($R223=1,0,VLOOKUP($N223,'Points Table C'!$C$3:$E$18,3))","v":0},{"$f":"VLOOKUP($I223,'Points Table C'!$D$3:$E$18,2)","v":0},{"$f":"IF($Z223<Lookups!$C$106,(AA223+AB223+AC223),IF(AA223>=Lookups!$C$120,(AA223+AB223+AC223),AA223+AB223))","v":0}]
["Non-core foods","Enter a food name here","Company name",0,0,0,0,0,0,0,0,0,{"$f":"IF((SUM(D224:L224)=0),\"J\",VLOOKUP(P224,Lookups!$A$1:$B$11,2))","v":"J"},{"$f":"H224+(L224*Lookups!$C$102*H224/100)","v":0},0,{"$f":"IF(ROUND(10.499-(((O224-VLOOKUP($A224,Lookups!$A$55:$D$64,3))/(VLOOKUP($A224,Lookups!$A$55:$D$64,4))*VLOOKUP($A224,Lookups!$C$2:$D$11,2))),0)<1,1,IF(ROUND(10.499-(((O224-VLOOKUP($A224,Lookups!$A$55:$D$64,3))/(VLOOKUP($A224,Lookups!$A$55:$D$64,4))*VLOOKUP($A224,Lookups!$C$2:$D$11,2))),0)<11,ROUND(10.499-(((O224-VLOOKUP($A224,Lookups!$A$55:$D$64,3))/(VLOOKUP($A224,Lookups!$A$55:$D$64,4))*VLOOKUP($A224,Lookups!$C$2:$D$11,2))),0),10))","v":7},null,{"$f":"VLOOKUP(A224,Lookups!$A$126:$C$135,3)","v":2},{"$f":"VLOOKUP(A224,Lookups!$A$126:$C$135,2)","v":"Food"},"No",0,{"$f":"IF($R224<>3,VLOOKUP($D224,'Points Table A'!$B$3:$F$33,5),VLOOKUP($D224,'Points Table A'!$H$3:$L$33,5))","v":0},{"$f":"IF($R224<>3,VLOOKUP($E224,'Points Table A'!$C$3:$F$33,4),VLOOKUP($E224,'Points Table A'!$I$3:$L$33,4))","v":0},{"$f":"IF($R224<>3,VLOOKUP($F224,'Points Table A'!$D$3:$F$33,3),VLOOKUP($F224,'Points Table A'!$J$3:$L$33,3))","v":0},{"$f":"IF($R224<>3,VLOOKUP($G224,'Points Table A'!$E$3:$F$33,2),VLOOKUP($G224,'Points Table A'!$K$3:$L$33,2))","v":0},0,{"$f":"IF($T224=Lookups!$B$113,VLOOKUP($J224,'Points Table C'!$A$3:$F$11,5),VLOOKUP($U224,'Points Table C'!$B$3:$F$11,4))","v":0},{"$f":"IF($R224=1,0,VLOOKUP($N224,'Points Table C'!$C$3:$E$18,3))","v":0},{"$f":"VLOOKUP($I224,'Points Table C'!$D$3:$E$18,2)","v":0},{"$f":"IF($Z224<Lookups!$C$106,(AA224+AB224+AC224),IF(AA224>=Lookups!$C$120,(AA224+AB224+AC224),AA224+AB224))","v":0}]
["Non-core foods","Enter a food name here","Company name",0,0,0,0,0,0,0,0,0,{"$f":"IF((SUM(D225:L225)=0),\"J\",VLOOKUP(P225,Lookups!$A$1:$B$11,2))","v":"J"},{"$f":"H225+(L225*Lookups!$C$102*H225/100)","v":0},0,{"$f":"IF(ROUND(10.499-(((O225-VLOOKUP($A225,Lookups!$A$55:$D$64,3))/(VLOOKUP($A225,Lookups!$A$55:$D$64,4))*VLOOKUP($A225,Lookups!$C$2:$D$11,2))),0)<1,1,IF(ROUND(10.499-(((O225-VLOOKUP($A225,Lookups!$A$55:$D$64,3))/(VLOOKUP($A225,Lookups!$A$55:$D$64,4))*VLOOKUP($A225,Lookups!$C$2:$D$11,2))),0)<11,ROUND(10.499-(((O225-VLOOKUP($A225,Lookups!$A$55:$D$64,3))/(VLOOKUP($A225,Lookups!$A$55:$D$64,4))*VLOOKUP($A225,Lookups!$C$2:$D$11,2))),0),10))","v":7},null,{"$f":"VLOOKUP(A225,Lookups!$A$126:$C$135,3)","v":2},{"$f":"VLOOKUP(A225,Lookups!$A$126:$C$135,2)","v":"Food"},"No",0,{"$f":"IF($R225<>3,VLOOKUP($D225,'Points Table A'!$B$3:$F$33,5),VLOOKUP($D225,'Points Table A'!$H$3:$L$33,5))","v":0},{"$f":"IF($R225<>3,VLOOKUP($E225,'Points Table A'!$C$3:$F$33,4),VLOOKUP($E225,'Points Table A'!$I$3:$L$33,4))","v":0},{"$f":"IF($R225<>3,VLOOKUP($F225,'Points Table A'!$D$3:$F$33,3),VLOOKUP($F225,'Points Table A'!$J$3:$L$33,3))","v":0},{"$f":"IF($R225<>3,VLOOKUP($G225,'Points Table A'!$E$3:$F$33,2),VLOOKUP($G225,'Points Table A'!$K$3:$L$33,2))","v":0},0,{"$f":"IF($T225=Lookups!$B$113,VLOOKUP($J225,'Points Table C'!$A$3:$F$11,5),VLOOKUP($U225,'Points Table C'!$B$3:$F$11,4))","v":0},{"$f":"IF($R225=1,0,VLOOKUP($N225,'Points Table C'!$C$3:$E$18,3))","v":0},{"$f":"VLOOKUP($I225,'Points Table C'!$D$3:$E$18,2)","v":0},{"$f":"IF($Z225<Lookups!$C$106,(AA225+AB225+AC225),IF(AA225>=Lookups!$C$120,(AA225+AB225+AC225),AA225+AB225))","v":0}]
["Non-core foods","Enter a food name here","Company name",0,0,0,0,0,0,0,0,0,{"$f":"IF((SUM(D226:L226)=0),\"J\",VLOOKUP(P226,Lookups!$A$1:$B$11,2))","v":"J"},{"$f":"H226+(L226*Lookups!$C$102*H226/100)","v":0},0,{"$f":"IF(ROUND(10.499-(((O226-VLOOKUP($A226,Lookups!$A$55:$D$64,3))/(VLOOKUP($A226,Lookups!$A$55:$D$64,4))*VLOOKUP($A226,Lookups!$C$2:$D$11,2))),0)<1,1,IF(ROUND(10.499-(((O226-VLOOKUP($A226,Lookups!$A$55:$D$64,3))/(VLOOKUP($A226,Lookups!$A$55:$D$64,4))*VLOOKUP($A226,Lookups!$C$2:$D$11,2))),0)<11,ROUND(10.499-(((O226-VLOOKUP($A226,Lookups!$A$55:$D$64,3))/(VLOOKUP($A226,Lookups!$A$55:$D$64,4))*VLOOKUP($A226,Lookups!$C$2:$D$11,2))),0),10))","v":7},null,{"$f":"VLOOKUP(A226,Lookups!$A$126:$C$135,3)","v":2},{"$f":"VLOOKUP(A226,Lookups!$A$126:$C$135,2)","v":"Food"},"No",0,{"$f":"IF($R226<>3,VLOOKUP($D226,'Points Table A'!$B$3:$F$33,5),VLOOKUP($D226,'Points Table A'!$H$3:$L$33,5))","v":0},{"$f":"IF($R226<>3,VLOOKUP($E226,'Points Table A'!$C$3:$F$33,4),VLOOKUP($E226,'Points Table A'!$I$3:$L$33,4))","v":0},{"$f":"IF($R226<>3,VLOOKUP($F226,'Points Table A'!$D$3:$F$33,3),VLOOKUP($F226,'Points Table A'!$J$3:$L$33,3))","v":0},{"$f":"IF($R226<>3,VLOOKUP($G226,'Points Table A'!$E$3:$F$33,2),VLOOKUP($G226,'Points Table A'!$K$3:$L$33,2))","v":0},0,{"$f":"IF($T226=Lookups!$B$113,VLOOKUP($J226,'Points Table C'!$A$3:$F$11,5),VLOOKUP($U226,'Points Table C'!$B$3:$F$11,4))","v":0},{"$f":"IF($R226=1,0,VLOOKUP($N226,'Points Table C'!$C$3:$E$18,3))","v":0},{"$f":"VLOOKUP($I226,'Points Table C'!$D$3:$E$18,2)","v":0},{"$f":"IF($Z226<Lookups!$C$106,(AA226+AB226+AC226),IF(AA226>=Lookups!$C$120,(AA226+AB226+AC226),AA226+AB226))","v":0}]
["Non-core foods","Enter a food name here","Company name",0,0,0,0,0,0,0,0,0,{"$f":"IF((SUM(D227:L227)=0),\"J\",VLOOKUP(P227,Lookups!$A$1:$B$11,2))","v":"J"},{"$f":"H227+(L227*Lookups!$C$102*H227/100)","v":0},0,{"$f":"IF(ROUND(10.499-(((O227-VLOOKUP($A227,Lookups!$A$55:$D$64,3))/(VLOOKUP($A227,Lookups!$A$55:$D$64,4))*VLOOKUP($A227,Lookups!$C$2:$D$11,2))),0)<1,1,IF(ROUND(10.499-(((O227-VLOOKUP($A227,Lookups!$A$55:$D$64,3))/(VLOOKUP($A227,Lookups!$A$55:$D$64,4))*VLOOKUP($A227,Lookups!$C$2:$D$11,2))),0)<11,ROUND(10.499-(((O227-VLOOKUP($A227,Lookups!$A$55:$D$64,3))/(VLOOKUP($A227,Lookups!$A$55:$D$64,4))*VLOOKUP($A227,Lookups!$C$2:$D$11,2))),0),10))","v":7},null,{"$f":"VLOOKUP(A227,Lookups!$A$126:$C$135,3)","v":2},{"$f":"VLOOKUP(A227,Lookups!$A$126:$C$135,2)","v":"Food"},"No",0,{"$f":"IF($R227<>3,VLOOKUP($D227,'Points Table A'!$B$3:$F$33,5),VLOOKUP($D227,'Points Table A'!$H$3:$L$33,5))","v":0},{"$f":"IF($R227<>3,VLOOKUP($E227,'Points Table A'!$C$3:$F$33,4),VLOOKUP($E227,'Points Table A'!$I$3:$L$33,4))","v":0},{"$f":"IF($R227<>3,VLOOKUP($F227,'Points Table A'!$D$3:$F$33,3),VLOOKUP($F227,'Points Table A'!$J$3:$L$33,3))","v":0},{"$f":"IF($R227<>3,VLOOKUP($G227,'Points Table A'!$E$3:$F$33,2),VLOOKUP($G227,'Points Table A'!$K$3:$L$33,2))","v":0},0,{"$f":"IF($T227=Lookups!$B$113,VLOOKUP($J227,'Points Table C'!$A$3:$F$11,5),VLOOKUP($U227,'Points Table C'!$B$3:$F$11,4))","v":0},{"$f":"IF($R227=1,0,VLOOKUP($N227,'Points Table C'!$C$3:$E$18,3))","v":0},{"$f":"VLOOKUP($I227,'Points Table C'!$D$3:$E$18,2)","v":0},{"$f":"IF($Z227<Lookups!$C$106,(AA227+AB227+AC227),IF(AA227>=Lookups!$C$120,(AA227+AB227+AC227),AA227+AB227))","v":0}]
["Non-core foods","Enter a food name here","Company name",0,0,0,0,0,0,0,0,0,{"$f":"IF((SUM(D228:L228)=0),\"J\",VLOOKUP(P228,Lookups!$A$1:$B$11,2))","v":"J"},{"$f":"H228+(L228*Lookups!$C$102*H228/100)","v":0},0,{"$f":"IF(ROUND(10.499-(((O228-VLOOKUP($A228,Lookups!$A$55:$D$64,3))/(VLOOKUP($A228,Lookups!$A$55:$D$64,4))*VLOOKUP($A228,Lookups!$C$2:$D$11,2))),0)<1,1,IF(ROUND(10.499-(((O228-VLOOKUP($A228,Lookups!$A$55:$D$64,3))/(VLOOKUP($A228,Lookups!$A$55:$D$64,4))*VLOOKUP($A228,Lookups!$C$2:$D$11,2))),0)<11,ROUND(10.499-(((O228-VLOOKUP($A228,Lookups!$A$55:$D$64,3))/(VLOOKUP($A228,Lookups!$A$55:$D$64,4))*VLOOKUP($A228,Lookups!$C$2:$D$11,2))),0),10))","v":7},null,{"$f":"VLOOKUP(A228,Lookups!$A$126:$C$135,3)","v":2},{"$f":"VLOOKUP(A228,Lookups!$A$126:$C$135,2)","v":"Food"},"No",0,{"$f":"IF($R228<>3,VLOOKUP($D228,'Points Table A'!$B$3:$F$33,5),VLOOKUP($D228,'Points Table A'!$H$3:$L$33,5))","v":0},{"$f":"IF($R228<>3,VLOOKUP($E228,'Points Table A'!$C$3:$F$33,4),VLOOKUP($E228,'Points Table A'!$I$3:$L$33,4))","v":0},{"$f":"IF($R228<>3,VLOOKUP($F228,'Points Table A'!$D$3:$F$33,3),VLOOKUP($F228,'Points Table A'!$J$3:$L$33,3))","v":0},{"$f":"IF($R228<>3,VLOOKUP($G228,'Points Table A'!$E$3:$F$33,2),VLOOKUP($G228,'Points Table A'!$K$3:$L$33,2))","v":0},0,{"$f":"IF($T228=Lookups!$B$113,VLOOKUP($J228,'Points Table C'!$A$3:$F$11,5),VLOOKUP($U228,'Points Table C'!$B$3:$F$11,4))","v":0},{"$f":"IF($R228=1,0,VLOOKUP($N228,'Points Table C'!$C$3:$E$18,3))","v":0},{"$f":"VLOOKUP($I228,'Points Table C'!$D$3:$E$18,2)","v":0},{"$f":"IF($Z228<Lookups!$C$106,(AA228+AB228+AC228),IF(AA228>=Lookups!$C$120,(AA228+AB228+AC228),AA228+AB228))","v":0}]
["Non-core foods","Enter a food name here","Company name",0,0,0,0,0,0,0,0,0,{"$f":"IF((SUM(D229:L229)=0),\"J\",VLOOKUP(P229,Lookups!$A$1:$B$11,2))","v":"J"},{"$f":"H229+(L229*Lookups!$C$102*H229/100)","v":0},0,{"$f":"IF(ROUND(10.499-(((O229-VLOOKUP($A229,Lookups!$A$55:$D$64,3))/(VLOOKUP($A229,Lookups!$A$55:$D$64,4))*VLOOKUP($A229,Lookups!$C$2:$D$11,2))),0)<1,1,IF(ROUND(10.499-(((O229-VLOOKUP($A229,Lookups!$A$55:$D$64,3))/(VLOOKUP($A229,Lookups!$A$55:$D$64,4))*VLOOKUP($A229,Lookups!$C$2:$D$11,2))),0)<11,ROUND(10.499-(((O229-VLOOKUP($A229,Lookups!$A$55:$D$64,3))/(VLOOKUP($A229,Lookups!$A$55:$D$64,4))*VLOOKUP($A229,Lookups!$C$2:$D$11,2))),0),10))","v":7},null,{"$f":"VLOOKUP(A229,Lookups!$A$126:$C$135,3)","v":2},{"$f":"VLOOKUP(A229,Lookups!$A$126:$C$135,2)","v":"Food"},"No",0,{"$f":"IF($R229<>3,VLOOKUP($D229,'Points Table A'!$B$3:$F$33,5),VLOOKUP($D229,'Points Table A'!$H$3:$L$33,5))","v":0},{"$f":"IF($R229<>3,VLOOKUP($E229,'Points Table A'!$C$3:$F$33,4),VLOOKUP($E229,'Points Table A'!$I$3:$L$33,4))","v":0},{"$f":"IF($R229<>3,VLOOKUP($F229,'Points Table A'!$D$3:$F$33,3),VLOOKUP($F229,'Points Table A'!$J$3:$L$33,3))","v":0},{"$f":"IF($R229<>3,VLOOKUP($G229,'Points Table A'!$E$3:$F$33,2),VLOOKUP($G229,'Points Table A'!$K$3:$L$33,2))","v":0},0,{"$f":"IF($T229=Lookups!$B$113,VLOOKUP($J229,'Points Table C'!$A$3:$F$11,5),VLOOKUP($U229,'Points Table C'!$B$3:$F$11,4))","v":0},{"$f":"IF($R229=1,0,VLOOKUP($N229,'Points Table C'!$C$3:$E$18,3))","v":0},{"$f":"VLOOKUP($I229,'Points Table C'!$D$3:$E$18,2)","v":0},{"$f":"IF($Z229<Lookups!$C$106,(AA229+AB229+AC229),IF(AA229>=Lookups!$C$120,(AA229+AB229+AC229),AA229+AB229))","v":0}]
["Non-core foods","Enter a food name here","Company name",0,0,0,0,0,0,0,0,0,{"$f":"IF((SUM(D230:L230)=0),\"J\",VLOOKUP(P230,Lookups!$A$1:$B$11,2))","v":"J"},{"$f":"H230+(L230*Lookups!$C$102*H230/100)","v":0},0,{"$f":"IF(ROUND(10.499-(((O230-VLOOKUP($A230,Lookups!$A$55:$D$64,3))/(VLOOKUP($A230,Lookups!$A$55:$D$64,4))*VLOOKUP($A230,Lookups!$C$2:$D$11,2))),0)<1,1,IF(ROUND(10.499-(((O230-VLOOKUP($A230,Lookups!$A$55:$D$64,3))/(VLOOKUP($A230,Lookups!$A$55:$D$64,4))*VLOOKUP($A230,Lookups!$C$2:$D$11,2))),0)<11,ROUND(10.499-(((O230-VLOOKUP($A230,Lookups!$A$55:$D$64,3))/(VLOOKUP($A230,Lookups!$A$55:$D$64,4))*VLOOKUP($A230,Lookups!$C$2:$D$11,2))),0),10))","v":7},null,{"$f":"VLOOKUP(A230,Lookups!$A$126:$C$135,3)","v":2},{"$f":"VLOOKUP(A230,Lookups!$A$126:$C$135,2)","v":"Food"},"No",0,{"$f":"IF($R230<>3,VLOOKUP($D230,'Points Table A'!$B$3:$F$33,5),VLOOKUP($D230,'Points Table A'!$H$3:$L$33,5))","v":0},{"$f":"IF($R230<>3,VLOOKUP($E230,'Points Table A'!$C$3:$F$33,4),VLOOKUP($E230,'Points Table A'!$I$3:$L$33,4))","v":0},{"$f":"IF($R230<>3,VLOOKUP($F230,'Points Table A'!$D$3:$F$33,3),VLOOKUP($F230,'Points Table A'!$J$3:$L$33,3))","v":0},{"$f":"IF($R230<>3,VLOOKUP($G230,'Points Table A'!$E$3:$F$33,2),VLOOKUP($G230,'Points Table A'!$K$3:$L$33,2))","v":0},0,{"$f":"IF($T230=Lookups!$B$113,VLOOKUP($J230,'Points Table C'!$A$3:$F$11,5),VLOOKUP($U230,'Points Table C'!$B$3:$F$11,4))","v":0},{"$f":"IF($R230=1,0,VLOOKUP($N230,'Points Table C'!$C$3:$E$18,3))","v":0},{"$f":"VLOOKUP($I230,'Points Table C'!$D$3:$E$18,2)","v":0},{"$f":"IF($Z230<Lookups!$C$106,(AA230+AB230+AC230),IF(AA230>=Lookups!$C$120,(AA230+AB230+AC230),AA230+AB230))","v":0}]
["Non-core foods","Enter a food name here","Company name",0,0,0,0,0,0,0,0,0,{"$f":"IF((SUM(D231:L231)=0),\"J\",VLOOKUP(P231,Lookups!$A$1:$B$11,2))","v":"J"},{"$f":"H231+(L231*Lookups!$C$102*H231/100)","v":0},0,{"$f":"IF(ROUND(10.499-(((O231-VLOOKUP($A231,Lookups!$A$55:$D$64,3))/(VLOOKUP($A231,Lookups!$A$55:$D$64,4))*VLOOKUP($A231,Lookups!$C$2:$D$11,2))),0)<1,1,IF(ROUND(10.499-(((O231-VLOOKUP($A231,Lookups!$A$55:$D$64,3))/(VLOOKUP($A231,Lookups!$A$55:$D$64,4))*VLOOKUP($A231,Lookups!$C$2:$D$11,2))),0)<11,ROUND(10.499-(((O231-VLOOKUP($A231,Lookups!$A$55:$D$64,3))/(VLOOKUP($A231,Lookups!$A$55:$D$64,4))*VLOOKUP($A231,Lookups!$C$2:$D$11,2))),0),10))","v":7},null,{"$f":"VLOOKUP(A231,Lookups!$A$126:$C$135,3)","v":2},{"$f":"VLOOKUP(A231,Lookups!$A$126:$C$135,2)","v":"Food"},"No",0,{"$f":"IF($R231<>3,VLOOKUP($D231,'Points Table A'!$B$3:$F$33,5),VLOOKUP($D231,'Points Table A'!$H$3:$L$33,5))","v":0},{"$f":"IF($R231<>3,VLOOKUP($E231,'Points Table A'!$C$3:$F$33,4),VLOOKUP($E231,'Points Table A'!$I$3:$L$33,4))","v":0},{"$f":"IF($R231<>3,VLOOKUP($F231,'Points Table A'!$D$3:$F$33,3),VLOOKUP($F231,'Points Table A'!$J$3:$L$33,3))","v":0},{"$f":"IF($R231<>3,VLOOKUP($G231,'Points Table A'!$E$3:$F$33,2),VLOOKUP($G231,'Points Table A'!$K$3:$L$33,2))","v":0},0,{"$f":"IF($T231=Lookups!$B$113,VLOOKUP($J231,'Points Table C'!$A$3:$F$11,5),VLOOKUP($U231,'Points Table C'!$B$3:$F$11,4))","v":0},{"$f":"IF($R231=1,0,VLOOKUP($N231,'Points Table C'!$C$3:$E$18,3))","v":0},{"$f":"VLOOKUP($I231,'Points Table C'!$D$3:$E$18,2)","v":0},{"$f":"IF($Z231<Lookups!$C$106,(AA231+AB231+AC231),IF(AA231>=Lookups!$C$120,(AA231+AB231+AC231),AA231+AB231))","v":0}]
["Non-core foods","Enter a food name here","Company name",0,0,0,0,0,0,0,0,0,{"$f":"IF((SUM(D232:L232)=0),\"J\",VLOOKUP(P232,Lookups!$A$1:$B$11,2))","v":"J"},{"$f":"H232+(L232*Lookups!$C$102*H232/100)","v":0},0,{"$f":"IF(ROUND(10.499-(((O232-VLOOKUP($A232,Lookups!$A$55:$D$64,3))/(VLOOKUP($A232,Lookups!$A$55:$D$64,4))*VLOOKUP($A232,Lookups!$C$2:$D$11,2))),0)<1,1,IF(ROUND(10.499-(((O232-VLOOKUP($A232,Lookups!$A$55:$D$64,3))/(VLOOKUP($A232,Lookups!$A$55:$D$64,4))*VLOOKUP($A232,Lookups!$C$2:$D$11,2))),0)<11,ROUND(10.499-(((O232-VLOOKUP($A232,Lookups!$A$55:$D$64,3))/(VLOOKUP($A232,Lookups!$A$55:$D$64,4))*VLOOKUP($A232,Lookups!$C$2:$D$11,2))),0),10))","v":7},null,{"$f":"VLOOKUP(A232,Lookups!$A$126:$C$135,3)","v":2},{"$f":"VLOOKUP(A232,Lookups!$A$126:$C$135,2)","v":"Food"},"No",0,{"$f":"IF($R232<>3,VLOOKUP($D232,'Points Table A'!$B$3:$F$33,5),VLOOKUP($D232,'Points Table A'!$H$3:$L$33,5))","v":0},{"$f":"IF($R232<>3,VLOOKUP($E232,'Points Table A'!$C$3:$F$33,4),VLOOKUP($E232,'Points Table A'!$I$3:$L$33,4))","v":0},{"$f":"IF($R232<>3,VLOOKUP($F232,'Points Table A'!$D$3:$F$33,3),VLOOKUP($F232,'Points Table A'!$J$3:$L$33,3))","v":0},{"$f":"IF($R232<>3,VLOOKUP($G232,'Points Table A'!$E$3:$F$33,2),VLOOKUP($G232,'Points Table A'!$K$3:$L$33,2))","v":0},0,{"$f":"IF($T232=Lookups!$B$113,VLOOKUP($J232,'Points Table C'!$A$3:$F$11,5),VLOOKUP($U232,'Points Table C'!$B$3:$F$11,4))","v":0},{"$f":"IF($R232=1,0,VLOOKUP($N232,'Points Table C'!$C$3:$E$18,3))","v":0},{"$f":"VLOOKUP($I232,'Points Table C'!$D$3:$E$18,2)","v":0},{"$f":"IF($Z232<Lookups!$C$106,(AA232+AB232+AC232),IF(AA232>=Lookups!$C$120,(AA232+AB232+AC232),AA232+AB232))","v":0}]
["Non-core foods","Enter a food name here","Company name",0,0,0,0,0,0,0,0,0,{"$f":"IF((SUM(D233:L233)=0),\"J\",VLOOKUP(P233,Lookups!$A$1:$B$11,2))","v":"J"},{"$f":"H233+(L233*Lookups!$C$102*H233/100)","v":0},0,{"$f":"IF(ROUND(10.499-(((O233-VLOOKUP($A233,Lookups!$A$55:$D$64,3))/(VLOOKUP($A233,Lookups!$A$55:$D$64,4))*VLOOKUP($A233,Lookups!$C$2:$D$11,2))),0)<1,1,IF(ROUND(10.499-(((O233-VLOOKUP($A233,Lookups!$A$55:$D$64,3))/(VLOOKUP($A233,Lookups!$A$55:$D$64,4))*VLOOKUP($A233,Lookups!$C$2:$D$11,2))),0)<11,ROUND(10.499-(((O233-VLOOKUP($A233,Lookups!$A$55:$D$64,3))/(VLOOKUP($A233,Lookups!$A$55:$D$64,4))*VLOOKUP($A233,Lookups!$C$2:$D$11,2))),0),10))","v":7},null,{"$f":"VLOOKUP(A233,Lookups!$A$126:$C$135,3)","v":2},{"$f":"VLOOKUP(A233,Lookups!$A$126:$C$135,2)","v":"Food"},"No",0,{"$f":"IF($R233<>3,VLOOKUP($D233,'Points Table A'!$B$3:$F$33,5),VLOOKUP($D233,'Points Table A'!$H$3:$L$33,5))","v":0},{"$f":"IF($R233<>3,VLOOKUP($E233,'Points Table A'!$C$3:$F$33,4),VLOOKUP($E233,'Points Table A'!$I$3:$L$33,4))","v":0},{"$f":"IF($R233<>3,VLOOKUP($F233,'Points Table A'!$D$3:$F$33,3),VLOOKUP($F233,'Points Table A'!$J$3:$L$33,3))","v":0},{"$f":"IF($R233<>3,VLOOKUP($G233,'Points Table A'!$E$3:$F$33,2),VLOOKUP($G233,'Points Table A'!$K$3:$L$33,2))","v":0},0,{"$f":"IF($T233=Lookups!$B$113,VLOOKUP($J233,'Points Table C'!$A$3:$F$11,5),VLOOKUP($U233,'Points Table C'!$B$3:$F$11,4))","v":0},{"$f":"IF($R233=1,0,VLOOKUP($N233,'Points Table C'!$C$3:$E$18,3))","v":0},{"$f":"VLOOKUP($I233,'Points Table C'!$D$3:$E$18,2)","v":0},{"$f":"IF($Z233<Lookups!$C$106,(AA233+AB233+AC233),IF(AA233>=Lookups!$C$120,(AA233+AB233+AC233),AA233+AB233))","v":0}]
["Non-core foods","Enter a food name here","Company name",0,0,0,0,0,0,0,0,0,{"$f":"IF((SUM(D234:L234)=0),\"J\",VLOOKUP(P234,Lookups!$A$1:$B$11,2))","v":"J"},{"$f":"H234+(L234*Lookups!$C$102*H234/100)","v":0},0,{"$f":"IF(ROUND(10.499-(((O234-VLOOKUP($A234,Lookups!$A$55:$D$64,3))/(VLOOKUP($A234,Lookups!$A$55:$D$64,4))*VLOOKUP($A234,Lookups!$C$2:$D$11,2))),0)<1,1,IF(ROUND(10.499-(((O234-VLOOKUP($A234,Lookups!$A$55:$D$64,3))/(VLOOKUP($A234,Lookups!$A$55:$D$64,4))*VLOOKUP($A234,Lookups!$C$2:$D$11,2))),0)<11,ROUND(10.499-(((O234-VLOOKUP($A234,Lookups!$A$55:$D$64,3))/(VLOOKUP($A234,Lookups!$A$55:$D$64,4))*VLOOKUP($A234,Lookups!$C$2:$D$11,2))),0),10))","v":7},null,{"$f":"VLOOKUP(A234,Lookups!$A$126:$C$135,3)","v":2},{"$f":"VLOOKUP(A234,Lookups!$A$126:$C$135,2)","v":"Food"},"No",0,{"$f":"IF($R234<>3,VLOOKUP($D234,'Points Table A'!$B$3:$F$33,5),VLOOKUP($D234,'Points Table A'!$H$3:$L$33,5))","v":0},{"$f":"IF($R234<>3,VLOOKUP($E234,'Points Table A'!$C$3:$F$33,4),VLOOKUP($E234,'Points Table A'!$I$3:$L$33,4))","v":0},{"$f":"IF($R234<>3,VLOOKUP($F234,'Points Table A'!$D$3:$F$33,3),VLOOKUP($F234,'Points Table A'!$J$3:$L$33,3))","v":0},{"$f":"IF($R234<>3,VLOOKUP($G234,'Points Table A'!$E$3:$F$33,2),VLOOKUP($G234,'Points Table A'!$K$3:$L$33,2))","v":0},0,{"$f":"IF($T234=Lookups!$B$113,VLOOKUP($J234,'Points Table C'!$A$3:$F$11,5),VLOOKUP($U234,'Points Table C'!$B$3:$F$11,4))","v":0},{"$f":"IF($R234=1,0,VLOOKUP($N234,'Points Table C'!$C$3:$E$18,3))","v":0},{"$f":"VLOOKUP($I234,'Points Table C'!$D$3:$E$18,2)","v":0},{"$f":"IF($Z234<Lookups!$C$106,(AA234+AB234+AC234),IF(AA234>=Lookups!$C$120,(AA234+AB234+AC234),AA234+AB234))","v":0}]
["Non-core foods","Enter a food name here","Company name",0,0,0,0,0,0,0,0,0,{"$f":"IF((SUM(D235:L235)=0),\"J\",VLOOKUP(P235,Lookups!$A$1:$B$11,2))","v":"J"},{"$f":"H235+(L235*Lookups!$C$102*H235/100)","v":0},0,{"$f":"IF(ROUND(10.499-(((O235-VLOOKUP($A235,Lookups!$A$55:$D$64,3))/(VLOOKUP($A235,Lookups!$A$55:$D$64,4))*VLOOKUP($A235,Lookups!$C$2:$D$11,2))),0)<1,1,IF(ROUND(10.499-(((O235-VLOOKUP($A235,Lookups!$A$55:$D$64,3))/(VLOOKUP($A235,Lookups!$A$55:$D$64,4))*VLOOKUP($A235,Lookups!$C$2:$D$11,2))),0)<11,ROUND(10.499-(((O235-VLOOKUP($A235,Lookups!$A$55:$D$64,3))/(VLOOKUP($A235,Lookups!$A$55:$D$64,4))*VLOOKUP($A235,Lookups!$C$2:$D$11,2))),0),10))","v":7},null,{"$f":"VLOOKUP(A235,Lookups!$A$126:$C$135,3)","v":2},{"$f":"VLOOKUP(A235,Lookups!$A$126:$C$135,2)","v":"Food"},"No",0,{"$f":"IF($R235<>3,VLOOKUP($D235,'Points Table A'!$B$3:$F$33,5),VLOOKUP($D235,'Points Table A'!$H$3:$L$33,5))","v":0},{"$f":"IF($R235<>3,VLOOKUP($E235,'Points Table A'!$C$3:$F$33,4),VLOOKUP($E235,'Points Table A'!$I$3:$L$33,4))","v":0},{"$f":"IF($R235<>3,VLOOKUP($F235,'Points Table A'!$D$3:$F$33,3),VLOOKUP($F235,'Points Table A'!$J$3:$L$33,3))","v":0},{"$f":"IF($R235<>3,VLOOKUP($G235,'Points Table A'!$E$3:$F$33,2),VLOOKUP($G235,'Points Table A'!$K$3:$L$33,2))","v":0},0,{"$f":"IF($T235=Lookups!$B$113,VLOOKUP($J235,'Points Table C'!$A$3:$F$11,5),VLOOKUP($U235,'Points Table C'!$B$3:$F$11,4))","v":0},{"$f":"IF($R235=1,0,VLOOKUP($N235,'Points Table C'!$C$3:$E$18,3))","v":0},{"$f":"VLOOKUP($I235,'Points Table C'!$D$3:$E$18,2)","v":0},{"$f":"IF($Z235<Lookups!$C$106,(AA235+AB235+AC235),IF(AA235>=Lookups!$C$120,(AA235+AB235+AC235),AA235+AB235))","v":0}]
["Non-core foods","Enter a food name here","Company name",0,0,0,0,0,0,0,0,0,{"$f":"IF((SUM(D236:L236)=0),\"J\",VLOOKUP(P236,Lookups!$A$1:$B$11,2))","v":"J"},{"$f":"H236+(L236*Lookups!$C$102*H236/100)","v":0},0,{"$f":"IF(ROUND(10.499-(((O236-VLOOKUP($A236,Lookups!$A$55:$D$64,3))/(VLOOKUP($A236,Lookups!$A$55:$D$64,4))*VLOOKUP($A236,Lookups!$C$2:$D$11,2))),0)<1,1,IF(ROUND(10.499-(((O236-VLOOKUP($A236,Lookups!$A$55:$D$64,3))/(VLOOKUP($A236,Lookups!$A$55:$D$64,4))*VLOOKUP($A236,Lookups!$C$2:$D$11,2))),0)<11,ROUND(10.499-(((O236-VLOOKUP($A236,Lookups!$A$55:$D$64,3))/(VLOOKUP($A236,Lookups!$A$55:$D$64,4))*VLOOKUP($A236,Lookups!$C$2:$D$11,2))),0),10))","v":7},null,{"$f":"VLOOKUP(A236,Lookups!$A$126:$C$135,3)","v":2},{"$f":"VLOOKUP(A236,Lookups!$A$126:$C$135,2)","v":"Food"},"No",0,{"$f":"IF($R236<>3,VLOOKUP($D236,'Points Table A'!$B$3:$F$33,5),VLOOKUP($D236,'Points Table A'!$H$3:$L$33,5))","v":0},{"$f":"IF($R236<>3,VLOOKUP($E236,'Points Table A'!$C$3:$F$33,4),VLOOKUP($E236,'Points Table A'!$I$3:$L$33,4))","v":0},{"$f":"IF($R236<>3,VLOOKUP($F236,'Points Table A'!$D$3:$F$33,3),VLOOKUP($F236,'Points Table A'!$J$3:$L$33,3))","v":0},{"$f":"IF($R236<>3,VLOOKUP($G236,'Points Table A'!$E$3:$F$33,2),VLOOKUP($G236,'Points Table A'!$K$3:$L$33,2))","v":0},0,{"$f":"IF($T236=Lookups!$B$113,VLOOKUP($J236,'Points Table C'!$A$3:$F$11,5),VLOOKUP($U236,'Points Table C'!$B$3:$F$11,4))","v":0},{"$f":"IF($R236=1,0,VLOOKUP($N236,'Points Table C'!$C$3:$E$18,3))","v":0},{"$f":"VLOOKUP($I236,'Points Table C'!$D$3:$E$18,2)","v":0},{"$f":"IF($Z236<Lookups!$C$106,(AA236+AB236+AC236),IF(AA236>=Lookups!$C$120,(AA236+AB236+AC236),AA236+AB236))","v":0}]
["Non-core foods","Enter a food name here","Company name",0,0,0,0,0,0,0,0,0,{"$f":"IF((SUM(D237:L237)=0),\"J\",VLOOKUP(P237,Lookups!$A$1:$B$11,2))","v":"J"},{"$f":"H237+(L237*Lookups!$C$102*H237/100)","v":0},0,{"$f":"IF(ROUND(10.499-(((O237-VLOOKUP($A237,Lookups!$A$55:$D$64,3))/(VLOOKUP($A237,Lookups!$A$55:$D$64,4))*VLOOKUP($A237,Lookups!$C$2:$D$11,2))),0)<1,1,IF(ROUND(10.499-(((O237-VLOOKUP($A237,Lookups!$A$55:$D$64,3))/(VLOOKUP($A237,Lookups!$A$55:$D$64,4))*VLOOKUP($A237,Lookups!$C$2:$D$11,2))),0)<11,ROUND(10.499-(((O237-VLOOKUP($A237,Lookups!$A$55:$D$64,3))/(VLOOKUP($A237,Lookups!$A$55:$D$64,4))*VLOOKUP($A237,Lookups!$C$2:$D$11,2))),0),10))","v":7},null,{"$f":"VLOOKUP(A237,Lookups!$A$126:$C$135,3)","v":2},{"$f":"VLOOKUP(A237,Lookups!$A$126:$C$135,2)","v":"Food"},"No",0,{"$f":"IF($R237<>3,VLOOKUP($D237,'Points Table A'!$B$3:$F$33,5),VLOOKUP($D237,'Points Table A'!$H$3:$L$33,5))","v":0},{"$f":"IF($R237<>3,VLOOKUP($E237,'Points Table A'!$C$3:$F$33,4),VLOOKUP($E237,'Points Table A'!$I$3:$L$33,4))","v":0},{"$f":"IF($R237<>3,VLOOKUP($F237,'Points Table A'!$D$3:$F$33,3),VLOOKUP($F237,'Points Table A'!$J$3:$L$33,3))","v":0},{"$f":"IF($R237<>3,VLOOKUP($G237,'Points Table A'!$E$3:$F$33,2),VLOOKUP($G237,'Points Table A'!$K$3:$L$33,2))","v":0},0,{"$f":"IF($T237=Lookups!$B$113,VLOOKUP($J237,'Points Table C'!$A$3:$F$11,5),VLOOKUP($U237,'Points Table C'!$B$3:$F$11,4))","v":0},{"$f":"IF($R237=1,0,VLOOKUP($N237,'Points Table C'!$C$3:$E$18,3))","v":0},{"$f":"VLOOKUP($I237,'Points Table C'!$D$3:$E$18,2)","v":0},{"$f":"IF($Z237<Lookups!$C$106,(AA237+AB237+AC237),IF(AA237>=Lookups!$C$120,(AA237+AB237+AC237),AA237+AB237))","v":0}]
["Non-core foods","Enter a food name here","Company name",0,0,0,0,0,0,0,0,0,{"$f":"IF((SUM(D238:L238)=0),\"J\",VLOOKUP(P238,Lookups!$A$1:$B$11,2))","v":"J"},{"$f":"H238+(L238*Lookups!$C$102*H238/100)","v":0},0,{"$f":"IF(ROUND(10.499-(((O238-VLOOKUP($A238,Lookups!$A$55:$D$64,3))/(VLOOKUP($A238,Lookups!$A$55:$D$64,4))*VLOOKUP($A238,Lookups!$C$2:$D$11,2))),0)<1,1,IF(ROUND(10.499-(((O238-VLOOKUP($A238,Lookups!$A$55:$D$64,3))/(VLOOKUP($A238,Lookups!$A$55:$D$64,4))*VLOOKUP($A238,Lookups!$C$2:$D$11,2))),0)<11,ROUND(10.499-(((O238-VLOOKUP($A238,Lookups!$A$55:$D$64,3))/(VLOOKUP($A238,Lookups!$A$55:$D$64,4))*VLOOKUP($A238,Lookups!$C$2:$D$11,2))),0),10))","v":7},null,{"$f":"VLOOKUP(A238,Lookups!$A$126:$C$135,3)","v":2},{"$f":"VLOOKUP(A238,Lookups!$A$126:$C$135,2)","v":"Food"},"No",0,{"$f":"IF($R238<>3,VLOOKUP($D238,'Points Table A'!$B$3:$F$33,5),VLOOKUP($D238,'Points Table A'!$H$3:$L$33,5))","v":0},{"$f":"IF($R238<>3,VLOOKUP($E238,'Points Table A'!$C$3:$F$33,4),VLOOKUP($E238,'Points Table A'!$I$3:$L$33,4))","v":0},{"$f":"IF($R238<>3,VLOOKUP($F238,'Points Table A'!$D$3:$F$33,3),VLOOKUP($F238,'Points Table A'!$J$3:$L$33,3))","v":0},{"$f":"IF($R238<>3,VLOOKUP($G238,'Points Table A'!$E$3:$F$33,2),VLOOKUP($G238,'Points Table A'!$K$3:$L$33,2))","v":0},0,{"$f":"IF($T238=Lookups!$B$113,VLOOKUP($J238,'Points Table C'!$A$3:$F$11,5),VLOOKUP($U238,'Points Table C'!$B$3:$F$11,4))","v":0},{"$f":"IF($R238=1,0,VLOOKUP($N238,'Points Table C'!$C$3:$E$18,3))","v":0},{"$f":"VLOOKUP($I238,'Points Table C'!$D$3:$E$18,2)","v":0},{"$f":"IF($Z238<Lookups!$C$106,(AA238+AB238+AC238),IF(AA238>=Lookups!$C$120,(AA238+AB238+AC238),AA238+AB238))","v":0}]
["Non-core foods","Enter a food name here","Company name",0,0,0,0,0,0,0,0,0,{"$f":"IF((SUM(D239:L239)=0),\"J\",VLOOKUP(P239,Lookups!$A$1:$B$11,2))","v":"J"},{"$f":"H239+(L239*Lookups!$C$102*H239/100)","v":0},0,{"$f":"IF(ROUND(10.499-(((O239-VLOOKUP($A239,Lookups!$A$55:$D$64,3))/(VLOOKUP($A239,Lookups!$A$55:$D$64,4))*VLOOKUP($A239,Lookups!$C$2:$D$11,2))),0)<1,1,IF(ROUND(10.499-(((O239-VLOOKUP($A239,Lookups!$A$55:$D$64,3))/(VLOOKUP($A239,Lookups!$A$55:$D$64,4))*VLOOKUP($A239,Lookups!$C$2:$D$11,2))),0)<11,ROUND(10.499-(((O239-VLOOKUP($A239,Lookups!$A$55:$D$64,3))/(VLOOKUP($A239,Lookups!$A$55:$D$64,4))*VLOOKUP($A239,Lookups!$C$2:$D$11,2))),0),10))","v":7},null,{"$f":"VLOOKUP(A239,Lookups!$A$126:$C$135,3)","v":2},{"$f":"VLOOKUP(A239,Lookups!$A$126:$C$135,2)","v":"Food"},"No",0,{"$f":"IF($R239<>3,VLOOKUP($D239,'Points Table A'!$B$3:$F$33,5),VLOOKUP($D239,'Points Table A'!$H$3:$L$33,5))","v":0},{"$f":"IF($R239<>3,VLOOKUP($E239,'Points Table A'!$C$3:$F$33,4),VLOOKUP($E239,'Points Table A'!$I$3:$L$33,4))","v":0},{"$f":"IF($R239<>3,VLOOKUP($F239,'Points Table A'!$D$3:$F$33,3),VLOOKUP($F239,'Points Table A'!$J$3:$L$33,3))","v":0},{"$f":"IF($R239<>3,VLOOKUP($G239,'Points Table A'!$E$3:$F$33,2),VLOOKUP($G239,'Points Table A'!$K$3:$L$33,2))","v":0},0,{"$f":"IF($T239=Lookups!$B$113,VLOOKUP($J239,'Points Table C'!$A$3:$F$11,5),VLOOKUP($U239,'Points Table C'!$B$3:$F$11,4))","v":0},{"$f":"IF($R239=1,0,VLOOKUP($N239,'Points Table C'!$C$3:$E$18,3))","v":0},{"$f":"VLOOKUP($I239,'Points Table C'!$D$3:$E$18,2)","v":0},{"$f":"IF($Z239<Lookups!$C$106,(AA239+AB239+AC239),IF(AA239>=Lookups!$C$120,(AA239+AB239+AC239),AA239+AB239))","v":0}]
["Non-core foods","Enter a food name here","Company name",0,0,0,0,0,0,0,0,0,{"$f":"IF((SUM(D240:L240)=0),\"J\",VLOOKUP(P240,Lookups!$A$1:$B$11,2))","v":"J"},{"$f":"H240+(L240*Lookups!$C$102*H240/100)","v":0},0,{"$f":"IF(ROUND(10.499-(((O240-VLOOKUP($A240,Lookups!$A$55:$D$64,3))/(VLOOKUP($A240,Lookups!$A$55:$D$64,4))*VLOOKUP($A240,Lookups!$C$2:$D$11,2))),0)<1,1,IF(ROUND(10.499-(((O240-VLOOKUP($A240,Lookups!$A$55:$D$64,3))/(VLOOKUP($A240,Lookups!$A$55:$D$64,4))*VLOOKUP($A240,Lookups!$C$2:$D$11,2))),0)<11,ROUND(10.499-(((O240-VLOOKUP($A240,Lookups!$A$55:$D$64,3))/(VLOOKUP($A240,Lookups!$A$55:$D$64,4))*VLOOKUP($A240,Lookups!$C$2:$D$11,2))),0),10))","v":7},null,{"$f":"VLOOKUP(A240,Lookups!$A$126:$C$135,3)","v":2},{"$f":"VLOOKUP(A240,Lookups!$A$126:$C$135,2)","v":"Food"},"No",0,{"$f":"IF($R240<>3,VLOOKUP($D240,'Points Table A'!$B$3:$F$33,5),VLOOKUP($D240,'Points Table A'!$H$3:$L$33,5))","v":0},{"$f":"IF($R240<>3,VLOOKUP($E240,'Points Table A'!$C$3:$F$33,4),VLOOKUP($E240,'Points Table A'!$I$3:$L$33,4))","v":0},{"$f":"IF($R240<>3,VLOOKUP($F240,'Points Table A'!$D$3:$F$33,3),VLOOKUP($F240,'Points Table A'!$J$3:$L$33,3))","v":0},{"$f":"IF($R240<>3,VLOOKUP($G240,'Points Table A'!$E$3:$F$33,2),VLOOKUP($G240,'Points Table A'!$K$3:$L$33,2))","v":0},0,{"$f":"IF($T240=Lookups!$B$113,VLOOKUP($J240,'Points Table C'!$A$3:$F$11,5),VLOOKUP($U240,'Points Table C'!$B$3:$F$11,4))","v":0},{"$f":"IF($R240=1,0,VLOOKUP($N240,'Points Table C'!$C$3:$E$18,3))","v":0},{"$f":"VLOOKUP($I240,'Points Table C'!$D$3:$E$18,2)","v":0},{"$f":"IF($Z240<Lookups!$C$106,(AA240+AB240+AC240),IF(AA240>=Lookups!$C$120,(AA240+AB240+AC240),AA240+AB240))","v":0}]
["Non-core foods","Enter a food name here","Company name",0,0,0,0,0,0,0,0,0,{"$f":"IF((SUM(D241:L241)=0),\"J\",VLOOKUP(P241,Lookups!$A$1:$B$11,2))","v":"J"},{"$f":"H241+(L241*Lookups!$C$102*H241/100)","v":0},0,{"$f":"IF(ROUND(10.499-(((O241-VLOOKUP($A241,Lookups!$A$55:$D$64,3))/(VLOOKUP($A241,Lookups!$A$55:$D$64,4))*VLOOKUP($A241,Lookups!$C$2:$D$11,2))),0)<1,1,IF(ROUND(10.499-(((O241-VLOOKUP($A241,Lookups!$A$55:$D$64,3))/(VLOOKUP($A241,Lookups!$A$55:$D$64,4))*VLOOKUP($A241,Lookups!$C$2:$D$11,2))),0)<11,ROUND(10.499-(((O241-VLOOKUP($A241,Lookups!$A$55:$D$64,3))/(VLOOKUP($A241,Lookups!$A$55:$D$64,4))*VLOOKUP($A241,Lookups!$C$2:$D$11,2))),0),10))","v":7},null,{"$f":"VLOOKUP(A241,Lookups!$A$126:$C$135,3)","v":2},{"$f":"VLOOKUP(A241,Lookups!$A$126:$C$135,2)","v":"Food"},"No",0,{"$f":"IF($R241<>3,VLOOKUP($D241,'Points Table A'!$B$3:$F$33,5),VLOOKUP($D241,'Points Table A'!$H$3:$L$33,5))","v":0},{"$f":"IF($R241<>3,VLOOKUP($E241,'Points Table A'!$C$3:$F$33,4),VLOOKUP($E241,'Points Table A'!$I$3:$L$33,4))","v":0},{"$f":"IF($R241<>3,VLOOKUP($F241,'Points Table A'!$D$3:$F$33,3),VLOOKUP($F241,'Points Table A'!$J$3:$L$33,3))","v":0},{"$f":"IF($R241<>3,VLOOKUP($G241,'Points Table A'!$E$3:$F$33,2),VLOOKUP($G241,'Points Table A'!$K$3:$L$33,2))","v":0},0,{"$f":"IF($T241=Lookups!$B$113,VLOOKUP($J241,'Points Table C'!$A$3:$F$11,5),VLOOKUP($U241,'Points Table C'!$B$3:$F$11,4))","v":0},{"$f":"IF($R241=1,0,VLOOKUP($N241,'Points Table C'!$C$3:$E$18,3))","v":0},{"$f":"VLOOKUP($I241,'Points Table C'!$D$3:$E$18,2)","v":0},{"$f":"IF($Z241<Lookups!$C$106,(AA241+AB241+AC241),IF(AA241>=Lookups!$C$120,(AA241+AB241+AC241),AA241+AB241))","v":0}]
["Non-core foods","Enter a food name here","Company name",0,0,0,0,0,0,0,0,0,{"$f":"IF((SUM(D242:L242)=0),\"J\",VLOOKUP(P242,Lookups!$A$1:$B$11,2))","v":"J"},{"$f":"H242+(L242*Lookups!$C$102*H242/100)","v":0},0,{"$f":"IF(ROUND(10.499-(((O242-VLOOKUP($A242,Lookups!$A$55:$D$64,3))/(VLOOKUP($A242,Lookups!$A$55:$D$64,4))*VLOOKUP($A242,Lookups!$C$2:$D$11,2))),0)<1,1,IF(ROUND(10.499-(((O242-VLOOKUP($A242,Lookups!$A$55:$D$64,3))/(VLOOKUP($A242,Lookups!$A$55:$D$64,4))*VLOOKUP($A242,Lookups!$C$2:$D$11,2))),0)<11,ROUND(10.499-(((O242-VLOOKUP($A242,Lookups!$A$55:$D$64,3))/(VLOOKUP($A242,Lookups!$A$55:$D$64,4))*VLOOKUP($A242,Lookups!$C$2:$D$11,2))),0),10))","v":7},null,{"$f":"VLOOKUP(A242,Lookups!$A$126:$C$135,3)","v":2},{"$f":"VLOOKUP(A242,Lookups!$A$126:$C$135,2)","v":"Food"},"No",0,{"$f":"IF($R242<>3,VLOOKUP($D242,'Points Table A'!$B$3:$F$33,5),VLOOKUP($D242,'Points Table A'!$H$3:$L$33,5))","v":0},{"$f":"IF($R242<>3,VLOOKUP($E242,'Points Table A'!$C$3:$F$33,4),VLOOKUP($E242,'Points Table A'!$I$3:$L$33,4))","v":0},{"$f":"IF($R242<>3,VLOOKUP($F242,'Points Table A'!$D$3:$F$33,3),VLOOKUP($F242,'Points Table A'!$J$3:$L$33,3))","v":0},{"$f":"IF($R242<>3,VLOOKUP($G242,'Points Table A'!$E$3:$F$33,2),VLOOKUP($G242,'Points Table A'!$K$3:$L$33,2))","v":0},0,{"$f":"IF($T242=Lookups!$B$113,VLOOKUP($J242,'Points Table C'!$A$3:$F$11,5),VLOOKUP($U242,'Points Table C'!$B$3:$F$11,4))","v":0},{"$f":"IF($R242=1,0,VLOOKUP($N242,'Points Table C'!$C$3:$E$18,3))","v":0},{"$f":"VLOOKUP($I242,'Points Table C'!$D$3:$E$18,2)","v":0},{"$f":"IF($Z242<Lookups!$C$106,(AA242+AB242+AC242),IF(AA242>=Lookups!$C$120,(AA242+AB242+AC242),AA242+AB242))","v":0}]
["Non-core foods","Enter a food name here","Company name",0,0,0,0,0,0,0,0,0,{"$f":"IF((SUM(D243:L243)=0),\"J\",VLOOKUP(P243,Lookups!$A$1:$B$11,2))","v":"J"},{"$f":"H243+(L243*Lookups!$C$102*H243/100)","v":0},0,{"$f":"IF(ROUND(10.499-(((O243-VLOOKUP($A243,Lookups!$A$55:$D$64,3))/(VLOOKUP($A243,Lookups!$A$55:$D$64,4))*VLOOKUP($A243,Lookups!$C$2:$D$11,2))),0)<1,1,IF(ROUND(10.499-(((O243-VLOOKUP($A243,Lookups!$A$55:$D$64,3))/(VLOOKUP($A243,Lookups!$A$55:$D$64,4))*VLOOKUP($A243,Lookups!$C$2:$D$11,2))),0)<11,ROUND(10.499-(((O243-VLOOKUP($A243,Lookups!$A$55:$D$64,3))/(VLOOKUP($A243,Lookups!$A$55:$D$64,4))*VLOOKUP($A243,Lookups!$C$2:$D$11,2))),0),10))","v":7},null,{"$f":"VLOOKUP(A243,Lookups!$A$126:$C$135,3)","v":2},{"$f":"VLOOKUP(A243,Lookups!$A$126:$C$135,2)","v":"Food"},"No",0,{"$f":"IF($R243<>3,VLOOKUP($D243,'Points Table A'!$B$3:$F$33,5),VLOOKUP($D243,'Points Table A'!$H$3:$L$33,5))","v":0},{"$f":"IF($R243<>3,VLOOKUP($E243,'Points Table A'!$C$3:$F$33,4),VLOOKUP($E243,'Points Table A'!$I$3:$L$33,4))","v":0},{"$f":"IF($R243<>3,VLOOKUP($F243,'Points Table A'!$D$3:$F$33,3),VLOOKUP($F243,'Points Table A'!$J$3:$L$33,3))","v":0},{"$f":"IF($R243<>3,VLOOKUP($G243,'Points Table A'!$E$3:$F$33,2),VLOOKUP($G243,'Points Table A'!$K$3:$L$33,2))","v":0},0,{"$f":"IF($T243=Lookups!$B$113,VLOOKUP($J243,'Points Table C'!$A$3:$F$11,5),VLOOKUP($U243,'Points Table C'!$B$3:$F$11,4))","v":0},{"$f":"IF($R243=1,0,VLOOKUP($N243,'Points Table C'!$C$3:$E$18,3))","v":0},{"$f":"VLOOKUP($I243,'Points Table C'!$D$3:$E$18,2)","v":0},{"$f":"IF($Z243<Lookups!$C$106,(AA243+AB243+AC243),IF(AA243>=Lookups!$C$120,(AA243+AB243+AC243),AA243+AB243))","v":0}]
["Non-core foods","Enter a food name here","Company name",0,0,0,0,0,0,0,0,0,{"$f":"IF((SUM(D244:L244)=0),\"J\",VLOOKUP(P244,Lookups!$A$1:$B$11,2))","v":"J"},{"$f":"H244+(L244*Lookups!$C$102*H244/100)","v":0},0,{"$f":"IF(ROUND(10.499-(((O244-VLOOKUP($A244,Lookups!$A$55:$D$64,3))/(VLOOKUP($A244,Lookups!$A$55:$D$64,4))*VLOOKUP($A244,Lookups!$C$2:$D$11,2))),0)<1,1,IF(ROUND(10.499-(((O244-VLOOKUP($A244,Lookups!$A$55:$D$64,3))/(VLOOKUP($A244,Lookups!$A$55:$D$64,4))*VLOOKUP($A244,Lookups!$C$2:$D$11,2))),0)<11,ROUND(10.499-(((O244-VLOOKUP($A244,Lookups!$A$55:$D$64,3))/(VLOOKUP($A244,Lookups!$A$55:$D$64,4))*VLOOKUP($A244,Lookups!$C$2:$D$11,2))),0),10))","v":7},null,{"$f":"VLOOKUP(A244,Lookups!$A$126:$C$135,3)","v":2},{"$f":"VLOOKUP(A244,Lookups!$A$126:$C$135,2)","v":"Food"},"No",0,{"$f":"IF($R244<>3,VLOOKUP($D244,'Points Table A'!$B$3:$F$33,5),VLOOKUP($D244,'Points Table A'!$H$3:$L$33,5))","v":0},{"$f":"IF($R244<>3,VLOOKUP($E244,'Points Table A'!$C$3:$F$33,4),VLOOKUP($E244,'Points Table A'!$I$3:$L$33,4))","v":0},{"$f":"IF($R244<>3,VLOOKUP($F244,'Points Table A'!$D$3:$F$33,3),VLOOKUP($F244,'Points Table A'!$J$3:$L$33,3))","v":0},{"$f":"IF($R244<>3,VLOOKUP($G244,'Points Table A'!$E$3:$F$33,2),VLOOKUP($G244,'Points Table A'!$K$3:$L$33,2))","v":0},0,{"$f":"IF($T244=Lookups!$B$113,VLOOKUP($J244,'Points Table C'!$A$3:$F$11,5),VLOOKUP($U244,'Points Table C'!$B$3:$F$11,4))","v":0},{"$f":"IF($R244=1,0,VLOOKUP($N244,'Points Table C'!$C$3:$E$18,3))","v":0},{"$f":"VLOOKUP($I244,'Points Table C'!$D$3:$E$18,2)","v":0},{"$f":"IF($Z244<Lookups!$C$106,(AA244+AB244+AC244),IF(AA244>=Lookups!$C$120,(AA244+AB244+AC244),AA244+AB244))","v":0}]
["Non-core foods","Enter a food name here","Company name",0,0,0,0,0,0,0,0,0,{"$f":"IF((SUM(D245:L245)=0),\"J\",VLOOKUP(P245,Lookups!$A$1:$B$11,2))","v":"J"},{"$f":"H245+(L245*Lookups!$C$102*H245/100)","v":0},0,{"$f":"IF(ROUND(10.499-(((O245-VLOOKUP($A245,Lookups!$A$55:$D$64,3))/(VLOOKUP($A245,Lookups!$A$55:$D$64,4))*VLOOKUP($A245,Lookups!$C$2:$D$11,2))),0)<1,1,IF(ROUND(10.499-(((O245-VLOOKUP($A245,Lookups!$A$55:$D$64,3))/(VLOOKUP($A245,Lookups!$A$55:$D$64,4))*VLOOKUP($A245,Lookups!$C$2:$D$11,2))),0)<11,ROUND(10.499-(((O245-VLOOKUP($A245,Lookups!$A$55:$D$64,3))/(VLOOKUP($A245,Lookups!$A$55:$D$64,4))*VLOOKUP($A245,Lookups!$C$2:$D$11,2))),0),10))","v":7},null,{"$f":"VLOOKUP(A245,Lookups!$A$126:$C$135,3)","v":2},{"$f":"VLOOKUP(A245,Lookups!$A$126:$C$135,2)","v":"Food"},"No",0,{"$f":"IF($R245<>3,VLOOKUP($D245,'Points Table A'!$B$3:$F$33,5),VLOOKUP($D245,'Points Table A'!$H$3:$L$33,5))","v":0},{"$f":"IF($R245<>3,VLOOKUP($E245,'Points Table A'!$C$3:$F$33,4),VLOOKUP($E245,'Points Table A'!$I$3:$L$33,4))","v":0},{"$f":"IF($R245<>3,VLOOKUP($F245,'Points Table A'!$D$3:$F$33,3),VLOOKUP($F245,'Points Table A'!$J$3:$L$33,3))","v":0},{"$f":"IF($R245<>3,VLOOKUP($G245,'Points Table A'!$E$3:$F$33,2),VLOOKUP($G245,'Points Table A'!$K$3:$L$33,2))","v":0},0,{"$f":"IF($T245=Lookups!$B$113,VLOOKUP($J245,'Points Table C'!$A$3:$F$11,5),VLOOKUP($U245,'Points Table C'!$B$3:$F$11,4))","v":0},{"$f":"IF($R245=1,0,VLOOKUP($N245,'Points Table C'!$C$3:$E$18,3))","v":0},{"$f":"VLOOKUP($I245,'Points Table C'!$D$3:$E$18,2)","v":0},{"$f":"IF($Z245<Lookups!$C$106,(AA245+AB245+AC245),IF(AA245>=Lookups!$C$120,(AA245+AB245+AC245),AA245+AB245))","v":0}]
["Non-core foods","Enter a food name here","Company name",0,0,0,0,0,0,0,0,0,{"$f":"IF((SUM(D246:L246)=0),\"J\",VLOOKUP(P246,Lookups!$A$1:$B$11,2))","v":"J"},{"$f":"H246+(L246*Lookups!$C$102*H246/100)","v":0},0,{"$f":"IF(ROUND(10.499-(((O246-VLOOKUP($A246,Lookups!$A$55:$D$64,3))/(VLOOKUP($A246,Lookups!$A$55:$D$64,4))*VLOOKUP($A246,Lookups!$C$2:$D$11,2))),0)<1,1,IF(ROUND(10.499-(((O246-VLOOKUP($A246,Lookups!$A$55:$D$64,3))/(VLOOKUP($A246,Lookups!$A$55:$D$64,4))*VLOOKUP($A246,Lookups!$C$2:$D$11,2))),0)<11,ROUND(10.499-(((O246-VLOOKUP($A246,Lookups!$A$55:$D$64,3))/(VLOOKUP($A246,Lookups!$A$55:$D$64,4))*VLOOKUP($A246,Lookups!$C$2:$D$11,2))),0),10))","v":7},null,{"$f":"VLOOKUP(A246,Lookups!$A$126:$C$135,3)","v":2},{"$f":"VLOOKUP(A246,Lookups!$A$126:$C$135,2)","v":"Food"},"No",0,{"$f":"IF($R246<>3,VLOOKUP($D246,'Points Table A'!$B$3:$F$33,5),VLOOKUP($D246,'Points Table A'!$H$3:$L$33,5))","v":0},{"$f":"IF($R246<>3,VLOOKUP($E246,'Points Table A'!$C$3:$F$33,4),VLOOKUP($E246,'Points Table A'!$I$3:$L$33,4))","v":0},{"$f":"IF($R246<>3,VLOOKUP($F246,'Points Table A'!$D$3:$F$33,3),VLOOKUP($F246,'Points Table A'!$J$3:$L$33,3))","v":0},{"$f":"IF($R246<>3,VLOOKUP($G246,'Points Table A'!$E$3:$F$33,2),VLOOKUP($G246,'Points Table A'!$K$3:$L$33,2))","v":0},0,{"$f":"IF($T246=Lookups!$B$113,VLOOKUP($J246,'Points Table C'!$A$3:$F$11,5),VLOOKUP($U246,'Points Table C'!$B$3:$F$11,4))","v":0},{"$f":"IF($R246=1,0,VLOOKUP($N246,'Points Table C'!$C$3:$E$18,3))","v":0},{"$f":"VLOOKUP($I246,'Points Table C'!$D$3:$E$18,2)","v":0},{"$f":"IF($Z246<Lookups!$C$106,(AA246+AB246+AC246),IF(AA246>=Lookups!$C$120,(AA246+AB246+AC246),AA246+AB246))","v":0}]
["Non-core foods","Enter a food name here","Company name",0,0,0,0,0,0,0,0,0,{"$f":"IF((SUM(D247:L247)=0),\"J\",VLOOKUP(P247,Lookups!$A$1:$B$11,2))","v":"J"},{"$f":"H247+(L247*Lookups!$C$102*H247/100)","v":0},0,{"$f":"IF(ROUND(10.499-(((O247-VLOOKUP($A247,Lookups!$A$55:$D$64,3))/(VLOOKUP($A247,Lookups!$A$55:$D$64,4))*VLOOKUP($A247,Lookups!$C$2:$D$11,2))),0)<1,1,IF(ROUND(10.499-(((O247-VLOOKUP($A247,Lookups!$A$55:$D$64,3))/(VLOOKUP($A247,Lookups!$A$55:$D$64,4))*VLOOKUP($A247,Lookups!$C$2:$D$11,2))),0)<11,ROUND(10.499-(((O247-VLOOKUP($A247,Lookups!$A$55:$D$64,3))/(VLOOKUP($A247,Lookups!$A$55:$D$64,4))*VLOOKUP($A247,Lookups!$C$2:$D$11,2))),0),10))","v":7},null,{"$f":"VLOOKUP(A247,Lookups!$A$126:$C$135,3)","v":2},{"$f":"VLOOKUP(A247,Lookups!$A$126:$C$135,2)","v":"Food"},"No",0,{"$f":"IF($R247<>3,VLOOKUP($D247,'Points Table A'!$B$3:$F$33,5),VLOOKUP($D247,'Points Table A'!$H$3:$L$33,5))","v":0},{"$f":"IF($R247<>3,VLOOKUP($E247,'Points Table A'!$C$3:$F$33,4),VLOOKUP($E247,'Points Table A'!$I$3:$L$33,4))","v":0},{"$f":"IF($R247<>3,VLOOKUP($F247,'Points Table A'!$D$3:$F$33,3),VLOOKUP($F247,'Points Table A'!$J$3:$L$33,3))","v":0},{"$f":"IF($R247<>3,VLOOKUP($G247,'Points Table A'!$E$3:$F$33,2),VLOOKUP($G247,'Points Table A'!$K$3:$L$33,2))","v":0},0,{"$f":"IF($T247=Lookups!$B$113,VLOOKUP($J247,'Points Table C'!$A$3:$F$11,5),VLOOKUP($U247,'Points Table C'!$B$3:$F$11,4))","v":0},{"$f":"IF($R247=1,0,VLOOKUP($N247,'Points Table C'!$C$3:$E$18,3))","v":0},{"$f":"VLOOKUP($I247,'Points Table C'!$D$3:$E$18,2)","v":0},{"$f":"IF($Z247<Lookups!$C$106,(AA247+AB247+AC247),IF(AA247>=Lookups!$C$120,(AA247+AB247+AC247),AA247+AB247))","v":0}]
["Non-core foods","Enter a food name here","Company name",0,0,0,0,0,0,0,0,0,{"$f":"IF((SUM(D248:L248)=0),\"J\",VLOOKUP(P248,Lookups!$A$1:$B$11,2))","v":"J"},{"$f":"H248+(L248*Lookups!$C$102*H248/100)","v":0},0,{"$f":"IF(ROUND(10.499-(((O248-VLOOKUP($A248,Lookups!$A$55:$D$64,3))/(VLOOKUP($A248,Lookups!$A$55:$D$64,4))*VLOOKUP($A248,Lookups!$C$2:$D$11,2))),0)<1,1,IF(ROUND(10.499-(((O248-VLOOKUP($A248,Lookups!$A$55:$D$64,3))/(VLOOKUP($A248,Lookups!$A$55:$D$64,4))*VLOOKUP($A248,Lookups!$C$2:$D$11,2))),0)<11,ROUND(10.499-(((O248-VLOOKUP($A248,Lookups!$A$55:$D$64,3))/(VLOOKUP($A248,Lookups!$A$55:$D$64,4))*VLOOKUP($A248,Lookups!$C$2:$D$11,2))),0),10))","v":7},null,{"$f":"VLOOKUP(A248,Lookups!$A$126:$C$135,3)","v":2},{"$f":"VLOOKUP(A248,Lookups!$A$126:$C$135,2)","v":"Food"},"No",0,{"$f":"IF($R248<>3,VLOOKUP($D248,'Points Table A'!$B$3:$F$33,5),VLOOKUP($D248,'Points Table A'!$H$3:$L$33,5))","v":0},{"$f":"IF($R248<>3,VLOOKUP($E248,'Points Table A'!$C$3:$F$33,4),VLOOKUP($E248,'Points Table A'!$I$3:$L$33,4))","v":0},{"$f":"IF($R248<>3,VLOOKUP($F248,'Points Table A'!$D$3:$F$33,3),VLOOKUP($F248,'Points Table A'!$J$3:$L$33,3))","v":0},{"$f":"IF($R248<>3,VLOOKUP($G248,'Points Table A'!$E$3:$F$33,2),VLOOKUP($G248,'Points Table A'!$K$3:$L$33,2))","v":0},0,{"$f":"IF($T248=Lookups!$B$113,VLOOKUP($J248,'Points Table C'!$A$3:$F$11,5),VLOOKUP($U248,'Points Table C'!$B$3:$F$11,4))","v":0},{"$f":"IF($R248=1,0,VLOOKUP($N248,'Points Table C'!$C$3:$E$18,3))","v":0},{"$f":"VLOOKUP($I248,'Points Table C'!$D$3:$E$18,2)","v":0},{"$f":"IF($Z248<Lookups!$C$106,(AA248+AB248+AC248),IF(AA248>=Lookups!$C$120,(AA248+AB248+AC248),AA248+AB248))","v":0}]
["Non-core foods","Enter a food name here","Company name",0,0,0,0,0,0,0,0,0,{"$f":"IF((SUM(D249:L249)=0),\"J\",VLOOKUP(P249,Lookups!$A$1:$B$11,2))","v":"J"},{"$f":"H249+(L249*Lookups!$C$102*H249/100)","v":0},0,{"$f":"IF(ROUND(10.499-(((O249-VLOOKUP($A249,Lookups!$A$55:$D$64,3))/(VLOOKUP($A249,Lookups!$A$55:$D$64,4))*VLOOKUP($A249,Lookups!$C$2:$D$11,2))),0)<1,1,IF(ROUND(10.499-(((O249-VLOOKUP($A249,Lookups!$A$55:$D$64,3))/(VLOOKUP($A249,Lookups!$A$55:$D$64,4))*VLOOKUP($A249,Lookups!$C$2:$D$11,2))),0)<11,ROUND(10.499-(((O249-VLOOKUP($A249,Lookups!$A$55:$D$64,3))/(VLOOKUP($A249,Lookups!$A$55:$D$64,4))*VLOOKUP($A249,Lookups!$C$2:$D$11,2))),0),10))","v":7},null,{"$f":"VLOOKUP(A249,Lookups!$A$126:$C$135,3)","v":2},{"$f":"VLOOKUP(A249,Lookups!$A$126:$C$135,2)","v":"Food"},"No",0,{"$f":"IF($R249<>3,VLOOKUP($D249,'Points Table A'!$B$3:$F$33,5),VLOOKUP($D249,'Points Table A'!$H$3:$L$33,5))","v":0},{"$f":"IF($R249<>3,VLOOKUP($E249,'Points Table A'!$C$3:$F$33,4),VLOOKUP($E249,'Points Table A'!$I$3:$L$33,4))","v":0},{"$f":"IF($R249<>3,VLOOKUP($F249,'Points Table A'!$D$3:$F$33,3),VLOOKUP($F249,'Points Table A'!$J$3:$L$33,3))","v":0},{"$f":"IF($R249<>3,VLOOKUP($G249,'Points Table A'!$E$3:$F$33,2),VLOOKUP($G249,'Points Table A'!$K$3:$L$33,2))","v":0},0,{"$f":"IF($T249=Lookups!$B$113,VLOOKUP($J249,'Points Table C'!$A$3:$F$11,5),VLOOKUP($U249,'Points Table C'!$B$3:$F$11,4))","v":0},{"$f":"IF($R249=1,0,VLOOKUP($N249,'Points Table C'!$C$3:$E$18,3))","v":0},{"$f":"VLOOKUP($I249,'Points Table C'!$D$3:$E$18,2)","v":0},{"$f":"IF($Z249<Lookups!$C$106,(AA249+AB249+AC249),IF(AA249>=Lookups!$C$120,(AA249+AB249+AC249),AA249+AB249))","v":0}]
["Non-core foods","Enter a food name here","Company name",0,0,0,0,0,0,0,0,0,{"$f":"IF((SUM(D250:L250)=0),\"J\",VLOOKUP(P250,Lookups!$A$1:$B$11,2))","v":"J"},{"$f":"H250+(L250*Lookups!$C$102*H250/100)","v":0},0,{"$f":"IF(ROUND(10.499-(((O250-VLOOKUP($A250,Lookups!$A$55:$D$64,3))/(VLOOKUP($A250,Lookups!$A$55:$D$64,4))*VLOOKUP($A250,Lookups!$C$2:$D$11,2))),0)<1,1,IF(ROUND(10.499-(((O250-VLOOKUP($A250,Lookups!$A$55:$D$64,3))/(VLOOKUP($A250,Lookups!$A$55:$D$64,4))*VLOOKUP($A250,Lookups!$C$2:$D$11,2))),0)<11,ROUND(10.499-(((O250-VLOOKUP($A250,Lookups!$A$55:$D$64,3))/(VLOOKUP($A250,Lookups!$A$55:$D$64,4))*VLOOKUP($A250,Lookups!$C$2:$D$11,2))),0),10))","v":7},null,{"$f":"VLOOKUP(A250,Lookups!$A$126:$C$135,3)","v":2},{"$f":"VLOOKUP(A250,Lookups!$A$126:$C$135,2)","v":"Food"},"No",0,{"$f":"IF($R250<>3,VLOOKUP($D250,'Points Table A'!$B$3:$F$33,5),VLOOKUP($D250,'Points Table A'!$H$3:$L$33,5))","v":0},{"$f":"IF($R250<>3,VLOOKUP($E250,'Points Table A'!$C$3:$F$33,4),VLOOKUP($E250,'Points Table A'!$I$3:$L$33,4))","v":0},{"$f":"IF($R250<>3,VLOOKUP($F250,'Points Table A'!$D$3:$F$33,3),VLOOKUP($F250,'Points Table A'!$J$3:$L$33,3))","v":0},{"$f":"IF($R250<>3,VLOOKUP($G250,'Points Table A'!$E$3:$F$33,2),VLOOKUP($G250,'Points Table A'!$K$3:$L$33,2))","v":0},0,{"$f":"IF($T250=Lookups!$B$113,VLOOKUP($J250,'Points Table C'!$A$3:$F$11,5),VLOOKUP($U250,'Points Table C'!$B$3:$F$11,4))","v":0},{"$f":"IF($R250=1,0,VLOOKUP($N250,'Points Table C'!$C$3:$E$18,3))","v":0},{"$f":"VLOOKUP($I250,'Points Table C'!$D$3:$E$18,2)","v":0},{"$f":"IF($Z250<Lookups!$C$106,(AA250+AB250+AC250),IF(AA250>=Lookups!$C$120,(AA250+AB250+AC250),AA250+AB250))","v":0}]
["Non-core foods","Enter a food name here","Company name",0,0,0,0,0,0,0,0,0,{"$f":"IF((SUM(D251:L251)=0),\"J\",VLOOKUP(P251,Lookups!$A$1:$B$11,2))","v":"J"},{"$f":"H251+(L251*Lookups!$C$102*H251/100)","v":0},0,{"$f":"IF(ROUND(10.499-(((O251-VLOOKUP($A251,Lookups!$A$55:$D$64,3))/(VLOOKUP($A251,Lookups!$A$55:$D$64,4))*VLOOKUP($A251,Lookups!$C$2:$D$11,2))),0)<1,1,IF(ROUND(10.499-(((O251-VLOOKUP($A251,Lookups!$A$55:$D$64,3))/(VLOOKUP($A251,Lookups!$A$55:$D$64,4))*VLOOKUP($A251,Lookups!$C$2:$D$11,2))),0)<11,ROUND(10.499-(((O251-VLOOKUP($A251,Lookups!$A$55:$D$64,3))/(VLOOKUP($A251,Lookups!$A$55:$D$64,4))*VLOOKUP($A251,Lookups!$C$2:$D$11,2))),0),10))","v":7},null,{"$f":"VLOOKUP(A251,Lookups!$A$126:$C$135,3)","v":2},{"$f":"VLOOKUP(A251,Lookups!$A$126:$C$135,2)","v":"Food"},"No",0,{"$f":"IF($R251<>3,VLOOKUP($D251,'Points Table A'!$B$3:$F$33,5),VLOOKUP($D251,'Points Table A'!$H$3:$L$33,5))","v":0},{"$f":"IF($R251<>3,VLOOKUP($E251,'Points Table A'!$C$3:$F$33,4),VLOOKUP($E251,'Points Table A'!$I$3:$L$33,4))","v":0},{"$f":"IF($R251<>3,VLOOKUP($F251,'Points Table A'!$D$3:$F$33,3),VLOOKUP($F251,'Points Table A'!$J$3:$L$33,3))","v":0},{"$f":"IF($R251<>3,VLOOKUP($G251,'Points Table A'!$E$3:$F$33,2),VLOOKUP($G251,'Points Table A'!$K$3:$L$33,2))","v":0},0,{"$f":"IF($T251=Lookups!$B$113,VLOOKUP($J251,'Points Table C'!$A$3:$F$11,5),VLOOKUP($U251,'Points Table C'!$B$3:$F$11,4))","v":0},{"$f":"IF($R251=1,0,VLOOKUP($N251,'Points Table C'!$C$3:$E$18,3))","v":0},{"$f":"VLOOKUP($I251,'Points Table C'!$D$3:$E$18,2)","v":0},{"$f":"IF($Z251<Lookups!$C$106,(AA251+AB251+AC251),IF(AA251>=Lookups!$C$120,(AA251+AB251+AC251),AA251+AB251))","v":0}]
["Non-core foods","Enter a food name here","Company name",0,0,0,0,0,0,0,0,0,{"$f":"IF((SUM(D252:L252)=0),\"J\",VLOOKUP(P252,Lookups!$A$1:$B$11,2))","v":"J"},{"$f":"H252+(L252*Lookups!$C$102*H252/100)","v":0},0,{"$f":"IF(ROUND(10.499-(((O252-VLOOKUP($A252,Lookups!$A$55:$D$64,3))/(VLOOKUP($A252,Lookups!$A$55:$D$64,4))*VLOOKUP($A252,Lookups!$C$2:$D$11,2))),0)<1,1,IF(ROUND(10.499-(((O252-VLOOKUP($A252,Lookups!$A$55:$D$64,3))/(VLOOKUP($A252,Lookups!$A$55:$D$64,4))*VLOOKUP($A252,Lookups!$C$2:$D$11,2))),0)<11,ROUND(10.499-(((O252-VLOOKUP($A252,Lookups!$A$55:$D$64,3))/(VLOOKUP($A252,Lookups!$A$55:$D$64,4))*VLOOKUP($A252,Lookups!$C$2:$D$11,2))),0),10))","v":7},null,{"$f":"VLOOKUP(A252,Lookups!$A$126:$C$135,3)","v":2},{"$f":"VLOOKUP(A252,Lookups!$A$126:$C$135,2)","v":"Food"},"No",0,{"$f":"IF($R252<>3,VLOOKUP($D252,'Points Table A'!$B$3:$F$33,5),VLOOKUP($D252,'Points Table A'!$H$3:$L$33,5))","v":0},{"$f":"IF($R252<>3,VLOOKUP($E252,'Points Table A'!$C$3:$F$33,4),VLOOKUP($E252,'Points Table A'!$I$3:$L$33,4))","v":0},{"$f":"IF($R252<>3,VLOOKUP($F252,'Points Table A'!$D$3:$F$33,3),VLOOKUP($F252,'Points Table A'!$J$3:$L$33,3))","v":0},{"$f":"IF($R252<>3,VLOOKUP($G252,'Points Table A'!$E$3:$F$33,2),VLOOKUP($G252,'Points Table A'!$K$3:$L$33,2))","v":0},0,{"$f":"IF($T252=Lookups!$B$113,VLOOKUP($J252,'Points Table C'!$A$3:$F$11,5),VLOOKUP($U252,'Points Table C'!$B$3:$F$11,4))","v":0},{"$f":"IF($R252=1,0,VLOOKUP($N252,'Points Table C'!$C$3:$E$18,3))","v":0},{"$f":"VLOOKUP($I252,'Points Table C'!$D$3:$E$18,2)","v":0},{"$f":"IF($Z252<Lookups!$C$106,(AA252+AB252+AC252),IF(AA252>=Lookups!$C$120,(AA252+AB252+AC252),AA252+AB252))","v":0}]
["Non-core foods","Enter a food name here","Company name",0,0,0,0,0,0,0,0,0,{"$f":"IF((SUM(D253:L253)=0),\"J\",VLOOKUP(P253,Lookups!$A$1:$B$11,2))","v":"J"},{"$f":"H253+(L253*Lookups!$C$102*H253/100)","v":0},0,{"$f":"IF(ROUND(10.499-(((O253-VLOOKUP($A253,Lookups!$A$55:$D$64,3))/(VLOOKUP($A253,Lookups!$A$55:$D$64,4))*VLOOKUP($A253,Lookups!$C$2:$D$11,2))),0)<1,1,IF(ROUND(10.499-(((O253-VLOOKUP($A253,Lookups!$A$55:$D$64,3))/(VLOOKUP($A253,Lookups!$A$55:$D$64,4))*VLOOKUP($A253,Lookups!$C$2:$D$11,2))),0)<11,ROUND(10.499-(((O253-VLOOKUP($A253,Lookups!$A$55:$D$64,3))/(VLOOKUP($A253,Lookups!$A$55:$D$64,4))*VLOOKUP($A253,Lookups!$C$2:$D$11,2))),0),10))","v":7},null,{"$f":"VLOOKUP(A253,Lookups!$A$126:$C$135,3)","v":2},{"$f":"VLOOKUP(A253,Lookups!$A$126:$C$135,2)","v":"Food"},"No",0,{"$f":"IF($R253<>3,VLOOKUP($D253,'Points Table A'!$B$3:$F$33,5),VLOOKUP($D253,'Points Table A'!$H$3:$L$33,5))","v":0},{"$f":"IF($R253<>3,VLOOKUP($E253,'Points Table A'!$C$3:$F$33,4),VLOOKUP($E253,'Points Table A'!$I$3:$L$33,4))","v":0},{"$f":"IF($R253<>3,VLOOKUP($F253,'Points Table A'!$D$3:$F$33,3),VLOOKUP($F253,'Points Table A'!$J$3:$L$33,3))","v":0},{"$f":"IF($R253<>3,VLOOKUP($G253,'Points Table A'!$E$3:$F$33,2),VLOOKUP($G253,'Points Table A'!$K$3:$L$33,2))","v":0},0,{"$f":"IF($T253=Lookups!$B$113,VLOOKUP($J253,'Points Table C'!$A$3:$F$11,5),VLOOKUP($U253,'Points Table C'!$B$3:$F$11,4))","v":0},{"$f":"IF($R253=1,0,VLOOKUP($N253,'Points Table C'!$C$3:$E$18,3))","v":0},{"$f":"VLOOKUP($I253,'Points Table C'!$D$3:$E$18,2)","v":0},{"$f":"IF($Z253<Lookups!$C$106,(AA253+AB253+AC253),IF(AA253>=Lookups!$C$120,(AA253+AB253+AC253),AA253+AB253))","v":0}]
["Non-core foods","Enter a food name here","Company name",0,0,0,0,0,0,0,0,0,{"$f":"IF((SUM(D254:L254)=0),\"J\",VLOOKUP(P254,Lookups!$A$1:$B$11,2))","v":"J"},{"$f":"H254+(L254*Lookups!$C$102*H254/100)","v":0},0,{"$f":"IF(ROUND(10.499-(((O254-VLOOKUP($A254,Lookups!$A$55:$D$64,3))/(VLOOKUP($A254,Lookups!$A$55:$D$64,4))*VLOOKUP($A254,Lookups!$C$2:$D$11,2))),0)<1,1,IF(ROUND(10.499-(((O254-VLOOKUP($A254,Lookups!$A$55:$D$64,3))/(VLOOKUP($A254,Lookups!$A$55:$D$64,4))*VLOOKUP($A254,Lookups!$C$2:$D$11,2))),0)<11,ROUND(10.499-(((O254-VLOOKUP($A254,Lookups!$A$55:$D$64,3))/(VLOOKUP($A254,Lookups!$A$55:$D$64,4))*VLOOKUP($A254,Lookups!$C$2:$D$11,2))),0),10))","v":7},null,{"$f":"VLOOKUP(A254,Lookups!$A$126:$C$135,3)","v":2},{"$f":"VLOOKUP(A254,Lookups!$A$126:$C$135,2)","v":"Food"},"No",0,{"$f":"IF($R254<>3,VLOOKUP($D254,'Points Table A'!$B$3:$F$33,5),VLOOKUP($D254,'Points Table A'!$H$3:$L$33,5))","v":0},{"$f":"IF($R254<>3,VLOOKUP($E254,'Points Table A'!$C$3:$F$33,4),VLOOKUP($E254,'Points Table A'!$I$3:$L$33,4))","v":0},{"$f":"IF($R254<>3,VLOOKUP($F254,'Points Table A'!$D$3:$F$33,3),VLOOKUP($F254,'Points Table A'!$J$3:$L$33,3))","v":0},{"$f":"IF($R254<>3,VLOOKUP($G254,'Points Table A'!$E$3:$F$33,2),VLOOKUP($G254,'Points Table A'!$K$3:$L$33,2))","v":0},0,{"$f":"IF($T254=Lookups!$B$113,VLOOKUP($J254,'Points Table C'!$A$3:$F$11,5),VLOOKUP($U254,'Points Table C'!$B$3:$F$11,4))","v":0},{"$f":"IF($R254=1,0,VLOOKUP($N254,'Points Table C'!$C$3:$E$18,3))","v":0},{"$f":"VLOOKUP($I254,'Points Table C'!$D$3:$E$18,2)","v":0},{"$f":"IF($Z254<Lookups!$C$106,(AA254+AB254+AC254),IF(AA254>=Lookups!$C$120,(AA254+AB254+AC254),AA254+AB254))","v":0}]
["Non-core foods","Enter a food name here","Company name",0,0,0,0,0,0,0,0,0,{"$f":"IF((SUM(D255:L255)=0),\"J\",VLOOKUP(P255,Lookups!$A$1:$B$11,2))","v":"J"},{"$f":"H255+(L255*Lookups!$C$102*H255/100)","v":0},0,{"$f":"IF(ROUND(10.499-(((O255-VLOOKUP($A255,Lookups!$A$55:$D$64,3))/(VLOOKUP($A255,Lookups!$A$55:$D$64,4))*VLOOKUP($A255,Lookups!$C$2:$D$11,2))),0)<1,1,IF(ROUND(10.499-(((O255-VLOOKUP($A255,Lookups!$A$55:$D$64,3))/(VLOOKUP($A255,Lookups!$A$55:$D$64,4))*VLOOKUP($A255,Lookups!$C$2:$D$11,2))),0)<11,ROUND(10.499-(((O255-VLOOKUP($A255,Lookups!$A$55:$D$64,3))/(VLOOKUP($A255,Lookups!$A$55:$D$64,4))*VLOOKUP($A255,Lookups!$C$2:$D$11,2))),0),10))","v":7},null,{"$f":"VLOOKUP(A255,Lookups!$A$126:$C$135,3)","v":2},{"$f":"VLOOKUP(A255,Lookups!$A$126:$C$135,2)","v":"Food"},"No",0,{"$f":"IF($R255<>3,VLOOKUP($D255,'Points Table A'!$B$3:$F$33,5),VLOOKUP($D255,'Points Table A'!$H$3:$L$33,5))","v":0},{"$f":"IF($R255<>3,VLOOKUP($E255,'Points Table A'!$C$3:$F$33,4),VLOOKUP($E255,'Points Table A'!$I$3:$L$33,4))","v":0},{"$f":"IF($R255<>3,VLOOKUP($F255,'Points Table A'!$D$3:$F$33,3),VLOOKUP($F255,'Points Table A'!$J$3:$L$33,3))","v":0},{"$f":"IF($R255<>3,VLOOKUP($G255,'Points Table A'!$E$3:$F$33,2),VLOOKUP($G255,'Points Table A'!$K$3:$L$33,2))","v":0},0,{"$f":"IF($T255=Lookups!$B$113,VLOOKUP($J255,'Points Table C'!$A$3:$F$11,5),VLOOKUP($U255,'Points Table C'!$B$3:$F$11,4))","v":0},{"$f":"IF($R255=1,0,VLOOKUP($N255,'Points Table C'!$C$3:$E$18,3))","v":0},{"$f":"VLOOKUP($I255,'Points Table C'!$D$3:$E$18,2)","v":0},{"$f":"IF($Z255<Lookups!$C$106,(AA255+AB255+AC255),IF(AA255>=Lookups!$C$120,(AA255+AB255+AC255),AA255+AB255))","v":0}]
["Non-core foods","Enter a food name here","Company name",0,0,0,0,0,0,0,0,0,{"$f":"IF((SUM(D256:L256)=0),\"J\",VLOOKUP(P256,Lookups!$A$1:$B$11,2))","v":"J"},{"$f":"H256+(L256*Lookups!$C$102*H256/100)","v":0},0,{"$f":"IF(ROUND(10.499-(((O256-VLOOKUP($A256,Lookups!$A$55:$D$64,3))/(VLOOKUP($A256,Lookups!$A$55:$D$64,4))*VLOOKUP($A256,Lookups!$C$2:$D$11,2))),0)<1,1,IF(ROUND(10.499-(((O256-VLOOKUP($A256,Lookups!$A$55:$D$64,3))/(VLOOKUP($A256,Lookups!$A$55:$D$64,4))*VLOOKUP($A256,Lookups!$C$2:$D$11,2))),0)<11,ROUND(10.499-(((O256-VLOOKUP($A256,Lookups!$A$55:$D$64,3))/(VLOOKUP($A256,Lookups!$A$55:$D$64,4))*VLOOKUP($A256,Lookups!$C$2:$D$11,2))),0),10))","v":7},null,{"$f":"VLOOKUP(A256,Lookups!$A$126:$C$135,3)","v":2},{"$f":"VLOOKUP(A256,Lookups!$A$126:$C$135,2)","v":"Food"},"No",0,{"$f":"IF($R256<>3,VLOOKUP($D256,'Points Table A'!$B$3:$F$33,5),VLOOKUP($D256,'Points Table A'!$H$3:$L$33,5))","v":0},{"$f":"IF($R256<>3,VLOOKUP($E256,'Points Table A'!$C$3:$F$33,4),VLOOKUP($E256,'Points Table A'!$I$3:$L$33,4))","v":0},{"$f":"IF($R256<>3,VLOOKUP($F256,'Points Table A'!$D$3:$F$33,3),VLOOKUP($F256,'Points Table A'!$J$3:$L$33,3))","v":0},{"$f":"IF($R256<>3,VLOOKUP($G256,'Points Table A'!$E$3:$F$33,2),VLOOKUP($G256,'Points Table A'!$K$3:$L$33,2))","v":0},0,{"$f":"IF($T256=Lookups!$B$113,VLOOKUP($J256,'Points Table C'!$A$3:$F$11,5),VLOOKUP($U256,'Points Table C'!$B$3:$F$11,4))","v":0},{"$f":"IF($R256=1,0,VLOOKUP($N256,'Points Table C'!$C$3:$E$18,3))","v":0},{"$f":"VLOOKUP($I256,'Points Table C'!$D$3:$E$18,2)","v":0},{"$f":"IF($Z256<Lookups!$C$106,(AA256+AB256+AC256),IF(AA256>=Lookups!$C$120,(AA256+AB256+AC256),AA256+AB256))","v":0}]
["Non-core foods","Enter a food name here","Company name",0,0,0,0,0,0,0,0,0,{"$f":"IF((SUM(D257:L257)=0),\"J\",VLOOKUP(P257,Lookups!$A$1:$B$11,2))","v":"J"},{"$f":"H257+(L257*Lookups!$C$102*H257/100)","v":0},0,{"$f":"IF(ROUND(10.499-(((O257-VLOOKUP($A257,Lookups!$A$55:$D$64,3))/(VLOOKUP($A257,Lookups!$A$55:$D$64,4))*VLOOKUP($A257,Lookups!$C$2:$D$11,2))),0)<1,1,IF(ROUND(10.499-(((O257-VLOOKUP($A257,Lookups!$A$55:$D$64,3))/(VLOOKUP($A257,Lookups!$A$55:$D$64,4))*VLOOKUP($A257,Lookups!$C$2:$D$11,2))),0)<11,ROUND(10.499-(((O257-VLOOKUP($A257,Lookups!$A$55:$D$64,3))/(VLOOKUP($A257,Lookups!$A$55:$D$64,4))*VLOOKUP($A257,Lookups!$C$2:$D$11,2))),0),10))","v":7},null,{"$f":"VLOOKUP(A257,Lookups!$A$126:$C$135,3)","v":2},{"$f":"VLOOKUP(A257,Lookups!$A$126:$C$135,2)","v":"Food"},"No",0,{"$f":"IF($R257<>3,VLOOKUP($D257,'Points Table A'!$B$3:$F$33,5),VLOOKUP($D257,'Points Table A'!$H$3:$L$33,5))","v":0},{"$f":"IF($R257<>3,VLOOKUP($E257,'Points Table A'!$C$3:$F$33,4),VLOOKUP($E257,'Points Table A'!$I$3:$L$33,4))","v":0},{"$f":"IF($R257<>3,VLOOKUP($F257,'Points Table A'!$D$3:$F$33,3),VLOOKUP($F257,'Points Table A'!$J$3:$L$33,3))","v":0},{"$f":"IF($R257<>3,VLOOKUP($G257,'Points Table A'!$E$3:$F$33,2),VLOOKUP($G257,'Points Table A'!$K$3:$L$33,2))","v":0},0,{"$f":"IF($T257=Lookups!$B$113,VLOOKUP($J257,'Points Table C'!$A$3:$F$11,5),VLOOKUP($U257,'Points Table C'!$B$3:$F$11,4))","v":0},{"$f":"IF($R257=1,0,VLOOKUP($N257,'Points Table C'!$C$3:$E$18,3))","v":0},{"$f":"VLOOKUP($I257,'Points Table C'!$D$3:$E$18,2)","v":0},{"$f":"IF($Z257<Lookups!$C$106,(AA257+AB257+AC257),IF(AA257>=Lookups!$C$120,(AA257+AB257+AC257),AA257+AB257))","v":0}]
["Non-core foods","Enter a food name here","Company name",0,0,0,0,0,0,0,0,0,{"$f":"IF((SUM(D258:L258)=0),\"J\",VLOOKUP(P258,Lookups!$A$1:$B$11,2))","v":"J"},{"$f":"H258+(L258*Lookups!$C$102*H258/100)","v":0},0,{"$f":"IF(ROUND(10.499-(((O258-VLOOKUP($A258,Lookups!$A$55:$D$64,3))/(VLOOKUP($A258,Lookups!$A$55:$D$64,4))*VLOOKUP($A258,Lookups!$C$2:$D$11,2))),0)<1,1,IF(ROUND(10.499-(((O258-VLOOKUP($A258,Lookups!$A$55:$D$64,3))/(VLOOKUP($A258,Lookups!$A$55:$D$64,4))*VLOOKUP($A258,Lookups!$C$2:$D$11,2))),0)<11,ROUND(10.499-(((O258-VLOOKUP($A258,Lookups!$A$55:$D$64,3))/(VLOOKUP($A258,Lookups!$A$55:$D$64,4))*VLOOKUP($A258,Lookups!$C$2:$D$11,2))),0),10))","v":7},null,{"$f":"VLOOKUP(A258,Lookups!$A$126:$C$135,3)","v":2},{"$f":"VLOOKUP(A258,Lookups!$A$126:$C$135,2)","v":"Food"},"No",0,{"$f":"IF($R258<>3,VLOOKUP($D258,'Points Table A'!$B$3:$F$33,5),VLOOKUP($D258,'Points Table A'!$H$3:$L$33,5))","v":0},{"$f":"IF($R258<>3,VLOOKUP($E258,'Points Table A'!$C$3:$F$33,4),VLOOKUP($E258,'Points Table A'!$I$3:$L$33,4))","v":0},{"$f":"IF($R258<>3,VLOOKUP($F258,'Points Table A'!$D$3:$F$33,3),VLOOKUP($F258,'Points Table A'!$J$3:$L$33,3))","v":0},{"$f":"IF($R258<>3,VLOOKUP($G258,'Points Table A'!$E$3:$F$33,2),VLOOKUP($G258,'Points Table A'!$K$3:$L$33,2))","v":0},0,{"$f":"IF($T258=Lookups!$B$113,VLOOKUP($J258,'Points Table C'!$A$3:$F$11,5),VLOOKUP($U258,'Points Table C'!$B$3:$F$11,4))","v":0},{"$f":"IF($R258=1,0,VLOOKUP($N258,'Points Table C'!$C$3:$E$18,3))","v":0},{"$f":"VLOOKUP($I258,'Points Table C'!$D$3:$E$18,2)","v":0},{"$f":"IF($Z258<Lookups!$C$106,(AA258+AB258+AC258),IF(AA258>=Lookups!$C$120,(AA258+AB258+AC258),AA258+AB258))","v":0}]
["Non-core foods","Enter a food name here","Company name",0,0,0,0,0,0,0,0,0,{"$f":"IF((SUM(D259:L259)=0),\"J\",VLOOKUP(P259,Lookups!$A$1:$B$11,2))","v":"J"},{"$f":"H259+(L259*Lookups!$C$102*H259/100)","v":0},{"$f":"$Z259-$AD259","v":0},{"$f":"IF(ROUND(10.499-(((O259-VLOOKUP($A259,Lookups!$A$55:$D$64,3))/(VLOOKUP($A259,Lookups!$A$55:$D$64,4))*VLOOKUP($A259,Lookups!$C$2:$D$11,2))),0)<1,1,IF(ROUND(10.499-(((O259-VLOOKUP($A259,Lookups!$A$55:$D$64,3))/(VLOOKUP($A259,Lookups!$A$55:$D$64,4))*VLOOKUP($A259,Lookups!$C$2:$D$11,2))),0)<11,ROUND(10.499-(((O259-VLOOKUP($A259,Lookups!$A$55:$D$64,3))/(VLOOKUP($A259,Lookups!$A$55:$D$64,4))*VLOOKUP($A259,Lookups!$C$2:$D$11,2))),0),10))","v":7},null,{"$f":"VLOOKUP(A259,Lookups!$A$126:$C$135,3)","v":2},{"$f":"VLOOKUP(A259,Lookups!$A$126:$C$135,2)","v":"Food"},{"$f":"IF(AND(J259>0,K259=0),\"Yes\",\"No\")","v":"No"},{"$f":"ROUND(100*(K259+2*J259)/(K259+2*J259+(100-J259-K259)),2)","v":0},{"$f":"IF($R259<>3,VLOOKUP($D259,'Points Table A'!$B$3:$F$33,5),VLOOKUP($D259,'Points Table A'!$H$3:$L$33,5))","v":0},{"$f":"IF($R259<>3,VLOOKUP($E259,'Points Table A'!$C$3:$F$33,4),VLOOKUP($E259,'Points Table A'!$I$3:$L$33,4))","v":0},{"$f":"IF($R259<>3,VLOOKUP($F259,'Points Table A'!$D$3:$F$33,3),VLOOKUP($F259,'Points Table A'!$J$3:$L$33,3))","v":0},{"$f":"IF($R259<>3,VLOOKUP($G259,'Points Table A'!$E$3:$F$33,2),VLOOKUP($G259,'Points Table A'!$K$3:$L$33,2))","v":0},0,{"$f":"IF($T259=Lookups!$B$113,VLOOKUP($J259,'Points Table C'!$A$3:$F$11,5),VLOOKUP($U259,'Points Table C'!$B$3:$F$11,4))","v":0},{"$f":"IF($R259=1,0,VLOOKUP($N259,'Points Table C'!$C$3:$E$18,3))","v":0},{"$f":"VLOOKUP($I259,'Points Table C'!$D$3:$E$18,2)","v":0},{"$f":"IF($Z259<Lookups!$C$106,(AA259+AB259+AC259),IF(AA259>=Lookups!$C$120,(AA259+AB259+AC259),AA259+AB259))","v":0}]
["Non-core foods","Enter a food name here","Company name",0,0,0,0,0,0,0,0,0,{"$f":"IF((SUM(D260:L260)=0),\"J\",VLOOKUP(P260,Lookups!$A$1:$B$11,2))","v":"J"},{"$f":"H260+(L260*Lookups!$C$102*H260/100)","v":0},0,{"$f":"IF(ROUND(10.499-(((O260-VLOOKUP($A260,Lookups!$A$55:$D$64,3))/(VLOOKUP($A260,Lookups!$A$55:$D$64,4))*VLOOKUP($A260,Lookups!$C$2:$D$11,2))),0)<1,1,IF(ROUND(10.499-(((O260-VLOOKUP($A260,Lookups!$A$55:$D$64,3))/(VLOOKUP($A260,Lookups!$A$55:$D$64,4))*VLOOKUP($A260,Lookups!$C$2:$D$11,2))),0)<11,ROUND(10.499-(((O260-VLOOKUP($A260,Lookups!$A$55:$D$64,3))/(VLOOKUP($A260,Lookups!$A$55:$D$64,4))*VLOOKUP($A260,Lookups!$C$2:$D$11,2))),0),10))","v":7},null,{"$f":"VLOOKUP(A260,Lookups!$A$126:$C$135,3)","v":2},{"$f":"VLOOKUP(A260,Lookups!$A$126:$C$135,2)","v":"Food"},"No",0,{"$f":"IF($R260<>3,VLOOKUP($D260,'Points Table A'!$B$3:$F$33,5),VLOOKUP($D260,'Points Table A'!$H$3:$L$33,5))","v":0},{"$f":"IF($R260<>3,VLOOKUP($E260,'Points Table A'!$C$3:$F$33,4),VLOOKUP($E260,'Points Table A'!$I$3:$L$33,4))","v":0},{"$f":"IF($R260<>3,VLOOKUP($F260,'Points Table A'!$D$3:$F$33,3),VLOOKUP($F260,'Points Table A'!$J$3:$L$33,3))","v":0},{"$f":"IF($R260<>3,VLOOKUP($G260,'Points Table A'!$E$3:$F$33,2),VLOOKUP($G260,'Points Table A'!$K$3:$L$33,2))","v":0},{"$f":"SUM(V260:Y260)","v":0},{"$f":"IF($T260=Lookups!$B$113,VLOOKUP($J260,'Points Table C'!$A$3:$F$11,5),VLOOKUP($U260,'Points Table C'!$B$3:$F$11,4))","v":0},{"$f":"IF($R260=1,0,VLOOKUP($N260,'Points Table C'!$C$3:$E$18,3))","v":0},{"$f":"VLOOKUP($I260,'Points Table C'!$D$3:$E$18,2)","v":0},{"$f":"IF($Z260<Lookups!$C$106,(AA260+AB260+AC260),IF(AA260>=Lookups!$C$120,(AA260+AB260+AC260),AA260+AB260))","v":0}]
["Non-core foods","Enter a food name here","Company name",0,0,0,0,0,0,0,0,0,{"$f":"IF((SUM(D261:L261)=0),\"J\",VLOOKUP(P261,Lookups!$A$1:$B$11,2))","v":"J"},{"$f":"H261+(L261*Lookups!$C$102*H261/100)","v":0},0,{"$f":"IF(ROUND(10.499-(((O261-VLOOKUP($A261,Lookups!$A$55:$D$64,3))/(VLOOKUP($A261,Lookups!$A$55:$D$64,4))*VLOOKUP($A261,Lookups!$C$2:$D$11,2))),0)<1,1,IF(ROUND(10.499-(((O261-VLOOKUP($A261,Lookups!$A$55:$D$64,3))/(VLOOKUP($A261,Lookups!$A$55:$D$64,4))*VLOOKUP($A261,Lookups!$C$2:$D$11,2))),0)<11,ROUND(10.499-(((O261-VLOOKUP($A261,Lookups!$A$55:$D$64,3))/(VLOOKUP($A261,Lookups!$A$55:$D$64,4))*VLOOKUP($A261,Lookups!$C$2:$D$11,2))),0),10))","v":7},null,{"$f":"VLOOKUP(A261,Lookups!$A$126:$C$135,3)","v":2},{"$f":"VLOOKUP(A261,Lookups!$A$126:$C$135,2)","v":"Food"},"No",0,{"$f":"IF($R261<>3,VLOOKUP($D261,'Points Table A'!$B$3:$F$33,5),VLOOKUP($D261,'Points Table A'!$H$3:$L$33,5))","v":0},{"$f":"IF($R261<>3,VLOOKUP($E261,'Points Table A'!$C$3:$F$33,4),VLOOKUP($E261,'Points Table A'!$I$3:$L$33,4))","v":0},{"$f":"IF($R261<>3,VLOOKUP($F261,'Points Table A'!$D$3:$F$33,3),VLOOKUP($F261,'Points Table A'!$J$3:$L$33,3))","v":0},{"$f":"IF($R261<>3,VLOOKUP($G261,'Points Table A'!$E$3:$F$33,2),VLOOKUP($G261,'Points Table A'!$K$3:$L$33,2))","v":0},0,{"$f":"IF($T261=Lookups!$B$113,VLOOKUP($J261,'Points Table C'!$A$3:$F$11,5),VLOOKUP($U261,'Points Table C'!$B$3:$F$11,4))","v":0},{"$f":"IF($R261=1,0,VLOOKUP($N261,'Points Table C'!$C$3:$E$18,3))","v":0},{"$f":"VLOOKUP($I261,'Points Table C'!$D$3:$E$18,2)","v":0},{"$f":"IF($Z261<Lookups!$C$106,(AA261+AB261+AC261),IF(AA261>=Lookups!$C$120,(AA261+AB261+AC261),AA261+AB261))","v":0}]
["Non-core foods","Enter a food name here","Company name",0,0,0,0,0,0,0,0,0,{"$f":"IF((SUM(D262:L262)=0),\"J\",VLOOKUP(P262,Lookups!$A$1:$B$11,2))","v":"J"},{"$f":"H262+(L262*Lookups!$C$102*H262/100)","v":0},0,{"$f":"IF(ROUND(10.499-(((O262-VLOOKUP($A262,Lookups!$A$55:$D$64,3))/(VLOOKUP($A262,Lookups!$A$55:$D$64,4))*VLOOKUP($A262,Lookups!$C$2:$D$11,2))),0)<1,1,IF(ROUND(10.499-(((O262-VLOOKUP($A262,Lookups!$A$55:$D$64,3))/(VLOOKUP($A262,Lookups!$A$55:$D$64,4))*VLOOKUP($A262,Lookups!$C$2:$D$11,2))),0)<11,ROUND(10.499-(((O262-VLOOKUP($A262,Lookups!$A$55:$D$64,3))/(VLOOKUP($A262,Lookups!$A$55:$D$64,4))*VLOOKUP($A262,Lookups!$C$2:$D$11,2))),0),10))","v":7},null,{"$f":"VLOOKUP(A262,Lookups!$A$126:$C$135,3)","v":2},{"$f":"VLOOKUP(A262,Lookups!$A$126:$C$135,2)","v":"Food"},"No",0,{"$f":"IF($R262<>3,VLOOKUP($D262,'Points Table A'!$B$3:$F$33,5),VLOOKUP($D262,'Points Table A'!$H$3:$L$33,5))","v":0},{"$f":"IF($R262<>3,VLOOKUP($E262,'Points Table A'!$C$3:$F$33,4),VLOOKUP($E262,'Points Table A'!$I$3:$L$33,4))","v":0},{"$f":"IF($R262<>3,VLOOKUP($F262,'Points Table A'!$D$3:$F$33,3),VLOOKUP($F262,'Points Table A'!$J$3:$L$33,3))","v":0},{"$f":"IF($R262<>3,VLOOKUP($G262,'Points Table A'!$E$3:$F$33,2),VLOOKUP($G262,'Points Table A'!$K$3:$L$33,2))","v":0},0,{"$f":"IF($T262=Lookups!$B$113,VLOOKUP($J262,'Points Table C'!$A$3:$F$11,5),VLOOKUP($U262,'Points Table C'!$B$3:$F$11,4))","v":0},{"$f":"IF($R262=1,0,VLOOKUP($N262,'Points Table C'!$C$3:$E$18,3))","v":0},{"$f":"VLOOKUP($I262,'Points Table C'!$D$3:$E$18,2)","v":0},{"$f":"IF($Z262<Lookups!$C$106,(AA262+AB262+AC262),IF(AA262>=Lookups!$C$120,(AA262+AB262+AC262),AA262+AB262))","v":0}]
["Non-core foods","Enter a food name here","Company name",0,0,0,0,0,0,0,0,0,{"$f":"IF((SUM(D263:L263)=0),\"J\",VLOOKUP(P263,Lookups!$A$1:$B$11,2))","v":"J"},{"$f":"H263+(L263*Lookups!$C$102*H263/100)","v":0},0,{"$f":"IF(ROUND(10.499-(((O263-VLOOKUP($A263,Lookups!$A$55:$D$64,3))/(VLOOKUP($A263,Lookups!$A$55:$D$64,4))*VLOOKUP($A263,Lookups!$C$2:$D$11,2))),0)<1,1,IF(ROUND(10.499-(((O263-VLOOKUP($A263,Lookups!$A$55:$D$64,3))/(VLOOKUP($A263,Lookups!$A$55:$D$64,4))*VLOOKUP($A263,Lookups!$C$2:$D$11,2))),0)<11,ROUND(10.499-(((O263-VLOOKUP($A263,Lookups!$A$55:$D$64,3))/(VLOOKUP($A263,Lookups!$A$55:$D$64,4))*VLOOKUP($A263,Lookups!$C$2:$D$11,2))),0),10))","v":7},null,{"$f":"VLOOKUP(A263,Lookups!$A$126:$C$135,3)","v":2},{"$f":"VLOOKUP(A263,Lookups!$A$126:$C$135,2)","v":"Food"},"No",0,{"$f":"IF($R263<>3,VLOOKUP($D263,'Points Table A'!$B$3:$F$33,5),VLOOKUP($D263,'Points Table A'!$H$3:$L$33,5))","v":0},{"$f":"IF($R263<>3,VLOOKUP($E263,'Points Table A'!$C$3:$F$33,4),VLOOKUP($E263,'Points Table A'!$I$3:$L$33,4))","v":0},{"$f":"IF($R263<>3,VLOOKUP($F263,'Points Table A'!$D$3:$F$33,3),VLOOKUP($F263,'Points Table A'!$J$3:$L$33,3))","v":0},{"$f":"IF($R263<>3,VLOOKUP($G263,'Points Table A'!$E$3:$F$33,2),VLOOKUP($G263,'Points Table A'!$K$3:$L$33,2))","v":0},0,{"$f":"IF($T263=Lookups!$B$113,VLOOKUP($J263,'Points Table C'!$A$3:$F$11,5),VLOOKUP($U263,'Points Table C'!$B$3:$F$11,4))","v":0},{"$f":"IF($R263=1,0,VLOOKUP($N263,'Points Table C'!$C$3:$E$18,3))","v":0},{"$f":"VLOOKUP($I263,'Points Table C'!$D$3:$E$18,2)","v":0},{"$f":"IF($Z263<Lookups!$C$106,(AA263+AB263+AC263),IF(AA263>=Lookups!$C$120,(AA263+AB263+AC263),AA263+AB263))","v":0}]
["Non-core foods","Enter a food name here","Company name",0,0,0,0,0,0,0,0,0,{"$f":"IF((SUM(D264:L264)=0),\"J\",VLOOKUP(P264,Lookups!$A$1:$B$11,2))","v":"J"},{"$f":"H264+(L264*Lookups!$C$102*H264/100)","v":0},0,{"$f":"IF(ROUND(10.499-(((O264-VLOOKUP($A264,Lookups!$A$55:$D$64,3))/(VLOOKUP($A264,Lookups!$A$55:$D$64,4))*VLOOKUP($A264,Lookups!$C$2:$D$11,2))),0)<1,1,IF(ROUND(10.499-(((O264-VLOOKUP($A264,Lookups!$A$55:$D$64,3))/(VLOOKUP($A264,Lookups!$A$55:$D$64,4))*VLOOKUP($A264,Lookups!$C$2:$D$11,2))),0)<11,ROUND(10.499-(((O264-VLOOKUP($A264,Lookups!$A$55:$D$64,3))/(VLOOKUP($A264,Lookups!$A$55:$D$64,4))*VLOOKUP($A264,Lookups!$C$2:$D$11,2))),0),10))","v":7},null,{"$f":"VLOOKUP(A264,Lookups!$A$126:$C$135,3)","v":2},{"$f":"VLOOKUP(A264,Lookups!$A$126:$C$135,2)","v":"Food"},"No",0,{"$f":"IF($R264<>3,VLOOKUP($D264,'Points Table A'!$B$3:$F$33,5),VLOOKUP($D264,'Points Table A'!$H$3:$L$33,5))","v":0},{"$f":"IF($R264<>3,VLOOKUP($E264,'Points Table A'!$C$3:$F$33,4),VLOOKUP($E264,'Points Table A'!$I$3:$L$33,4))","v":0},{"$f":"IF($R264<>3,VLOOKUP($F264,'Points Table A'!$D$3:$F$33,3),VLOOKUP($F264,'Points Table A'!$J$3:$L$33,3))","v":0},{"$f":"IF($R264<>3,VLOOKUP($G264,'Points Table A'!$E$3:$F$33,2),VLOOKUP($G264,'Points Table A'!$K$3:$L$33,2))","v":0},0,{"$f":"IF($T264=Lookups!$B$113,VLOOKUP($J264,'Points Table C'!$A$3:$F$11,5),VLOOKUP($U264,'Points Table C'!$B$3:$F$11,4))","v":0},{"$f":"IF($R264=1,0,VLOOKUP($N264,'Points Table C'!$C$3:$E$18,3))","v":0},{"$f":"VLOOKUP($I264,'Points Table C'!$D$3:$E$18,2)","v":0},{"$f":"IF($Z264<Lookups!$C$106,(AA264+AB264+AC264),IF(AA264>=Lookups!$C$120,(AA264+AB264+AC264),AA264+AB264))","v":0}]
["Non-core foods","Enter a food name here","Company name",0,0,0,0,0,0,0,0,0,{"$f":"IF((SUM(D265:L265)=0),\"J\",VLOOKUP(P265,Lookups!$A$1:$B$11,2))","v":"J"},{"$f":"H265+(L265*Lookups!$C$102*H265/100)","v":0},0,{"$f":"IF(ROUND(10.499-(((O265-VLOOKUP($A265,Lookups!$A$55:$D$64,3))/(VLOOKUP($A265,Lookups!$A$55:$D$64,4))*VLOOKUP($A265,Lookups!$C$2:$D$11,2))),0)<1,1,IF(ROUND(10.499-(((O265-VLOOKUP($A265,Lookups!$A$55:$D$64,3))/(VLOOKUP($A265,Lookups!$A$55:$D$64,4))*VLOOKUP($A265,Lookups!$C$2:$D$11,2))),0)<11,ROUND(10.499-(((O265-VLOOKUP($A265,Lookups!$A$55:$D$64,3))/(VLOOKUP($A265,Lookups!$A$55:$D$64,4))*VLOOKUP($A265,Lookups!$C$2:$D$11,2))),0),10))","v":7},null,{"$f":"VLOOKUP(A265,Lookups!$A$126:$C$135,3)","v":2},{"$f":"VLOOKUP(A265,Lookups!$A$126:$C$135,2)","v":"Food"},"No",0,{"$f":"IF($R265<>3,VLOOKUP($D265,'Points Table A'!$B$3:$F$33,5),VLOOKUP($D265,'Points Table A'!$H$3:$L$33,5))","v":0},{"$f":"IF($R265<>3,VLOOKUP($E265,'Points Table A'!$C$3:$F$33,4),VLOOKUP($E265,'Points Table A'!$I$3:$L$33,4))","v":0},{"$f":"IF($R265<>3,VLOOKUP($F265,'Points Table A'!$D$3:$F$33,3),VLOOKUP($F265,'Points Table A'!$J$3:$L$33,3))","v":0},{"$f":"IF($R265<>3,VLOOKUP($G265,'Points Table A'!$E$3:$F$33,2),VLOOKUP($G265,'Points Table A'!$K$3:$L$33,2))","v":0},0,{"$f":"IF($T265=Lookups!$B$113,VLOOKUP($J265,'Points Table C'!$A$3:$F$11,5),VLOOKUP($U265,'Points Table C'!$B$3:$F$11,4))","v":0},{"$f":"IF($R265=1,0,VLOOKUP($N265,'Points Table C'!$C$3:$E$18,3))","v":0},{"$f":"VLOOKUP($I265,'Points Table C'!$D$3:$E$18,2)","v":0},{"$f":"IF($Z265<Lookups!$C$106,(AA265+AB265+AC265),IF(AA265>=Lookups!$C$120,(AA265+AB265+AC265),AA265+AB265))","v":0}]
["Non-core foods","Enter a food name here","Company name",0,0,0,0,0,0,0,0,0,{"$f":"IF((SUM(D266:L266)=0),\"J\",VLOOKUP(P266,Lookups!$A$1:$B$11,2))","v":"J"},{"$f":"H266+(L266*Lookups!$C$102*H266/100)","v":0},0,{"$f":"IF(ROUND(10.499-(((O266-VLOOKUP($A266,Lookups!$A$55:$D$64,3))/(VLOOKUP($A266,Lookups!$A$55:$D$64,4))*VLOOKUP($A266,Lookups!$C$2:$D$11,2))),0)<1,1,IF(ROUND(10.499-(((O266-VLOOKUP($A266,Lookups!$A$55:$D$64,3))/(VLOOKUP($A266,Lookups!$A$55:$D$64,4))*VLOOKUP($A266,Lookups!$C$2:$D$11,2))),0)<11,ROUND(10.499-(((O266-VLOOKUP($A266,Lookups!$A$55:$D$64,3))/(VLOOKUP($A266,Lookups!$A$55:$D$64,4))*VLOOKUP($A266,Lookups!$C$2:$D$11,2))),0),10))","v":7},null,{"$f":"VLOOKUP(A266,Lookups!$A$126:$C$135,3)","v":2},{"$f":"VLOOKUP(A266,Lookups!$A$126:$C$135,2)","v":"Food"},"No",0,{"$f":"IF($R266<>3,VLOOKUP($D266,'Points Table A'!$B$3:$F$33,5),VLOOKUP($D266,'Points Table A'!$H$3:$L$33,5))","v":0},{"$f":"IF($R266<>3,VLOOKUP($E266,'Points Table A'!$C$3:$F$33,4),VLOOKUP($E266,'Points Table A'!$I$3:$L$33,4))","v":0},{"$f":"IF($R266<>3,VLOOKUP($F266,'Points Table A'!$D$3:$F$33,3),VLOOKUP($F266,'Points Table A'!$J$3:$L$33,3))","v":0},{"$f":"IF($R266<>3,VLOOKUP($G266,'Points Table A'!$E$3:$F$33,2),VLOOKUP($G266,'Points Table A'!$K$3:$L$33,2))","v":0},0,{"$f":"IF($T266=Lookups!$B$113,VLOOKUP($J266,'Points Table C'!$A$3:$F$11,5),VLOOKUP($U266,'Points Table C'!$B$3:$F$11,4))","v":0},{"$f":"IF($R266=1,0,VLOOKUP($N266,'Points Table C'!$C$3:$E$18,3))","v":0},{"$f":"VLOOKUP($I266,'Points Table C'!$D$3:$E$18,2)","v":0},{"$f":"IF($Z266<Lookups!$C$106,(AA266+AB266+AC266),IF(AA266>=Lookups!$C$120,(AA266+AB266+AC266),AA266+AB266))","v":0}]
["Non-core foods","Enter a food name here","Company name",0,0,0,0,0,0,0,0,0,{"$f":"IF((SUM(D267:L267)=0),\"J\",VLOOKUP(P267,Lookups!$A$1:$B$11,2))","v":"J"},{"$f":"H267+(L267*Lookups!$C$102*H267/100)","v":0},0,{"$f":"IF(ROUND(10.499-(((O267-VLOOKUP($A267,Lookups!$A$55:$D$64,3))/(VLOOKUP($A267,Lookups!$A$55:$D$64,4))*VLOOKUP($A267,Lookups!$C$2:$D$11,2))),0)<1,1,IF(ROUND(10.499-(((O267-VLOOKUP($A267,Lookups!$A$55:$D$64,3))/(VLOOKUP($A267,Lookups!$A$55:$D$64,4))*VLOOKUP($A267,Lookups!$C$2:$D$11,2))),0)<11,ROUND(10.499-(((O267-VLOOKUP($A267,Lookups!$A$55:$D$64,3))/(VLOOKUP($A267,Lookups!$A$55:$D$64,4))*VLOOKUP($A267,Lookups!$C$2:$D$11,2))),0),10))","v":7},null,{"$f":"VLOOKUP(A267,Lookups!$A$126:$C$135,3)","v":2},{"$f":"VLOOKUP(A267,Lookups!$A$126:$C$135,2)","v":"Food"},"No",0,{"$f":"IF($R267<>3,VLOOKUP($D267,'Points Table A'!$B$3:$F$33,5),VLOOKUP($D267,'Points Table A'!$H$3:$L$33,5))","v":0},{"$f":"IF($R267<>3,VLOOKUP($E267,'Points Table A'!$C$3:$F$33,4),VLOOKUP($E267,'Points Table A'!$I$3:$L$33,4))","v":0},{"$f":"IF($R267<>3,VLOOKUP($F267,'Points Table A'!$D$3:$F$33,3),VLOOKUP($F267,'Points Table A'!$J$3:$L$33,3))","v":0},{"$f":"IF($R267<>3,VLOOKUP($G267,'Points Table A'!$E$3:$F$33,2),VLOOKUP($G267,'Points Table A'!$K$3:$L$33,2))","v":0},0,{"$f":"IF($T267=Lookups!$B$113,VLOOKUP($J267,'Points Table C'!$A$3:$F$11,5),VLOOKUP($U267,'Points Table C'!$B$3:$F$11,4))","v":0},{"$f":"IF($R267=1,0,VLOOKUP($N267,'Points Table C'!$C$3:$E$18,3))","v":0},{"$f":"VLOOKUP($I267,'Points Table C'!$D$3:$E$18,2)","v":0},{"$f":"IF($Z267<Lookups!$C$106,(AA267+AB267+AC267),IF(AA267>=Lookups!$C$120,(AA267+AB267+AC267),AA267+AB267))","v":0}]
["Non-core foods","Enter a food name here","Company name",0,0,0,0,0,0,0,0,0,{"$f":"IF((SUM(D268:L268)=0),\"J\",VLOOKUP(P268,Lookups!$A$1:$B$11,2))","v":"J"},{"$f":"H268+(L268*Lookups!$C$102*H268/100)","v":0},0,{"$f":"IF(ROUND(10.499-(((O268-VLOOKUP($A268,Lookups!$A$55:$D$64,3))/(VLOOKUP($A268,Lookups!$A$55:$D$64,4))*VLOOKUP($A268,Lookups!$C$2:$D$11,2))),0)<1,1,IF(ROUND(10.499-(((O268-VLOOKUP($A268,Lookups!$A$55:$D$64,3))/(VLOOKUP($A268,Lookups!$A$55:$D$64,4))*VLOOKUP($A268,Lookups!$C$2:$D$11,2))),0)<11,ROUND(10.499-(((O268-VLOOKUP($A268,Lookups!$A$55:$D$64,3))/(VLOOKUP($A268,Lookups!$A$55:$D$64,4))*VLOOKUP($A268,Lookups!$C$2:$D$11,2))),0),10))","v":7},null,{"$f":"VLOOKUP(A268,Lookups!$A$126:$C$135,3)","v":2},{"$f":"VLOOKUP(A268,Lookups!$A$126:$C$135,2)","v":"Food"},"No",0,{"$f":"IF($R268<>3,VLOOKUP($D268,'Points Table A'!$B$3:$F$33,5),VLOOKUP($D268,'Points Table A'!$H$3:$L$33,5))","v":0},{"$f":"IF($R268<>3,VLOOKUP($E268,'Points Table A'!$C$3:$F$33,4),VLOOKUP($E268,'Points Table A'!$I$3:$L$33,4))","v":0},{"$f":"IF($R268<>3,VLOOKUP($F268,'Points Table A'!$D$3:$F$33,3),VLOOKUP($F268,'Points Table A'!$J$3:$L$33,3))","v":0},{"$f":"IF($R268<>3,VLOOKUP($G268,'Points Table A'!$E$3:$F$33,2),VLOOKUP($G268,'Points Table A'!$K$3:$L$33,2))","v":0},0,{"$f":"IF($T268=Lookups!$B$113,VLOOKUP($J268,'Points Table C'!$A$3:$F$11,5),VLOOKUP($U268,'Points Table C'!$B$3:$F$11,4))","v":0},{"$f":"IF($R268=1,0,VLOOKUP($N268,'Points Table C'!$C$3:$E$18,3))","v":0},{"$f":"VLOOKUP($I268,'Points Table C'!$D$3:$E$18,2)","v":0},{"$f":"IF($Z268<Lookups!$C$106,(AA268+AB268+AC268),IF(AA268>=Lookups!$C$120,(AA268+AB268+AC268),AA268+AB268))","v":0}]
["Non-core foods","Enter a food name here","Company name",0,0,0,0,0,0,0,0,0,{"$f":"IF((SUM(D269:L269)=0),\"J\",VLOOKUP(P269,Lookups!$A$1:$B$11,2))","v":"J"},{"$f":"H269+(L269*Lookups!$C$102*H269/100)","v":0},0,{"$f":"IF(ROUND(10.499-(((O269-VLOOKUP($A269,Lookups!$A$55:$D$64,3))/(VLOOKUP($A269,Lookups!$A$55:$D$64,4))*VLOOKUP($A269,Lookups!$C$2:$D$11,2))),0)<1,1,IF(ROUND(10.499-(((O269-VLOOKUP($A269,Lookups!$A$55:$D$64,3))/(VLOOKUP($A269,Lookups!$A$55:$D$64,4))*VLOOKUP($A269,Lookups!$C$2:$D$11,2))),0)<11,ROUND(10.499-(((O269-VLOOKUP($A269,Lookups!$A$55:$D$64,3))/(VLOOKUP($A269,Lookups!$A$55:$D$64,4))*VLOOKUP($A269,Lookups!$C$2:$D$11,2))),0),10))","v":7},null,{"$f":"VLOOKUP(A269,Lookups!$A$126:$C$135,3)","v":2},{"$f":"VLOOKUP(A269,Lookups!$A$126:$C$135,2)","v":"Food"},"No",0,{"$f":"IF($R269<>3,VLOOKUP($D269,'Points Table A'!$B$3:$F$33,5),VLOOKUP($D269,'Points Table A'!$H$3:$L$33,5))","v":0},{"$f":"IF($R269<>3,VLOOKUP($E269,'Points Table A'!$C$3:$F$33,4),VLOOKUP($E269,'Points Table A'!$I$3:$L$33,4))","v":0},{"$f":"IF($R269<>3,VLOOKUP($F269,'Points Table A'!$D$3:$F$33,3),VLOOKUP($F269,'Points Table A'!$J$3:$L$33,3))","v":0},{"$f":"IF($R269<>3,VLOOKUP($G269,'Points Table A'!$E$3:$F$33,2),VLOOKUP($G269,'Points Table A'!$K$3:$L$33,2))","v":0},0,{"$f":"IF($T269=Lookups!$B$113,VLOOKUP($J269,'Points Table C'!$A$3:$F$11,5),VLOOKUP($U269,'Points Table C'!$B$3:$F$11,4))","v":0},{"$f":"IF($R269=1,0,VLOOKUP($N269,'Points Table C'!$C$3:$E$18,3))","v":0},{"$f":"VLOOKUP($I269,'Points Table C'!$D$3:$E$18,2)","v":0},{"$f":"IF($Z269<Lookups!$C$106,(AA269+AB269+AC269),IF(AA269>=Lookups!$C$120,(AA269+AB269+AC269),AA269+AB269))","v":0}]
["Non-core foods","Enter a food name here","Company name",0,0,0,0,0,0,0,0,0,{"$f":"IF((SUM(D270:L270)=0),\"J\",VLOOKUP(P270,Lookups!$A$1:$B$11,2))","v":"J"},{"$f":"H270+(L270*Lookups!$C$102*H270/100)","v":0},0,{"$f":"IF(ROUND(10.499-(((O270-VLOOKUP($A270,Lookups!$A$55:$D$64,3))/(VLOOKUP($A270,Lookups!$A$55:$D$64,4))*VLOOKUP($A270,Lookups!$C$2:$D$11,2))),0)<1,1,IF(ROUND(10.499-(((O270-VLOOKUP($A270,Lookups!$A$55:$D$64,3))/(VLOOKUP($A270,Lookups!$A$55:$D$64,4))*VLOOKUP($A270,Lookups!$C$2:$D$11,2))),0)<11,ROUND(10.499-(((O270-VLOOKUP($A270,Lookups!$A$55:$D$64,3))/(VLOOKUP($A270,Lookups!$A$55:$D$64,4))*VLOOKUP($A270,Lookups!$C$2:$D$11,2))),0),10))","v":7},null,{"$f":"VLOOKUP(A270,Lookups!$A$126:$C$135,3)","v":2},{"$f":"VLOOKUP(A270,Lookups!$A$126:$C$135,2)","v":"Food"},"No",0,{"$f":"IF($R270<>3,VLOOKUP($D270,'Points Table A'!$B$3:$F$33,5),VLOOKUP($D270,'Points Table A'!$H$3:$L$33,5))","v":0},{"$f":"IF($R270<>3,VLOOKUP($E270,'Points Table A'!$C$3:$F$33,4),VLOOKUP($E270,'Points Table A'!$I$3:$L$33,4))","v":0},{"$f":"IF($R270<>3,VLOOKUP($F270,'Points Table A'!$D$3:$F$33,3),VLOOKUP($F270,'Points Table A'!$J$3:$L$33,3))","v":0},{"$f":"IF($R270<>3,VLOOKUP($G270,'Points Table A'!$E$3:$F$33,2),VLOOKUP($G270,'Points Table A'!$K$3:$L$33,2))","v":0},0,{"$f":"IF($T270=Lookups!$B$113,VLOOKUP($J270,'Points Table C'!$A$3:$F$11,5),VLOOKUP($U270,'Points Table C'!$B$3:$F$11,4))","v":0},{"$f":"IF($R270=1,0,VLOOKUP($N270,'Points Table C'!$C$3:$E$18,3))","v":0},{"$f":"VLOOKUP($I270,'Points Table C'!$D$3:$E$18,2)","v":0},{"$f":"IF($Z270<Lookups!$C$106,(AA270+AB270+AC270),IF(AA270>=Lookups!$C$120,(AA270+AB270+AC270),AA270+AB270))","v":0}]
["Non-core foods","Enter a food name here","Company name",0,0,0,0,0,0,0,0,0,{"$f":"IF((SUM(D271:L271)=0),\"J\",VLOOKUP(P271,Lookups!$A$1:$B$11,2))","v":"J"},{"$f":"H271+(L271*Lookups!$C$102*H271/100)","v":0},0,{"$f":"IF(ROUND(10.499-(((O271-VLOOKUP($A271,Lookups!$A$55:$D$64,3))/(VLOOKUP($A271,Lookups!$A$55:$D$64,4))*VLOOKUP($A271,Lookups!$C$2:$D$11,2))),0)<1,1,IF(ROUND(10.499-(((O271-VLOOKUP($A271,Lookups!$A$55:$D$64,3))/(VLOOKUP($A271,Lookups!$A$55:$D$64,4))*VLOOKUP($A271,Lookups!$C$2:$D$11,2))),0)<11,ROUND(10.499-(((O271-VLOOKUP($A271,Lookups!$A$55:$D$64,3))/(VLOOKUP($A271,Lookups!$A$55:$D$64,4))*VLOOKUP($A271,Lookups!$C$2:$D$11,2))),0),10))","v":7},null,{"$f":"VLOOKUP(A271,Lookups!$A$126:$C$135,3)","v":2},{"$f":"VLOOKUP(A271,Lookups!$A$126:$C$135,2)","v":"Food"},"No",0,{"$f":"IF($R271<>3,VLOOKUP($D271,'Points Table A'!$B$3:$F$33,5),VLOOKUP($D271,'Points Table A'!$H$3:$L$33,5))","v":0},{"$f":"IF($R271<>3,VLOOKUP($E271,'Points Table A'!$C$3:$F$33,4),VLOOKUP($E271,'Points Table A'!$I$3:$L$33,4))","v":0},{"$f":"IF($R271<>3,VLOOKUP($F271,'Points Table A'!$D$3:$F$33,3),VLOOKUP($F271,'Points Table A'!$J$3:$L$33,3))","v":0},{"$f":"IF($R271<>3,VLOOKUP($G271,'Points Table A'!$E$3:$F$33,2),VLOOKUP($G271,'Points Table A'!$K$3:$L$33,2))","v":0},0,{"$f":"IF($T271=Lookups!$B$113,VLOOKUP($J271,'Points Table C'!$A$3:$F$11,5),VLOOKUP($U271,'Points Table C'!$B$3:$F$11,4))","v":0},{"$f":"IF($R271=1,0,VLOOKUP($N271,'Points Table C'!$C$3:$E$18,3))","v":0},{"$f":"VLOOKUP($I271,'Points Table C'!$D$3:$E$18,2)","v":0},{"$f":"IF($Z271<Lookups!$C$106,(AA271+AB271+AC271),IF(AA271>=Lookups!$C$120,(AA271+AB271+AC271),AA271+AB271))","v":0}]
["Non-core foods","Enter a food name here","Company name",0,0,0,0,0,0,0,0,0,{"$f":"IF((SUM(D272:L272)=0),\"J\",VLOOKUP(P272,Lookups!$A$1:$B$11,2))","v":"J"},{"$f":"H272+(L272*Lookups!$C$102*H272/100)","v":0},0,{"$f":"IF(ROUND(10.499-(((O272-VLOOKUP($A272,Lookups!$A$55:$D$64,3))/(VLOOKUP($A272,Lookups!$A$55:$D$64,4))*VLOOKUP($A272,Lookups!$C$2:$D$11,2))),0)<1,1,IF(ROUND(10.499-(((O272-VLOOKUP($A272,Lookups!$A$55:$D$64,3))/(VLOOKUP($A272,Lookups!$A$55:$D$64,4))*VLOOKUP($A272,Lookups!$C$2:$D$11,2))),0)<11,ROUND(10.499-(((O272-VLOOKUP($A272,Lookups!$A$55:$D$64,3))/(VLOOKUP($A272,Lookups!$A$55:$D$64,4))*VLOOKUP($A272,Lookups!$C$2:$D$11,2))),0),10))","v":7},null,{"$f":"VLOOKUP(A272,Lookups!$A$126:$C$135,3)","v":2},{"$f":"VLOOKUP(A272,Lookups!$A$126:$C$135,2)","v":"Food"},"No",0,{"$f":"IF($R272<>3,VLOOKUP($D272,'Points Table A'!$B$3:$F$33,5),VLOOKUP($D272,'Points Table A'!$H$3:$L$33,5))","v":0},{"$f":"IF($R272<>3,VLOOKUP($E272,'Points Table A'!$C$3:$F$33,4),VLOOKUP($E272,'Points Table A'!$I$3:$L$33,4))","v":0},{"$f":"IF($R272<>3,VLOOKUP($F272,'Points Table A'!$D$3:$F$33,3),VLOOKUP($F272,'Points Table A'!$J$3:$L$33,3))","v":0},{"$f":"IF($R272<>3,VLOOKUP($G272,'Points Table A'!$E$3:$F$33,2),VLOOKUP($G272,'Points Table A'!$K$3:$L$33,2))","v":0},0,{"$f":"IF($T272=Lookups!$B$113,VLOOKUP($J272,'Points Table C'!$A$3:$F$11,5),VLOOKUP($U272,'Points Table C'!$B$3:$F$11,4))","v":0},{"$f":"IF($R272=1,0,VLOOKUP($N272,'Points Table C'!$C$3:$E$18,3))","v":0},{"$f":"VLOOKUP($I272,'Points Table C'!$D$3:$E$18,2)","v":0},{"$f":"IF($Z272<Lookups!$C$106,(AA272+AB272+AC272),IF(AA272>=Lookups!$C$120,(AA272+AB272+AC272),AA272+AB272))","v":0}]
["Non-core foods","Enter a food name here","Company name",0,0,0,0,0,0,0,0,0,{"$f":"IF((SUM(D273:L273)=0),\"J\",VLOOKUP(P273,Lookups!$A$1:$B$11,2))","v":"J"},{"$f":"H273+(L273*Lookups!$C$102*H273/100)","v":0},0,{"$f":"IF(ROUND(10.499-(((O273-VLOOKUP($A273,Lookups!$A$55:$D$64,3))/(VLOOKUP($A273,Lookups!$A$55:$D$64,4))*VLOOKUP($A273,Lookups!$C$2:$D$11,2))),0)<1,1,IF(ROUND(10.499-(((O273-VLOOKUP($A273,Lookups!$A$55:$D$64,3))/(VLOOKUP($A273,Lookups!$A$55:$D$64,4))*VLOOKUP($A273,Lookups!$C$2:$D$11,2))),0)<11,ROUND(10.499-(((O273-VLOOKUP($A273,Lookups!$A$55:$D$64,3))/(VLOOKUP($A273,Lookups!$A$55:$D$64,4))*VLOOKUP($A273,Lookups!$C$2:$D$11,2))),0),10))","v":7},null,{"$f":"VLOOKUP(A273,Lookups!$A$126:$C$135,3)","v":2},{"$f":"VLOOKUP(A273,Lookups!$A$126:$C$135,2)","v":"Food"},"No",0,{"$f":"IF($R273<>3,VLOOKUP($D273,'Points Table A'!$B$3:$F$33,5),VLOOKUP($D273,'Points Table A'!$H$3:$L$33,5))","v":0},{"$f":"IF($R273<>3,VLOOKUP($E273,'Points Table A'!$C$3:$F$33,4),VLOOKUP($E273,'Points Table A'!$I$3:$L$33,4))","v":0},{"$f":"IF($R273<>3,VLOOKUP($F273,'Points Table A'!$D$3:$F$33,3),VLOOKUP($F273,'Points Table A'!$J$3:$L$33,3))","v":0},{"$f":"IF($R273<>3,VLOOKUP($G273,'Points Table A'!$E$3:$F$33,2),VLOOKUP($G273,'Points Table A'!$K$3:$L$33,2))","v":0},0,{"$f":"IF($T273=Lookups!$B$113,VLOOKUP($J273,'Points Table C'!$A$3:$F$11,5),VLOOKUP($U273,'Points Table C'!$B$3:$F$11,4))","v":0},{"$f":"IF($R273=1,0,VLOOKUP($N273,'Points Table C'!$C$3:$E$18,3))","v":0},{"$f":"VLOOKUP($I273,'Points Table C'!$D$3:$E$18,2)","v":0},{"$f":"IF($Z273<Lookups!$C$106,(AA273+AB273+AC273),IF(AA273>=Lookups!$C$120,(AA273+AB273+AC273),AA273+AB273))","v":0}]
["Non-core foods","Enter a food name here","Company name",0,0,0,0,0,0,0,0,0,{"$f":"IF((SUM(D274:L274)=0),\"J\",VLOOKUP(P274,Lookups!$A$1:$B$11,2))","v":"J"},{"$f":"H274+(L274*Lookups!$C$102*H274/100)","v":0},0,{"$f":"IF(ROUND(10.499-(((O274-VLOOKUP($A274,Lookups!$A$55:$D$64,3))/(VLOOKUP($A274,Lookups!$A$55:$D$64,4))*VLOOKUP($A274,Lookups!$C$2:$D$11,2))),0)<1,1,IF(ROUND(10.499-(((O274-VLOOKUP($A274,Lookups!$A$55:$D$64,3))/(VLOOKUP($A274,Lookups!$A$55:$D$64,4))*VLOOKUP($A274,Lookups!$C$2:$D$11,2))),0)<11,ROUND(10.499-(((O274-VLOOKUP($A274,Lookups!$A$55:$D$64,3))/(VLOOKUP($A274,Lookups!$A$55:$D$64,4))*VLOOKUP($A274,Lookups!$C$2:$D$11,2))),0),10))","v":7},null,{"$f":"VLOOKUP(A274,Lookups!$A$126:$C$135,3)","v":2},{"$f":"VLOOKUP(A274,Lookups!$A$126:$C$135,2)","v":"Food"},"No",0,{"$f":"IF($R274<>3,VLOOKUP($D274,'Points Table A'!$B$3:$F$33,5),VLOOKUP($D274,'Points Table A'!$H$3:$L$33,5))","v":0},{"$f":"IF($R274<>3,VLOOKUP($E274,'Points Table A'!$C$3:$F$33,4),VLOOKUP($E274,'Points Table A'!$I$3:$L$33,4))","v":0},{"$f":"IF($R274<>3,VLOOKUP($F274,'Points Table A'!$D$3:$F$33,3),VLOOKUP($F274,'Points Table A'!$J$3:$L$33,3))","v":0},{"$f":"IF($R274<>3,VLOOKUP($G274,'Points Table A'!$E$3:$F$33,2),VLOOKUP($G274,'Points Table A'!$K$3:$L$33,2))","v":0},0,{"$f":"IF($T274=Lookups!$B$113,VLOOKUP($J274,'Points Table C'!$A$3:$F$11,5),VLOOKUP($U274,'Points Table C'!$B$3:$F$11,4))","v":0},{"$f":"IF($R274=1,0,VLOOKUP($N274,'Points Table C'!$C$3:$E$18,3))","v":0},{"$f":"VLOOKUP($I274,'Points Table C'!$D$3:$E$18,2)","v":0},{"$f":"IF($Z274<Lookups!$C$106,(AA274+AB274+AC274),IF(AA274>=Lookups!$C$120,(AA274+AB274+AC274),AA274+AB274))","v":0}]
["Non-core foods","Enter a food name here","Company name",0,0,0,0,0,0,0,0,0,{"$f":"IF((SUM(D275:L275)=0),\"J\",VLOOKUP(P275,Lookups!$A$1:$B$11,2))","v":"J"},{"$f":"H275+(L275*Lookups!$C$102*H275/100)","v":0},0,{"$f":"IF(ROUND(10.499-(((O275-VLOOKUP($A275,Lookups!$A$55:$D$64,3))/(VLOOKUP($A275,Lookups!$A$55:$D$64,4))*VLOOKUP($A275,Lookups!$C$2:$D$11,2))),0)<1,1,IF(ROUND(10.499-(((O275-VLOOKUP($A275,Lookups!$A$55:$D$64,3))/(VLOOKUP($A275,Lookups!$A$55:$D$64,4))*VLOOKUP($A275,Lookups!$C$2:$D$11,2))),0)<11,ROUND(10.499-(((O275-VLOOKUP($A275,Lookups!$A$55:$D$64,3))/(VLOOKUP($A275,Lookups!$A$55:$D$64,4))*VLOOKUP($A275,Lookups!$C$2:$D$11,2))),0),10))","v":7},null,{"$f":"VLOOKUP(A275,Lookups!$A$126:$C$135,3)","v":2},{"$f":"VLOOKUP(A275,Lookups!$A$126:$C$135,2)","v":"Food"},"No",0,{"$f":"IF($R275<>3,VLOOKUP($D275,'Points Table A'!$B$3:$F$33,5),VLOOKUP($D275,'Points Table A'!$H$3:$L$33,5))","v":0},{"$f":"IF($R275<>3,VLOOKUP($E275,'Points Table A'!$C$3:$F$33,4),VLOOKUP($E275,'Points Table A'!$I$3:$L$33,4))","v":0},{"$f":"IF($R275<>3,VLOOKUP($F275,'Points Table A'!$D$3:$F$33,3),VLOOKUP($F275,'Points Table A'!$J$3:$L$33,3))","v":0},{"$f":"IF($R275<>3,VLOOKUP($G275,'Points Table A'!$E$3:$F$33,2),VLOOKUP($G275,'Points Table A'!$K$3:$L$33,2))","v":0},0,{"$f":"IF($T275=Lookups!$B$113,VLOOKUP($J275,'Points Table C'!$A$3:$F$11,5),VLOOKUP($U275,'Points Table C'!$B$3:$F$11,4))","v":0},{"$f":"IF($R275=1,0,VLOOKUP($N275,'Points Table C'!$C$3:$E$18,3))","v":0},{"$f":"VLOOKUP($I275,'Points Table C'!$D$3:$E$18,2)","v":0},{"$f":"IF($Z275<Lookups!$C$106,(AA275+AB275+AC275),IF(AA275>=Lookups!$C$120,(AA275+AB275+AC275),AA275+AB275))","v":0}]
["Non-core foods","Enter a food name here","Company name",0,0,0,0,0,0,0,0,0,{"$f":"IF((SUM(D276:L276)=0),\"J\",VLOOKUP(P276,Lookups!$A$1:$B$11,2))","v":"J"},{"$f":"H276+(L276*Lookups!$C$102*H276/100)","v":0},0,{"$f":"IF(ROUND(10.499-(((O276-VLOOKUP($A276,Lookups!$A$55:$D$64,3))/(VLOOKUP($A276,Lookups!$A$55:$D$64,4))*VLOOKUP($A276,Lookups!$C$2:$D$11,2))),0)<1,1,IF(ROUND(10.499-(((O276-VLOOKUP($A276,Lookups!$A$55:$D$64,3))/(VLOOKUP($A276,Lookups!$A$55:$D$64,4))*VLOOKUP($A276,Lookups!$C$2:$D$11,2))),0)<11,ROUND(10.499-(((O276-VLOOKUP($A276,Lookups!$A$55:$D$64,3))/(VLOOKUP($A276,Lookups!$A$55:$D$64,4))*VLOOKUP($A276,Lookups!$C$2:$D$11,2))),0),10))","v":7},null,{"$f":"VLOOKUP(A276,Lookups!$A$126:$C$135,3)","v":2},{"$f":"VLOOKUP(A276,Lookups!$A$126:$C$135,2)","v":"Food"},"No",0,{"$f":"IF($R276<>3,VLOOKUP($D276,'Points Table A'!$B$3:$F$33,5),VLOOKUP($D276,'Points Table A'!$H$3:$L$33,5))","v":0},{"$f":"IF($R276<>3,VLOOKUP($E276,'Points Table A'!$C$3:$F$33,4),VLOOKUP($E276,'Points Table A'!$I$3:$L$33,4))","v":0},{"$f":"IF($R276<>3,VLOOKUP($F276,'Points Table A'!$D$3:$F$33,3),VLOOKUP($F276,'Points Table A'!$J$3:$L$33,3))","v":0},{"$f":"IF($R276<>3,VLOOKUP($G276,'Points Table A'!$E$3:$F$33,2),VLOOKUP($G276,'Points Table A'!$K$3:$L$33,2))","v":0},0,{"$f":"IF($T276=Lookups!$B$113,VLOOKUP($J276,'Points Table C'!$A$3:$F$11,5),VLOOKUP($U276,'Points Table C'!$B$3:$F$11,4))","v":0},{"$f":"IF($R276=1,0,VLOOKUP($N276,'Points Table C'!$C$3:$E$18,3))","v":0},{"$f":"VLOOKUP($I276,'Points Table C'!$D$3:$E$18,2)","v":0},{"$f":"IF($Z276<Lookups!$C$106,(AA276+AB276+AC276),IF(AA276>=Lookups!$C$120,(AA276+AB276+AC276),AA276+AB276))","v":0}]
["Non-core foods","Enter a food name here","Company name",0,0,0,0,0,0,0,0,0,{"$f":"IF((SUM(D277:L277)=0),\"J\",VLOOKUP(P277,Lookups!$A$1:$B$11,2))","v":"J"},{"$f":"H277+(L277*Lookups!$C$102*H277/100)","v":0},0,{"$f":"IF(ROUND(10.499-(((O277-VLOOKUP($A277,Lookups!$A$55:$D$64,3))/(VLOOKUP($A277,Lookups!$A$55:$D$64,4))*VLOOKUP($A277,Lookups!$C$2:$D$11,2))),0)<1,1,IF(ROUND(10.499-(((O277-VLOOKUP($A277,Lookups!$A$55:$D$64,3))/(VLOOKUP($A277,Lookups!$A$55:$D$64,4))*VLOOKUP($A277,Lookups!$C$2:$D$11,2))),0)<11,ROUND(10.499-(((O277-VLOOKUP($A277,Lookups!$A$55:$D$64,3))/(VLOOKUP($A277,Lookups!$A$55:$D$64,4))*VLOOKUP($A277,Lookups!$C$2:$D$11,2))),0),10))","v":7},null,{"$f":"VLOOKUP(A277,Lookups!$A$126:$C$135,3)","v":2},{"$f":"VLOOKUP(A277,Lookups!$A$126:$C$135,2)","v":"Food"},"No",0,{"$f":"IF($R277<>3,VLOOKUP($D277,'Points Table A'!$B$3:$F$33,5),VLOOKUP($D277,'Points Table A'!$H$3:$L$33,5))","v":0},{"$f":"IF($R277<>3,VLOOKUP($E277,'Points Table A'!$C$3:$F$33,4),VLOOKUP($E277,'Points Table A'!$I$3:$L$33,4))","v":0},{"$f":"IF($R277<>3,VLOOKUP($F277,'Points Table A'!$D$3:$F$33,3),VLOOKUP($F277,'Points Table A'!$J$3:$L$33,3))","v":0},{"$f":"IF($R277<>3,VLOOKUP($G277,'Points Table A'!$E$3:$F$33,2),VLOOKUP($G277,'Points Table A'!$K$3:$L$33,2))","v":0},0,{"$f":"IF($T277=Lookups!$B$113,VLOOKUP($J277,'Points Table C'!$A$3:$F$11,5),VLOOKUP($U277,'Points Table C'!$B$3:$F$11,4))","v":0},{"$f":"IF($R277=1,0,VLOOKUP($N277,'Points Table C'!$C$3:$E$18,3))","v":0},{"$f":"VLOOKUP($I277,'Points Table C'!$D$3:$E$18,2)","v":0},{"$f":"IF($Z277<Lookups!$C$106,(AA277+AB277+AC277),IF(AA277>=Lookups!$C$120,(AA277+AB277+AC277),AA277+AB277))","v":0}]
["Non-core foods","Enter a food name here","Company name",0,0,0,0,0,0,0,0,0,{"$f":"IF((SUM(D278:L278)=0),\"J\",VLOOKUP(P278,Lookups!$A$1:$B$11,2))","v":"J"},{"$f":"H278+(L278*Lookups!$C$102*H278/100)","v":0},0,{"$f":"IF(ROUND(10.499-(((O278-VLOOKUP($A278,Lookups!$A$55:$D$64,3))/(VLOOKUP($A278,Lookups!$A$55:$D$64,4))*VLOOKUP($A278,Lookups!$C$2:$D$11,2))),0)<1,1,IF(ROUND(10.499-(((O278-VLOOKUP($A278,Lookups!$A$55:$D$64,3))/(VLOOKUP($A278,Lookups!$A$55:$D$64,4))*VLOOKUP($A278,Lookups!$C$2:$D$11,2))),0)<11,ROUND(10.499-(((O278-VLOOKUP($A278,Lookups!$A$55:$D$64,3))/(VLOOKUP($A278,Lookups!$A$55:$D$64,4))*VLOOKUP($A278,Lookups!$C$2:$D$11,2))),0),10))","v":7},null,{"$f":"VLOOKUP(A278,Lookups!$A$126:$C$135,3)","v":2},{"$f":"VLOOKUP(A278,Lookups!$A$126:$C$135,2)","v":"Food"},"No",0,{"$f":"IF($R278<>3,VLOOKUP($D278,'Points Table A'!$B$3:$F$33,5),VLOOKUP($D278,'Points Table A'!$H$3:$L$33,5))","v":0},{"$f":"IF($R278<>3,VLOOKUP($E278,'Points Table A'!$C$3:$F$33,4),VLOOKUP($E278,'Points Table A'!$I$3:$L$33,4))","v":0},{"$f":"IF($R278<>3,VLOOKUP($F278,'Points Table A'!$D$3:$F$33,3),VLOOKUP($F278,'Points Table A'!$J$3:$L$33,3))","v":0},{"$f":"IF($R278<>3,VLOOKUP($G278,'Points Table A'!$E$3:$F$33,2),VLOOKUP($G278,'Points Table A'!$K$3:$L$33,2))","v":0},0,{"$f":"IF($T278=Lookups!$B$113,VLOOKUP($J278,'Points Table C'!$A$3:$F$11,5),VLOOKUP($U278,'Points Table C'!$B$3:$F$11,4))","v":0},{"$f":"IF($R278=1,0,VLOOKUP($N278,'Points Table C'!$C$3:$E$18,3))","v":0},{"$f":"VLOOKUP($I278,'Points Table C'!$D$3:$E$18,2)","v":0},{"$f":"IF($Z278<Lookups!$C$106,(AA278+AB278+AC278),IF(AA278>=Lookups!$C$120,(AA278+AB278+AC278),AA278+AB278))","v":0}]
["Non-core foods","Enter a food name here","Company name",0,0,0,0,0,0,0,0,0,{"$f":"IF((SUM(D279:L279)=0),\"J\",VLOOKUP(P279,Lookups!$A$1:$B$11,2))","v":"J"},{"$f":"H279+(L279*Lookups!$C$102*H279/100)","v":0},0,{"$f":"IF(ROUND(10.499-(((O279-VLOOKUP($A279,Lookups!$A$55:$D$64,3))/(VLOOKUP($A279,Lookups!$A$55:$D$64,4))*VLOOKUP($A279,Lookups!$C$2:$D$11,2))),0)<1,1,IF(ROUND(10.499-(((O279-VLOOKUP($A279,Lookups!$A$55:$D$64,3))/(VLOOKUP($A279,Lookups!$A$55:$D$64,4))*VLOOKUP($A279,Lookups!$C$2:$D$11,2))),0)<11,ROUND(10.499-(((O279-VLOOKUP($A279,Lookups!$A$55:$D$64,3))/(VLOOKUP($A279,Lookups!$A$55:$D$64,4))*VLOOKUP($A279,Lookups!$C$2:$D$11,2))),0),10))","v":7},null,{"$f":"VLOOKUP(A279,Lookups!$A$126:$C$135,3)","v":2},{"$f":"VLOOKUP(A279,Lookups!$A$126:$C$135,2)","v":"Food"},"No",0,{"$f":"IF($R279<>3,VLOOKUP($D279,'Points Table A'!$B$3:$F$33,5),VLOOKUP($D279,'Points Table A'!$H$3:$L$33,5))","v":0},{"$f":"IF($R279<>3,VLOOKUP($E279,'Points Table A'!$C$3:$F$33,4),VLOOKUP($E279,'Points Table A'!$I$3:$L$33,4))","v":0},{"$f":"IF($R279<>3,VLOOKUP($F279,'Points Table A'!$D$3:$F$33,3),VLOOKUP($F279,'Points Table A'!$J$3:$L$33,3))","v":0},{"$f":"IF($R279<>3,VLOOKUP($G279,'Points Table A'!$E$3:$F$33,2),VLOOKUP($G279,'Points Table A'!$K$3:$L$33,2))","v":0},0,{"$f":"IF($T279=Lookups!$B$113,VLOOKUP($J279,'Points Table C'!$A$3:$F$11,5),VLOOKUP($U279,'Points Table C'!$B$3:$F$11,4))","v":0},{"$f":"IF($R279=1,0,VLOOKUP($N279,'Points Table C'!$C$3:$E$18,3))","v":0},{"$f":"VLOOKUP($I279,'Points Table C'!$D$3:$E$18,2)","v":0},{"$f":"IF($Z279<Lookups!$C$106,(AA279+AB279+AC279),IF(AA279>=Lookups!$C$120,(AA279+AB279+AC279),AA279+AB279))","v":0}]
["Non-core foods","Enter a food name here","Company name",0,0,0,0,0,0,0,0,0,{"$f":"IF((SUM(D280:L280)=0),\"J\",VLOOKUP(P280,Lookups!$A$1:$B$11,2))","v":"J"},{"$f":"H280+(L280*Lookups!$C$102*H280/100)","v":0},0,{"$f":"IF(ROUND(10.499-(((O280-VLOOKUP($A280,Lookups!$A$55:$D$64,3))/(VLOOKUP($A280,Lookups!$A$55:$D$64,4))*VLOOKUP($A280,Lookups!$C$2:$D$11,2))),0)<1,1,IF(ROUND(10.499-(((O280-VLOOKUP($A280,Lookups!$A$55:$D$64,3))/(VLOOKUP($A280,Lookups!$A$55:$D$64,4))*VLOOKUP($A280,Lookups!$C$2:$D$11,2))),0)<11,ROUND(10.499-(((O280-VLOOKUP($A280,Lookups!$A$55:$D$64,3))/(VLOOKUP($A280,Lookups!$A$55:$D$64,4))*VLOOKUP($A280,Lookups!$C$2:$D$11,2))),0),10))","v":7},null,{"$f":"VLOOKUP(A280,Lookups!$A$126:$C$135,3)","v":2},{"$f":"VLOOKUP(A280,Lookups!$A$126:$C$135,2)","v":"Food"},"No",0,{"$f":"IF($R280<>3,VLOOKUP($D280,'Points Table A'!$B$3:$F$33,5),VLOOKUP($D280,'Points Table A'!$H$3:$L$33,5))","v":0},{"$f":"IF($R280<>3,VLOOKUP($E280,'Points Table A'!$C$3:$F$33,4),VLOOKUP($E280,'Points Table A'!$I$3:$L$33,4))","v":0},{"$f":"IF($R280<>3,VLOOKUP($F280,'Points Table A'!$D$3:$F$33,3),VLOOKUP($F280,'Points Table A'!$J$3:$L$33,3))","v":0},{"$f":"IF($R280<>3,VLOOKUP($G280,'Points Table A'!$E$3:$F$33,2),VLOOKUP($G280,'Points Table A'!$K$3:$L$33,2))","v":0},0,{"$f":"IF($T280=Lookups!$B$113,VLOOKUP($J280,'Points Table C'!$A$3:$F$11,5),VLOOKUP($U280,'Points Table C'!$B$3:$F$11,4))","v":0},{"$f":"IF($R280=1,0,VLOOKUP($N280,'Points Table C'!$C$3:$E$18,3))","v":0},{"$f":"VLOOKUP($I280,'Points Table C'!$D$3:$E$18,2)","v":0},{"$f":"IF($Z280<Lookups!$C$106,(AA280+AB280+AC280),IF(AA280>=Lookups!$C$120,(AA280+AB280+AC280),AA280+AB280))","v":0}]
["Non-core foods","Enter a food name here","Company name",0,0,0,0,0,0,0,0,0,{"$f":"IF((SUM(D281:L281)=0),\"J\",VLOOKUP(P281,Lookups!$A$1:$B$11,2))","v":"J"},{"$f":"H281+(L281*Lookups!$C$102*H281/100)","v":0},0,{"$f":"IF(ROUND(10.499-(((O281-VLOOKUP($A281,Lookups!$A$55:$D$64,3))/(VLOOKUP($A281,Lookups!$A$55:$D$64,4))*VLOOKUP($A281,Lookups!$C$2:$D$11,2))),0)<1,1,IF(ROUND(10.499-(((O281-VLOOKUP($A281,Lookups!$A$55:$D$64,3))/(VLOOKUP($A281,Lookups!$A$55:$D$64,4))*VLOOKUP($A281,Lookups!$C$2:$D$11,2))),0)<11,ROUND(10.499-(((O281-VLOOKUP($A281,Lookups!$A$55:$D$64,3))/(VLOOKUP($A281,Lookups!$A$55:$D$64,4))*VLOOKUP($A281,Lookups!$C$2:$D$11,2))),0),10))","v":7},null,{"$f":"VLOOKUP(A281,Lookups!$A$126:$C$135,3)","v":2},{"$f":"VLOOKUP(A281,Lookups!$A$126:$C$135,2)","v":"Food"},"No",0,{"$f":"IF($R281<>3,VLOOKUP($D281,'Points Table A'!$B$3:$F$33,5),VLOOKUP($D281,'Points Table A'!$H$3:$L$33,5))","v":0},{"$f":"IF($R281<>3,VLOOKUP($E281,'Points Table A'!$C$3:$F$33,4),VLOOKUP($E281,'Points Table A'!$I$3:$L$33,4))","v":0},{"$f":"IF($R281<>3,VLOOKUP($F281,'Points Table A'!$D$3:$F$33,3),VLOOKUP($F281,'Points Table A'!$J$3:$L$33,3))","v":0},{"$f":"IF($R281<>3,VLOOKUP($G281,'Points Table A'!$E$3:$F$33,2),VLOOKUP($G281,'Points Table A'!$K$3:$L$33,2))","v":0},0,{"$f":"IF($T281=Lookups!$B$113,VLOOKUP($J281,'Points Table C'!$A$3:$F$11,5),VLOOKUP($U281,'Points Table C'!$B$3:$F$11,4))","v":0},{"$f":"IF($R281=1,0,VLOOKUP($N281,'Points Table C'!$C$3:$E$18,3))","v":0},{"$f":"VLOOKUP($I281,'Points Table C'!$D$3:$E$18,2)","v":0},{"$f":"IF($Z281<Lookups!$C$106,(AA281+AB281+AC281),IF(AA281>=Lookups!$C$120,(AA281+AB281+AC281),AA281+AB281))","v":0}]
["Non-core foods","Enter a food name here","Company name",0,0,0,0,0,0,0,0,0,{"$f":"IF((SUM(D282:L282)=0),\"J\",VLOOKUP(P282,Lookups!$A$1:$B$11,2))","v":"J"},{"$f":"H282+(L282*Lookups!$C$102*H282/100)","v":0},0,{"$f":"IF(ROUND(10.499-(((O282-VLOOKUP($A282,Lookups!$A$55:$D$64,3))/(VLOOKUP($A282,Lookups!$A$55:$D$64,4))*VLOOKUP($A282,Lookups!$C$2:$D$11,2))),0)<1,1,IF(ROUND(10.499-(((O282-VLOOKUP($A282,Lookups!$A$55:$D$64,3))/(VLOOKUP($A282,Lookups!$A$55:$D$64,4))*VLOOKUP($A282,Lookups!$C$2:$D$11,2))),0)<11,ROUND(10.499-(((O282-VLOOKUP($A282,Lookups!$A$55:$D$64,3))/(VLOOKUP($A282,Lookups!$A$55:$D$64,4))*VLOOKUP($A282,Lookups!$C$2:$D$11,2))),0),10))","v":7},null,{"$f":"VLOOKUP(A282,Lookups!$A$126:$C$135,3)","v":2},{"$f":"VLOOKUP(A282,Lookups!$A$126:$C$135,2)","v":"Food"},"No",0,{"$f":"IF($R282<>3,VLOOKUP($D282,'Points Table A'!$B$3:$F$33,5),VLOOKUP($D282,'Points Table A'!$H$3:$L$33,5))","v":0},{"$f":"IF($R282<>3,VLOOKUP($E282,'Points Table A'!$C$3:$F$33,4),VLOOKUP($E282,'Points Table A'!$I$3:$L$33,4))","v":0},{"$f":"IF($R282<>3,VLOOKUP($F282,'Points Table A'!$D$3:$F$33,3),VLOOKUP($F282,'Points Table A'!$J$3:$L$33,3))","v":0},{"$f":"IF($R282<>3,VLOOKUP($G282,'Points Table A'!$E$3:$F$33,2),VLOOKUP($G282,'Points Table A'!$K$3:$L$33,2))","v":0},0,{"$f":"IF($T282=Lookups!$B$113,VLOOKUP($J282,'Points Table C'!$A$3:$F$11,5),VLOOKUP($U282,'Points Table C'!$B$3:$F$11,4))","v":0},{"$f":"IF($R282=1,0,VLOOKUP($N282,'Points Table C'!$C$3:$E$18,3))","v":0},{"$f":"VLOOKUP($I282,'Points Table C'!$D$3:$E$18,2)","v":0},{"$f":"IF($Z282<Lookups!$C$106,(AA282+AB282+AC282),IF(AA282>=Lookups!$C$120,(AA282+AB282+AC282),AA282+AB282))","v":0}]
["Non-core foods","Enter a food name here","Company name",0,0,0,0,0,0,0,0,0,{"$f":"IF((SUM(D283:L283)=0),\"J\",VLOOKUP(P283,Lookups!$A$1:$B$11,2))","v":"J"},{"$f":"H283+(L283*Lookups!$C$102*H283/100)","v":0},0,{"$f":"IF(ROUND(10.499-(((O283-VLOOKUP($A283,Lookups!$A$55:$D$64,3))/(VLOOKUP($A283,Lookups!$A$55:$D$64,4))*VLOOKUP($A283,Lookups!$C$2:$D$11,2))),0)<1,1,IF(ROUND(10.499-(((O283-VLOOKUP($A283,Lookups!$A$55:$D$64,3))/(VLOOKUP($A283,Lookups!$A$55:$D$64,4))*VLOOKUP($A283,Lookups!$C$2:$D$11,2))),0)<11,ROUND(10.499-(((O283-VLOOKUP($A283,Lookups!$A$55:$D$64,3))/(VLOOKUP($A283,Lookups!$A$55:$D$64,4))*VLOOKUP($A283,Lookups!$C$2:$D$11,2))),0),10))","v":7},null,{"$f":"VLOOKUP(A283,Lookups!$A$126:$C$135,3)","v":2},{"$f":"VLOOKUP(A283,Lookups!$A$126:$C$135,2)","v":"Food"},"No",0,{"$f":"IF($R283<>3,VLOOKUP($D283,'Points Table A'!$B$3:$F$33,5),VLOOKUP($D283,'Points Table A'!$H$3:$L$33,5))","v":0},{"$f":"IF($R283<>3,VLOOKUP($E283,'Points Table A'!$C$3:$F$33,4),VLOOKUP($E283,'Points Table A'!$I$3:$L$33,4))","v":0},{"$f":"IF($R283<>3,VLOOKUP($F283,'Points Table A'!$D$3:$F$33,3),VLOOKUP($F283,'Points Table A'!$J$3:$L$33,3))","v":0},{"$f":"IF($R283<>3,VLOOKUP($G283,'Points Table A'!$E$3:$F$33,2),VLOOKUP($G283,'Points Table A'!$K$3:$L$33,2))","v":0},0,{"$f":"IF($T283=Lookups!$B$113,VLOOKUP($J283,'Points Table C'!$A$3:$F$11,5),VLOOKUP($U283,'Points Table C'!$B$3:$F$11,4))","v":0},{"$f":"IF($R283=1,0,VLOOKUP($N283,'Points Table C'!$C$3:$E$18,3))","v":0},{"$f":"VLOOKUP($I283,'Points Table C'!$D$3:$E$18,2)","v":0},{"$f":"IF($Z283<Lookups!$C$106,(AA283+AB283+AC283),IF(AA283>=Lookups!$C$120,(AA283+AB283+AC283),AA283+AB283))","v":0}]
["Non-core foods","Enter a food name here","Company name",0,0,0,0,0,0,0,0,0,{"$f":"IF((SUM(D284:L284)=0),\"J\",VLOOKUP(P284,Lookups!$A$1:$B$11,2))","v":"J"},{"$f":"H284+(L284*Lookups!$C$102*H284/100)","v":0},0,{"$f":"IF(ROUND(10.499-(((O284-VLOOKUP($A284,Lookups!$A$55:$D$64,3))/(VLOOKUP($A284,Lookups!$A$55:$D$64,4))*VLOOKUP($A284,Lookups!$C$2:$D$11,2))),0)<1,1,IF(ROUND(10.499-(((O284-VLOOKUP($A284,Lookups!$A$55:$D$64,3))/(VLOOKUP($A284,Lookups!$A$55:$D$64,4))*VLOOKUP($A284,Lookups!$C$2:$D$11,2))),0)<11,ROUND(10.499-(((O284-VLOOKUP($A284,Lookups!$A$55:$D$64,3))/(VLOOKUP($A284,Lookups!$A$55:$D$64,4))*VLOOKUP($A284,Lookups!$C$2:$D$11,2))),0),10))","v":7},null,{"$f":"VLOOKUP(A284,Lookups!$A$126:$C$135,3)","v":2},{"$f":"VLOOKUP(A284,Lookups!$A$126:$C$135,2)","v":"Food"},"No",0,{"$f":"IF($R284<>3,VLOOKUP($D284,'Points Table A'!$B$3:$F$33,5),VLOOKUP($D284,'Points Table A'!$H$3:$L$33,5))","v":0},{"$f":"IF($R284<>3,VLOOKUP($E284,'Points Table A'!$C$3:$F$33,4),VLOOKUP($E284,'Points Table A'!$I$3:$L$33,4))","v":0},{"$f":"IF($R284<>3,VLOOKUP($F284,'Points Table A'!$D$3:$F$33,3),VLOOKUP($F284,'Points Table A'!$J$3:$L$33,3))","v":0},{"$f":"IF($R284<>3,VLOOKUP($G284,'Points Table A'!$E$3:$F$33,2),VLOOKUP($G284,'Points Table A'!$K$3:$L$33,2))","v":0},0,{"$f":"IF($T284=Lookups!$B$113,VLOOKUP($J284,'Points Table C'!$A$3:$F$11,5),VLOOKUP($U284,'Points Table C'!$B$3:$F$11,4))","v":0},{"$f":"IF($R284=1,0,VLOOKUP($N284,'Points Table C'!$C$3:$E$18,3))","v":0},{"$f":"VLOOKUP($I284,'Points Table C'!$D$3:$E$18,2)","v":0},{"$f":"IF($Z284<Lookups!$C$106,(AA284+AB284+AC284),IF(AA284>=Lookups!$C$120,(AA284+AB284+AC284),AA284+AB284))","v":0}]
["Non-core foods","Enter a food name here","Company name",0,0,0,0,0,0,0,0,0,{"$f":"IF((SUM(D285:L285)=0),\"J\",VLOOKUP(P285,Lookups!$A$1:$B$11,2))","v":"J"},{"$f":"H285+(L285*Lookups!$C$102*H285/100)","v":0},0,{"$f":"IF(ROUND(10.499-(((O285-VLOOKUP($A285,Lookups!$A$55:$D$64,3))/(VLOOKUP($A285,Lookups!$A$55:$D$64,4))*VLOOKUP($A285,Lookups!$C$2:$D$11,2))),0)<1,1,IF(ROUND(10.499-(((O285-VLOOKUP($A285,Lookups!$A$55:$D$64,3))/(VLOOKUP($A285,Lookups!$A$55:$D$64,4))*VLOOKUP($A285,Lookups!$C$2:$D$11,2))),0)<11,ROUND(10.499-(((O285-VLOOKUP($A285,Lookups!$A$55:$D$64,3))/(VLOOKUP($A285,Lookups!$A$55:$D$64,4))*VLOOKUP($A285,Lookups!$C$2:$D$11,2))),0),10))","v":7},null,{"$f":"VLOOKUP(A285,Lookups!$A$126:$C$135,3)","v":2},{"$f":"VLOOKUP(A285,Lookups!$A$126:$C$135,2)","v":"Food"},"No",0,{"$f":"IF($R285<>3,VLOOKUP($D285,'Points Table A'!$B$3:$F$33,5),VLOOKUP($D285,'Points Table A'!$H$3:$L$33,5))","v":0},{"$f":"IF($R285<>3,VLOOKUP($E285,'Points Table A'!$C$3:$F$33,4),VLOOKUP($E285,'Points Table A'!$I$3:$L$33,4))","v":0},{"$f":"IF($R285<>3,VLOOKUP($F285,'Points Table A'!$D$3:$F$33,3),VLOOKUP($F285,'Points Table A'!$J$3:$L$33,3))","v":0},{"$f":"IF($R285<>3,VLOOKUP($G285,'Points Table A'!$E$3:$F$33,2),VLOOKUP($G285,'Points Table A'!$K$3:$L$33,2))","v":0},0,{"$f":"IF($T285=Lookups!$B$113,VLOOKUP($J285,'Points Table C'!$A$3:$F$11,5),VLOOKUP($U285,'Points Table C'!$B$3:$F$11,4))","v":0},{"$f":"IF($R285=1,0,VLOOKUP($N285,'Points Table C'!$C$3:$E$18,3))","v":0},{"$f":"VLOOKUP($I285,'Points Table C'!$D$3:$E$18,2)","v":0},{"$f":"IF($Z285<Lookups!$C$106,(AA285+AB285+AC285),IF(AA285>=Lookups!$C$120,(AA285+AB285+AC285),AA285+AB285))","v":0}]
["Non-core foods","Enter a food name here","Company name",0,0,0,0,0,0,0,0,0,{"$f":"IF((SUM(D286:L286)=0),\"J\",VLOOKUP(P286,Lookups!$A$1:$B$11,2))","v":"J"},{"$f":"H286+(L286*Lookups!$C$102*H286/100)","v":0},0,{"$f":"IF(ROUND(10.499-(((O286-VLOOKUP($A286,Lookups!$A$55:$D$64,3))/(VLOOKUP($A286,Lookups!$A$55:$D$64,4))*VLOOKUP($A286,Lookups!$C$2:$D$11,2))),0)<1,1,IF(ROUND(10.499-(((O286-VLOOKUP($A286,Lookups!$A$55:$D$64,3))/(VLOOKUP($A286,Lookups!$A$55:$D$64,4))*VLOOKUP($A286,Lookups!$C$2:$D$11,2))),0)<11,ROUND(10.499-(((O286-VLOOKUP($A286,Lookups!$A$55:$D$64,3))/(VLOOKUP($A286,Lookups!$A$55:$D$64,4))*VLOOKUP($A286,Lookups!$C$2:$D$11,2))),0),10))","v":7},null,{"$f":"VLOOKUP(A286,Lookups!$A$126:$C$135,3)","v":2},{"$f":"VLOOKUP(A286,Lookups!$A$126:$C$135,2)","v":"Food"},"No",0,{"$f":"IF($R286<>3,VLOOKUP($D286,'Points Table A'!$B$3:$F$33,5),VLOOKUP($D286,'Points Table A'!$H$3:$L$33,5))","v":0},{"$f":"IF($R286<>3,VLOOKUP($E286,'Points Table A'!$C$3:$F$33,4),VLOOKUP($E286,'Points Table A'!$I$3:$L$33,4))","v":0},{"$f":"IF($R286<>3,VLOOKUP($F286,'Points Table A'!$D$3:$F$33,3),VLOOKUP($F286,'Points Table A'!$J$3:$L$33,3))","v":0},{"$f":"IF($R286<>3,VLOOKUP($G286,'Points Table A'!$E$3:$F$33,2),VLOOKUP($G286,'Points Table A'!$K$3:$L$33,2))","v":0},0,{"$f":"IF($T286=Lookups!$B$113,VLOOKUP($J286,'Points Table C'!$A$3:$F$11,5),VLOOKUP($U286,'Points Table C'!$B$3:$F$11,4))","v":0},{"$f":"IF($R286=1,0,VLOOKUP($N286,'Points Table C'!$C$3:$E$18,3))","v":0},{"$f":"VLOOKUP($I286,'Points Table C'!$D$3:$E$18,2)","v":0},{"$f":"IF($Z286<Lookups!$C$106,(AA286+AB286+AC286),IF(AA286>=Lookups!$C$120,(AA286+AB286+AC286),AA286+AB286))","v":0}]
["Non-core foods","Enter a food name here","Company name",0,0,0,0,0,0,0,0,0,{"$f":"IF((SUM(D287:L287)=0),\"J\",VLOOKUP(P287,Lookups!$A$1:$B$11,2))","v":"J"},{"$f":"H287+(L287*Lookups!$C$102*H287/100)","v":0},0,{"$f":"IF(ROUND(10.499-(((O287-VLOOKUP($A287,Lookups!$A$55:$D$64,3))/(VLOOKUP($A287,Lookups!$A$55:$D$64,4))*VLOOKUP($A287,Lookups!$C$2:$D$11,2))),0)<1,1,IF(ROUND(10.499-(((O287-VLOOKUP($A287,Lookups!$A$55:$D$64,3))/(VLOOKUP($A287,Lookups!$A$55:$D$64,4))*VLOOKUP($A287,Lookups!$C$2:$D$11,2))),0)<11,ROUND(10.499-(((O287-VLOOKUP($A287,Lookups!$A$55:$D$64,3))/(VLOOKUP($A287,Lookups!$A$55:$D$64,4))*VLOOKUP($A287,Lookups!$C$2:$D$11,2))),0),10))","v":7},null,{"$f":"VLOOKUP(A287,Lookups!$A$126:$C$135,3)","v":2},{"$f":"VLOOKUP(A287,Lookups!$A$126:$C$135,2)","v":"Food"},"No",0,{"$f":"IF($R287<>3,VLOOKUP($D287,'Points Table A'!$B$3:$F$33,5),VLOOKUP($D287,'Points Table A'!$H$3:$L$33,5))","v":0},{"$f":"IF($R287<>3,VLOOKUP($E287,'Points Table A'!$C$3:$F$33,4),VLOOKUP($E287,'Points Table A'!$I$3:$L$33,4))","v":0},{"$f":"IF($R287<>3,VLOOKUP($F287,'Points Table A'!$D$3:$F$33,3),VLOOKUP($F287,'Points Table A'!$J$3:$L$33,3))","v":0},{"$f":"IF($R287<>3,VLOOKUP($G287,'Points Table A'!$E$3:$F$33,2),VLOOKUP($G287,'Points Table A'!$K$3:$L$33,2))","v":0},0,{"$f":"IF($T287=Lookups!$B$113,VLOOKUP($J287,'Points Table C'!$A$3:$F$11,5),VLOOKUP($U287,'Points Table C'!$B$3:$F$11,4))","v":0},{"$f":"IF($R287=1,0,VLOOKUP($N287,'Points Table C'!$C$3:$E$18,3))","v":0},{"$f":"VLOOKUP($I287,'Points Table C'!$D$3:$E$18,2)","v":0},{"$f":"IF($Z287<Lookups!$C$106,(AA287+AB287+AC287),IF(AA287>=Lookups!$C$120,(AA287+AB287+AC287),AA287+AB287))","v":0}]
["Non-core foods","Enter a food name here","Company name",0,0,0,0,0,0,0,0,0,{"$f":"IF((SUM(D288:L288)=0),\"J\",VLOOKUP(P288,Lookups!$A$1:$B$11,2))","v":"J"},{"$f":"H288+(L288*Lookups!$C$102*H288/100)","v":0},0,{"$f":"IF(ROUND(10.499-(((O288-VLOOKUP($A288,Lookups!$A$55:$D$64,3))/(VLOOKUP($A288,Lookups!$A$55:$D$64,4))*VLOOKUP($A288,Lookups!$C$2:$D$11,2))),0)<1,1,IF(ROUND(10.499-(((O288-VLOOKUP($A288,Lookups!$A$55:$D$64,3))/(VLOOKUP($A288,Lookups!$A$55:$D$64,4))*VLOOKUP($A288,Lookups!$C$2:$D$11,2))),0)<11,ROUND(10.499-(((O288-VLOOKUP($A288,Lookups!$A$55:$D$64,3))/(VLOOKUP($A288,Lookups!$A$55:$D$64,4))*VLOOKUP($A288,Lookups!$C$2:$D$11,2))),0),10))","v":7},null,{"$f":"VLOOKUP(A288,Lookups!$A$126:$C$135,3)","v":2},{"$f":"VLOOKUP(A288,Lookups!$A$126:$C$135,2)","v":"Food"},"No",0,{"$f":"IF($R288<>3,VLOOKUP($D288,'Points Table A'!$B$3:$F$33,5),VLOOKUP($D288,'Points Table A'!$H$3:$L$33,5))","v":0},{"$f":"IF($R288<>3,VLOOKUP($E288,'Points Table A'!$C$3:$F$33,4),VLOOKUP($E288,'Points Table A'!$I$3:$L$33,4))","v":0},{"$f":"IF($R288<>3,VLOOKUP($F288,'Points Table A'!$D$3:$F$33,3),VLOOKUP($F288,'Points Table A'!$J$3:$L$33,3))","v":0},{"$f":"IF($R288<>3,VLOOKUP($G288,'Points Table A'!$E$3:$F$33,2),VLOOKUP($G288,'Points Table A'!$K$3:$L$33,2))","v":0},0,{"$f":"IF($T288=Lookups!$B$113,VLOOKUP($J288,'Points Table C'!$A$3:$F$11,5),VLOOKUP($U288,'Points Table C'!$B$3:$F$11,4))","v":0},{"$f":"IF($R288=1,0,VLOOKUP($N288,'Points Table C'!$C$3:$E$18,3))","v":0},{"$f":"VLOOKUP($I288,'Points Table C'!$D$3:$E$18,2)","v":0},{"$f":"IF($Z288<Lookups!$C$106,(AA288+AB288+AC288),IF(AA288>=Lookups!$C$120,(AA288+AB288+AC288),AA288+AB288))","v":0}]
["Non-core foods","Enter a food name here","Company name",0,0,0,0,0,0,0,0,0,{"$f":"IF((SUM(D289:L289)=0),\"J\",VLOOKUP(P289,Lookups!$A$1:$B$11,2))","v":"J"},{"$f":"H289+(L289*Lookups!$C$102*H289/100)","v":0},0,{"$f":"IF(ROUND(10.499-(((O289-VLOOKUP($A289,Lookups!$A$55:$D$64,3))/(VLOOKUP($A289,Lookups!$A$55:$D$64,4))*VLOOKUP($A289,Lookups!$C$2:$D$11,2))),0)<1,1,IF(ROUND(10.499-(((O289-VLOOKUP($A289,Lookups!$A$55:$D$64,3))/(VLOOKUP($A289,Lookups!$A$55:$D$64,4))*VLOOKUP($A289,Lookups!$C$2:$D$11,2))),0)<11,ROUND(10.499-(((O289-VLOOKUP($A289,Lookups!$A$55:$D$64,3))/(VLOOKUP($A289,Lookups!$A$55:$D$64,4))*VLOOKUP($A289,Lookups!$C$2:$D$11,2))),0),10))","v":7},null,{"$f":"VLOOKUP(A289,Lookups!$A$126:$C$135,3)","v":2},{"$f":"VLOOKUP(A289,Lookups!$A$126:$C$135,2)","v":"Food"},"No",0,{"$f":"IF($R289<>3,VLOOKUP($D289,'Points Table A'!$B$3:$F$33,5),VLOOKUP($D289,'Points Table A'!$H$3:$L$33,5))","v":0},{"$f":"IF($R289<>3,VLOOKUP($E289,'Points Table A'!$C$3:$F$33,4),VLOOKUP($E289,'Points Table A'!$I$3:$L$33,4))","v":0},{"$f":"IF($R289<>3,VLOOKUP($F289,'Points Table A'!$D$3:$F$33,3),VLOOKUP($F289,'Points Table A'!$J$3:$L$33,3))","v":0},{"$f":"IF($R289<>3,VLOOKUP($G289,'Points Table A'!$E$3:$F$33,2),VLOOKUP($G289,'Points Table A'!$K$3:$L$33,2))","v":0},0,{"$f":"IF($T289=Lookups!$B$113,VLOOKUP($J289,'Points Table C'!$A$3:$F$11,5),VLOOKUP($U289,'Points Table C'!$B$3:$F$11,4))","v":0},{"$f":"IF($R289=1,0,VLOOKUP($N289,'Points Table C'!$C$3:$E$18,3))","v":0},{"$f":"VLOOKUP($I289,'Points Table C'!$D$3:$E$18,2)","v":0},{"$f":"IF($Z289<Lookups!$C$106,(AA289+AB289+AC289),IF(AA289>=Lookups!$C$120,(AA289+AB289+AC289),AA289+AB289))","v":0}]
["Non-core foods","Enter a food name here","Company name",0,0,0,0,0,0,0,0,0,{"$f":"IF((SUM(D290:L290)=0),\"J\",VLOOKUP(P290,Lookups!$A$1:$B$11,2))","v":"J"},{"$f":"H290+(L290*Lookups!$C$102*H290/100)","v":0},0,{"$f":"IF(ROUND(10.499-(((O290-VLOOKUP($A290,Lookups!$A$55:$D$64,3))/(VLOOKUP($A290,Lookups!$A$55:$D$64,4))*VLOOKUP($A290,Lookups!$C$2:$D$11,2))),0)<1,1,IF(ROUND(10.499-(((O290-VLOOKUP($A290,Lookups!$A$55:$D$64,3))/(VLOOKUP($A290,Lookups!$A$55:$D$64,4))*VLOOKUP($A290,Lookups!$C$2:$D$11,2))),0)<11,ROUND(10.499-(((O290-VLOOKUP($A290,Lookups!$A$55:$D$64,3))/(VLOOKUP($A290,Lookups!$A$55:$D$64,4))*VLOOKUP($A290,Lookups!$C$2:$D$11,2))),0),10))","v":7},null,{"$f":"VLOOKUP(A290,Lookups!$A$126:$C$135,3)","v":2},{"$f":"VLOOKUP(A290,Lookups!$A$126:$C$135,2)","v":"Food"},"No",0,{"$f":"IF($R290<>3,VLOOKUP($D290,'Points Table A'!$B$3:$F$33,5),VLOOKUP($D290,'Points Table A'!$H$3:$L$33,5))","v":0},{"$f":"IF($R290<>3,VLOOKUP($E290,'Points Table A'!$C$3:$F$33,4),VLOOKUP($E290,'Points Table A'!$I$3:$L$33,4))","v":0},{"$f":"IF($R290<>3,VLOOKUP($F290,'Points Table A'!$D$3:$F$33,3),VLOOKUP($F290,'Points Table A'!$J$3:$L$33,3))","v":0},{"$f":"IF($R290<>3,VLOOKUP($G290,'Points Table A'!$E$3:$F$33,2),VLOOKUP($G290,'Points Table A'!$K$3:$L$33,2))","v":0},0,{"$f":"IF($T290=Lookups!$B$113,VLOOKUP($J290,'Points Table C'!$A$3:$F$11,5),VLOOKUP($U290,'Points Table C'!$B$3:$F$11,4))","v":0},{"$f":"IF($R290=1,0,VLOOKUP($N290,'Points Table C'!$C$3:$E$18,3))","v":0},{"$f":"VLOOKUP($I290,'Points Table C'!$D$3:$E$18,2)","v":0},{"$f":"IF($Z290<Lookups!$C$106,(AA290+AB290+AC290),IF(AA290>=Lookups!$C$120,(AA290+AB290+AC290),AA290+AB290))","v":0}]
["Non-core foods","Enter a food name here","Company name",0,0,0,0,0,0,0,0,0,{"$f":"IF((SUM(D291:L291)=0),\"J\",VLOOKUP(P291,Lookups!$A$1:$B$11,2))","v":"J"},{"$f":"H291+(L291*Lookups!$C$102*H291/100)","v":0},0,{"$f":"IF(ROUND(10.499-(((O291-VLOOKUP($A291,Lookups!$A$55:$D$64,3))/(VLOOKUP($A291,Lookups!$A$55:$D$64,4))*VLOOKUP($A291,Lookups!$C$2:$D$11,2))),0)<1,1,IF(ROUND(10.499-(((O291-VLOOKUP($A291,Lookups!$A$55:$D$64,3))/(VLOOKUP($A291,Lookups!$A$55:$D$64,4))*VLOOKUP($A291,Lookups!$C$2:$D$11,2))),0)<11,ROUND(10.499-(((O291-VLOOKUP($A291,Lookups!$A$55:$D$64,3))/(VLOOKUP($A291,Lookups!$A$55:$D$64,4))*VLOOKUP($A291,Lookups!$C$2:$D$11,2))),0),10))","v":7},null,{"$f":"VLOOKUP(A291,Lookups!$A$126:$C$135,3)","v":2},{"$f":"VLOOKUP(A291,Lookups!$A$126:$C$135,2)","v":"Food"},"No",0,{"$f":"IF($R291<>3,VLOOKUP($D291,'Points Table A'!$B$3:$F$33,5),VLOOKUP($D291,'Points Table A'!$H$3:$L$33,5))","v":0},{"$f":"IF($R291<>3,VLOOKUP($E291,'Points Table A'!$C$3:$F$33,4),VLOOKUP($E291,'Points Table A'!$I$3:$L$33,4))","v":0},{"$f":"IF($R291<>3,VLOOKUP($F291,'Points Table A'!$D$3:$F$33,3),VLOOKUP($F291,'Points Table A'!$J$3:$L$33,3))","v":0},{"$f":"IF($R291<>3,VLOOKUP($G291,'Points Table A'!$E$3:$F$33,2),VLOOKUP($G291,'Points Table A'!$K$3:$L$33,2))","v":0},0,{"$f":"IF($T291=Lookups!$B$113,VLOOKUP($J291,'Points Table C'!$A$3:$F$11,5),VLOOKUP($U291,'Points Table C'!$B$3:$F$11,4))","v":0},{"$f":"IF($R291=1,0,VLOOKUP($N291,'Points Table C'!$C$3:$E$18,3))","v":0},{"$f":"VLOOKUP($I291,'Points Table C'!$D$3:$E$18,2)","v":0},{"$f":"IF($Z291<Lookups!$C$106,(AA291+AB291+AC291),IF(AA291>=Lookups!$C$120,(AA291+AB291+AC291),AA291+AB291))","v":0}]
["Non-core foods","Enter a food name here","Company name",0,0,0,0,0,0,0,0,0,{"$f":"IF((SUM(D292:L292)=0),\"J\",VLOOKUP(P292,Lookups!$A$1:$B$11,2))","v":"J"},{"$f":"H292+(L292*Lookups!$C$102*H292/100)","v":0},0,{"$f":"IF(ROUND(10.499-(((O292-VLOOKUP($A292,Lookups!$A$55:$D$64,3))/(VLOOKUP($A292,Lookups!$A$55:$D$64,4))*VLOOKUP($A292,Lookups!$C$2:$D$11,2))),0)<1,1,IF(ROUND(10.499-(((O292-VLOOKUP($A292,Lookups!$A$55:$D$64,3))/(VLOOKUP($A292,Lookups!$A$55:$D$64,4))*VLOOKUP($A292,Lookups!$C$2:$D$11,2))),0)<11,ROUND(10.499-(((O292-VLOOKUP($A292,Lookups!$A$55:$D$64,3))/(VLOOKUP($A292,Lookups!$A$55:$D$64,4))*VLOOKUP($A292,Lookups!$C$2:$D$11,2))),0),10))","v":7},null,{"$f":"VLOOKUP(A292,Lookups!$A$126:$C$135,3)","v":2},{"$f":"VLOOKUP(A292,Lookups!$A$126:$C$135,2)","v":"Food"},"No",0,{"$f":"IF($R292<>3,VLOOKUP($D292,'Points Table A'!$B$3:$F$33,5),VLOOKUP($D292,'Points Table A'!$H$3:$L$33,5))","v":0},{"$f":"IF($R292<>3,VLOOKUP($E292,'Points Table A'!$C$3:$F$33,4),VLOOKUP($E292,'Points Table A'!$I$3:$L$33,4))","v":0},{"$f":"IF($R292<>3,VLOOKUP($F292,'Points Table A'!$D$3:$F$33,3),VLOOKUP($F292,'Points Table A'!$J$3:$L$33,3))","v":0},{"$f":"IF($R292<>3,VLOOKUP($G292,'Points Table A'!$E$3:$F$33,2),VLOOKUP($G292,'Points Table A'!$K$3:$L$33,2))","v":0},0,{"$f":"IF($T292=Lookups!$B$113,VLOOKUP($J292,'Points Table C'!$A$3:$F$11,5),VLOOKUP($U292,'Points Table C'!$B$3:$F$11,4))","v":0},{"$f":"IF($R292=1,0,VLOOKUP($N292,'Points Table C'!$C$3:$E$18,3))","v":0},{"$f":"VLOOKUP($I292,'Points Table C'!$D$3:$E$18,2)","v":0},{"$f":"IF($Z292<Lookups!$C$106,(AA292+AB292+AC292),IF(AA292>=Lookups!$C$120,(AA292+AB292+AC292),AA292+AB292))","v":0}]
["Non-core foods","Enter a food name here","Company name",0,0,0,0,0,0,0,0,0,{"$f":"IF((SUM(D293:L293)=0),\"J\",VLOOKUP(P293,Lookups!$A$1:$B$11,2))","v":"J"},{"$f":"H293+(L293*Lookups!$C$102*H293/100)","v":0},0,{"$f":"IF(ROUND(10.499-(((O293-VLOOKUP($A293,Lookups!$A$55:$D$64,3))/(VLOOKUP($A293,Lookups!$A$55:$D$64,4))*VLOOKUP($A293,Lookups!$C$2:$D$11,2))),0)<1,1,IF(ROUND(10.499-(((O293-VLOOKUP($A293,Lookups!$A$55:$D$64,3))/(VLOOKUP($A293,Lookups!$A$55:$D$64,4))*VLOOKUP($A293,Lookups!$C$2:$D$11,2))),0)<11,ROUND(10.499-(((O293-VLOOKUP($A293,Lookups!$A$55:$D$64,3))/(VLOOKUP($A293,Lookups!$A$55:$D$64,4))*VLOOKUP($A293,Lookups!$C$2:$D$11,2))),0),10))","v":7},null,{"$f":"VLOOKUP(A293,Lookups!$A$126:$C$135,3)","v":2},{"$f":"VLOOKUP(A293,Lookups!$A$126:$C$135,2)","v":"Food"},"No",0,{"$f":"IF($R293<>3,VLOOKUP($D293,'Points Table A'!$B$3:$F$33,5),VLOOKUP($D293,'Points Table A'!$H$3:$L$33,5))","v":0},{"$f":"IF($R293<>3,VLOOKUP($E293,'Points Table A'!$C$3:$F$33,4),VLOOKUP($E293,'Points Table A'!$I$3:$L$33,4))","v":0},{"$f":"IF($R293<>3,VLOOKUP($F293,'Points Table A'!$D$3:$F$33,3),VLOOKUP($F293,'Points Table A'!$J$3:$L$33,3))","v":0},{"$f":"IF($R293<>3,VLOOKUP($G293,'Points Table A'!$E$3:$F$33,2),VLOOKUP($G293,'Points Table A'!$K$3:$L$33,2))","v":0},0,{"$f":"IF($T293=Lookups!$B$113,VLOOKUP($J293,'Points Table C'!$A$3:$F$11,5),VLOOKUP($U293,'Points Table C'!$B$3:$F$11,4))","v":0},{"$f":"IF($R293=1,0,VLOOKUP($N293,'Points Table C'!$C$3:$E$18,3))","v":0},{"$f":"VLOOKUP($I293,'Points Table C'!$D$3:$E$18,2)","v":0},{"$f":"IF($Z293<Lookups!$C$106,(AA293+AB293+AC293),IF(AA293>=Lookups!$C$120,(AA293+AB293+AC293),AA293+AB293))","v":0}]
["Non-core foods","Enter a food name here","Company name",0,0,0,0,0,0,0,0,0,{"$f":"IF((SUM(D294:L294)=0),\"J\",VLOOKUP(P294,Lookups!$A$1:$B$11,2))","v":"J"},{"$f":"H294+(L294*Lookups!$C$102*H294/100)","v":0},0,{"$f":"IF(ROUND(10.499-(((O294-VLOOKUP($A294,Lookups!$A$55:$D$64,3))/(VLOOKUP($A294,Lookups!$A$55:$D$64,4))*VLOOKUP($A294,Lookups!$C$2:$D$11,2))),0)<1,1,IF(ROUND(10.499-(((O294-VLOOKUP($A294,Lookups!$A$55:$D$64,3))/(VLOOKUP($A294,Lookups!$A$55:$D$64,4))*VLOOKUP($A294,Lookups!$C$2:$D$11,2))),0)<11,ROUND(10.499-(((O294-VLOOKUP($A294,Lookups!$A$55:$D$64,3))/(VLOOKUP($A294,Lookups!$A$55:$D$64,4))*VLOOKUP($A294,Lookups!$C$2:$D$11,2))),0),10))","v":7},null,{"$f":"VLOOKUP(A294,Lookups!$A$126:$C$135,3)","v":2},{"$f":"VLOOKUP(A294,Lookups!$A$126:$C$135,2)","v":"Food"},"No",0,{"$f":"IF($R294<>3,VLOOKUP($D294,'Points Table A'!$B$3:$F$33,5),VLOOKUP($D294,'Points Table A'!$H$3:$L$33,5))","v":0},{"$f":"IF($R294<>3,VLOOKUP($E294,'Points Table A'!$C$3:$F$33,4),VLOOKUP($E294,'Points Table A'!$I$3:$L$33,4))","v":0},{"$f":"IF($R294<>3,VLOOKUP($F294,'Points Table A'!$D$3:$F$33,3),VLOOKUP($F294,'Points Table A'!$J$3:$L$33,3))","v":0},{"$f":"IF($R294<>3,VLOOKUP($G294,'Points Table A'!$E$3:$F$33,2),VLOOKUP($G294,'Points Table A'!$K$3:$L$33,2))","v":0},0,{"$f":"IF($T294=Lookups!$B$113,VLOOKUP($J294,'Points Table C'!$A$3:$F$11,5),VLOOKUP($U294,'Points Table C'!$B$3:$F$11,4))","v":0},{"$f":"IF($R294=1,0,VLOOKUP($N294,'Points Table C'!$C$3:$E$18,3))","v":0},{"$f":"VLOOKUP($I294,'Points Table C'!$D$3:$E$18,2)","v":0},{"$f":"IF($Z294<Lookups!$C$106,(AA294+AB294+AC294),IF(AA294>=Lookups!$C$120,(AA294+AB294+AC294),AA294+AB294))","v":0}]
["Non-core foods","Enter a food name here","Company name",0,0,0,0,0,0,0,0,0,{"$f":"IF((SUM(D295:L295)=0),\"J\",VLOOKUP(P295,Lookups!$A$1:$B$11,2))","v":"J"},{"$f":"H295+(L295*Lookups!$C$102*H295/100)","v":0},0,{"$f":"IF(ROUND(10.499-(((O295-VLOOKUP($A295,Lookups!$A$55:$D$64,3))/(VLOOKUP($A295,Lookups!$A$55:$D$64,4))*VLOOKUP($A295,Lookups!$C$2:$D$11,2))),0)<1,1,IF(ROUND(10.499-(((O295-VLOOKUP($A295,Lookups!$A$55:$D$64,3))/(VLOOKUP($A295,Lookups!$A$55:$D$64,4))*VLOOKUP($A295,Lookups!$C$2:$D$11,2))),0)<11,ROUND(10.499-(((O295-VLOOKUP($A295,Lookups!$A$55:$D$64,3))/(VLOOKUP($A295,Lookups!$A$55:$D$64,4))*VLOOKUP($A295,Lookups!$C$2:$D$11,2))),0),10))","v":7},null,{"$f":"VLOOKUP(A295,Lookups!$A$126:$C$135,3)","v":2},{"$f":"VLOOKUP(A295,Lookups!$A$126:$C$135,2)","v":"Food"},"No",0,{"$f":"IF($R295<>3,VLOOKUP($D295,'Points Table A'!$B$3:$F$33,5),VLOOKUP($D295,'Points Table A'!$H$3:$L$33,5))","v":0},{"$f":"IF($R295<>3,VLOOKUP($E295,'Points Table A'!$C$3:$F$33,4),VLOOKUP($E295,'Points Table A'!$I$3:$L$33,4))","v":0},{"$f":"IF($R295<>3,VLOOKUP($F295,'Points Table A'!$D$3:$F$33,3),VLOOKUP($F295,'Points Table A'!$J$3:$L$33,3))","v":0},{"$f":"IF($R295<>3,VLOOKUP($G295,'Points Table A'!$E$3:$F$33,2),VLOOKUP($G295,'Points Table A'!$K$3:$L$33,2))","v":0},0,{"$f":"IF($T295=Lookups!$B$113,VLOOKUP($J295,'Points Table C'!$A$3:$F$11,5),VLOOKUP($U295,'Points Table C'!$B$3:$F$11,4))","v":0},{"$f":"IF($R295=1,0,VLOOKUP($N295,'Points Table C'!$C$3:$E$18,3))","v":0},{"$f":"VLOOKUP($I295,'Points Table C'!$D$3:$E$18,2)","v":0},{"$f":"IF($Z295<Lookups!$C$106,(AA295+AB295+AC295),IF(AA295>=Lookups!$C$120,(AA295+AB295+AC295),AA295+AB295))","v":0}]
["Non-core foods","Enter a food name here","Company name",0,0,0,0,0,0,0,0,0,{"$f":"IF((SUM(D296:L296)=0),\"J\",VLOOKUP(P296,Lookups!$A$1:$B$11,2))","v":"J"},{"$f":"H296+(L296*Lookups!$C$102*H296/100)","v":0},0,{"$f":"IF(ROUND(10.499-(((O296-VLOOKUP($A296,Lookups!$A$55:$D$64,3))/(VLOOKUP($A296,Lookups!$A$55:$D$64,4))*VLOOKUP($A296,Lookups!$C$2:$D$11,2))),0)<1,1,IF(ROUND(10.499-(((O296-VLOOKUP($A296,Lookups!$A$55:$D$64,3))/(VLOOKUP($A296,Lookups!$A$55:$D$64,4))*VLOOKUP($A296,Lookups!$C$2:$D$11,2))),0)<11,ROUND(10.499-(((O296-VLOOKUP($A296,Lookups!$A$55:$D$64,3))/(VLOOKUP($A296,Lookups!$A$55:$D$64,4))*VLOOKUP($A296,Lookups!$C$2:$D$11,2))),0),10))","v":7},null,{"$f":"VLOOKUP(A296,Lookups!$A$126:$C$135,3)","v":2},{"$f":"VLOOKUP(A296,Lookups!$A$126:$C$135,2)","v":"Food"},"No",0,{"$f":"IF($R296<>3,VLOOKUP($D296,'Points Table A'!$B$3:$F$33,5),VLOOKUP($D296,'Points Table A'!$H$3:$L$33,5))","v":0},{"$f":"IF($R296<>3,VLOOKUP($E296,'Points Table A'!$C$3:$F$33,4),VLOOKUP($E296,'Points Table A'!$I$3:$L$33,4))","v":0},{"$f":"IF($R296<>3,VLOOKUP($F296,'Points Table A'!$D$3:$F$33,3),VLOOKUP($F296,'Points Table A'!$J$3:$L$33,3))","v":0},{"$f":"IF($R296<>3,VLOOKUP($G296,'Points Table A'!$E$3:$F$33,2),VLOOKUP($G296,'Points Table A'!$K$3:$L$33,2))","v":0},0,{"$f":"IF($T296=Lookups!$B$113,VLOOKUP($J296,'Points Table C'!$A$3:$F$11,5),VLOOKUP($U296,'Points Table C'!$B$3:$F$11,4))","v":0},{"$f":"IF($R296=1,0,VLOOKUP($N296,'Points Table C'!$C$3:$E$18,3))","v":0},{"$f":"VLOOKUP($I296,'Points Table C'!$D$3:$E$18,2)","v":0},{"$f":"IF($Z296<Lookups!$C$106,(AA296+AB296+AC296),IF(AA296>=Lookups!$C$120,(AA296+AB296+AC296),AA296+AB296))","v":0}]
["Non-core foods","Enter a food name here","Company name",0,0,0,0,0,0,0,0,0,{"$f":"IF((SUM(D297:L297)=0),\"J\",VLOOKUP(P297,Lookups!$A$1:$B$11,2))","v":"J"},{"$f":"H297+(L297*Lookups!$C$102*H297/100)","v":0},0,{"$f":"IF(ROUND(10.499-(((O297-VLOOKUP($A297,Lookups!$A$55:$D$64,3))/(VLOOKUP($A297,Lookups!$A$55:$D$64,4))*VLOOKUP($A297,Lookups!$C$2:$D$11,2))),0)<1,1,IF(ROUND(10.499-(((O297-VLOOKUP($A297,Lookups!$A$55:$D$64,3))/(VLOOKUP($A297,Lookups!$A$55:$D$64,4))*VLOOKUP($A297,Lookups!$C$2:$D$11,2))),0)<11,ROUND(10.499-(((O297-VLOOKUP($A297,Lookups!$A$55:$D$64,3))/(VLOOKUP($A297,Lookups!$A$55:$D$64,4))*VLOOKUP($A297,Lookups!$C$2:$D$11,2))),0),10))","v":7},null,{"$f":"VLOOKUP(A297,Lookups!$A$126:$C$135,3)","v":2},{"$f":"VLOOKUP(A297,Lookups!$A$126:$C$135,2)","v":"Food"},"No",0,{"$f":"IF($R297<>3,VLOOKUP($D297,'Points Table A'!$B$3:$F$33,5),VLOOKUP($D297,'Points Table A'!$H$3:$L$33,5))","v":0},{"$f":"IF($R297<>3,VLOOKUP($E297,'Points Table A'!$C$3:$F$33,4),VLOOKUP($E297,'Points Table A'!$I$3:$L$33,4))","v":0},{"$f":"IF($R297<>3,VLOOKUP($F297,'Points Table A'!$D$3:$F$33,3),VLOOKUP($F297,'Points Table A'!$J$3:$L$33,3))","v":0},{"$f":"IF($R297<>3,VLOOKUP($G297,'Points Table A'!$E$3:$F$33,2),VLOOKUP($G297,'Points Table A'!$K$3:$L$33,2))","v":0},0,{"$f":"IF($T297=Lookups!$B$113,VLOOKUP($J297,'Points Table C'!$A$3:$F$11,5),VLOOKUP($U297,'Points Table C'!$B$3:$F$11,4))","v":0},{"$f":"IF($R297=1,0,VLOOKUP($N297,'Points Table C'!$C$3:$E$18,3))","v":0},{"$f":"VLOOKUP($I297,'Points Table C'!$D$3:$E$18,2)","v":0},{"$f":"IF($Z297<Lookups!$C$106,(AA297+AB297+AC297),IF(AA297>=Lookups!$C$120,(AA297+AB297+AC297),AA297+AB297))","v":0}]
["Non-core foods","Enter a food name here","Company name",0,0,0,0,0,0,0,0,0,{"$f":"IF((SUM(D298:L298)=0),\"J\",VLOOKUP(P298,Lookups!$A$1:$B$11,2))","v":"J"},{"$f":"H298+(L298*Lookups!$C$102*H298/100)","v":0},0,{"$f":"IF(ROUND(10.499-(((O298-VLOOKUP($A298,Lookups!$A$55:$D$64,3))/(VLOOKUP($A298,Lookups!$A$55:$D$64,4))*VLOOKUP($A298,Lookups!$C$2:$D$11,2))),0)<1,1,IF(ROUND(10.499-(((O298-VLOOKUP($A298,Lookups!$A$55:$D$64,3))/(VLOOKUP($A298,Lookups!$A$55:$D$64,4))*VLOOKUP($A298,Lookups!$C$2:$D$11,2))),0)<11,ROUND(10.499-(((O298-VLOOKUP($A298,Lookups!$A$55:$D$64,3))/(VLOOKUP($A298,Lookups!$A$55:$D$64,4))*VLOOKUP($A298,Lookups!$C$2:$D$11,2))),0),10))","v":7},null,{"$f":"VLOOKUP(A298,Lookups!$A$126:$C$135,3)","v":2},{"$f":"VLOOKUP(A298,Lookups!$A$126:$C$135,2)","v":"Food"},"No",0,{"$f":"IF($R298<>3,VLOOKUP($D298,'Points Table A'!$B$3:$F$33,5),VLOOKUP($D298,'Points Table A'!$H$3:$L$33,5))","v":0},{"$f":"IF($R298<>3,VLOOKUP($E298,'Points Table A'!$C$3:$F$33,4),VLOOKUP($E298,'Points Table A'!$I$3:$L$33,4))","v":0},{"$f":"IF($R298<>3,VLOOKUP($F298,'Points Table A'!$D$3:$F$33,3),VLOOKUP($F298,'Points Table A'!$J$3:$L$33,3))","v":0},{"$f":"IF($R298<>3,VLOOKUP($G298,'Points Table A'!$E$3:$F$33,2),VLOOKUP($G298,'Points Table A'!$K$3:$L$33,2))","v":0},0,{"$f":"IF($T298=Lookups!$B$113,VLOOKUP($J298,'Points Table C'!$A$3:$F$11,5),VLOOKUP($U298,'Points Table C'!$B$3:$F$11,4))","v":0},{"$f":"IF($R298=1,0,VLOOKUP($N298,'Points Table C'!$C$3:$E$18,3))","v":0},{"$f":"VLOOKUP($I298,'Points Table C'!$D$3:$E$18,2)","v":0},{"$f":"IF($Z298<Lookups!$C$106,(AA298+AB298+AC298),IF(AA298>=Lookups!$C$120,(AA298+AB298+AC298),AA298+AB298))","v":0}]
["Non-core foods","Enter a food name here","Company name",0,0,0,0,0,0,0,0,0,{"$f":"IF((SUM(D299:L299)=0),\"J\",VLOOKUP(P299,Lookups!$A$1:$B$11,2))","v":"J"},{"$f":"H299+(L299*Lookups!$C$102*H299/100)","v":0},0,{"$f":"IF(ROUND(10.499-(((O299-VLOOKUP($A299,Lookups!$A$55:$D$64,3))/(VLOOKUP($A299,Lookups!$A$55:$D$64,4))*VLOOKUP($A299,Lookups!$C$2:$D$11,2))),0)<1,1,IF(ROUND(10.499-(((O299-VLOOKUP($A299,Lookups!$A$55:$D$64,3))/(VLOOKUP($A299,Lookups!$A$55:$D$64,4))*VLOOKUP($A299,Lookups!$C$2:$D$11,2))),0)<11,ROUND(10.499-(((O299-VLOOKUP($A299,Lookups!$A$55:$D$64,3))/(VLOOKUP($A299,Lookups!$A$55:$D$64,4))*VLOOKUP($A299,Lookups!$C$2:$D$11,2))),0),10))","v":7},null,{"$f":"VLOOKUP(A299,Lookups!$A$126:$C$135,3)","v":2},{"$f":"VLOOKUP(A299,Lookups!$A$126:$C$135,2)","v":"Food"},"No",0,{"$f":"IF($R299<>3,VLOOKUP($D299,'Points Table A'!$B$3:$F$33,5),VLOOKUP($D299,'Points Table A'!$H$3:$L$33,5))","v":0},{"$f":"IF($R299<>3,VLOOKUP($E299,'Points Table A'!$C$3:$F$33,4),VLOOKUP($E299,'Points Table A'!$I$3:$L$33,4))","v":0},{"$f":"IF($R299<>3,VLOOKUP($F299,'Points Table A'!$D$3:$F$33,3),VLOOKUP($F299,'Points Table A'!$J$3:$L$33,3))","v":0},{"$f":"IF($R299<>3,VLOOKUP($G299,'Points Table A'!$E$3:$F$33,2),VLOOKUP($G299,'Points Table A'!$K$3:$L$33,2))","v":0},0,{"$f":"IF($T299=Lookups!$B$113,VLOOKUP($J299,'Points Table C'!$A$3:$F$11,5),VLOOKUP($U299,'Points Table C'!$B$3:$F$11,4))","v":0},{"$f":"IF($R299=1,0,VLOOKUP($N299,'Points Table C'!$C$3:$E$18,3))","v":0},{"$f":"VLOOKUP($I299,'Points Table C'!$D$3:$E$18,2)","v":0},{"$f":"IF($Z299<Lookups!$C$106,(AA299+AB299+AC299),IF(AA299>=Lookups!$C$120,(AA299+AB299+AC299),AA299+AB299))","v":0}]
["Non-core foods","Enter a food name here","Company name",0,0,0,0,0,0,0,0,0,{"$f":"IF((SUM(D300:L300)=0),\"J\",VLOOKUP(P300,Lookups!$A$1:$B$11,2))","v":"J"},{"$f":"H300+(L300*Lookups!$C$102*H300/100)","v":0},0,{"$f":"IF(ROUND(10.499-(((O300-VLOOKUP($A300,Lookups!$A$55:$D$64,3))/(VLOOKUP($A300,Lookups!$A$55:$D$64,4))*VLOOKUP($A300,Lookups!$C$2:$D$11,2))),0)<1,1,IF(ROUND(10.499-(((O300-VLOOKUP($A300,Lookups!$A$55:$D$64,3))/(VLOOKUP($A300,Lookups!$A$55:$D$64,4))*VLOOKUP($A300,Lookups!$C$2:$D$11,2))),0)<11,ROUND(10.499-(((O300-VLOOKUP($A300,Lookups!$A$55:$D$64,3))/(VLOOKUP($A300,Lookups!$A$55:$D$64,4))*VLOOKUP($A300,Lookups!$C$2:$D$11,2))),0),10))","v":7},null,{"$f":"VLOOKUP(A300,Lookups!$A$126:$C$135,3)","v":2},{"$f":"VLOOKUP(A300,Lookups!$A$126:$C$135,2)","v":"Food"},"No",0,{"$f":"IF($R300<>3,VLOOKUP($D300,'Points Table A'!$B$3:$F$33,5),VLOOKUP($D300,'Points Table A'!$H$3:$L$33,5))","v":0},{"$f":"IF($R300<>3,VLOOKUP($E300,'Points Table A'!$C$3:$F$33,4),VLOOKUP($E300,'Points Table A'!$I$3:$L$33,4))","v":0},{"$f":"IF($R300<>3,VLOOKUP($F300,'Points Table A'!$D$3:$F$33,3),VLOOKUP($F300,'Points Table A'!$J$3:$L$33,3))","v":0},{"$f":"IF($R300<>3,VLOOKUP($G300,'Points Table A'!$E$3:$F$33,2),VLOOKUP($G300,'Points Table A'!$K$3:$L$33,2))","v":0},0,{"$f":"IF($T300=Lookups!$B$113,VLOOKUP($J300,'Points Table C'!$A$3:$F$11,5),VLOOKUP($U300,'Points Table C'!$B$3:$F$11,4))","v":0},{"$f":"IF($R300=1,0,VLOOKUP($N300,'Points Table C'!$C$3:$E$18,3))","v":0},{"$f":"VLOOKUP($I300,'Points Table C'!$D$3:$E$18,2)","v":0},{"$f":"IF($Z300<Lookups!$C$106,(AA300+AB300+AC300),IF(AA300>=Lookups!$C$120,(AA300+AB300+AC300),AA300+AB300))","v":0}]
["Non-core foods","Enter a food name here","Company name",0,0,0,0,0,0,0,0,0,{"$f":"IF((SUM(D301:L301)=0),\"J\",VLOOKUP(P301,Lookups!$A$1:$B$11,2))","v":"J"},{"$f":"H301+(L301*Lookups!$C$102*H301/100)","v":0},0,{"$f":"IF(ROUND(10.499-(((O301-VLOOKUP($A301,Lookups!$A$55:$D$64,3))/(VLOOKUP($A301,Lookups!$A$55:$D$64,4))*VLOOKUP($A301,Lookups!$C$2:$D$11,2))),0)<1,1,IF(ROUND(10.499-(((O301-VLOOKUP($A301,Lookups!$A$55:$D$64,3))/(VLOOKUP($A301,Lookups!$A$55:$D$64,4))*VLOOKUP($A301,Lookups!$C$2:$D$11,2))),0)<11,ROUND(10.499-(((O301-VLOOKUP($A301,Lookups!$A$55:$D$64,3))/(VLOOKUP($A301,Lookups!$A$55:$D$64,4))*VLOOKUP($A301,Lookups!$C$2:$D$11,2))),0),10))","v":7},null,{"$f":"VLOOKUP(A301,Lookups!$A$126:$C$135,3)","v":2},{"$f":"VLOOKUP(A301,Lookups!$A$126:$C$135,2)","v":"Food"},"No",0,{"$f":"IF($R301<>3,VLOOKUP($D301,'Points Table A'!$B$3:$F$33,5),VLOOKUP($D301,'Points Table A'!$H$3:$L$33,5))","v":0},{"$f":"IF($R301<>3,VLOOKUP($E301,'Points Table A'!$C$3:$F$33,4),VLOOKUP($E301,'Points Table A'!$I$3:$L$33,4))","v":0},{"$f":"IF($R301<>3,VLOOKUP($F301,'Points Table A'!$D$3:$F$33,3),VLOOKUP($F301,'Points Table A'!$J$3:$L$33,3))","v":0},{"$f":"IF($R301<>3,VLOOKUP($G301,'Points Table A'!$E$3:$F$33,2),VLOOKUP($G301,'Points Table A'!$K$3:$L$33,2))","v":0},0,{"$f":"IF($T301=Lookups!$B$113,VLOOKUP($J301,'Points Table C'!$A$3:$F$11,5),VLOOKUP($U301,'Points Table C'!$B$3:$F$11,4))","v":0},{"$f":"IF($R301=1,0,VLOOKUP($N301,'Points Table C'!$C$3:$E$18,3))","v":0},{"$f":"VLOOKUP($I301,'Points Table C'!$D$3:$E$18,2)","v":0},{"$f":"IF($Z301<Lookups!$C$106,(AA301+AB301+AC301),IF(AA301>=Lookups!$C$120,(AA301+AB301+AC301),AA301+AB301))","v":0}]
["Non-core foods","Enter a food name here","Company name",0,0,0,0,0,0,0,0,0,{"$f":"IF((SUM(D302:L302)=0),\"J\",VLOOKUP(P302,Lookups!$A$1:$B$11,2))","v":"J"},{"$f":"H302+(L302*Lookups!$C$102*H302/100)","v":0},0,{"$f":"IF(ROUND(10.499-(((O302-VLOOKUP($A302,Lookups!$A$55:$D$64,3))/(VLOOKUP($A302,Lookups!$A$55:$D$64,4))*VLOOKUP($A302,Lookups!$C$2:$D$11,2))),0)<1,1,IF(ROUND(10.499-(((O302-VLOOKUP($A302,Lookups!$A$55:$D$64,3))/(VLOOKUP($A302,Lookups!$A$55:$D$64,4))*VLOOKUP($A302,Lookups!$C$2:$D$11,2))),0)<11,ROUND(10.499-(((O302-VLOOKUP($A302,Lookups!$A$55:$D$64,3))/(VLOOKUP($A302,Lookups!$A$55:$D$64,4))*VLOOKUP($A302,Lookups!$C$2:$D$11,2))),0),10))","v":7},null,{"$f":"VLOOKUP(A302,Lookups!$A$126:$C$135,3)","v":2},{"$f":"VLOOKUP(A302,Lookups!$A$126:$C$135,2)","v":"Food"},"No",0,{"$f":"IF($R302<>3,VLOOKUP($D302,'Points Table A'!$B$3:$F$33,5),VLOOKUP($D302,'Points Table A'!$H$3:$L$33,5))","v":0},{"$f":"IF($R302<>3,VLOOKUP($E302,'Points Table A'!$C$3:$F$33,4),VLOOKUP($E302,'Points Table A'!$I$3:$L$33,4))","v":0},{"$f":"IF($R302<>3,VLOOKUP($F302,'Points Table A'!$D$3:$F$33,3),VLOOKUP($F302,'Points Table A'!$J$3:$L$33,3))","v":0},{"$f":"IF($R302<>3,VLOOKUP($G302,'Points Table A'!$E$3:$F$33,2),VLOOKUP($G302,'Points Table A'!$K$3:$L$33,2))","v":0},0,{"$f":"IF($T302=Lookups!$B$113,VLOOKUP($J302,'Points Table C'!$A$3:$F$11,5),VLOOKUP($U302,'Points Table C'!$B$3:$F$11,4))","v":0},{"$f":"IF($R302=1,0,VLOOKUP($N302,'Points Table C'!$C$3:$E$18,3))","v":0},{"$f":"VLOOKUP($I302,'Points Table C'!$D$3:$E$18,2)","v":0},{"$f":"IF($Z302<Lookups!$C$106,(AA302+AB302+AC302),IF(AA302>=Lookups!$C$120,(AA302+AB302+AC302),AA302+AB302))","v":0}]
["Non-core foods","Enter a food name here","Company name",0,0,0,0,0,0,0,0,0,{"$f":"IF((SUM(D303:L303)=0),\"J\",VLOOKUP(P303,Lookups!$A$1:$B$11,2))","v":"J"},{"$f":"H303+(L303*Lookups!$C$102*H303/100)","v":0},0,{"$f":"IF(ROUND(10.499-(((O303-VLOOKUP($A303,Lookups!$A$55:$D$64,3))/(VLOOKUP($A303,Lookups!$A$55:$D$64,4))*VLOOKUP($A303,Lookups!$C$2:$D$11,2))),0)<1,1,IF(ROUND(10.499-(((O303-VLOOKUP($A303,Lookups!$A$55:$D$64,3))/(VLOOKUP($A303,Lookups!$A$55:$D$64,4))*VLOOKUP($A303,Lookups!$C$2:$D$11,2))),0)<11,ROUND(10.499-(((O303-VLOOKUP($A303,Lookups!$A$55:$D$64,3))/(VLOOKUP($A303,Lookups!$A$55:$D$64,4))*VLOOKUP($A303,Lookups!$C$2:$D$11,2))),0),10))","v":7},null,{"$f":"VLOOKUP(A303,Lookups!$A$126:$C$135,3)","v":2},{"$f":"VLOOKUP(A303,Lookups!$A$126:$C$135,2)","v":"Food"},"No",0,{"$f":"IF($R303<>3,VLOOKUP($D303,'Points Table A'!$B$3:$F$33,5),VLOOKUP($D303,'Points Table A'!$H$3:$L$33,5))","v":0},{"$f":"IF($R303<>3,VLOOKUP($E303,'Points Table A'!$C$3:$F$33,4),VLOOKUP($E303,'Points Table A'!$I$3:$L$33,4))","v":0},{"$f":"IF($R303<>3,VLOOKUP($F303,'Points Table A'!$D$3:$F$33,3),VLOOKUP($F303,'Points Table A'!$J$3:$L$33,3))","v":0},{"$f":"IF($R303<>3,VLOOKUP($G303,'Points Table A'!$E$3:$F$33,2),VLOOKUP($G303,'Points Table A'!$K$3:$L$33,2))","v":0},0,{"$f":"IF($T303=Lookups!$B$113,VLOOKUP($J303,'Points Table C'!$A$3:$F$11,5),VLOOKUP($U303,'Points Table C'!$B$3:$F$11,4))","v":0},{"$f":"IF($R303=1,0,VLOOKUP($N303,'Points Table C'!$C$3:$E$18,3))","v":0},{"$f":"VLOOKUP($I303,'Points Table C'!$D$3:$E$18,2)","v":0},{"$f":"IF($Z303<Lookups!$C$106,(AA303+AB303+AC303),IF(AA303>=Lookups!$C$120,(AA303+AB303+AC303),AA303+AB303))","v":0}]
["Non-core foods","Enter a food name here","Company name",0,0,0,0,0,0,0,0,0,{"$f":"IF((SUM(D304:L304)=0),\"J\",VLOOKUP(P304,Lookups!$A$1:$B$11,2))","v":"J"},{"$f":"H304+(L304*Lookups!$C$102*H304/100)","v":0},0,{"$f":"IF(ROUND(10.499-(((O304-VLOOKUP($A304,Lookups!$A$55:$D$64,3))/(VLOOKUP($A304,Lookups!$A$55:$D$64,4))*VLOOKUP($A304,Lookups!$C$2:$D$11,2))),0)<1,1,IF(ROUND(10.499-(((O304-VLOOKUP($A304,Lookups!$A$55:$D$64,3))/(VLOOKUP($A304,Lookups!$A$55:$D$64,4))*VLOOKUP($A304,Lookups!$C$2:$D$11,2))),0)<11,ROUND(10.499-(((O304-VLOOKUP($A304,Lookups!$A$55:$D$64,3))/(VLOOKUP($A304,Lookups!$A$55:$D$64,4))*VLOOKUP($A304,Lookups!$C$2:$D$11,2))),0),10))","v":7},null,{"$f":"VLOOKUP(A304,Lookups!$A$126:$C$135,3)","v":2},{"$f":"VLOOKUP(A304,Lookups!$A$126:$C$135,2)","v":"Food"},"No",0,{"$f":"IF($R304<>3,VLOOKUP($D304,'Points Table A'!$B$3:$F$33,5),VLOOKUP($D304,'Points Table A'!$H$3:$L$33,5))","v":0},{"$f":"IF($R304<>3,VLOOKUP($E304,'Points Table A'!$C$3:$F$33,4),VLOOKUP($E304,'Points Table A'!$I$3:$L$33,4))","v":0},{"$f":"IF($R304<>3,VLOOKUP($F304,'Points Table A'!$D$3:$F$33,3),VLOOKUP($F304,'Points Table A'!$J$3:$L$33,3))","v":0},{"$f":"IF($R304<>3,VLOOKUP($G304,'Points Table A'!$E$3:$F$33,2),VLOOKUP($G304,'Points Table A'!$K$3:$L$33,2))","v":0},0,{"$f":"IF($T304=Lookups!$B$113,VLOOKUP($J304,'Points Table C'!$A$3:$F$11,5),VLOOKUP($U304,'Points Table C'!$B$3:$F$11,4))","v":0},{"$f":"IF($R304=1,0,VLOOKUP($N304,'Points Table C'!$C$3:$E$18,3))","v":0},{"$f":"VLOOKUP($I304,'Points Table C'!$D$3:$E$18,2)","v":0},{"$f":"IF($Z304<Lookups!$C$106,(AA304+AB304+AC304),IF(AA304>=Lookups!$C$120,(AA304+AB304+AC304),AA304+AB304))","v":0}]
["Non-core foods","Enter a food name here","Company name",0,0,0,0,0,0,0,0,0,{"$f":"IF((SUM(D305:L305)=0),\"J\",VLOOKUP(P305,Lookups!$A$1:$B$11,2))","v":"J"},{"$f":"H305+(L305*Lookups!$C$102*H305/100)","v":0},0,{"$f":"IF(ROUND(10.499-(((O305-VLOOKUP($A305,Lookups!$A$55:$D$64,3))/(VLOOKUP($A305,Lookups!$A$55:$D$64,4))*VLOOKUP($A305,Lookups!$C$2:$D$11,2))),0)<1,1,IF(ROUND(10.499-(((O305-VLOOKUP($A305,Lookups!$A$55:$D$64,3))/(VLOOKUP($A305,Lookups!$A$55:$D$64,4))*VLOOKUP($A305,Lookups!$C$2:$D$11,2))),0)<11,ROUND(10.499-(((O305-VLOOKUP($A305,Lookups!$A$55:$D$64,3))/(VLOOKUP($A305,Lookups!$A$55:$D$64,4))*VLOOKUP($A305,Lookups!$C$2:$D$11,2))),0),10))","v":7},null,{"$f":"VLOOKUP(A305,Lookups!$A$126:$C$135,3)","v":2},{"$f":"VLOOKUP(A305,Lookups!$A$126:$C$135,2)","v":"Food"},"No",0,{"$f":"IF($R305<>3,VLOOKUP($D305,'Points Table A'!$B$3:$F$33,5),VLOOKUP($D305,'Points Table A'!$H$3:$L$33,5))","v":0},{"$f":"IF($R305<>3,VLOOKUP($E305,'Points Table A'!$C$3:$F$33,4),VLOOKUP($E305,'Points Table A'!$I$3:$L$33,4))","v":0},{"$f":"IF($R305<>3,VLOOKUP($F305,'Points Table A'!$D$3:$F$33,3),VLOOKUP($F305,'Points Table A'!$J$3:$L$33,3))","v":0},{"$f":"IF($R305<>3,VLOOKUP($G305,'Points Table A'!$E$3:$F$33,2),VLOOKUP($G305,'Points Table A'!$K$3:$L$33,2))","v":0},0,{"$f":"IF($T305=Lookups!$B$113,VLOOKUP($J305,'Points Table C'!$A$3:$F$11,5),VLOOKUP($U305,'Points Table C'!$B$3:$F$11,4))","v":0},{"$f":"IF($R305=1,0,VLOOKUP($N305,'Points Table C'!$C$3:$E$18,3))","v":0},{"$f":"VLOOKUP($I305,'Points Table C'!$D$3:$E$18,2)","v":0},{"$f":"IF($Z305<Lookups!$C$106,(AA305+AB305+AC305),IF(AA305>=Lookups!$C$120,(AA305+AB305+AC305),AA305+AB305))","v":0}]
["Non-core foods","Enter a food name here","Company name",0,0,0,0,0,0,0,0,0,{"$f":"IF((SUM(D306:L306)=0),\"J\",VLOOKUP(P306,Lookups!$A$1:$B$11,2))","v":"J"},{"$f":"H306+(L306*Lookups!$C$102*H306/100)","v":0},0,{"$f":"IF(ROUND(10.499-(((O306-VLOOKUP($A306,Lookups!$A$55:$D$64,3))/(VLOOKUP($A306,Lookups!$A$55:$D$64,4))*VLOOKUP($A306,Lookups!$C$2:$D$11,2))),0)<1,1,IF(ROUND(10.499-(((O306-VLOOKUP($A306,Lookups!$A$55:$D$64,3))/(VLOOKUP($A306,Lookups!$A$55:$D$64,4))*VLOOKUP($A306,Lookups!$C$2:$D$11,2))),0)<11,ROUND(10.499-(((O306-VLOOKUP($A306,Lookups!$A$55:$D$64,3))/(VLOOKUP($A306,Lookups!$A$55:$D$64,4))*VLOOKUP($A306,Lookups!$C$2:$D$11,2))),0),10))","v":7},null,{"$f":"VLOOKUP(A306,Lookups!$A$126:$C$135,3)","v":2},{"$f":"VLOOKUP(A306,Lookups!$A$126:$C$135,2)","v":"Food"},"No",0,{"$f":"IF($R306<>3,VLOOKUP($D306,'Points Table A'!$B$3:$F$33,5),VLOOKUP($D306,'Points Table A'!$H$3:$L$33,5))","v":0},{"$f":"IF($R306<>3,VLOOKUP($E306,'Points Table A'!$C$3:$F$33,4),VLOOKUP($E306,'Points Table A'!$I$3:$L$33,4))","v":0},{"$f":"IF($R306<>3,VLOOKUP($F306,'Points Table A'!$D$3:$F$33,3),VLOOKUP($F306,'Points Table A'!$J$3:$L$33,3))","v":0},{"$f":"IF($R306<>3,VLOOKUP($G306,'Points Table A'!$E$3:$F$33,2),VLOOKUP($G306,'Points Table A'!$K$3:$L$33,2))","v":0},0,{"$f":"IF($T306=Lookups!$B$113,VLOOKUP($J306,'Points Table C'!$A$3:$F$11,5),VLOOKUP($U306,'Points Table C'!$B$3:$F$11,4))","v":0},{"$f":"IF($R306=1,0,VLOOKUP($N306,'Points Table C'!$C$3:$E$18,3))","v":0},{"$f":"VLOOKUP($I306,'Points Table C'!$D$3:$E$18,2)","v":0},{"$f":"IF($Z306<Lookups!$C$106,(AA306+AB306+AC306),IF(AA306>=Lookups!$C$120,(AA306+AB306+AC306),AA306+AB306))","v":0}]
["Non-core foods","Enter a food name here","Company name",0,0,0,0,0,0,0,0,0,{"$f":"IF((SUM(D307:L307)=0),\"J\",VLOOKUP(P307,Lookups!$A$1:$B$11,2))","v":"J"},{"$f":"H307+(L307*Lookups!$C$102*H307/100)","v":0},0,{"$f":"IF(ROUND(10.499-(((O307-VLOOKUP($A307,Lookups!$A$55:$D$64,3))/(VLOOKUP($A307,Lookups!$A$55:$D$64,4))*VLOOKUP($A307,Lookups!$C$2:$D$11,2))),0)<1,1,IF(ROUND(10.499-(((O307-VLOOKUP($A307,Lookups!$A$55:$D$64,3))/(VLOOKUP($A307,Lookups!$A$55:$D$64,4))*VLOOKUP($A307,Lookups!$C$2:$D$11,2))),0)<11,ROUND(10.499-(((O307-VLOOKUP($A307,Lookups!$A$55:$D$64,3))/(VLOOKUP($A307,Lookups!$A$55:$D$64,4))*VLOOKUP($A307,Lookups!$C$2:$D$11,2))),0),10))","v":7},null,{"$f":"VLOOKUP(A307,Lookups!$A$126:$C$135,3)","v":2},{"$f":"VLOOKUP(A307,Lookups!$A$126:$C$135,2)","v":"Food"},"No",0,{"$f":"IF($R307<>3,VLOOKUP($D307,'Points Table A'!$B$3:$F$33,5),VLOOKUP($D307,'Points Table A'!$H$3:$L$33,5))","v":0},{"$f":"IF($R307<>3,VLOOKUP($E307,'Points Table A'!$C$3:$F$33,4),VLOOKUP($E307,'Points Table A'!$I$3:$L$33,4))","v":0},{"$f":"IF($R307<>3,VLOOKUP($F307,'Points Table A'!$D$3:$F$33,3),VLOOKUP($F307,'Points Table A'!$J$3:$L$33,3))","v":0},{"$f":"IF($R307<>3,VLOOKUP($G307,'Points Table A'!$E$3:$F$33,2),VLOOKUP($G307,'Points Table A'!$K$3:$L$33,2))","v":0},0,{"$f":"IF($T307=Lookups!$B$113,VLOOKUP($J307,'Points Table C'!$A$3:$F$11,5),VLOOKUP($U307,'Points Table C'!$B$3:$F$11,4))","v":0},{"$f":"IF($R307=1,0,VLOOKUP($N307,'Points Table C'!$C$3:$E$18,3))","v":0},{"$f":"VLOOKUP($I307,'Points Table C'!$D$3:$E$18,2)","v":0},{"$f":"IF($Z307<Lookups!$C$106,(AA307+AB307+AC307),IF(AA307>=Lookups!$C$120,(AA307+AB307+AC307),AA307+AB307))","v":0}]
["Non-core foods","Enter a food name here","Company name",0,0,0,0,0,0,0,0,0,{"$f":"IF((SUM(D308:L308)=0),\"J\",VLOOKUP(P308,Lookups!$A$1:$B$11,2))","v":"J"},{"$f":"H308+(L308*Lookups!$C$102*H308/100)","v":0},0,{"$f":"IF(ROUND(10.499-(((O308-VLOOKUP($A308,Lookups!$A$55:$D$64,3))/(VLOOKUP($A308,Lookups!$A$55:$D$64,4))*VLOOKUP($A308,Lookups!$C$2:$D$11,2))),0)<1,1,IF(ROUND(10.499-(((O308-VLOOKUP($A308,Lookups!$A$55:$D$64,3))/(VLOOKUP($A308,Lookups!$A$55:$D$64,4))*VLOOKUP($A308,Lookups!$C$2:$D$11,2))),0)<11,ROUND(10.499-(((O308-VLOOKUP($A308,Lookups!$A$55:$D$64,3))/(VLOOKUP($A308,Lookups!$A$55:$D$64,4))*VLOOKUP($A308,Lookups!$C$2:$D$11,2))),0),10))","v":7},null,{"$f":"VLOOKUP(A308,Lookups!$A$126:$C$135,3)","v":2},{"$f":"VLOOKUP(A308,Lookups!$A$126:$C$135,2)","v":"Food"},"No",0,{"$f":"IF($R308<>3,VLOOKUP($D308,'Points Table A'!$B$3:$F$33,5),VLOOKUP($D308,'Points Table A'!$H$3:$L$33,5))","v":0},{"$f":"IF($R308<>3,VLOOKUP($E308,'Points Table A'!$C$3:$F$33,4),VLOOKUP($E308,'Points Table A'!$I$3:$L$33,4))","v":0},{"$f":"IF($R308<>3,VLOOKUP($F308,'Points Table A'!$D$3:$F$33,3),VLOOKUP($F308,'Points Table A'!$J$3:$L$33,3))","v":0},{"$f":"IF($R308<>3,VLOOKUP($G308,'Points Table A'!$E$3:$F$33,2),VLOOKUP($G308,'Points Table A'!$K$3:$L$33,2))","v":0},0,{"$f":"IF($T308=Lookups!$B$113,VLOOKUP($J308,'Points Table C'!$A$3:$F$11,5),VLOOKUP($U308,'Points Table C'!$B$3:$F$11,4))","v":0},{"$f":"IF($R308=1,0,VLOOKUP($N308,'Points Table C'!$C$3:$E$18,3))","v":0},{"$f":"VLOOKUP($I308,'Points Table C'!$D$3:$E$18,2)","v":0},{"$f":"IF($Z308<Lookups!$C$106,(AA308+AB308+AC308),IF(AA308>=Lookups!$C$120,(AA308+AB308+AC308),AA308+AB308))","v":0}]
["Non-core foods","Enter a food name here","Company name",0,0,0,0,0,0,0,0,0,{"$f":"IF((SUM(D309:L309)=0),\"J\",VLOOKUP(P309,Lookups!$A$1:$B$11,2))","v":"J"},{"$f":"H309+(L309*Lookups!$C$102*H309/100)","v":0},0,{"$f":"IF(ROUND(10.499-(((O309-VLOOKUP($A309,Lookups!$A$55:$D$64,3))/(VLOOKUP($A309,Lookups!$A$55:$D$64,4))*VLOOKUP($A309,Lookups!$C$2:$D$11,2))),0)<1,1,IF(ROUND(10.499-(((O309-VLOOKUP($A309,Lookups!$A$55:$D$64,3))/(VLOOKUP($A309,Lookups!$A$55:$D$64,4))*VLOOKUP($A309,Lookups!$C$2:$D$11,2))),0)<11,ROUND(10.499-(((O309-VLOOKUP($A309,Lookups!$A$55:$D$64,3))/(VLOOKUP($A309,Lookups!$A$55:$D$64,4))*VLOOKUP($A309,Lookups!$C$2:$D$11,2))),0),10))","v":7},null,{"$f":"VLOOKUP(A309,Lookups!$A$126:$C$135,3)","v":2},{"$f":"VLOOKUP(A309,Lookups!$A$126:$C$135,2)","v":"Food"},"No",0,{"$f":"IF($R309<>3,VLOOKUP($D309,'Points Table A'!$B$3:$F$33,5),VLOOKUP($D309,'Points Table A'!$H$3:$L$33,5))","v":0},{"$f":"IF($R309<>3,VLOOKUP($E309,'Points Table A'!$C$3:$F$33,4),VLOOKUP($E309,'Points Table A'!$I$3:$L$33,4))","v":0},{"$f":"IF($R309<>3,VLOOKUP($F309,'Points Table A'!$D$3:$F$33,3),VLOOKUP($F309,'Points Table A'!$J$3:$L$33,3))","v":0},{"$f":"IF($R309<>3,VLOOKUP($G309,'Points Table A'!$E$3:$F$33,2),VLOOKUP($G309,'Points Table A'!$K$3:$L$33,2))","v":0},0,{"$f":"IF($T309=Lookups!$B$113,VLOOKUP($J309,'Points Table C'!$A$3:$F$11,5),VLOOKUP($U309,'Points Table C'!$B$3:$F$11,4))","v":0},{"$f":"IF($R309=1,0,VLOOKUP($N309,'Points Table C'!$C$3:$E$18,3))","v":0},{"$f":"VLOOKUP($I309,'Points Table C'!$D$3:$E$18,2)","v":0},{"$f":"IF($Z309<Lookups!$C$106,(AA309+AB309+AC309),IF(AA309>=Lookups!$C$120,(AA309+AB309+AC309),AA309+AB309))","v":0}]
["Non-core foods","Enter a food name here","Company name",0,0,0,0,0,0,0,0,0,{"$f":"IF((SUM(D310:L310)=0),\"J\",VLOOKUP(P310,Lookups!$A$1:$B$11,2))","v":"J"},{"$f":"H310+(L310*Lookups!$C$102*H310/100)","v":0},0,{"$f":"IF(ROUND(10.499-(((O310-VLOOKUP($A310,Lookups!$A$55:$D$64,3))/(VLOOKUP($A310,Lookups!$A$55:$D$64,4))*VLOOKUP($A310,Lookups!$C$2:$D$11,2))),0)<1,1,IF(ROUND(10.499-(((O310-VLOOKUP($A310,Lookups!$A$55:$D$64,3))/(VLOOKUP($A310,Lookups!$A$55:$D$64,4))*VLOOKUP($A310,Lookups!$C$2:$D$11,2))),0)<11,ROUND(10.499-(((O310-VLOOKUP($A310,Lookups!$A$55:$D$64,3))/(VLOOKUP($A310,Lookups!$A$55:$D$64,4))*VLOOKUP($A310,Lookups!$C$2:$D$11,2))),0),10))","v":7},null,{"$f":"VLOOKUP(A310,Lookups!$A$126:$C$135,3)","v":2},{"$f":"VLOOKUP(A310,Lookups!$A$126:$C$135,2)","v":"Food"},"No",0,{"$f":"IF($R310<>3,VLOOKUP($D310,'Points Table A'!$B$3:$F$33,5),VLOOKUP($D310,'Points Table A'!$H$3:$L$33,5))","v":0},{"$f":"IF($R310<>3,VLOOKUP($E310,'Points Table A'!$C$3:$F$33,4),VLOOKUP($E310,'Points Table A'!$I$3:$L$33,4))","v":0},{"$f":"IF($R310<>3,VLOOKUP($F310,'Points Table A'!$D$3:$F$33,3),VLOOKUP($F310,'Points Table A'!$J$3:$L$33,3))","v":0},{"$f":"IF($R310<>3,VLOOKUP($G310,'Points Table A'!$E$3:$F$33,2),VLOOKUP($G310,'Points Table A'!$K$3:$L$33,2))","v":0},0,{"$f":"IF($T310=Lookups!$B$113,VLOOKUP($J310,'Points Table C'!$A$3:$F$11,5),VLOOKUP($U310,'Points Table C'!$B$3:$F$11,4))","v":0},{"$f":"IF($R310=1,0,VLOOKUP($N310,'Points Table C'!$C$3:$E$18,3))","v":0},{"$f":"VLOOKUP($I310,'Points Table C'!$D$3:$E$18,2)","v":0},{"$f":"IF($Z310<Lookups!$C$106,(AA310+AB310+AC310),IF(AA310>=Lookups!$C$120,(AA310+AB310+AC310),AA310+AB310))","v":0}]
["Non-core foods","Enter a food name here","Company name",0,0,0,0,0,0,0,0,0,{"$f":"IF((SUM(D311:L311)=0),\"J\",VLOOKUP(P311,Lookups!$A$1:$B$11,2))","v":"J"},{"$f":"H311+(L311*Lookups!$C$102*H311/100)","v":0},0,{"$f":"IF(ROUND(10.499-(((O311-VLOOKUP($A311,Lookups!$A$55:$D$64,3))/(VLOOKUP($A311,Lookups!$A$55:$D$64,4))*VLOOKUP($A311,Lookups!$C$2:$D$11,2))),0)<1,1,IF(ROUND(10.499-(((O311-VLOOKUP($A311,Lookups!$A$55:$D$64,3))/(VLOOKUP($A311,Lookups!$A$55:$D$64,4))*VLOOKUP($A311,Lookups!$C$2:$D$11,2))),0)<11,ROUND(10.499-(((O311-VLOOKUP($A311,Lookups!$A$55:$D$64,3))/(VLOOKUP($A311,Lookups!$A$55:$D$64,4))*VLOOKUP($A311,Lookups!$C$2:$D$11,2))),0),10))","v":7},null,{"$f":"VLOOKUP(A311,Lookups!$A$126:$C$135,3)","v":2},{"$f":"VLOOKUP(A311,Lookups!$A$126:$C$135,2)","v":"Food"},"No",0,{"$f":"IF($R311<>3,VLOOKUP($D311,'Points Table A'!$B$3:$F$33,5),VLOOKUP($D311,'Points Table A'!$H$3:$L$33,5))","v":0},{"$f":"IF($R311<>3,VLOOKUP($E311,'Points Table A'!$C$3:$F$33,4),VLOOKUP($E311,'Points Table A'!$I$3:$L$33,4))","v":0},{"$f":"IF($R311<>3,VLOOKUP($F311,'Points Table A'!$D$3:$F$33,3),VLOOKUP($F311,'Points Table A'!$J$3:$L$33,3))","v":0},{"$f":"IF($R311<>3,VLOOKUP($G311,'Points Table A'!$E$3:$F$33,2),VLOOKUP($G311,'Points Table A'!$K$3:$L$33,2))","v":0},0,{"$f":"IF($T311=Lookups!$B$113,VLOOKUP($J311,'Points Table C'!$A$3:$F$11,5),VLOOKUP($U311,'Points Table C'!$B$3:$F$11,4))","v":0},{"$f":"IF($R311=1,0,VLOOKUP($N311,'Points Table C'!$C$3:$E$18,3))","v":0},{"$f":"VLOOKUP($I311,'Points Table C'!$D$3:$E$18,2)","v":0},{"$f":"IF($Z311<Lookups!$C$106,(AA311+AB311+AC311),IF(AA311>=Lookups!$C$120,(AA311+AB311+AC311),AA311+AB311))","v":0}]
["Non-core foods","Enter a food name here","Company name",0,0,0,0,0,0,0,0,0,{"$f":"IF((SUM(D312:L312)=0),\"J\",VLOOKUP(P312,Lookups!$A$1:$B$11,2))","v":"J"},{"$f":"H312+(L312*Lookups!$C$102*H312/100)","v":0},0,{"$f":"IF(ROUND(10.499-(((O312-VLOOKUP($A312,Lookups!$A$55:$D$64,3))/(VLOOKUP($A312,Lookups!$A$55:$D$64,4))*VLOOKUP($A312,Lookups!$C$2:$D$11,2))),0)<1,1,IF(ROUND(10.499-(((O312-VLOOKUP($A312,Lookups!$A$55:$D$64,3))/(VLOOKUP($A312,Lookups!$A$55:$D$64,4))*VLOOKUP($A312,Lookups!$C$2:$D$11,2))),0)<11,ROUND(10.499-(((O312-VLOOKUP($A312,Lookups!$A$55:$D$64,3))/(VLOOKUP($A312,Lookups!$A$55:$D$64,4))*VLOOKUP($A312,Lookups!$C$2:$D$11,2))),0),10))","v":7},null,{"$f":"VLOOKUP(A312,Lookups!$A$126:$C$135,3)","v":2},{"$f":"VLOOKUP(A312,Lookups!$A$126:$C$135,2)","v":"Food"},"No",0,{"$f":"IF($R312<>3,VLOOKUP($D312,'Points Table A'!$B$3:$F$33,5),VLOOKUP($D312,'Points Table A'!$H$3:$L$33,5))","v":0},{"$f":"IF($R312<>3,VLOOKUP($E312,'Points Table A'!$C$3:$F$33,4),VLOOKUP($E312,'Points Table A'!$I$3:$L$33,4))","v":0},{"$f":"IF($R312<>3,VLOOKUP($F312,'Points Table A'!$D$3:$F$33,3),VLOOKUP($F312,'Points Table A'!$J$3:$L$33,3))","v":0},{"$f":"IF($R312<>3,VLOOKUP($G312,'Points Table A'!$E$3:$F$33,2),VLOOKUP($G312,'Points Table A'!$K$3:$L$33,2))","v":0},0,{"$f":"IF($T312=Lookups!$B$113,VLOOKUP($J312,'Points Table C'!$A$3:$F$11,5),VLOOKUP($U312,'Points Table C'!$B$3:$F$11,4))","v":0},{"$f":"IF($R312=1,0,VLOOKUP($N312,'Points Table C'!$C$3:$E$18,3))","v":0},{"$f":"VLOOKUP($I312,'Points Table C'!$D$3:$E$18,2)","v":0},{"$f":"IF($Z312<Lookups!$C$106,(AA312+AB312+AC312),IF(AA312>=Lookups!$C$120,(AA312+AB312+AC312),AA312+AB312))","v":0}]
["Non-core foods","Enter a food name here","Company name",0,0,0,0,0,0,0,0,0,{"$f":"IF((SUM(D313:L313)=0),\"J\",VLOOKUP(P313,Lookups!$A$1:$B$11,2))","v":"J"},{"$f":"H313+(L313*Lookups!$C$102*H313/100)","v":0},0,{"$f":"IF(ROUND(10.499-(((O313-VLOOKUP($A313,Lookups!$A$55:$D$64,3))/(VLOOKUP($A313,Lookups!$A$55:$D$64,4))*VLOOKUP($A313,Lookups!$C$2:$D$11,2))),0)<1,1,IF(ROUND(10.499-(((O313-VLOOKUP($A313,Lookups!$A$55:$D$64,3))/(VLOOKUP($A313,Lookups!$A$55:$D$64,4))*VLOOKUP($A313,Lookups!$C$2:$D$11,2))),0)<11,ROUND(10.499-(((O313-VLOOKUP($A313,Lookups!$A$55:$D$64,3))/(VLOOKUP($A313,Lookups!$A$55:$D$64,4))*VLOOKUP($A313,Lookups!$C$2:$D$11,2))),0),10))","v":7},null,{"$f":"VLOOKUP(A313,Lookups!$A$126:$C$135,3)","v":2},{"$f":"VLOOKUP(A313,Lookups!$A$126:$C$135,2)","v":"Food"},"No",0,{"$f":"IF($R313<>3,VLOOKUP($D313,'Points Table A'!$B$3:$F$33,5),VLOOKUP($D313,'Points Table A'!$H$3:$L$33,5))","v":0},{"$f":"IF($R313<>3,VLOOKUP($E313,'Points Table A'!$C$3:$F$33,4),VLOOKUP($E313,'Points Table A'!$I$3:$L$33,4))","v":0},{"$f":"IF($R313<>3,VLOOKUP($F313,'Points Table A'!$D$3:$F$33,3),VLOOKUP($F313,'Points Table A'!$J$3:$L$33,3))","v":0},{"$f":"IF($R313<>3,VLOOKUP($G313,'Points Table A'!$E$3:$F$33,2),VLOOKUP($G313,'Points Table A'!$K$3:$L$33,2))","v":0},0,{"$f":"IF($T313=Lookups!$B$113,VLOOKUP($J313,'Points Table C'!$A$3:$F$11,5),VLOOKUP($U313,'Points Table C'!$B$3:$F$11,4))","v":0},{"$f":"IF($R313=1,0,VLOOKUP($N313,'Points Table C'!$C$3:$E$18,3))","v":0},{"$f":"VLOOKUP($I313,'Points Table C'!$D$3:$E$18,2)","v":0},{"$f":"IF($Z313<Lookups!$C$106,(AA313+AB313+AC313),IF(AA313>=Lookups!$C$120,(AA313+AB313+AC313),AA313+AB313))","v":0}]
["Non-core foods","Enter a food name here","Company name",0,0,0,0,0,0,0,0,0,{"$f":"IF((SUM(D314:L314)=0),\"J\",VLOOKUP(P314,Lookups!$A$1:$B$11,2))","v":"J"},{"$f":"H314+(L314*Lookups!$C$102*H314/100)","v":0},0,{"$f":"IF(ROUND(10.499-(((O314-VLOOKUP($A314,Lookups!$A$55:$D$64,3))/(VLOOKUP($A314,Lookups!$A$55:$D$64,4))*VLOOKUP($A314,Lookups!$C$2:$D$11,2))),0)<1,1,IF(ROUND(10.499-(((O314-VLOOKUP($A314,Lookups!$A$55:$D$64,3))/(VLOOKUP($A314,Lookups!$A$55:$D$64,4))*VLOOKUP($A314,Lookups!$C$2:$D$11,2))),0)<11,ROUND(10.499-(((O314-VLOOKUP($A314,Lookups!$A$55:$D$64,3))/(VLOOKUP($A314,Lookups!$A$55:$D$64,4))*VLOOKUP($A314,Lookups!$C$2:$D$11,2))),0),10))","v":7},null,{"$f":"VLOOKUP(A314,Lookups!$A$126:$C$135,3)","v":2},{"$f":"VLOOKUP(A314,Lookups!$A$126:$C$135,2)","v":"Food"},"No",0,{"$f":"IF($R314<>3,VLOOKUP($D314,'Points Table A'!$B$3:$F$33,5),VLOOKUP($D314,'Points Table A'!$H$3:$L$33,5))","v":0},{"$f":"IF($R314<>3,VLOOKUP($E314,'Points Table A'!$C$3:$F$33,4),VLOOKUP($E314,'Points Table A'!$I$3:$L$33,4))","v":0},{"$f":"IF($R314<>3,VLOOKUP($F314,'Points Table A'!$D$3:$F$33,3),VLOOKUP($F314,'Points Table A'!$J$3:$L$33,3))","v":0},{"$f":"IF($R314<>3,VLOOKUP($G314,'Points Table A'!$E$3:$F$33,2),VLOOKUP($G314,'Points Table A'!$K$3:$L$33,2))","v":0},0,{"$f":"IF($T314=Lookups!$B$113,VLOOKUP($J314,'Points Table C'!$A$3:$F$11,5),VLOOKUP($U314,'Points Table C'!$B$3:$F$11,4))","v":0},{"$f":"IF($R314=1,0,VLOOKUP($N314,'Points Table C'!$C$3:$E$18,3))","v":0},{"$f":"VLOOKUP($I314,'Points Table C'!$D$3:$E$18,2)","v":0},{"$f":"IF($Z314<Lookups!$C$106,(AA314+AB314+AC314),IF(AA314>=Lookups!$C$120,(AA314+AB314+AC314),AA314+AB314))","v":0}]
["Non-core foods","Enter a food name here","Company name",0,0,0,0,0,0,0,0,0,{"$f":"IF((SUM(D315:L315)=0),\"J\",VLOOKUP(P315,Lookups!$A$1:$B$11,2))","v":"J"},{"$f":"H315+(L315*Lookups!$C$102*H315/100)","v":0},0,{"$f":"IF(ROUND(10.499-(((O315-VLOOKUP($A315,Lookups!$A$55:$D$64,3))/(VLOOKUP($A315,Lookups!$A$55:$D$64,4))*VLOOKUP($A315,Lookups!$C$2:$D$11,2))),0)<1,1,IF(ROUND(10.499-(((O315-VLOOKUP($A315,Lookups!$A$55:$D$64,3))/(VLOOKUP($A315,Lookups!$A$55:$D$64,4))*VLOOKUP($A315,Lookups!$C$2:$D$11,2))),0)<11,ROUND(10.499-(((O315-VLOOKUP($A315,Lookups!$A$55:$D$64,3))/(VLOOKUP($A315,Lookups!$A$55:$D$64,4))*VLOOKUP($A315,Lookups!$C$2:$D$11,2))),0),10))","v":7},null,{"$f":"VLOOKUP(A315,Lookups!$A$126:$C$135,3)","v":2},{"$f":"VLOOKUP(A315,Lookups!$A$126:$C$135,2)","v":"Food"},"No",0,{"$f":"IF($R315<>3,VLOOKUP($D315,'Points Table A'!$B$3:$F$33,5),VLOOKUP($D315,'Points Table A'!$H$3:$L$33,5))","v":0},{"$f":"IF($R315<>3,VLOOKUP($E315,'Points Table A'!$C$3:$F$33,4),VLOOKUP($E315,'Points Table A'!$I$3:$L$33,4))","v":0},{"$f":"IF($R315<>3,VLOOKUP($F315,'Points Table A'!$D$3:$F$33,3),VLOOKUP($F315,'Points Table A'!$J$3:$L$33,3))","v":0},{"$f":"IF($R315<>3,VLOOKUP($G315,'Points Table A'!$E$3:$F$33,2),VLOOKUP($G315,'Points Table A'!$K$3:$L$33,2))","v":0},0,{"$f":"IF($T315=Lookups!$B$113,VLOOKUP($J315,'Points Table C'!$A$3:$F$11,5),VLOOKUP($U315,'Points Table C'!$B$3:$F$11,4))","v":0},{"$f":"IF($R315=1,0,VLOOKUP($N315,'Points Table C'!$C$3:$E$18,3))","v":0},{"$f":"VLOOKUP($I315,'Points Table C'!$D$3:$E$18,2)","v":0},{"$f":"IF($Z315<Lookups!$C$106,(AA315+AB315+AC315),IF(AA315>=Lookups!$C$120,(AA315+AB315+AC315),AA315+AB315))","v":0}]
["Non-core foods","Enter a food name here","Company name",0,0,0,0,0,0,0,0,0,{"$f":"IF((SUM(D316:L316)=0),\"J\",VLOOKUP(P316,Lookups!$A$1:$B$11,2))","v":"J"},{"$f":"H316+(L316*Lookups!$C$102*H316/100)","v":0},0,{"$f":"IF(ROUND(10.499-(((O316-VLOOKUP($A316,Lookups!$A$55:$D$64,3))/(VLOOKUP($A316,Lookups!$A$55:$D$64,4))*VLOOKUP($A316,Lookups!$C$2:$D$11,2))),0)<1,1,IF(ROUND(10.499-(((O316-VLOOKUP($A316,Lookups!$A$55:$D$64,3))/(VLOOKUP($A316,Lookups!$A$55:$D$64,4))*VLOOKUP($A316,Lookups!$C$2:$D$11,2))),0)<11,ROUND(10.499-(((O316-VLOOKUP($A316,Lookups!$A$55:$D$64,3))/(VLOOKUP($A316,Lookups!$A$55:$D$64,4))*VLOOKUP($A316,Lookups!$C$2:$D$11,2))),0),10))","v":7},null,{"$f":"VLOOKUP(A316,Lookups!$A$126:$C$135,3)","v":2},{"$f":"VLOOKUP(A316,Lookups!$A$126:$C$135,2)","v":"Food"},"No",0,{"$f":"IF($R316<>3,VLOOKUP($D316,'Points Table A'!$B$3:$F$33,5),VLOOKUP($D316,'Points Table A'!$H$3:$L$33,5))","v":0},{"$f":"IF($R316<>3,VLOOKUP($E316,'Points Table A'!$C$3:$F$33,4),VLOOKUP($E316,'Points Table A'!$I$3:$L$33,4))","v":0},{"$f":"IF($R316<>3,VLOOKUP($F316,'Points Table A'!$D$3:$F$33,3),VLOOKUP($F316,'Points Table A'!$J$3:$L$33,3))","v":0},{"$f":"IF($R316<>3,VLOOKUP($G316,'Points Table A'!$E$3:$F$33,2),VLOOKUP($G316,'Points Table A'!$K$3:$L$33,2))","v":0},0,{"$f":"IF($T316=Lookups!$B$113,VLOOKUP($J316,'Points Table C'!$A$3:$F$11,5),VLOOKUP($U316,'Points Table C'!$B$3:$F$11,4))","v":0},{"$f":"IF($R316=1,0,VLOOKUP($N316,'Points Table C'!$C$3:$E$18,3))","v":0},{"$f":"VLOOKUP($I316,'Points Table C'!$D$3:$E$18,2)","v":0},{"$f":"IF($Z316<Lookups!$C$106,(AA316+AB316+AC316),IF(AA316>=Lookups!$C$120,(AA316+AB316+AC316),AA316+AB316))","v":0}]
["Non-core foods","Enter a food name here","Company name",0,0,0,0,0,0,0,0,0,{"$f":"IF((SUM(D317:L317)=0),\"J\",VLOOKUP(P317,Lookups!$A$1:$B$11,2))","v":"J"},{"$f":"H317+(L317*Lookups!$C$102*H317/100)","v":0},0,{"$f":"IF(ROUND(10.499-(((O317-VLOOKUP($A317,Lookups!$A$55:$D$64,3))/(VLOOKUP($A317,Lookups!$A$55:$D$64,4))*VLOOKUP($A317,Lookups!$C$2:$D$11,2))),0)<1,1,IF(ROUND(10.499-(((O317-VLOOKUP($A317,Lookups!$A$55:$D$64,3))/(VLOOKUP($A317,Lookups!$A$55:$D$64,4))*VLOOKUP($A317,Lookups!$C$2:$D$11,2))),0)<11,ROUND(10.499-(((O317-VLOOKUP($A317,Lookups!$A$55:$D$64,3))/(VLOOKUP($A317,Lookups!$A$55:$D$64,4))*VLOOKUP($A317,Lookups!$C$2:$D$11,2))),0),10))","v":7},null,{"$f":"VLOOKUP(A317,Lookups!$A$126:$C$135,3)","v":2},{"$f":"VLOOKUP(A317,Lookups!$A$126:$C$135,2)","v":"Food"},"No",0,{"$f":"IF($R317<>3,VLOOKUP($D317,'Points Table A'!$B$3:$F$33,5),VLOOKUP($D317,'Points Table A'!$H$3:$L$33,5))","v":0},{"$f":"IF($R317<>3,VLOOKUP($E317,'Points Table A'!$C$3:$F$33,4),VLOOKUP($E317,'Points Table A'!$I$3:$L$33,4))","v":0},{"$f":"IF($R317<>3,VLOOKUP($F317,'Points Table A'!$D$3:$F$33,3),VLOOKUP($F317,'Points Table A'!$J$3:$L$33,3))","v":0},{"$f":"IF($R317<>3,VLOOKUP($G317,'Points Table A'!$E$3:$F$33,2),VLOOKUP($G317,'Points Table A'!$K$3:$L$33,2))","v":0},0,{"$f":"IF($T317=Lookups!$B$113,VLOOKUP($J317,'Points Table C'!$A$3:$F$11,5),VLOOKUP($U317,'Points Table C'!$B$3:$F$11,4))","v":0},{"$f":"IF($R317=1,0,VLOOKUP($N317,'Points Table C'!$C$3:$E$18,3))","v":0},{"$f":"VLOOKUP($I317,'Points Table C'!$D$3:$E$18,2)","v":0},{"$f":"IF($Z317<Lookups!$C$106,(AA317+AB317+AC317),IF(AA317>=Lookups!$C$120,(AA317+AB317+AC317),AA317+AB317))","v":0}]
["Non-core foods","Enter a food name here","Company name",0,0,0,0,0,0,0,0,0,{"$f":"IF((SUM(D318:L318)=0),\"J\",VLOOKUP(P318,Lookups!$A$1:$B$11,2))","v":"J"},{"$f":"H318+(L318*Lookups!$C$102*H318/100)","v":0},0,{"$f":"IF(ROUND(10.499-(((O318-VLOOKUP($A318,Lookups!$A$55:$D$64,3))/(VLOOKUP($A318,Lookups!$A$55:$D$64,4))*VLOOKUP($A318,Lookups!$C$2:$D$11,2))),0)<1,1,IF(ROUND(10.499-(((O318-VLOOKUP($A318,Lookups!$A$55:$D$64,3))/(VLOOKUP($A318,Lookups!$A$55:$D$64,4))*VLOOKUP($A318,Lookups!$C$2:$D$11,2))),0)<11,ROUND(10.499-(((O318-VLOOKUP($A318,Lookups!$A$55:$D$64,3))/(VLOOKUP($A318,Lookups!$A$55:$D$64,4))*VLOOKUP($A318,Lookups!$C$2:$D$11,2))),0),10))","v":7},null,{"$f":"VLOOKUP(A318,Lookups!$A$126:$C$135,3)","v":2},{"$f":"VLOOKUP(A318,Lookups!$A$126:$C$135,2)","v":"Food"},"No",0,{"$f":"IF($R318<>3,VLOOKUP($D318,'Points Table A'!$B$3:$F$33,5),VLOOKUP($D318,'Points Table A'!$H$3:$L$33,5))","v":0},{"$f":"IF($R318<>3,VLOOKUP($E318,'Points Table A'!$C$3:$F$33,4),VLOOKUP($E318,'Points Table A'!$I$3:$L$33,4))","v":0},{"$f":"IF($R318<>3,VLOOKUP($F318,'Points Table A'!$D$3:$F$33,3),VLOOKUP($F318,'Points Table A'!$J$3:$L$33,3))","v":0},{"$f":"IF($R318<>3,VLOOKUP($G318,'Points Table A'!$E$3:$F$33,2),VLOOKUP($G318,'Points Table A'!$K$3:$L$33,2))","v":0},0,{"$f":"IF($T318=Lookups!$B$113,VLOOKUP($J318,'Points Table C'!$A$3:$F$11,5),VLOOKUP($U318,'Points Table C'!$B$3:$F$11,4))","v":0},{"$f":"IF($R318=1,0,VLOOKUP($N318,'Points Table C'!$C$3:$E$18,3))","v":0},{"$f":"VLOOKUP($I318,'Points Table C'!$D$3:$E$18,2)","v":0},{"$f":"IF($Z318<Lookups!$C$106,(AA318+AB318+AC318),IF(AA318>=Lookups!$C$120,(AA318+AB318+AC318),AA318+AB318))","v":0}]
["Non-core foods","Enter a food name here","Company name",0,0,0,0,0,0,0,0,0,{"$f":"IF((SUM(D319:L319)=0),\"J\",VLOOKUP(P319,Lookups!$A$1:$B$11,2))","v":"J"},{"$f":"H319+(L319*Lookups!$C$102*H319/100)","v":0},0,{"$f":"IF(ROUND(10.499-(((O319-VLOOKUP($A319,Lookups!$A$55:$D$64,3))/(VLOOKUP($A319,Lookups!$A$55:$D$64,4))*VLOOKUP($A319,Lookups!$C$2:$D$11,2))),0)<1,1,IF(ROUND(10.499-(((O319-VLOOKUP($A319,Lookups!$A$55:$D$64,3))/(VLOOKUP($A319,Lookups!$A$55:$D$64,4))*VLOOKUP($A319,Lookups!$C$2:$D$11,2))),0)<11,ROUND(10.499-(((O319-VLOOKUP($A319,Lookups!$A$55:$D$64,3))/(VLOOKUP($A319,Lookups!$A$55:$D$64,4))*VLOOKUP($A319,Lookups!$C$2:$D$11,2))),0),10))","v":7},null,{"$f":"VLOOKUP(A319,Lookups!$A$126:$C$135,3)","v":2},{"$f":"VLOOKUP(A319,Lookups!$A$126:$C$135,2)","v":"Food"},"No",0,{"$f":"IF($R319<>3,VLOOKUP($D319,'Points Table A'!$B$3:$F$33,5),VLOOKUP($D319,'Points Table A'!$H$3:$L$33,5))","v":0},{"$f":"IF($R319<>3,VLOOKUP($E319,'Points Table A'!$C$3:$F$33,4),VLOOKUP($E319,'Points Table A'!$I$3:$L$33,4))","v":0},{"$f":"IF($R319<>3,VLOOKUP($F319,'Points Table A'!$D$3:$F$33,3),VLOOKUP($F319,'Points Table A'!$J$3:$L$33,3))","v":0},{"$f":"IF($R319<>3,VLOOKUP($G319,'Points Table A'!$E$3:$F$33,2),VLOOKUP($G319,'Points Table A'!$K$3:$L$33,2))","v":0},0,{"$f":"IF($T319=Lookups!$B$113,VLOOKUP($J319,'Points Table C'!$A$3:$F$11,5),VLOOKUP($U319,'Points Table C'!$B$3:$F$11,4))","v":0},{"$f":"IF($R319=1,0,VLOOKUP($N319,'Points Table C'!$C$3:$E$18,3))","v":0},{"$f":"VLOOKUP($I319,'Points Table C'!$D$3:$E$18,2)","v":0},{"$f":"IF($Z319<Lookups!$C$106,(AA319+AB319+AC319),IF(AA319>=Lookups!$C$120,(AA319+AB319+AC319),AA319+AB319))","v":0}]
["Non-core foods","Enter a food name here","Company name",0,0,0,0,0,0,0,0,0,{"$f":"IF((SUM(D320:L320)=0),\"J\",VLOOKUP(P320,Lookups!$A$1:$B$11,2))","v":"J"},{"$f":"H320+(L320*Lookups!$C$102*H320/100)","v":0},0,{"$f":"IF(ROUND(10.499-(((O320-VLOOKUP($A320,Lookups!$A$55:$D$64,3))/(VLOOKUP($A320,Lookups!$A$55:$D$64,4))*VLOOKUP($A320,Lookups!$C$2:$D$11,2))),0)<1,1,IF(ROUND(10.499-(((O320-VLOOKUP($A320,Lookups!$A$55:$D$64,3))/(VLOOKUP($A320,Lookups!$A$55:$D$64,4))*VLOOKUP($A320,Lookups!$C$2:$D$11,2))),0)<11,ROUND(10.499-(((O320-VLOOKUP($A320,Lookups!$A$55:$D$64,3))/(VLOOKUP($A320,Lookups!$A$55:$D$64,4))*VLOOKUP($A320,Lookups!$C$2:$D$11,2))),0),10))","v":7},null,{"$f":"VLOOKUP(A320,Lookups!$A$126:$C$135,3)","v":2},{"$f":"VLOOKUP(A320,Lookups!$A$126:$C$135,2)","v":"Food"},"No",0,{"$f":"IF($R320<>3,VLOOKUP($D320,'Points Table A'!$B$3:$F$33,5),VLOOKUP($D320,'Points Table A'!$H$3:$L$33,5))","v":0},{"$f":"IF($R320<>3,VLOOKUP($E320,'Points Table A'!$C$3:$F$33,4),VLOOKUP($E320,'Points Table A'!$I$3:$L$33,4))","v":0},{"$f":"IF($R320<>3,VLOOKUP($F320,'Points Table A'!$D$3:$F$33,3),VLOOKUP($F320,'Points Table A'!$J$3:$L$33,3))","v":0},{"$f":"IF($R320<>3,VLOOKUP($G320,'Points Table A'!$E$3:$F$33,2),VLOOKUP($G320,'Points Table A'!$K$3:$L$33,2))","v":0},0,{"$f":"IF($T320=Lookups!$B$113,VLOOKUP($J320,'Points Table C'!$A$3:$F$11,5),VLOOKUP($U320,'Points Table C'!$B$3:$F$11,4))","v":0},{"$f":"IF($R320=1,0,VLOOKUP($N320,'Points Table C'!$C$3:$E$18,3))","v":0},{"$f":"VLOOKUP($I320,'Points Table C'!$D$3:$E$18,2)","v":0},{"$f":"IF($Z320<Lookups!$C$106,(AA320+AB320+AC320),IF(AA320>=Lookups!$C$120,(AA320+AB320+AC320),AA320+AB320))","v":0}]
["Non-core foods","Enter a food name here","Company name",0,0,0,0,0,0,0,0,0,{"$f":"IF((SUM(D321:L321)=0),\"J\",VLOOKUP(P321,Lookups!$A$1:$B$11,2))","v":"J"},{"$f":"H321+(L321*Lookups!$C$102*H321/100)","v":0},0,{"$f":"IF(ROUND(10.499-(((O321-VLOOKUP($A321,Lookups!$A$55:$D$64,3))/(VLOOKUP($A321,Lookups!$A$55:$D$64,4))*VLOOKUP($A321,Lookups!$C$2:$D$11,2))),0)<1,1,IF(ROUND(10.499-(((O321-VLOOKUP($A321,Lookups!$A$55:$D$64,3))/(VLOOKUP($A321,Lookups!$A$55:$D$64,4))*VLOOKUP($A321,Lookups!$C$2:$D$11,2))),0)<11,ROUND(10.499-(((O321-VLOOKUP($A321,Lookups!$A$55:$D$64,3))/(VLOOKUP($A321,Lookups!$A$55:$D$64,4))*VLOOKUP($A321,Lookups!$C$2:$D$11,2))),0),10))","v":7},null,{"$f":"VLOOKUP(A321,Lookups!$A$126:$C$135,3)","v":2},{"$f":"VLOOKUP(A321,Lookups!$A$126:$C$135,2)","v":"Food"},"No",0,{"$f":"IF($R321<>3,VLOOKUP($D321,'Points Table A'!$B$3:$F$33,5),VLOOKUP($D321,'Points Table A'!$H$3:$L$33,5))","v":0},{"$f":"IF($R321<>3,VLOOKUP($E321,'Points Table A'!$C$3:$F$33,4),VLOOKUP($E321,'Points Table A'!$I$3:$L$33,4))","v":0},{"$f":"IF($R321<>3,VLOOKUP($F321,'Points Table A'!$D$3:$F$33,3),VLOOKUP($F321,'Points Table A'!$J$3:$L$33,3))","v":0},{"$f":"IF($R321<>3,VLOOKUP($G321,'Points Table A'!$E$3:$F$33,2),VLOOKUP($G321,'Points Table A'!$K$3:$L$33,2))","v":0},0,{"$f":"IF($T321=Lookups!$B$113,VLOOKUP($J321,'Points Table C'!$A$3:$F$11,5),VLOOKUP($U321,'Points Table C'!$B$3:$F$11,4))","v":0},{"$f":"IF($R321=1,0,VLOOKUP($N321,'Points Table C'!$C$3:$E$18,3))","v":0},{"$f":"VLOOKUP($I321,'Points Table C'!$D$3:$E$18,2)","v":0},{"$f":"IF($Z321<Lookups!$C$106,(AA321+AB321+AC321),IF(AA321>=Lookups!$C$120,(AA321+AB321+AC321),AA321+AB321))","v":0}]
["Non-core foods","Enter a food name here","Company name",0,0,0,0,0,0,0,0,0,{"$f":"IF((SUM(D322:L322)=0),\"J\",VLOOKUP(P322,Lookups!$A$1:$B$11,2))","v":"J"},{"$f":"H322+(L322*Lookups!$C$102*H322/100)","v":0},0,{"$f":"IF(ROUND(10.499-(((O322-VLOOKUP($A322,Lookups!$A$55:$D$64,3))/(VLOOKUP($A322,Lookups!$A$55:$D$64,4))*VLOOKUP($A322,Lookups!$C$2:$D$11,2))),0)<1,1,IF(ROUND(10.499-(((O322-VLOOKUP($A322,Lookups!$A$55:$D$64,3))/(VLOOKUP($A322,Lookups!$A$55:$D$64,4))*VLOOKUP($A322,Lookups!$C$2:$D$11,2))),0)<11,ROUND(10.499-(((O322-VLOOKUP($A322,Lookups!$A$55:$D$64,3))/(VLOOKUP($A322,Lookups!$A$55:$D$64,4))*VLOOKUP($A322,Lookups!$C$2:$D$11,2))),0),10))","v":7},null,{"$f":"VLOOKUP(A322,Lookups!$A$126:$C$135,3)","v":2},{"$f":"VLOOKUP(A322,Lookups!$A$126:$C$135,2)","v":"Food"},"No",0,{"$f":"IF($R322<>3,VLOOKUP($D322,'Points Table A'!$B$3:$F$33,5),VLOOKUP($D322,'Points Table A'!$H$3:$L$33,5))","v":0},{"$f":"IF($R322<>3,VLOOKUP($E322,'Points Table A'!$C$3:$F$33,4),VLOOKUP($E322,'Points Table A'!$I$3:$L$33,4))","v":0},{"$f":"IF($R322<>3,VLOOKUP($F322,'Points Table A'!$D$3:$F$33,3),VLOOKUP($F322,'Points Table A'!$J$3:$L$33,3))","v":0},{"$f":"IF($R322<>3,VLOOKUP($G322,'Points Table A'!$E$3:$F$33,2),VLOOKUP($G322,'Points Table A'!$K$3:$L$33,2))","v":0},0,{"$f":"IF($T322=Lookups!$B$113,VLOOKUP($J322,'Points Table C'!$A$3:$F$11,5),VLOOKUP($U322,'Points Table C'!$B$3:$F$11,4))","v":0},{"$f":"IF($R322=1,0,VLOOKUP($N322,'Points Table C'!$C$3:$E$18,3))","v":0},{"$f":"VLOOKUP($I322,'Points Table C'!$D$3:$E$18,2)","v":0},{"$f":"IF($Z322<Lookups!$C$106,(AA322+AB322+AC322),IF(AA322>=Lookups!$C$120,(AA322+AB322+AC322),AA322+AB322))","v":0}]
["Non-core foods","Enter a food name here","Company name",0,0,0,0,0,0,0,0,0,{"$f":"IF((SUM(D323:L323)=0),\"J\",VLOOKUP(P323,Lookups!$A$1:$B$11,2))","v":"J"},{"$f":"H323+(L323*Lookups!$C$102*H323/100)","v":0},{"$f":"$Z323-$AD323","v":0},{"$f":"IF(ROUND(10.499-(((O323-VLOOKUP($A323,Lookups!$A$55:$D$64,3))/(VLOOKUP($A323,Lookups!$A$55:$D$64,4))*VLOOKUP($A323,Lookups!$C$2:$D$11,2))),0)<1,1,IF(ROUND(10.499-(((O323-VLOOKUP($A323,Lookups!$A$55:$D$64,3))/(VLOOKUP($A323,Lookups!$A$55:$D$64,4))*VLOOKUP($A323,Lookups!$C$2:$D$11,2))),0)<11,ROUND(10.499-(((O323-VLOOKUP($A323,Lookups!$A$55:$D$64,3))/(VLOOKUP($A323,Lookups!$A$55:$D$64,4))*VLOOKUP($A323,Lookups!$C$2:$D$11,2))),0),10))","v":7},null,{"$f":"VLOOKUP(A323,Lookups!$A$126:$C$135,3)","v":2},{"$f":"VLOOKUP(A323,Lookups!$A$126:$C$135,2)","v":"Food"},{"$f":"IF(AND(J323>0,K323=0),\"Yes\",\"No\")","v":"No"},{"$f":"ROUND(100*(K323+2*J323)/(K323+2*J323+(100-J323-K323)),2)","v":0},{"$f":"IF($R323<>3,VLOOKUP($D323,'Points Table A'!$B$3:$F$33,5),VLOOKUP($D323,'Points Table A'!$H$3:$L$33,5))","v":0},{"$f":"IF($R323<>3,VLOOKUP($E323,'Points Table A'!$C$3:$F$33,4),VLOOKUP($E323,'Points Table A'!$I$3:$L$33,4))","v":0},{"$f":"IF($R323<>3,VLOOKUP($F323,'Points Table A'!$D$3:$F$33,3),VLOOKUP($F323,'Points Table A'!$J$3:$L$33,3))","v":0},{"$f":"IF($R323<>3,VLOOKUP($G323,'Points Table A'!$E$3:$F$33,2),VLOOKUP($G323,'Points Table A'!$K$3:$L$33,2))","v":0},0,{"$f":"IF($T323=Lookups!$B$113,VLOOKUP($J323,'Points Table C'!$A$3:$F$11,5),VLOOKUP($U323,'Points Table C'!$B$3:$F$11,4))","v":0},{"$f":"IF($R323=1,0,VLOOKUP($N323,'Points Table C'!$C$3:$E$18,3))","v":0},{"$f":"VLOOKUP($I323,'Points Table C'!$D$3:$E$18,2)","v":0},{"$f":"IF($Z323<Lookups!$C$106,(AA323+AB323+AC323),IF(AA323>=Lookups!$C$120,(AA323+AB323+AC323),AA323+AB323))","v":0}]
["Non-core foods","Enter a food name here","Company name",0,0,0,0,0,0,0,0,0,{"$f":"IF((SUM(D324:L324)=0),\"J\",VLOOKUP(P324,Lookups!$A$1:$B$11,2))","v":"J"},{"$f":"H324+(L324*Lookups!$C$102*H324/100)","v":0},0,{"$f":"IF(ROUND(10.499-(((O324-VLOOKUP($A324,Lookups!$A$55:$D$64,3))/(VLOOKUP($A324,Lookups!$A$55:$D$64,4))*VLOOKUP($A324,Lookups!$C$2:$D$11,2))),0)<1,1,IF(ROUND(10.499-(((O324-VLOOKUP($A324,Lookups!$A$55:$D$64,3))/(VLOOKUP($A324,Lookups!$A$55:$D$64,4))*VLOOKUP($A324,Lookups!$C$2:$D$11,2))),0)<11,ROUND(10.499-(((O324-VLOOKUP($A324,Lookups!$A$55:$D$64,3))/(VLOOKUP($A324,Lookups!$A$55:$D$64,4))*VLOOKUP($A324,Lookups!$C$2:$D$11,2))),0),10))","v":7},null,{"$f":"VLOOKUP(A324,Lookups!$A$126:$C$135,3)","v":2},{"$f":"VLOOKUP(A324,Lookups!$A$126:$C$135,2)","v":"Food"},"No",0,{"$f":"IF($R324<>3,VLOOKUP($D324,'Points Table A'!$B$3:$F$33,5),VLOOKUP($D324,'Points Table A'!$H$3:$L$33,5))","v":0},{"$f":"IF($R324<>3,VLOOKUP($E324,'Points Table A'!$C$3:$F$33,4),VLOOKUP($E324,'Points Table A'!$I$3:$L$33,4))","v":0},{"$f":"IF($R324<>3,VLOOKUP($F324,'Points Table A'!$D$3:$F$33,3),VLOOKUP($F324,'Points Table A'!$J$3:$L$33,3))","v":0},{"$f":"IF($R324<>3,VLOOKUP($G324,'Points Table A'!$E$3:$F$33,2),VLOOKUP($G324,'Points Table A'!$K$3:$L$33,2))","v":0},{"$f":"SUM(V324:Y324)","v":0},{"$f":"IF($T324=Lookups!$B$113,VLOOKUP($J324,'Points Table C'!$A$3:$F$11,5),VLOOKUP($U324,'Points Table C'!$B$3:$F$11,4))","v":0},{"$f":"IF($R324=1,0,VLOOKUP($N324,'Points Table C'!$C$3:$E$18,3))","v":0},{"$f":"VLOOKUP($I324,'Points Table C'!$D$3:$E$18,2)","v":0},{"$f":"IF($Z324<Lookups!$C$106,(AA324+AB324+AC324),IF(AA324>=Lookups!$C$120,(AA324+AB324+AC324),AA324+AB324))","v":0}]
["Non-core foods","Enter a food name here","Company name",0,0,0,0,0,0,0,0,0,{"$f":"IF((SUM(D325:L325)=0),\"J\",VLOOKUP(P325,Lookups!$A$1:$B$11,2))","v":"J"},{"$f":"H325+(L325*Lookups!$C$102*H325/100)","v":0},0,{"$f":"IF(ROUND(10.499-(((O325-VLOOKUP($A325,Lookups!$A$55:$D$64,3))/(VLOOKUP($A325,Lookups!$A$55:$D$64,4))*VLOOKUP($A325,Lookups!$C$2:$D$11,2))),0)<1,1,IF(ROUND(10.499-(((O325-VLOOKUP($A325,Lookups!$A$55:$D$64,3))/(VLOOKUP($A325,Lookups!$A$55:$D$64,4))*VLOOKUP($A325,Lookups!$C$2:$D$11,2))),0)<11,ROUND(10.499-(((O325-VLOOKUP($A325,Lookups!$A$55:$D$64,3))/(VLOOKUP($A325,Lookups!$A$55:$D$64,4))*VLOOKUP($A325,Lookups!$C$2:$D$11,2))),0),10))","v":7},null,{"$f":"VLOOKUP(A325,Lookups!$A$126:$C$135,3)","v":2},{"$f":"VLOOKUP(A325,Lookups!$A$126:$C$135,2)","v":"Food"},"No",0,{"$f":"IF($R325<>3,VLOOKUP($D325,'Points Table A'!$B$3:$F$33,5),VLOOKUP($D325,'Points Table A'!$H$3:$L$33,5))","v":0},{"$f":"IF($R325<>3,VLOOKUP($E325,'Points Table A'!$C$3:$F$33,4),VLOOKUP($E325,'Points Table A'!$I$3:$L$33,4))","v":0},{"$f":"IF($R325<>3,VLOOKUP($F325,'Points Table A'!$D$3:$F$33,3),VLOOKUP($F325,'Points Table A'!$J$3:$L$33,3))","v":0},{"$f":"IF($R325<>3,VLOOKUP($G325,'Points Table A'!$E$3:$F$33,2),VLOOKUP($G325,'Points Table A'!$K$3:$L$33,2))","v":0},0,{"$f":"IF($T325=Lookups!$B$113,VLOOKUP($J325,'Points Table C'!$A$3:$F$11,5),VLOOKUP($U325,'Points Table C'!$B$3:$F$11,4))","v":0},{"$f":"IF($R325=1,0,VLOOKUP($N325,'Points Table C'!$C$3:$E$18,3))","v":0},{"$f":"VLOOKUP($I325,'Points Table C'!$D$3:$E$18,2)","v":0},{"$f":"IF($Z325<Lookups!$C$106,(AA325+AB325+AC325),IF(AA325>=Lookups!$C$120,(AA325+AB325+AC325),AA325+AB325))","v":0}]
["Non-core foods","Enter a food name here","Company name",0,0,0,0,0,0,0,0,0,{"$f":"IF((SUM(D326:L326)=0),\"J\",VLOOKUP(P326,Lookups!$A$1:$B$11,2))","v":"J"},{"$f":"H326+(L326*Lookups!$C$102*H326/100)","v":0},0,{"$f":"IF(ROUND(10.499-(((O326-VLOOKUP($A326,Lookups!$A$55:$D$64,3))/(VLOOKUP($A326,Lookups!$A$55:$D$64,4))*VLOOKUP($A326,Lookups!$C$2:$D$11,2))),0)<1,1,IF(ROUND(10.499-(((O326-VLOOKUP($A326,Lookups!$A$55:$D$64,3))/(VLOOKUP($A326,Lookups!$A$55:$D$64,4))*VLOOKUP($A326,Lookups!$C$2:$D$11,2))),0)<11,ROUND(10.499-(((O326-VLOOKUP($A326,Lookups!$A$55:$D$64,3))/(VLOOKUP($A326,Lookups!$A$55:$D$64,4))*VLOOKUP($A326,Lookups!$C$2:$D$11,2))),0),10))","v":7},null,{"$f":"VLOOKUP(A326,Lookups!$A$126:$C$135,3)","v":2},{"$f":"VLOOKUP(A326,Lookups!$A$126:$C$135,2)","v":"Food"},"No",0,{"$f":"IF($R326<>3,VLOOKUP($D326,'Points Table A'!$B$3:$F$33,5),VLOOKUP($D326,'Points Table A'!$H$3:$L$33,5))","v":0},{"$f":"IF($R326<>3,VLOOKUP($E326,'Points Table A'!$C$3:$F$33,4),VLOOKUP($E326,'Points Table A'!$I$3:$L$33,4))","v":0},{"$f":"IF($R326<>3,VLOOKUP($F326,'Points Table A'!$D$3:$F$33,3),VLOOKUP($F326,'Points Table A'!$J$3:$L$33,3))","v":0},{"$f":"IF($R326<>3,VLOOKUP($G326,'Points Table A'!$E$3:$F$33,2),VLOOKUP($G326,'Points Table A'!$K$3:$L$33,2))","v":0},0,{"$f":"IF($T326=Lookups!$B$113,VLOOKUP($J326,'Points Table C'!$A$3:$F$11,5),VLOOKUP($U326,'Points Table C'!$B$3:$F$11,4))","v":0},{"$f":"IF($R326=1,0,VLOOKUP($N326,'Points Table C'!$C$3:$E$18,3))","v":0},{"$f":"VLOOKUP($I326,'Points Table C'!$D$3:$E$18,2)","v":0},{"$f":"IF($Z326<Lookups!$C$106,(AA326+AB326+AC326),IF(AA326>=Lookups!$C$120,(AA326+AB326+AC326),AA326+AB326))","v":0}]
["Non-core foods","Enter a food name here","Company name",0,0,0,0,0,0,0,0,0,{"$f":"IF((SUM(D327:L327)=0),\"J\",VLOOKUP(P327,Lookups!$A$1:$B$11,2))","v":"J"},{"$f":"H327+(L327*Lookups!$C$102*H327/100)","v":0},0,{"$f":"IF(ROUND(10.499-(((O327-VLOOKUP($A327,Lookups!$A$55:$D$64,3))/(VLOOKUP($A327,Lookups!$A$55:$D$64,4))*VLOOKUP($A327,Lookups!$C$2:$D$11,2))),0)<1,1,IF(ROUND(10.499-(((O327-VLOOKUP($A327,Lookups!$A$55:$D$64,3))/(VLOOKUP($A327,Lookups!$A$55:$D$64,4))*VLOOKUP($A327,Lookups!$C$2:$D$11,2))),0)<11,ROUND(10.499-(((O327-VLOOKUP($A327,Lookups!$A$55:$D$64,3))/(VLOOKUP($A327,Lookups!$A$55:$D$64,4))*VLOOKUP($A327,Lookups!$C$2:$D$11,2))),0),10))","v":7},null,{"$f":"VLOOKUP(A327,Lookups!$A$126:$C$135,3)","v":2},{"$f":"VLOOKUP(A327,Lookups!$A$126:$C$135,2)","v":"Food"},"No",0,{"$f":"IF($R327<>3,VLOOKUP($D327,'Points Table A'!$B$3:$F$33,5),VLOOKUP($D327,'Points Table A'!$H$3:$L$33,5))","v":0},{"$f":"IF($R327<>3,VLOOKUP($E327,'Points Table A'!$C$3:$F$33,4),VLOOKUP($E327,'Points Table A'!$I$3:$L$33,4))","v":0},{"$f":"IF($R327<>3,VLOOKUP($F327,'Points Table A'!$D$3:$F$33,3),VLOOKUP($F327,'Points Table A'!$J$3:$L$33,3))","v":0},{"$f":"IF($R327<>3,VLOOKUP($G327,'Points Table A'!$E$3:$F$33,2),VLOOKUP($G327,'Points Table A'!$K$3:$L$33,2))","v":0},0,{"$f":"IF($T327=Lookups!$B$113,VLOOKUP($J327,'Points Table C'!$A$3:$F$11,5),VLOOKUP($U327,'Points Table C'!$B$3:$F$11,4))","v":0},{"$f":"IF($R327=1,0,VLOOKUP($N327,'Points Table C'!$C$3:$E$18,3))","v":0},{"$f":"VLOOKUP($I327,'Points Table C'!$D$3:$E$18,2)","v":0},{"$f":"IF($Z327<Lookups!$C$106,(AA327+AB327+AC327),IF(AA327>=Lookups!$C$120,(AA327+AB327+AC327),AA327+AB327))","v":0}]
["Non-core foods","Enter a food name here","Company name",0,0,0,0,0,0,0,0,0,{"$f":"IF((SUM(D328:L328)=0),\"J\",VLOOKUP(P328,Lookups!$A$1:$B$11,2))","v":"J"},{"$f":"H328+(L328*Lookups!$C$102*H328/100)","v":0},0,{"$f":"IF(ROUND(10.499-(((O328-VLOOKUP($A328,Lookups!$A$55:$D$64,3))/(VLOOKUP($A328,Lookups!$A$55:$D$64,4))*VLOOKUP($A328,Lookups!$C$2:$D$11,2))),0)<1,1,IF(ROUND(10.499-(((O328-VLOOKUP($A328,Lookups!$A$55:$D$64,3))/(VLOOKUP($A328,Lookups!$A$55:$D$64,4))*VLOOKUP($A328,Lookups!$C$2:$D$11,2))),0)<11,ROUND(10.499-(((O328-VLOOKUP($A328,Lookups!$A$55:$D$64,3))/(VLOOKUP($A328,Lookups!$A$55:$D$64,4))*VLOOKUP($A328,Lookups!$C$2:$D$11,2))),0),10))","v":7},null,{"$f":"VLOOKUP(A328,Lookups!$A$126:$C$135,3)","v":2},{"$f":"VLOOKUP(A328,Lookups!$A$126:$C$135,2)","v":"Food"},"No",0,{"$f":"IF($R328<>3,VLOOKUP($D328,'Points Table A'!$B$3:$F$33,5),VLOOKUP($D328,'Points Table A'!$H$3:$L$33,5))","v":0},{"$f":"IF($R328<>3,VLOOKUP($E328,'Points Table A'!$C$3:$F$33,4),VLOOKUP($E328,'Points Table A'!$I$3:$L$33,4))","v":0},{"$f":"IF($R328<>3,VLOOKUP($F328,'Points Table A'!$D$3:$F$33,3),VLOOKUP($F328,'Points Table A'!$J$3:$L$33,3))","v":0},{"$f":"IF($R328<>3,VLOOKUP($G328,'Points Table A'!$E$3:$F$33,2),VLOOKUP($G328,'Points Table A'!$K$3:$L$33,2))","v":0},0,{"$f":"IF($T328=Lookups!$B$113,VLOOKUP($J328,'Points Table C'!$A$3:$F$11,5),VLOOKUP($U328,'Points Table C'!$B$3:$F$11,4))","v":0},{"$f":"IF($R328=1,0,VLOOKUP($N328,'Points Table C'!$C$3:$E$18,3))","v":0},{"$f":"VLOOKUP($I328,'Points Table C'!$D$3:$E$18,2)","v":0},{"$f":"IF($Z328<Lookups!$C$106,(AA328+AB328+AC328),IF(AA328>=Lookups!$C$120,(AA328+AB328+AC328),AA328+AB328))","v":0}]
["Non-core foods","Enter a food name here","Company name",0,0,0,0,0,0,0,0,0,{"$f":"IF((SUM(D329:L329)=0),\"J\",VLOOKUP(P329,Lookups!$A$1:$B$11,2))","v":"J"},{"$f":"H329+(L329*Lookups!$C$102*H329/100)","v":0},0,{"$f":"IF(ROUND(10.499-(((O329-VLOOKUP($A329,Lookups!$A$55:$D$64,3))/(VLOOKUP($A329,Lookups!$A$55:$D$64,4))*VLOOKUP($A329,Lookups!$C$2:$D$11,2))),0)<1,1,IF(ROUND(10.499-(((O329-VLOOKUP($A329,Lookups!$A$55:$D$64,3))/(VLOOKUP($A329,Lookups!$A$55:$D$64,4))*VLOOKUP($A329,Lookups!$C$2:$D$11,2))),0)<11,ROUND(10.499-(((O329-VLOOKUP($A329,Lookups!$A$55:$D$64,3))/(VLOOKUP($A329,Lookups!$A$55:$D$64,4))*VLOOKUP($A329,Lookups!$C$2:$D$11,2))),0),10))","v":7},null,{"$f":"VLOOKUP(A329,Lookups!$A$126:$C$135,3)","v":2},{"$f":"VLOOKUP(A329,Lookups!$A$126:$C$135,2)","v":"Food"},"No",0,{"$f":"IF($R329<>3,VLOOKUP($D329,'Points Table A'!$B$3:$F$33,5),VLOOKUP($D329,'Points Table A'!$H$3:$L$33,5))","v":0},{"$f":"IF($R329<>3,VLOOKUP($E329,'Points Table A'!$C$3:$F$33,4),VLOOKUP($E329,'Points Table A'!$I$3:$L$33,4))","v":0},{"$f":"IF($R329<>3,VLOOKUP($F329,'Points Table A'!$D$3:$F$33,3),VLOOKUP($F329,'Points Table A'!$J$3:$L$33,3))","v":0},{"$f":"IF($R329<>3,VLOOKUP($G329,'Points Table A'!$E$3:$F$33,2),VLOOKUP($G329,'Points Table A'!$K$3:$L$33,2))","v":0},0,{"$f":"IF($T329=Lookups!$B$113,VLOOKUP($J329,'Points Table C'!$A$3:$F$11,5),VLOOKUP($U329,'Points Table C'!$B$3:$F$11,4))","v":0},{"$f":"IF($R329=1,0,VLOOKUP($N329,'Points Table C'!$C$3:$E$18,3))","v":0},{"$f":"VLOOKUP($I329,'Points Table C'!$D$3:$E$18,2)","v":0},{"$f":"IF($Z329<Lookups!$C$106,(AA329+AB329+AC329),IF(AA329>=Lookups!$C$120,(AA329+AB329+AC329),AA329+AB329))","v":0}]
["Non-core foods","Enter a food name here","Company name",0,0,0,0,0,0,0,0,0,{"$f":"IF((SUM(D330:L330)=0),\"J\",VLOOKUP(P330,Lookups!$A$1:$B$11,2))","v":"J"},{"$f":"H330+(L330*Lookups!$C$102*H330/100)","v":0},0,{"$f":"IF(ROUND(10.499-(((O330-VLOOKUP($A330,Lookups!$A$55:$D$64,3))/(VLOOKUP($A330,Lookups!$A$55:$D$64,4))*VLOOKUP($A330,Lookups!$C$2:$D$11,2))),0)<1,1,IF(ROUND(10.499-(((O330-VLOOKUP($A330,Lookups!$A$55:$D$64,3))/(VLOOKUP($A330,Lookups!$A$55:$D$64,4))*VLOOKUP($A330,Lookups!$C$2:$D$11,2))),0)<11,ROUND(10.499-(((O330-VLOOKUP($A330,Lookups!$A$55:$D$64,3))/(VLOOKUP($A330,Lookups!$A$55:$D$64,4))*VLOOKUP($A330,Lookups!$C$2:$D$11,2))),0),10))","v":7},null,{"$f":"VLOOKUP(A330,Lookups!$A$126:$C$135,3)","v":2},{"$f":"VLOOKUP(A330,Lookups!$A$126:$C$135,2)","v":"Food"},"No",0,{"$f":"IF($R330<>3,VLOOKUP($D330,'Points Table A'!$B$3:$F$33,5),VLOOKUP($D330,'Points Table A'!$H$3:$L$33,5))","v":0},{"$f":"IF($R330<>3,VLOOKUP($E330,'Points Table A'!$C$3:$F$33,4),VLOOKUP($E330,'Points Table A'!$I$3:$L$33,4))","v":0},{"$f":"IF($R330<>3,VLOOKUP($F330,'Points Table A'!$D$3:$F$33,3),VLOOKUP($F330,'Points Table A'!$J$3:$L$33,3))","v":0},{"$f":"IF($R330<>3,VLOOKUP($G330,'Points Table A'!$E$3:$F$33,2),VLOOKUP($G330,'Points Table A'!$K$3:$L$33,2))","v":0},0,{"$f":"IF($T330=Lookups!$B$113,VLOOKUP($J330,'Points Table C'!$A$3:$F$11,5),VLOOKUP($U330,'Points Table C'!$B$3:$F$11,4))","v":0},{"$f":"IF($R330=1,0,VLOOKUP($N330,'Points Table C'!$C$3:$E$18,3))","v":0},{"$f":"VLOOKUP($I330,'Points Table C'!$D$3:$E$18,2)","v":0},{"$f":"IF($Z330<Lookups!$C$106,(AA330+AB330+AC330),IF(AA330>=Lookups!$C$120,(AA330+AB330+AC330),AA330+AB330))","v":0}]
["Non-core foods","Enter a food name here","Company name",0,0,0,0,0,0,0,0,0,{"$f":"IF((SUM(D331:L331)=0),\"J\",VLOOKUP(P331,Lookups!$A$1:$B$11,2))","v":"J"},{"$f":"H331+(L331*Lookups!$C$102*H331/100)","v":0},0,{"$f":"IF(ROUND(10.499-(((O331-VLOOKUP($A331,Lookups!$A$55:$D$64,3))/(VLOOKUP($A331,Lookups!$A$55:$D$64,4))*VLOOKUP($A331,Lookups!$C$2:$D$11,2))),0)<1,1,IF(ROUND(10.499-(((O331-VLOOKUP($A331,Lookups!$A$55:$D$64,3))/(VLOOKUP($A331,Lookups!$A$55:$D$64,4))*VLOOKUP($A331,Lookups!$C$2:$D$11,2))),0)<11,ROUND(10.499-(((O331-VLOOKUP($A331,Lookups!$A$55:$D$64,3))/(VLOOKUP($A331,Lookups!$A$55:$D$64,4))*VLOOKUP($A331,Lookups!$C$2:$D$11,2))),0),10))","v":7},null,{"$f":"VLOOKUP(A331,Lookups!$A$126:$C$135,3)","v":2},{"$f":"VLOOKUP(A331,Lookups!$A$126:$C$135,2)","v":"Food"},"No",0,{"$f":"IF($R331<>3,VLOOKUP($D331,'Points Table A'!$B$3:$F$33,5),VLOOKUP($D331,'Points Table A'!$H$3:$L$33,5))","v":0},{"$f":"IF($R331<>3,VLOOKUP($E331,'Points Table A'!$C$3:$F$33,4),VLOOKUP($E331,'Points Table A'!$I$3:$L$33,4))","v":0},{"$f":"IF($R331<>3,VLOOKUP($F331,'Points Table A'!$D$3:$F$33,3),VLOOKUP($F331,'Points Table A'!$J$3:$L$33,3))","v":0},{"$f":"IF($R331<>3,VLOOKUP($G331,'Points Table A'!$E$3:$F$33,2),VLOOKUP($G331,'Points Table A'!$K$3:$L$33,2))","v":0},0,{"$f":"IF($T331=Lookups!$B$113,VLOOKUP($J331,'Points Table C'!$A$3:$F$11,5),VLOOKUP($U331,'Points Table C'!$B$3:$F$11,4))","v":0},{"$f":"IF($R331=1,0,VLOOKUP($N331,'Points Table C'!$C$3:$E$18,3))","v":0},{"$f":"VLOOKUP($I331,'Points Table C'!$D$3:$E$18,2)","v":0},{"$f":"IF($Z331<Lookups!$C$106,(AA331+AB331+AC331),IF(AA331>=Lookups!$C$120,(AA331+AB331+AC331),AA331+AB331))","v":0}]
["Non-core foods","Enter a food name here","Company name",0,0,0,0,0,0,0,0,0,{"$f":"IF((SUM(D332:L332)=0),\"J\",VLOOKUP(P332,Lookups!$A$1:$B$11,2))","v":"J"},{"$f":"H332+(L332*Lookups!$C$102*H332/100)","v":0},0,{"$f":"IF(ROUND(10.499-(((O332-VLOOKUP($A332,Lookups!$A$55:$D$64,3))/(VLOOKUP($A332,Lookups!$A$55:$D$64,4))*VLOOKUP($A332,Lookups!$C$2:$D$11,2))),0)<1,1,IF(ROUND(10.499-(((O332-VLOOKUP($A332,Lookups!$A$55:$D$64,3))/(VLOOKUP($A332,Lookups!$A$55:$D$64,4))*VLOOKUP($A332,Lookups!$C$2:$D$11,2))),0)<11,ROUND(10.499-(((O332-VLOOKUP($A332,Lookups!$A$55:$D$64,3))/(VLOOKUP($A332,Lookups!$A$55:$D$64,4))*VLOOKUP($A332,Lookups!$C$2:$D$11,2))),0),10))","v":7},null,{"$f":"VLOOKUP(A332,Lookups!$A$126:$C$135,3)","v":2},{"$f":"VLOOKUP(A332,Lookups!$A$126:$C$135,2)","v":"Food"},"No",0,{"$f":"IF($R332<>3,VLOOKUP($D332,'Points Table A'!$B$3:$F$33,5),VLOOKUP($D332,'Points Table A'!$H$3:$L$33,5))","v":0},{"$f":"IF($R332<>3,VLOOKUP($E332,'Points Table A'!$C$3:$F$33,4),VLOOKUP($E332,'Points Table A'!$I$3:$L$33,4))","v":0},{"$f":"IF($R332<>3,VLOOKUP($F332,'Points Table A'!$D$3:$F$33,3),VLOOKUP($F332,'Points Table A'!$J$3:$L$33,3))","v":0},{"$f":"IF($R332<>3,VLOOKUP($G332,'Points Table A'!$E$3:$F$33,2),VLOOKUP($G332,'Points Table A'!$K$3:$L$33,2))","v":0},0,{"$f":"IF($T332=Lookups!$B$113,VLOOKUP($J332,'Points Table C'!$A$3:$F$11,5),VLOOKUP($U332,'Points Table C'!$B$3:$F$11,4))","v":0},{"$f":"IF($R332=1,0,VLOOKUP($N332,'Points Table C'!$C$3:$E$18,3))","v":0},{"$f":"VLOOKUP($I332,'Points Table C'!$D$3:$E$18,2)","v":0},{"$f":"IF($Z332<Lookups!$C$106,(AA332+AB332+AC332),IF(AA332>=Lookups!$C$120,(AA332+AB332+AC332),AA332+AB332))","v":0}]
["Non-core foods","Enter a food name here","Company name",0,0,0,0,0,0,0,0,0,{"$f":"IF((SUM(D333:L333)=0),\"J\",VLOOKUP(P333,Lookups!$A$1:$B$11,2))","v":"J"},{"$f":"H333+(L333*Lookups!$C$102*H333/100)","v":0},0,{"$f":"IF(ROUND(10.499-(((O333-VLOOKUP($A333,Lookups!$A$55:$D$64,3))/(VLOOKUP($A333,Lookups!$A$55:$D$64,4))*VLOOKUP($A333,Lookups!$C$2:$D$11,2))),0)<1,1,IF(ROUND(10.499-(((O333-VLOOKUP($A333,Lookups!$A$55:$D$64,3))/(VLOOKUP($A333,Lookups!$A$55:$D$64,4))*VLOOKUP($A333,Lookups!$C$2:$D$11,2))),0)<11,ROUND(10.499-(((O333-VLOOKUP($A333,Lookups!$A$55:$D$64,3))/(VLOOKUP($A333,Lookups!$A$55:$D$64,4))*VLOOKUP($A333,Lookups!$C$2:$D$11,2))),0),10))","v":7},null,{"$f":"VLOOKUP(A333,Lookups!$A$126:$C$135,3)","v":2},{"$f":"VLOOKUP(A333,Lookups!$A$126:$C$135,2)","v":"Food"},"No",0,{"$f":"IF($R333<>3,VLOOKUP($D333,'Points Table A'!$B$3:$F$33,5),VLOOKUP($D333,'Points Table A'!$H$3:$L$33,5))","v":0},{"$f":"IF($R333<>3,VLOOKUP($E333,'Points Table A'!$C$3:$F$33,4),VLOOKUP($E333,'Points Table A'!$I$3:$L$33,4))","v":0},{"$f":"IF($R333<>3,VLOOKUP($F333,'Points Table A'!$D$3:$F$33,3),VLOOKUP($F333,'Points Table A'!$J$3:$L$33,3))","v":0},{"$f":"IF($R333<>3,VLOOKUP($G333,'Points Table A'!$E$3:$F$33,2),VLOOKUP($G333,'Points Table A'!$K$3:$L$33,2))","v":0},0,{"$f":"IF($T333=Lookups!$B$113,VLOOKUP($J333,'Points Table C'!$A$3:$F$11,5),VLOOKUP($U333,'Points Table C'!$B$3:$F$11,4))","v":0},{"$f":"IF($R333=1,0,VLOOKUP($N333,'Points Table C'!$C$3:$E$18,3))","v":0},{"$f":"VLOOKUP($I333,'Points Table C'!$D$3:$E$18,2)","v":0},{"$f":"IF($Z333<Lookups!$C$106,(AA333+AB333+AC333),IF(AA333>=Lookups!$C$120,(AA333+AB333+AC333),AA333+AB333))","v":0}]
["Non-core foods","Enter a food name here","Company name",0,0,0,0,0,0,0,0,0,{"$f":"IF((SUM(D334:L334)=0),\"J\",VLOOKUP(P334,Lookups!$A$1:$B$11,2))","v":"J"},{"$f":"H334+(L334*Lookups!$C$102*H334/100)","v":0},0,{"$f":"IF(ROUND(10.499-(((O334-VLOOKUP($A334,Lookups!$A$55:$D$64,3))/(VLOOKUP($A334,Lookups!$A$55:$D$64,4))*VLOOKUP($A334,Lookups!$C$2:$D$11,2))),0)<1,1,IF(ROUND(10.499-(((O334-VLOOKUP($A334,Lookups!$A$55:$D$64,3))/(VLOOKUP($A334,Lookups!$A$55:$D$64,4))*VLOOKUP($A334,Lookups!$C$2:$D$11,2))),0)<11,ROUND(10.499-(((O334-VLOOKUP($A334,Lookups!$A$55:$D$64,3))/(VLOOKUP($A334,Lookups!$A$55:$D$64,4))*VLOOKUP($A334,Lookups!$C$2:$D$11,2))),0),10))","v":7},null,{"$f":"VLOOKUP(A334,Lookups!$A$126:$C$135,3)","v":2},{"$f":"VLOOKUP(A334,Lookups!$A$126:$C$135,2)","v":"Food"},"No",0,{"$f":"IF($R334<>3,VLOOKUP($D334,'Points Table A'!$B$3:$F$33,5),VLOOKUP($D334,'Points Table A'!$H$3:$L$33,5))","v":0},{"$f":"IF($R334<>3,VLOOKUP($E334,'Points Table A'!$C$3:$F$33,4),VLOOKUP($E334,'Points Table A'!$I$3:$L$33,4))","v":0},{"$f":"IF($R334<>3,VLOOKUP($F334,'Points Table A'!$D$3:$F$33,3),VLOOKUP($F334,'Points Table A'!$J$3:$L$33,3))","v":0},{"$f":"IF($R334<>3,VLOOKUP($G334,'Points Table A'!$E$3:$F$33,2),VLOOKUP($G334,'Points Table A'!$K$3:$L$33,2))","v":0},0,{"$f":"IF($T334=Lookups!$B$113,VLOOKUP($J334,'Points Table C'!$A$3:$F$11,5),VLOOKUP($U334,'Points Table C'!$B$3:$F$11,4))","v":0},{"$f":"IF($R334=1,0,VLOOKUP($N334,'Points Table C'!$C$3:$E$18,3))","v":0},{"$f":"VLOOKUP($I334,'Points Table C'!$D$3:$E$18,2)","v":0},{"$f":"IF($Z334<Lookups!$C$106,(AA334+AB334+AC334),IF(AA334>=Lookups!$C$120,(AA334+AB334+AC334),AA334+AB334))","v":0}]
["Non-core foods","Enter a food name here","Company name",0,0,0,0,0,0,0,0,0,{"$f":"IF((SUM(D335:L335)=0),\"J\",VLOOKUP(P335,Lookups!$A$1:$B$11,2))","v":"J"},{"$f":"H335+(L335*Lookups!$C$102*H335/100)","v":0},0,{"$f":"IF(ROUND(10.499-(((O335-VLOOKUP($A335,Lookups!$A$55:$D$64,3))/(VLOOKUP($A335,Lookups!$A$55:$D$64,4))*VLOOKUP($A335,Lookups!$C$2:$D$11,2))),0)<1,1,IF(ROUND(10.499-(((O335-VLOOKUP($A335,Lookups!$A$55:$D$64,3))/(VLOOKUP($A335,Lookups!$A$55:$D$64,4))*VLOOKUP($A335,Lookups!$C$2:$D$11,2))),0)<11,ROUND(10.499-(((O335-VLOOKUP($A335,Lookups!$A$55:$D$64,3))/(VLOOKUP($A335,Lookups!$A$55:$D$64,4))*VLOOKUP($A335,Lookups!$C$2:$D$11,2))),0),10))","v":7},null,{"$f":"VLOOKUP(A335,Lookups!$A$126:$C$135,3)","v":2},{"$f":"VLOOKUP(A335,Lookups!$A$126:$C$135,2)","v":"Food"},"No",0,{"$f":"IF($R335<>3,VLOOKUP($D335,'Points Table A'!$B$3:$F$33,5),VLOOKUP($D335,'Points Table A'!$H$3:$L$33,5))","v":0},{"$f":"IF($R335<>3,VLOOKUP($E335,'Points Table A'!$C$3:$F$33,4),VLOOKUP($E335,'Points Table A'!$I$3:$L$33,4))","v":0},{"$f":"IF($R335<>3,VLOOKUP($F335,'Points Table A'!$D$3:$F$33,3),VLOOKUP($F335,'Points Table A'!$J$3:$L$33,3))","v":0},{"$f":"IF($R335<>3,VLOOKUP($G335,'Points Table A'!$E$3:$F$33,2),VLOOKUP($G335,'Points Table A'!$K$3:$L$33,2))","v":0},0,{"$f":"IF($T335=Lookups!$B$113,VLOOKUP($J335,'Points Table C'!$A$3:$F$11,5),VLOOKUP($U335,'Points Table C'!$B$3:$F$11,4))","v":0},{"$f":"IF($R335=1,0,VLOOKUP($N335,'Points Table C'!$C$3:$E$18,3))","v":0},{"$f":"VLOOKUP($I335,'Points Table C'!$D$3:$E$18,2)","v":0},{"$f":"IF($Z335<Lookups!$C$106,(AA335+AB335+AC335),IF(AA335>=Lookups!$C$120,(AA335+AB335+AC335),AA335+AB335))","v":0}]
["Non-core foods","Enter a food name here","Company name",0,0,0,0,0,0,0,0,0,{"$f":"IF((SUM(D336:L336)=0),\"J\",VLOOKUP(P336,Lookups!$A$1:$B$11,2))","v":"J"},{"$f":"H336+(L336*Lookups!$C$102*H336/100)","v":0},0,{"$f":"IF(ROUND(10.499-(((O336-VLOOKUP($A336,Lookups!$A$55:$D$64,3))/(VLOOKUP($A336,Lookups!$A$55:$D$64,4))*VLOOKUP($A336,Lookups!$C$2:$D$11,2))),0)<1,1,IF(ROUND(10.499-(((O336-VLOOKUP($A336,Lookups!$A$55:$D$64,3))/(VLOOKUP($A336,Lookups!$A$55:$D$64,4))*VLOOKUP($A336,Lookups!$C$2:$D$11,2))),0)<11,ROUND(10.499-(((O336-VLOOKUP($A336,Lookups!$A$55:$D$64,3))/(VLOOKUP($A336,Lookups!$A$55:$D$64,4))*VLOOKUP($A336,Lookups!$C$2:$D$11,2))),0),10))","v":7},null,{"$f":"VLOOKUP(A336,Lookups!$A$126:$C$135,3)","v":2},{"$f":"VLOOKUP(A336,Lookups!$A$126:$C$135,2)","v":"Food"},"No",0,{"$f":"IF($R336<>3,VLOOKUP($D336,'Points Table A'!$B$3:$F$33,5),VLOOKUP($D336,'Points Table A'!$H$3:$L$33,5))","v":0},{"$f":"IF($R336<>3,VLOOKUP($E336,'Points Table A'!$C$3:$F$33,4),VLOOKUP($E336,'Points Table A'!$I$3:$L$33,4))","v":0},{"$f":"IF($R336<>3,VLOOKUP($F336,'Points Table A'!$D$3:$F$33,3),VLOOKUP($F336,'Points Table A'!$J$3:$L$33,3))","v":0},{"$f":"IF($R336<>3,VLOOKUP($G336,'Points Table A'!$E$3:$F$33,2),VLOOKUP($G336,'Points Table A'!$K$3:$L$33,2))","v":0},0,{"$f":"IF($T336=Lookups!$B$113,VLOOKUP($J336,'Points Table C'!$A$3:$F$11,5),VLOOKUP($U336,'Points Table C'!$B$3:$F$11,4))","v":0},{"$f":"IF($R336=1,0,VLOOKUP($N336,'Points Table C'!$C$3:$E$18,3))","v":0},{"$f":"VLOOKUP($I336,'Points Table C'!$D$3:$E$18,2)","v":0},{"$f":"IF($Z336<Lookups!$C$106,(AA336+AB336+AC336),IF(AA336>=Lookups!$C$120,(AA336+AB336+AC336),AA336+AB336))","v":0}]
["Non-core foods","Enter a food name here","Company name",0,0,0,0,0,0,0,0,0,{"$f":"IF((SUM(D337:L337)=0),\"J\",VLOOKUP(P337,Lookups!$A$1:$B$11,2))","v":"J"},{"$f":"H337+(L337*Lookups!$C$102*H337/100)","v":0},0,{"$f":"IF(ROUND(10.499-(((O337-VLOOKUP($A337,Lookups!$A$55:$D$64,3))/(VLOOKUP($A337,Lookups!$A$55:$D$64,4))*VLOOKUP($A337,Lookups!$C$2:$D$11,2))),0)<1,1,IF(ROUND(10.499-(((O337-VLOOKUP($A337,Lookups!$A$55:$D$64,3))/(VLOOKUP($A337,Lookups!$A$55:$D$64,4))*VLOOKUP($A337,Lookups!$C$2:$D$11,2))),0)<11,ROUND(10.499-(((O337-VLOOKUP($A337,Lookups!$A$55:$D$64,3))/(VLOOKUP($A337,Lookups!$A$55:$D$64,4))*VLOOKUP($A337,Lookups!$C$2:$D$11,2))),0),10))","v":7},null,{"$f":"VLOOKUP(A337,Lookups!$A$126:$C$135,3)","v":2},{"$f":"VLOOKUP(A337,Lookups!$A$126:$C$135,2)","v":"Food"},"No",0,{"$f":"IF($R337<>3,VLOOKUP($D337,'Points Table A'!$B$3:$F$33,5),VLOOKUP($D337,'Points Table A'!$H$3:$L$33,5))","v":0},{"$f":"IF($R337<>3,VLOOKUP($E337,'Points Table A'!$C$3:$F$33,4),VLOOKUP($E337,'Points Table A'!$I$3:$L$33,4))","v":0},{"$f":"IF($R337<>3,VLOOKUP($F337,'Points Table A'!$D$3:$F$33,3),VLOOKUP($F337,'Points Table A'!$J$3:$L$33,3))","v":0},{"$f":"IF($R337<>3,VLOOKUP($G337,'Points Table A'!$E$3:$F$33,2),VLOOKUP($G337,'Points Table A'!$K$3:$L$33,2))","v":0},0,{"$f":"IF($T337=Lookups!$B$113,VLOOKUP($J337,'Points Table C'!$A$3:$F$11,5),VLOOKUP($U337,'Points Table C'!$B$3:$F$11,4))","v":0},{"$f":"IF($R337=1,0,VLOOKUP($N337,'Points Table C'!$C$3:$E$18,3))","v":0},{"$f":"VLOOKUP($I337,'Points Table C'!$D$3:$E$18,2)","v":0},{"$f":"IF($Z337<Lookups!$C$106,(AA337+AB337+AC337),IF(AA337>=Lookups!$C$120,(AA337+AB337+AC337),AA337+AB337))","v":0}]
["Non-core foods","Enter a food name here","Company name",0,0,0,0,0,0,0,0,0,{"$f":"IF((SUM(D338:L338)=0),\"J\",VLOOKUP(P338,Lookups!$A$1:$B$11,2))","v":"J"},{"$f":"H338+(L338*Lookups!$C$102*H338/100)","v":0},0,{"$f":"IF(ROUND(10.499-(((O338-VLOOKUP($A338,Lookups!$A$55:$D$64,3))/(VLOOKUP($A338,Lookups!$A$55:$D$64,4))*VLOOKUP($A338,Lookups!$C$2:$D$11,2))),0)<1,1,IF(ROUND(10.499-(((O338-VLOOKUP($A338,Lookups!$A$55:$D$64,3))/(VLOOKUP($A338,Lookups!$A$55:$D$64,4))*VLOOKUP($A338,Lookups!$C$2:$D$11,2))),0)<11,ROUND(10.499-(((O338-VLOOKUP($A338,Lookups!$A$55:$D$64,3))/(VLOOKUP($A338,Lookups!$A$55:$D$64,4))*VLOOKUP($A338,Lookups!$C$2:$D$11,2))),0),10))","v":7},null,{"$f":"VLOOKUP(A338,Lookups!$A$126:$C$135,3)","v":2},{"$f":"VLOOKUP(A338,Lookups!$A$126:$C$135,2)","v":"Food"},"No",0,{"$f":"IF($R338<>3,VLOOKUP($D338,'Points Table A'!$B$3:$F$33,5),VLOOKUP($D338,'Points Table A'!$H$3:$L$33,5))","v":0},{"$f":"IF($R338<>3,VLOOKUP($E338,'Points Table A'!$C$3:$F$33,4),VLOOKUP($E338,'Points Table A'!$I$3:$L$33,4))","v":0},{"$f":"IF($R338<>3,VLOOKUP($F338,'Points Table A'!$D$3:$F$33,3),VLOOKUP($F338,'Points Table A'!$J$3:$L$33,3))","v":0},{"$f":"IF($R338<>3,VLOOKUP($G338,'Points Table A'!$E$3:$F$33,2),VLOOKUP($G338,'Points Table A'!$K$3:$L$33,2))","v":0},0,{"$f":"IF($T338=Lookups!$B$113,VLOOKUP($J338,'Points Table C'!$A$3:$F$11,5),VLOOKUP($U338,'Points Table C'!$B$3:$F$11,4))","v":0},{"$f":"IF($R338=1,0,VLOOKUP($N338,'Points Table C'!$C$3:$E$18,3))","v":0},{"$f":"VLOOKUP($I338,'Points Table C'!$D$3:$E$18,2)","v":0},{"$f":"IF($Z338<Lookups!$C$106,(AA338+AB338+AC338),IF(AA338>=Lookups!$C$120,(AA338+AB338+AC338),AA338+AB338))","v":0}]
["Non-core foods","Enter a food name here","Company name",0,0,0,0,0,0,0,0,0,{"$f":"IF((SUM(D339:L339)=0),\"J\",VLOOKUP(P339,Lookups!$A$1:$B$11,2))","v":"J"},{"$f":"H339+(L339*Lookups!$C$102*H339/100)","v":0},0,{"$f":"IF(ROUND(10.499-(((O339-VLOOKUP($A339,Lookups!$A$55:$D$64,3))/(VLOOKUP($A339,Lookups!$A$55:$D$64,4))*VLOOKUP($A339,Lookups!$C$2:$D$11,2))),0)<1,1,IF(ROUND(10.499-(((O339-VLOOKUP($A339,Lookups!$A$55:$D$64,3))/(VLOOKUP($A339,Lookups!$A$55:$D$64,4))*VLOOKUP($A339,Lookups!$C$2:$D$11,2))),0)<11,ROUND(10.499-(((O339-VLOOKUP($A339,Lookups!$A$55:$D$64,3))/(VLOOKUP($A339,Lookups!$A$55:$D$64,4))*VLOOKUP($A339,Lookups!$C$2:$D$11,2))),0),10))","v":7},null,{"$f":"VLOOKUP(A339,Lookups!$A$126:$C$135,3)","v":2},{"$f":"VLOOKUP(A339,Lookups!$A$126:$C$135,2)","v":"Food"},"No",0,{"$f":"IF($R339<>3,VLOOKUP($D339,'Points Table A'!$B$3:$F$33,5),VLOOKUP($D339,'Points Table A'!$H$3:$L$33,5))","v":0},{"$f":"IF($R339<>3,VLOOKUP($E339,'Points Table A'!$C$3:$F$33,4),VLOOKUP($E339,'Points Table A'!$I$3:$L$33,4))","v":0},{"$f":"IF($R339<>3,VLOOKUP($F339,'Points Table A'!$D$3:$F$33,3),VLOOKUP($F339,'Points Table A'!$J$3:$L$33,3))","v":0},{"$f":"IF($R339<>3,VLOOKUP($G339,'Points Table A'!$E$3:$F$33,2),VLOOKUP($G339,'Points Table A'!$K$3:$L$33,2))","v":0},0,{"$f":"IF($T339=Lookups!$B$113,VLOOKUP($J339,'Points Table C'!$A$3:$F$11,5),VLOOKUP($U339,'Points Table C'!$B$3:$F$11,4))","v":0},{"$f":"IF($R339=1,0,VLOOKUP($N339,'Points Table C'!$C$3:$E$18,3))","v":0},{"$f":"VLOOKUP($I339,'Points Table C'!$D$3:$E$18,2)","v":0},{"$f":"IF($Z339<Lookups!$C$106,(AA339+AB339+AC339),IF(AA339>=Lookups!$C$120,(AA339+AB339+AC339),AA339+AB339))","v":0}]
["Non-core foods","Enter a food name here","Company name",0,0,0,0,0,0,0,0,0,{"$f":"IF((SUM(D340:L340)=0),\"J\",VLOOKUP(P340,Lookups!$A$1:$B$11,2))","v":"J"},{"$f":"H340+(L340*Lookups!$C$102*H340/100)","v":0},0,{"$f":"IF(ROUND(10.499-(((O340-VLOOKUP($A340,Lookups!$A$55:$D$64,3))/(VLOOKUP($A340,Lookups!$A$55:$D$64,4))*VLOOKUP($A340,Lookups!$C$2:$D$11,2))),0)<1,1,IF(ROUND(10.499-(((O340-VLOOKUP($A340,Lookups!$A$55:$D$64,3))/(VLOOKUP($A340,Lookups!$A$55:$D$64,4))*VLOOKUP($A340,Lookups!$C$2:$D$11,2))),0)<11,ROUND(10.499-(((O340-VLOOKUP($A340,Lookups!$A$55:$D$64,3))/(VLOOKUP($A340,Lookups!$A$55:$D$64,4))*VLOOKUP($A340,Lookups!$C$2:$D$11,2))),0),10))","v":7},null,{"$f":"VLOOKUP(A340,Lookups!$A$126:$C$135,3)","v":2},{"$f":"VLOOKUP(A340,Lookups!$A$126:$C$135,2)","v":"Food"},"No",0,{"$f":"IF($R340<>3,VLOOKUP($D340,'Points Table A'!$B$3:$F$33,5),VLOOKUP($D340,'Points Table A'!$H$3:$L$33,5))","v":0},{"$f":"IF($R340<>3,VLOOKUP($E340,'Points Table A'!$C$3:$F$33,4),VLOOKUP($E340,'Points Table A'!$I$3:$L$33,4))","v":0},{"$f":"IF($R340<>3,VLOOKUP($F340,'Points Table A'!$D$3:$F$33,3),VLOOKUP($F340,'Points Table A'!$J$3:$L$33,3))","v":0},{"$f":"IF($R340<>3,VLOOKUP($G340,'Points Table A'!$E$3:$F$33,2),VLOOKUP($G340,'Points Table A'!$K$3:$L$33,2))","v":0},0,{"$f":"IF($T340=Lookups!$B$113,VLOOKUP($J340,'Points Table C'!$A$3:$F$11,5),VLOOKUP($U340,'Points Table C'!$B$3:$F$11,4))","v":0},{"$f":"IF($R340=1,0,VLOOKUP($N340,'Points Table C'!$C$3:$E$18,3))","v":0},{"$f":"VLOOKUP($I340,'Points Table C'!$D$3:$E$18,2)","v":0},{"$f":"IF($Z340<Lookups!$C$106,(AA340+AB340+AC340),IF(AA340>=Lookups!$C$120,(AA340+AB340+AC340),AA340+AB340))","v":0}]
["Non-core foods","Enter a food name here","Company name",0,0,0,0,0,0,0,0,0,{"$f":"IF((SUM(D341:L341)=0),\"J\",VLOOKUP(P341,Lookups!$A$1:$B$11,2))","v":"J"},{"$f":"H341+(L341*Lookups!$C$102*H341/100)","v":0},0,{"$f":"IF(ROUND(10.499-(((O341-VLOOKUP($A341,Lookups!$A$55:$D$64,3))/(VLOOKUP($A341,Lookups!$A$55:$D$64,4))*VLOOKUP($A341,Lookups!$C$2:$D$11,2))),0)<1,1,IF(ROUND(10.499-(((O341-VLOOKUP($A341,Lookups!$A$55:$D$64,3))/(VLOOKUP($A341,Lookups!$A$55:$D$64,4))*VLOOKUP($A341,Lookups!$C$2:$D$11,2))),0)<11,ROUND(10.499-(((O341-VLOOKUP($A341,Lookups!$A$55:$D$64,3))/(VLOOKUP($A341,Lookups!$A$55:$D$64,4))*VLOOKUP($A341,Lookups!$C$2:$D$11,2))),0),10))","v":7},null,{"$f":"VLOOKUP(A341,Lookups!$A$126:$C$135,3)","v":2},{"$f":"VLOOKUP(A341,Lookups!$A$126:$C$135,2)","v":"Food"},"No",0,{"$f":"IF($R341<>3,VLOOKUP($D341,'Points Table A'!$B$3:$F$33,5),VLOOKUP($D341,'Points Table A'!$H$3:$L$33,5))","v":0},{"$f":"IF($R341<>3,VLOOKUP($E341,'Points Table A'!$C$3:$F$33,4),VLOOKUP($E341,'Points Table A'!$I$3:$L$33,4))","v":0},{"$f":"IF($R341<>3,VLOOKUP($F341,'Points Table A'!$D$3:$F$33,3),VLOOKUP($F341,'Points Table A'!$J$3:$L$33,3))","v":0},{"$f":"IF($R341<>3,VLOOKUP($G341,'Points Table A'!$E$3:$F$33,2),VLOOKUP($G341,'Points Table A'!$K$3:$L$33,2))","v":0},0,{"$f":"IF($T341=Lookups!$B$113,VLOOKUP($J341,'Points Table C'!$A$3:$F$11,5),VLOOKUP($U341,'Points Table C'!$B$3:$F$11,4))","v":0},{"$f":"IF($R341=1,0,VLOOKUP($N341,'Points Table C'!$C$3:$E$18,3))","v":0},{"$f":"VLOOKUP($I341,'Points Table C'!$D$3:$E$18,2)","v":0},{"$f":"IF($Z341<Lookups!$C$106,(AA341+AB341+AC341),IF(AA341>=Lookups!$C$120,(AA341+AB341+AC341),AA341+AB341))","v":0}]
["Non-core foods","Enter a food name here","Company name",0,0,0,0,0,0,0,0,0,{"$f":"IF((SUM(D342:L342)=0),\"J\",VLOOKUP(P342,Lookups!$A$1:$B$11,2))","v":"J"},{"$f":"H342+(L342*Lookups!$C$102*H342/100)","v":0},0,{"$f":"IF(ROUND(10.499-(((O342-VLOOKUP($A342,Lookups!$A$55:$D$64,3))/(VLOOKUP($A342,Lookups!$A$55:$D$64,4))*VLOOKUP($A342,Lookups!$C$2:$D$11,2))),0)<1,1,IF(ROUND(10.499-(((O342-VLOOKUP($A342,Lookups!$A$55:$D$64,3))/(VLOOKUP($A342,Lookups!$A$55:$D$64,4))*VLOOKUP($A342,Lookups!$C$2:$D$11,2))),0)<11,ROUND(10.499-(((O342-VLOOKUP($A342,Lookups!$A$55:$D$64,3))/(VLOOKUP($A342,Lookups!$A$55:$D$64,4))*VLOOKUP($A342,Lookups!$C$2:$D$11,2))),0),10))","v":7},null,{"$f":"VLOOKUP(A342,Lookups!$A$126:$C$135,3)","v":2},{"$f":"VLOOKUP(A342,Lookups!$A$126:$C$135,2)","v":"Food"},"No",0,{"$f":"IF($R342<>3,VLOOKUP($D342,'Points Table A'!$B$3:$F$33,5),VLOOKUP($D342,'Points Table A'!$H$3:$L$33,5))","v":0},{"$f":"IF($R342<>3,VLOOKUP($E342,'Points Table A'!$C$3:$F$33,4),VLOOKUP($E342,'Points Table A'!$I$3:$L$33,4))","v":0},{"$f":"IF($R342<>3,VLOOKUP($F342,'Points Table A'!$D$3:$F$33,3),VLOOKUP($F342,'Points Table A'!$J$3:$L$33,3))","v":0},{"$f":"IF($R342<>3,VLOOKUP($G342,'Points Table A'!$E$3:$F$33,2),VLOOKUP($G342,'Points Table A'!$K$3:$L$33,2))","v":0},0,{"$f":"IF($T342=Lookups!$B$113,VLOOKUP($J342,'Points Table C'!$A$3:$F$11,5),VLOOKUP($U342,'Points Table C'!$B$3:$F$11,4))","v":0},{"$f":"IF($R342=1,0,VLOOKUP($N342,'Points Table C'!$C$3:$E$18,3))","v":0},{"$f":"VLOOKUP($I342,'Points Table C'!$D$3:$E$18,2)","v":0},{"$f":"IF($Z342<Lookups!$C$106,(AA342+AB342+AC342),IF(AA342>=Lookups!$C$120,(AA342+AB342+AC342),AA342+AB342))","v":0}]
["Non-core foods","Enter a food name here","Company name",0,0,0,0,0,0,0,0,0,{"$f":"IF((SUM(D343:L343)=0),\"J\",VLOOKUP(P343,Lookups!$A$1:$B$11,2))","v":"J"},{"$f":"H343+(L343*Lookups!$C$102*H343/100)","v":0},0,{"$f":"IF(ROUND(10.499-(((O343-VLOOKUP($A343,Lookups!$A$55:$D$64,3))/(VLOOKUP($A343,Lookups!$A$55:$D$64,4))*VLOOKUP($A343,Lookups!$C$2:$D$11,2))),0)<1,1,IF(ROUND(10.499-(((O343-VLOOKUP($A343,Lookups!$A$55:$D$64,3))/(VLOOKUP($A343,Lookups!$A$55:$D$64,4))*VLOOKUP($A343,Lookups!$C$2:$D$11,2))),0)<11,ROUND(10.499-(((O343-VLOOKUP($A343,Lookups!$A$55:$D$64,3))/(VLOOKUP($A343,Lookups!$A$55:$D$64,4))*VLOOKUP($A343,Lookups!$C$2:$D$11,2))),0),10))","v":7},null,{"$f":"VLOOKUP(A343,Lookups!$A$126:$C$135,3)","v":2},{"$f":"VLOOKUP(A343,Lookups!$A$126:$C$135,2)","v":"Food"},"No",0,{"$f":"IF($R343<>3,VLOOKUP($D343,'Points Table A'!$B$3:$F$33,5),VLOOKUP($D343,'Points Table A'!$H$3:$L$33,5))","v":0},{"$f":"IF($R343<>3,VLOOKUP($E343,'Points Table A'!$C$3:$F$33,4),VLOOKUP($E343,'Points Table A'!$I$3:$L$33,4))","v":0},{"$f":"IF($R343<>3,VLOOKUP($F343,'Points Table A'!$D$3:$F$33,3),VLOOKUP($F343,'Points Table A'!$J$3:$L$33,3))","v":0},{"$f":"IF($R343<>3,VLOOKUP($G343,'Points Table A'!$E$3:$F$33,2),VLOOKUP($G343,'Points Table A'!$K$3:$L$33,2))","v":0},0,{"$f":"IF($T343=Lookups!$B$113,VLOOKUP($J343,'Points Table C'!$A$3:$F$11,5),VLOOKUP($U343,'Points Table C'!$B$3:$F$11,4))","v":0},{"$f":"IF($R343=1,0,VLOOKUP($N343,'Points Table C'!$C$3:$E$18,3))","v":0},{"$f":"VLOOKUP($I343,'Points Table C'!$D$3:$E$18,2)","v":0},{"$f":"IF($Z343<Lookups!$C$106,(AA343+AB343+AC343),IF(AA343>=Lookups!$C$120,(AA343+AB343+AC343),AA343+AB343))","v":0}]
["Non-core foods","Enter a food name here","Company name",0,0,0,0,0,0,0,0,0,{"$f":"IF((SUM(D344:L344)=0),\"J\",VLOOKUP(P344,Lookups!$A$1:$B$11,2))","v":"J"},{"$f":"H344+(L344*Lookups!$C$102*H344/100)","v":0},0,{"$f":"IF(ROUND(10.499-(((O344-VLOOKUP($A344,Lookups!$A$55:$D$64,3))/(VLOOKUP($A344,Lookups!$A$55:$D$64,4))*VLOOKUP($A344,Lookups!$C$2:$D$11,2))),0)<1,1,IF(ROUND(10.499-(((O344-VLOOKUP($A344,Lookups!$A$55:$D$64,3))/(VLOOKUP($A344,Lookups!$A$55:$D$64,4))*VLOOKUP($A344,Lookups!$C$2:$D$11,2))),0)<11,ROUND(10.499-(((O344-VLOOKUP($A344,Lookups!$A$55:$D$64,3))/(VLOOKUP($A344,Lookups!$A$55:$D$64,4))*VLOOKUP($A344,Lookups!$C$2:$D$11,2))),0),10))","v":7},null,{"$f":"VLOOKUP(A344,Lookups!$A$126:$C$135,3)","v":2},{"$f":"VLOOKUP(A344,Lookups!$A$126:$C$135,2)","v":"Food"},"No",0,{"$f":"IF($R344<>3,VLOOKUP($D344,'Points Table A'!$B$3:$F$33,5),VLOOKUP($D344,'Points Table A'!$H$3:$L$33,5))","v":0},{"$f":"IF($R344<>3,VLOOKUP($E344,'Points Table A'!$C$3:$F$33,4),VLOOKUP($E344,'Points Table A'!$I$3:$L$33,4))","v":0},{"$f":"IF($R344<>3,VLOOKUP($F344,'Points Table A'!$D$3:$F$33,3),VLOOKUP($F344,'Points Table A'!$J$3:$L$33,3))","v":0},{"$f":"IF($R344<>3,VLOOKUP($G344,'Points Table A'!$E$3:$F$33,2),VLOOKUP($G344,'Points Table A'!$K$3:$L$33,2))","v":0},0,{"$f":"IF($T344=Lookups!$B$113,VLOOKUP($J344,'Points Table C'!$A$3:$F$11,5),VLOOKUP($U344,'Points Table C'!$B$3:$F$11,4))","v":0},{"$f":"IF($R344=1,0,VLOOKUP($N344,'Points Table C'!$C$3:$E$18,3))","v":0},{"$f":"VLOOKUP($I344,'Points Table C'!$D$3:$E$18,2)","v":0},{"$f":"IF($Z344<Lookups!$C$106,(AA344+AB344+AC344),IF(AA344>=Lookups!$C$120,(AA344+AB344+AC344),AA344+AB344))","v":0}]
["Non-core foods","Enter a food name here","Company name",0,0,0,0,0,0,0,0,0,{"$f":"IF((SUM(D345:L345)=0),\"J\",VLOOKUP(P345,Lookups!$A$1:$B$11,2))","v":"J"},{"$f":"H345+(L345*Lookups!$C$102*H345/100)","v":0},0,{"$f":"IF(ROUND(10.499-(((O345-VLOOKUP($A345,Lookups!$A$55:$D$64,3))/(VLOOKUP($A345,Lookups!$A$55:$D$64,4))*VLOOKUP($A345,Lookups!$C$2:$D$11,2))),0)<1,1,IF(ROUND(10.499-(((O345-VLOOKUP($A345,Lookups!$A$55:$D$64,3))/(VLOOKUP($A345,Lookups!$A$55:$D$64,4))*VLOOKUP($A345,Lookups!$C$2:$D$11,2))),0)<11,ROUND(10.499-(((O345-VLOOKUP($A345,Lookups!$A$55:$D$64,3))/(VLOOKUP($A345,Lookups!$A$55:$D$64,4))*VLOOKUP($A345,Lookups!$C$2:$D$11,2))),0),10))","v":7},null,{"$f":"VLOOKUP(A345,Lookups!$A$126:$C$135,3)","v":2},{"$f":"VLOOKUP(A345,Lookups!$A$126:$C$135,2)","v":"Food"},"No",0,{"$f":"IF($R345<>3,VLOOKUP($D345,'Points Table A'!$B$3:$F$33,5),VLOOKUP($D345,'Points Table A'!$H$3:$L$33,5))","v":0},{"$f":"IF($R345<>3,VLOOKUP($E345,'Points Table A'!$C$3:$F$33,4),VLOOKUP($E345,'Points Table A'!$I$3:$L$33,4))","v":0},{"$f":"IF($R345<>3,VLOOKUP($F345,'Points Table A'!$D$3:$F$33,3),VLOOKUP($F345,'Points Table A'!$J$3:$L$33,3))","v":0},{"$f":"IF($R345<>3,VLOOKUP($G345,'Points Table A'!$E$3:$F$33,2),VLOOKUP($G345,'Points Table A'!$K$3:$L$33,2))","v":0},0,{"$f":"IF($T345=Lookups!$B$113,VLOOKUP($J345,'Points Table C'!$A$3:$F$11,5),VLOOKUP($U345,'Points Table C'!$B$3:$F$11,4))","v":0},{"$f":"IF($R345=1,0,VLOOKUP($N345,'Points Table C'!$C$3:$E$18,3))","v":0},{"$f":"VLOOKUP($I345,'Points Table C'!$D$3:$E$18,2)","v":0},{"$f":"IF($Z345<Lookups!$C$106,(AA345+AB345+AC345),IF(AA345>=Lookups!$C$120,(AA345+AB345+AC345),AA345+AB345))","v":0}]
["Non-core foods","Enter a food name here","Company name",0,0,0,0,0,0,0,0,0,{"$f":"IF((SUM(D346:L346)=0),\"J\",VLOOKUP(P346,Lookups!$A$1:$B$11,2))","v":"J"},{"$f":"H346+(L346*Lookups!$C$102*H346/100)","v":0},0,{"$f":"IF(ROUND(10.499-(((O346-VLOOKUP($A346,Lookups!$A$55:$D$64,3))/(VLOOKUP($A346,Lookups!$A$55:$D$64,4))*VLOOKUP($A346,Lookups!$C$2:$D$11,2))),0)<1,1,IF(ROUND(10.499-(((O346-VLOOKUP($A346,Lookups!$A$55:$D$64,3))/(VLOOKUP($A346,Lookups!$A$55:$D$64,4))*VLOOKUP($A346,Lookups!$C$2:$D$11,2))),0)<11,ROUND(10.499-(((O346-VLOOKUP($A346,Lookups!$A$55:$D$64,3))/(VLOOKUP($A346,Lookups!$A$55:$D$64,4))*VLOOKUP($A346,Lookups!$C$2:$D$11,2))),0),10))","v":7},null,{"$f":"VLOOKUP(A346,Lookups!$A$126:$C$135,3)","v":2},{"$f":"VLOOKUP(A346,Lookups!$A$126:$C$135,2)","v":"Food"},"No",0,{"$f":"IF($R346<>3,VLOOKUP($D346,'Points Table A'!$B$3:$F$33,5),VLOOKUP($D346,'Points Table A'!$H$3:$L$33,5))","v":0},{"$f":"IF($R346<>3,VLOOKUP($E346,'Points Table A'!$C$3:$F$33,4),VLOOKUP($E346,'Points Table A'!$I$3:$L$33,4))","v":0},{"$f":"IF($R346<>3,VLOOKUP($F346,'Points Table A'!$D$3:$F$33,3),VLOOKUP($F346,'Points Table A'!$J$3:$L$33,3))","v":0},{"$f":"IF($R346<>3,VLOOKUP($G346,'Points Table A'!$E$3:$F$33,2),VLOOKUP($G346,'Points Table A'!$K$3:$L$33,2))","v":0},0,{"$f":"IF($T346=Lookups!$B$113,VLOOKUP($J346,'Points Table C'!$A$3:$F$11,5),VLOOKUP($U346,'Points Table C'!$B$3:$F$11,4))","v":0},{"$f":"IF($R346=1,0,VLOOKUP($N346,'Points Table C'!$C$3:$E$18,3))","v":0},{"$f":"VLOOKUP($I346,'Points Table C'!$D$3:$E$18,2)","v":0},{"$f":"IF($Z346<Lookups!$C$106,(AA346+AB346+AC346),IF(AA346>=Lookups!$C$120,(AA346+AB346+AC346),AA346+AB346))","v":0}]
["Non-core foods","Enter a food name here","Company name",0,0,0,0,0,0,0,0,0,{"$f":"IF((SUM(D347:L347)=0),\"J\",VLOOKUP(P347,Lookups!$A$1:$B$11,2))","v":"J"},{"$f":"H347+(L347*Lookups!$C$102*H347/100)","v":0},0,{"$f":"IF(ROUND(10.499-(((O347-VLOOKUP($A347,Lookups!$A$55:$D$64,3))/(VLOOKUP($A347,Lookups!$A$55:$D$64,4))*VLOOKUP($A347,Lookups!$C$2:$D$11,2))),0)<1,1,IF(ROUND(10.499-(((O347-VLOOKUP($A347,Lookups!$A$55:$D$64,3))/(VLOOKUP($A347,Lookups!$A$55:$D$64,4))*VLOOKUP($A347,Lookups!$C$2:$D$11,2))),0)<11,ROUND(10.499-(((O347-VLOOKUP($A347,Lookups!$A$55:$D$64,3))/(VLOOKUP($A347,Lookups!$A$55:$D$64,4))*VLOOKUP($A347,Lookups!$C$2:$D$11,2))),0),10))","v":7},null,{"$f":"VLOOKUP(A347,Lookups!$A$126:$C$135,3)","v":2},{"$f":"VLOOKUP(A347,Lookups!$A$126:$C$135,2)","v":"Food"},"No",0,{"$f":"IF($R347<>3,VLOOKUP($D347,'Points Table A'!$B$3:$F$33,5),VLOOKUP($D347,'Points Table A'!$H$3:$L$33,5))","v":0},{"$f":"IF($R347<>3,VLOOKUP($E347,'Points Table A'!$C$3:$F$33,4),VLOOKUP($E347,'Points Table A'!$I$3:$L$33,4))","v":0},{"$f":"IF($R347<>3,VLOOKUP($F347,'Points Table A'!$D$3:$F$33,3),VLOOKUP($F347,'Points Table A'!$J$3:$L$33,3))","v":0},{"$f":"IF($R347<>3,VLOOKUP($G347,'Points Table A'!$E$3:$F$33,2),VLOOKUP($G347,'Points Table A'!$K$3:$L$33,2))","v":0},0,{"$f":"IF($T347=Lookups!$B$113,VLOOKUP($J347,'Points Table C'!$A$3:$F$11,5),VLOOKUP($U347,'Points Table C'!$B$3:$F$11,4))","v":0},{"$f":"IF($R347=1,0,VLOOKUP($N347,'Points Table C'!$C$3:$E$18,3))","v":0},{"$f":"VLOOKUP($I347,'Points Table C'!$D$3:$E$18,2)","v":0},{"$f":"IF($Z347<Lookups!$C$106,(AA347+AB347+AC347),IF(AA347>=Lookups!$C$120,(AA347+AB347+AC347),AA347+AB347))","v":0}]
["Non-core foods","Enter a food name here","Company name",0,0,0,0,0,0,0,0,0,{"$f":"IF((SUM(D348:L348)=0),\"J\",VLOOKUP(P348,Lookups!$A$1:$B$11,2))","v":"J"},{"$f":"H348+(L348*Lookups!$C$102*H348/100)","v":0},0,{"$f":"IF(ROUND(10.499-(((O348-VLOOKUP($A348,Lookups!$A$55:$D$64,3))/(VLOOKUP($A348,Lookups!$A$55:$D$64,4))*VLOOKUP($A348,Lookups!$C$2:$D$11,2))),0)<1,1,IF(ROUND(10.499-(((O348-VLOOKUP($A348,Lookups!$A$55:$D$64,3))/(VLOOKUP($A348,Lookups!$A$55:$D$64,4))*VLOOKUP($A348,Lookups!$C$2:$D$11,2))),0)<11,ROUND(10.499-(((O348-VLOOKUP($A348,Lookups!$A$55:$D$64,3))/(VLOOKUP($A348,Lookups!$A$55:$D$64,4))*VLOOKUP($A348,Lookups!$C$2:$D$11,2))),0),10))","v":7},null,{"$f":"VLOOKUP(A348,Lookups!$A$126:$C$135,3)","v":2},{"$f":"VLOOKUP(A348,Lookups!$A$126:$C$135,2)","v":"Food"},"No",0,{"$f":"IF($R348<>3,VLOOKUP($D348,'Points Table A'!$B$3:$F$33,5),VLOOKUP($D348,'Points Table A'!$H$3:$L$33,5))","v":0},{"$f":"IF($R348<>3,VLOOKUP($E348,'Points Table A'!$C$3:$F$33,4),VLOOKUP($E348,'Points Table A'!$I$3:$L$33,4))","v":0},{"$f":"IF($R348<>3,VLOOKUP($F348,'Points Table A'!$D$3:$F$33,3),VLOOKUP($F348,'Points Table A'!$J$3:$L$33,3))","v":0},{"$f":"IF($R348<>3,VLOOKUP($G348,'Points Table A'!$E$3:$F$33,2),VLOOKUP($G348,'Points Table A'!$K$3:$L$33,2))","v":0},0,{"$f":"IF($T348=Lookups!$B$113,VLOOKUP($J348,'Points Table C'!$A$3:$F$11,5),VLOOKUP($U348,'Points Table C'!$B$3:$F$11,4))","v":0},{"$f":"IF($R348=1,0,VLOOKUP($N348,'Points Table C'!$C$3:$E$18,3))","v":0},{"$f":"VLOOKUP($I348,'Points Table C'!$D$3:$E$18,2)","v":0},{"$f":"IF($Z348<Lookups!$C$106,(AA348+AB348+AC348),IF(AA348>=Lookups!$C$120,(AA348+AB348+AC348),AA348+AB348))","v":0}]
["Non-core foods","Enter a food name here","Company name",0,0,0,0,0,0,0,0,0,{"$f":"IF((SUM(D349:L349)=0),\"J\",VLOOKUP(P349,Lookups!$A$1:$B$11,2))","v":"J"},{"$f":"H349+(L349*Lookups!$C$102*H349/100)","v":0},0,{"$f":"IF(ROUND(10.499-(((O349-VLOOKUP($A349,Lookups!$A$55:$D$64,3))/(VLOOKUP($A349,Lookups!$A$55:$D$64,4))*VLOOKUP($A349,Lookups!$C$2:$D$11,2))),0)<1,1,IF(ROUND(10.499-(((O349-VLOOKUP($A349,Lookups!$A$55:$D$64,3))/(VLOOKUP($A349,Lookups!$A$55:$D$64,4))*VLOOKUP($A349,Lookups!$C$2:$D$11,2))),0)<11,ROUND(10.499-(((O349-VLOOKUP($A349,Lookups!$A$55:$D$64,3))/(VLOOKUP($A349,Lookups!$A$55:$D$64,4))*VLOOKUP($A349,Lookups!$C$2:$D$11,2))),0),10))","v":7},null,{"$f":"VLOOKUP(A349,Lookups!$A$126:$C$135,3)","v":2},{"$f":"VLOOKUP(A349,Lookups!$A$126:$C$135,2)","v":"Food"},"No",0,{"$f":"IF($R349<>3,VLOOKUP($D349,'Points Table A'!$B$3:$F$33,5),VLOOKUP($D349,'Points Table A'!$H$3:$L$33,5))","v":0},{"$f":"IF($R349<>3,VLOOKUP($E349,'Points Table A'!$C$3:$F$33,4),VLOOKUP($E349,'Points Table A'!$I$3:$L$33,4))","v":0},{"$f":"IF($R349<>3,VLOOKUP($F349,'Points Table A'!$D$3:$F$33,3),VLOOKUP($F349,'Points Table A'!$J$3:$L$33,3))","v":0},{"$f":"IF($R349<>3,VLOOKUP($G349,'Points Table A'!$E$3:$F$33,2),VLOOKUP($G349,'Points Table A'!$K$3:$L$33,2))","v":0},0,{"$f":"IF($T349=Lookups!$B$113,VLOOKUP($J349,'Points Table C'!$A$3:$F$11,5),VLOOKUP($U349,'Points Table C'!$B$3:$F$11,4))","v":0},{"$f":"IF($R349=1,0,VLOOKUP($N349,'Points Table C'!$C$3:$E$18,3))","v":0},{"$f":"VLOOKUP($I349,'Points Table C'!$D$3:$E$18,2)","v":0},{"$f":"IF($Z349<Lookups!$C$106,(AA349+AB349+AC349),IF(AA349>=Lookups!$C$120,(AA349+AB349+AC349),AA349+AB349))","v":0}]
["Non-core foods","Enter a food name here","Company name",0,0,0,0,0,0,0,0,0,{"$f":"IF((SUM(D350:L350)=0),\"J\",VLOOKUP(P350,Lookups!$A$1:$B$11,2))","v":"J"},{"$f":"H350+(L350*Lookups!$C$102*H350/100)","v":0},0,{"$f":"IF(ROUND(10.499-(((O350-VLOOKUP($A350,Lookups!$A$55:$D$64,3))/(VLOOKUP($A350,Lookups!$A$55:$D$64,4))*VLOOKUP($A350,Lookups!$C$2:$D$11,2))),0)<1,1,IF(ROUND(10.499-(((O350-VLOOKUP($A350,Lookups!$A$55:$D$64,3))/(VLOOKUP($A350,Lookups!$A$55:$D$64,4))*VLOOKUP($A350,Lookups!$C$2:$D$11,2))),0)<11,ROUND(10.499-(((O350-VLOOKUP($A350,Lookups!$A$55:$D$64,3))/(VLOOKUP($A350,Lookups!$A$55:$D$64,4))*VLOOKUP($A350,Lookups!$C$2:$D$11,2))),0),10))","v":7},null,{"$f":"VLOOKUP(A350,Lookups!$A$126:$C$135,3)","v":2},{"$f":"VLOOKUP(A350,Lookups!$A$126:$C$135,2)","v":"Food"},"No",0,{"$f":"IF($R350<>3,VLOOKUP($D350,'Points Table A'!$B$3:$F$33,5),VLOOKUP($D350,'Points Table A'!$H$3:$L$33,5))","v":0},{"$f":"IF($R350<>3,VLOOKUP($E350,'Points Table A'!$C$3:$F$33,4),VLOOKUP($E350,'Points Table A'!$I$3:$L$33,4))","v":0},{"$f":"IF($R350<>3,VLOOKUP($F350,'Points Table A'!$D$3:$F$33,3),VLOOKUP($F350,'Points Table A'!$J$3:$L$33,3))","v":0},{"$f":"IF($R350<>3,VLOOKUP($G350,'Points Table A'!$E$3:$F$33,2),VLOOKUP($G350,'Points Table A'!$K$3:$L$33,2))","v":0},0,{"$f":"IF($T350=Lookups!$B$113,VLOOKUP($J350,'Points Table C'!$A$3:$F$11,5),VLOOKUP($U350,'Points Table C'!$B$3:$F$11,4))","v":0},{"$f":"IF($R350=1,0,VLOOKUP($N350,'Points Table C'!$C$3:$E$18,3))","v":0},{"$f":"VLOOKUP($I350,'Points Table C'!$D$3:$E$18,2)","v":0},{"$f":"IF($Z350<Lookups!$C$106,(AA350+AB350+AC350),IF(AA350>=Lookups!$C$120,(AA350+AB350+AC350),AA350+AB350))","v":0}]
["Non-core foods","Enter a food name here","Company name",0,0,0,0,0,0,0,0,0,{"$f":"IF((SUM(D351:L351)=0),\"J\",VLOOKUP(P351,Lookups!$A$1:$B$11,2))","v":"J"},{"$f":"H351+(L351*Lookups!$C$102*H351/100)","v":0},0,{"$f":"IF(ROUND(10.499-(((O351-VLOOKUP($A351,Lookups!$A$55:$D$64,3))/(VLOOKUP($A351,Lookups!$A$55:$D$64,4))*VLOOKUP($A351,Lookups!$C$2:$D$11,2))),0)<1,1,IF(ROUND(10.499-(((O351-VLOOKUP($A351,Lookups!$A$55:$D$64,3))/(VLOOKUP($A351,Lookups!$A$55:$D$64,4))*VLOOKUP($A351,Lookups!$C$2:$D$11,2))),0)<11,ROUND(10.499-(((O351-VLOOKUP($A351,Lookups!$A$55:$D$64,3))/(VLOOKUP($A351,Lookups!$A$55:$D$64,4))*VLOOKUP($A351,Lookups!$C$2:$D$11,2))),0),10))","v":7},null,{"$f":"VLOOKUP(A351,Lookups!$A$126:$C$135,3)","v":2},{"$f":"VLOOKUP(A351,Lookups!$A$126:$C$135,2)","v":"Food"},"No",0,{"$f":"IF($R351<>3,VLOOKUP($D351,'Points Table A'!$B$3:$F$33,5),VLOOKUP($D351,'Points Table A'!$H$3:$L$33,5))","v":0},{"$f":"IF($R351<>3,VLOOKUP($E351,'Points Table A'!$C$3:$F$33,4),VLOOKUP($E351,'Points Table A'!$I$3:$L$33,4))","v":0},{"$f":"IF($R351<>3,VLOOKUP($F351,'Points Table A'!$D$3:$F$33,3),VLOOKUP($F351,'Points Table A'!$J$3:$L$33,3))","v":0},{"$f":"IF($R351<>3,VLOOKUP($G351,'Points Table A'!$E$3:$F$33,2),VLOOKUP($G351,'Points Table A'!$K$3:$L$33,2))","v":0},0,{"$f":"IF($T351=Lookups!$B$113,VLOOKUP($J351,'Points Table C'!$A$3:$F$11,5),VLOOKUP($U351,'Points Table C'!$B$3:$F$11,4))","v":0},{"$f":"IF($R351=1,0,VLOOKUP($N351,'Points Table C'!$C$3:$E$18,3))","v":0},{"$f":"VLOOKUP($I351,'Points Table C'!$D$3:$E$18,2)","v":0},{"$f":"IF($Z351<Lookups!$C$106,(AA351+AB351+AC351),IF(AA351>=Lookups!$C$120,(AA351+AB351+AC351),AA351+AB351))","v":0}]
["Non-core foods","Enter a food name here","Company name",0,0,0,0,0,0,0,0,0,{"$f":"IF((SUM(D352:L352)=0),\"J\",VLOOKUP(P352,Lookups!$A$1:$B$11,2))","v":"J"},{"$f":"H352+(L352*Lookups!$C$102*H352/100)","v":0},0,{"$f":"IF(ROUND(10.499-(((O352-VLOOKUP($A352,Lookups!$A$55:$D$64,3))/(VLOOKUP($A352,Lookups!$A$55:$D$64,4))*VLOOKUP($A352,Lookups!$C$2:$D$11,2))),0)<1,1,IF(ROUND(10.499-(((O352-VLOOKUP($A352,Lookups!$A$55:$D$64,3))/(VLOOKUP($A352,Lookups!$A$55:$D$64,4))*VLOOKUP($A352,Lookups!$C$2:$D$11,2))),0)<11,ROUND(10.499-(((O352-VLOOKUP($A352,Lookups!$A$55:$D$64,3))/(VLOOKUP($A352,Lookups!$A$55:$D$64,4))*VLOOKUP($A352,Lookups!$C$2:$D$11,2))),0),10))","v":7},null,{"$f":"VLOOKUP(A352,Lookups!$A$126:$C$135,3)","v":2},{"$f":"VLOOKUP(A352,Lookups!$A$126:$C$135,2)","v":"Food"},"No",0,{"$f":"IF($R352<>3,VLOOKUP($D352,'Points Table A'!$B$3:$F$33,5),VLOOKUP($D352,'Points Table A'!$H$3:$L$33,5))","v":0},{"$f":"IF($R352<>3,VLOOKUP($E352,'Points Table A'!$C$3:$F$33,4),VLOOKUP($E352,'Points Table A'!$I$3:$L$33,4))","v":0},{"$f":"IF($R352<>3,VLOOKUP($F352,'Points Table A'!$D$3:$F$33,3),VLOOKUP($F352,'Points Table A'!$J$3:$L$33,3))","v":0},{"$f":"IF($R352<>3,VLOOKUP($G352,'Points Table A'!$E$3:$F$33,2),VLOOKUP($G352,'Points Table A'!$K$3:$L$33,2))","v":0},0,{"$f":"IF($T352=Lookups!$B$113,VLOOKUP($J352,'Points Table C'!$A$3:$F$11,5),VLOOKUP($U352,'Points Table C'!$B$3:$F$11,4))","v":0},{"$f":"IF($R352=1,0,VLOOKUP($N352,'Points Table C'!$C$3:$E$18,3))","v":0},{"$f":"VLOOKUP($I352,'Points Table C'!$D$3:$E$18,2)","v":0},{"$f":"IF($Z352<Lookups!$C$106,(AA352+AB352+AC352),IF(AA352>=Lookups!$C$120,(AA352+AB352+AC352),AA352+AB352))","v":0}]
["Non-core foods","Enter a food name here","Company name",0,0,0,0,0,0,0,0,0,{"$f":"IF((SUM(D353:L353)=0),\"J\",VLOOKUP(P353,Lookups!$A$1:$B$11,2))","v":"J"},{"$f":"H353+(L353*Lookups!$C$102*H353/100)","v":0},0,{"$f":"IF(ROUND(10.499-(((O353-VLOOKUP($A353,Lookups!$A$55:$D$64,3))/(VLOOKUP($A353,Lookups!$A$55:$D$64,4))*VLOOKUP($A353,Lookups!$C$2:$D$11,2))),0)<1,1,IF(ROUND(10.499-(((O353-VLOOKUP($A353,Lookups!$A$55:$D$64,3))/(VLOOKUP($A353,Lookups!$A$55:$D$64,4))*VLOOKUP($A353,Lookups!$C$2:$D$11,2))),0)<11,ROUND(10.499-(((O353-VLOOKUP($A353,Lookups!$A$55:$D$64,3))/(VLOOKUP($A353,Lookups!$A$55:$D$64,4))*VLOOKUP($A353,Lookups!$C$2:$D$11,2))),0),10))","v":7},null,{"$f":"VLOOKUP(A353,Lookups!$A$126:$C$135,3)","v":2},{"$f":"VLOOKUP(A353,Lookups!$A$126:$C$135,2)","v":"Food"},"No",0,{"$f":"IF($R353<>3,VLOOKUP($D353,'Points Table A'!$B$3:$F$33,5),VLOOKUP($D353,'Points Table A'!$H$3:$L$33,5))","v":0},{"$f":"IF($R353<>3,VLOOKUP($E353,'Points Table A'!$C$3:$F$33,4),VLOOKUP($E353,'Points Table A'!$I$3:$L$33,4))","v":0},{"$f":"IF($R353<>3,VLOOKUP($F353,'Points Table A'!$D$3:$F$33,3),VLOOKUP($F353,'Points Table A'!$J$3:$L$33,3))","v":0},{"$f":"IF($R353<>3,VLOOKUP($G353,'Points Table A'!$E$3:$F$33,2),VLOOKUP($G353,'Points Table A'!$K$3:$L$33,2))","v":0},0,{"$f":"IF($T353=Lookups!$B$113,VLOOKUP($J353,'Points Table C'!$A$3:$F$11,5),VLOOKUP($U353,'Points Table C'!$B$3:$F$11,4))","v":0},{"$f":"IF($R353=1,0,VLOOKUP($N353,'Points Table C'!$C$3:$E$18,3))","v":0},{"$f":"VLOOKUP($I353,'Points Table C'!$D$3:$E$18,2)","v":0},{"$f":"IF($Z353<Lookups!$C$106,(AA353+AB353+AC353),IF(AA353>=Lookups!$C$120,(AA353+AB353+AC353),AA353+AB353))","v":0}]
["Non-core foods","Enter a food name here","Company name",0,0,0,0,0,0,0,0,0,{"$f":"IF((SUM(D354:L354)=0),\"J\",VLOOKUP(P354,Lookups!$A$1:$B$11,2))","v":"J"},{"$f":"H354+(L354*Lookups!$C$102*H354/100)","v":0},0,{"$f":"IF(ROUND(10.499-(((O354-VLOOKUP($A354,Lookups!$A$55:$D$64,3))/(VLOOKUP($A354,Lookups!$A$55:$D$64,4))*VLOOKUP($A354,Lookups!$C$2:$D$11,2))),0)<1,1,IF(ROUND(10.499-(((O354-VLOOKUP($A354,Lookups!$A$55:$D$64,3))/(VLOOKUP($A354,Lookups!$A$55:$D$64,4))*VLOOKUP($A354,Lookups!$C$2:$D$11,2))),0)<11,ROUND(10.499-(((O354-VLOOKUP($A354,Lookups!$A$55:$D$64,3))/(VLOOKUP($A354,Lookups!$A$55:$D$64,4))*VLOOKUP($A354,Lookups!$C$2:$D$11,2))),0),10))","v":7},null,{"$f":"VLOOKUP(A354,Lookups!$A$126:$C$135,3)","v":2},{"$f":"VLOOKUP(A354,Lookups!$A$126:$C$135,2)","v":"Food"},"No",0,{"$f":"IF($R354<>3,VLOOKUP($D354,'Points Table A'!$B$3:$F$33,5),VLOOKUP($D354,'Points Table A'!$H$3:$L$33,5))","v":0},{"$f":"IF($R354<>3,VLOOKUP($E354,'Points Table A'!$C$3:$F$33,4),VLOOKUP($E354,'Points Table A'!$I$3:$L$33,4))","v":0},{"$f":"IF($R354<>3,VLOOKUP($F354,'Points Table A'!$D$3:$F$33,3),VLOOKUP($F354,'Points Table A'!$J$3:$L$33,3))","v":0},{"$f":"IF($R354<>3,VLOOKUP($G354,'Points Table A'!$E$3:$F$33,2),VLOOKUP($G354,'Points Table A'!$K$3:$L$33,2))","v":0},0,{"$f":"IF($T354=Lookups!$B$113,VLOOKUP($J354,'Points Table C'!$A$3:$F$11,5),VLOOKUP($U354,'Points Table C'!$B$3:$F$11,4))","v":0},{"$f":"IF($R354=1,0,VLOOKUP($N354,'Points Table C'!$C$3:$E$18,3))","v":0},{"$f":"VLOOKUP($I354,'Points Table C'!$D$3:$E$18,2)","v":0},{"$f":"IF($Z354<Lookups!$C$106,(AA354+AB354+AC354),IF(AA354>=Lookups!$C$120,(AA354+AB354+AC354),AA354+AB354))","v":0}]
["Non-core foods","Enter a food name here","Company name",0,0,0,0,0,0,0,0,0,{"$f":"IF((SUM(D355:L355)=0),\"J\",VLOOKUP(P355,Lookups!$A$1:$B$11,2))","v":"J"},{"$f":"H355+(L355*Lookups!$C$102*H355/100)","v":0},0,{"$f":"IF(ROUND(10.499-(((O355-VLOOKUP($A355,Lookups!$A$55:$D$64,3))/(VLOOKUP($A355,Lookups!$A$55:$D$64,4))*VLOOKUP($A355,Lookups!$C$2:$D$11,2))),0)<1,1,IF(ROUND(10.499-(((O355-VLOOKUP($A355,Lookups!$A$55:$D$64,3))/(VLOOKUP($A355,Lookups!$A$55:$D$64,4))*VLOOKUP($A355,Lookups!$C$2:$D$11,2))),0)<11,ROUND(10.499-(((O355-VLOOKUP($A355,Lookups!$A$55:$D$64,3))/(VLOOKUP($A355,Lookups!$A$55:$D$64,4))*VLOOKUP($A355,Lookups!$C$2:$D$11,2))),0),10))","v":7},null,{"$f":"VLOOKUP(A355,Lookups!$A$126:$C$135,3)","v":2},{"$f":"VLOOKUP(A355,Lookups!$A$126:$C$135,2)","v":"Food"},"No",0,{"$f":"IF($R355<>3,VLOOKUP($D355,'Points Table A'!$B$3:$F$33,5),VLOOKUP($D355,'Points Table A'!$H$3:$L$33,5))","v":0},{"$f":"IF($R355<>3,VLOOKUP($E355,'Points Table A'!$C$3:$F$33,4),VLOOKUP($E355,'Points Table A'!$I$3:$L$33,4))","v":0},{"$f":"IF($R355<>3,VLOOKUP($F355,'Points Table A'!$D$3:$F$33,3),VLOOKUP($F355,'Points Table A'!$J$3:$L$33,3))","v":0},{"$f":"IF($R355<>3,VLOOKUP($G355,'Points Table A'!$E$3:$F$33,2),VLOOKUP($G355,'Points Table A'!$K$3:$L$33,2))","v":0},0,{"$f":"IF($T355=Lookups!$B$113,VLOOKUP($J355,'Points Table C'!$A$3:$F$11,5),VLOOKUP($U355,'Points Table C'!$B$3:$F$11,4))","v":0},{"$f":"IF($R355=1,0,VLOOKUP($N355,'Points Table C'!$C$3:$E$18,3))","v":0},{"$f":"VLOOKUP($I355,'Points Table C'!$D$3:$E$18,2)","v":0},{"$f":"IF($Z355<Lookups!$C$106,(AA355+AB355+AC355),IF(AA355>=Lookups!$C$120,(AA355+AB355+AC355),AA355+AB355))","v":0}]
["Non-core foods","Enter a food name here","Company name",0,0,0,0,0,0,0,0,0,{"$f":"IF((SUM(D356:L356)=0),\"J\",VLOOKUP(P356,Lookups!$A$1:$B$11,2))","v":"J"},{"$f":"H356+(L356*Lookups!$C$102*H356/100)","v":0},0,{"$f":"IF(ROUND(10.499-(((O356-VLOOKUP($A356,Lookups!$A$55:$D$64,3))/(VLOOKUP($A356,Lookups!$A$55:$D$64,4))*VLOOKUP($A356,Lookups!$C$2:$D$11,2))),0)<1,1,IF(ROUND(10.499-(((O356-VLOOKUP($A356,Lookups!$A$55:$D$64,3))/(VLOOKUP($A356,Lookups!$A$55:$D$64,4))*VLOOKUP($A356,Lookups!$C$2:$D$11,2))),0)<11,ROUND(10.499-(((O356-VLOOKUP($A356,Lookups!$A$55:$D$64,3))/(VLOOKUP($A356,Lookups!$A$55:$D$64,4))*VLOOKUP($A356,Lookups!$C$2:$D$11,2))),0),10))","v":7},null,{"$f":"VLOOKUP(A356,Lookups!$A$126:$C$135,3)","v":2},{"$f":"VLOOKUP(A356,Lookups!$A$126:$C$135,2)","v":"Food"},"No",0,{"$f":"IF($R356<>3,VLOOKUP($D356,'Points Table A'!$B$3:$F$33,5),VLOOKUP($D356,'Points Table A'!$H$3:$L$33,5))","v":0},{"$f":"IF($R356<>3,VLOOKUP($E356,'Points Table A'!$C$3:$F$33,4),VLOOKUP($E356,'Points Table A'!$I$3:$L$33,4))","v":0},{"$f":"IF($R356<>3,VLOOKUP($F356,'Points Table A'!$D$3:$F$33,3),VLOOKUP($F356,'Points Table A'!$J$3:$L$33,3))","v":0},{"$f":"IF($R356<>3,VLOOKUP($G356,'Points Table A'!$E$3:$F$33,2),VLOOKUP($G356,'Points Table A'!$K$3:$L$33,2))","v":0},0,{"$f":"IF($T356=Lookups!$B$113,VLOOKUP($J356,'Points Table C'!$A$3:$F$11,5),VLOOKUP($U356,'Points Table C'!$B$3:$F$11,4))","v":0},{"$f":"IF($R356=1,0,VLOOKUP($N356,'Points Table C'!$C$3:$E$18,3))","v":0},{"$f":"VLOOKUP($I356,'Points Table C'!$D$3:$E$18,2)","v":0},{"$f":"IF($Z356<Lookups!$C$106,(AA356+AB356+AC356),IF(AA356>=Lookups!$C$120,(AA356+AB356+AC356),AA356+AB356))","v":0}]
["Non-core foods","Enter a food name here","Company name",0,0,0,0,0,0,0,0,0,{"$f":"IF((SUM(D357:L357)=0),\"J\",VLOOKUP(P357,Lookups!$A$1:$B$11,2))","v":"J"},{"$f":"H357+(L357*Lookups!$C$102*H357/100)","v":0},0,{"$f":"IF(ROUND(10.499-(((O357-VLOOKUP($A357,Lookups!$A$55:$D$64,3))/(VLOOKUP($A357,Lookups!$A$55:$D$64,4))*VLOOKUP($A357,Lookups!$C$2:$D$11,2))),0)<1,1,IF(ROUND(10.499-(((O357-VLOOKUP($A357,Lookups!$A$55:$D$64,3))/(VLOOKUP($A357,Lookups!$A$55:$D$64,4))*VLOOKUP($A357,Lookups!$C$2:$D$11,2))),0)<11,ROUND(10.499-(((O357-VLOOKUP($A357,Lookups!$A$55:$D$64,3))/(VLOOKUP($A357,Lookups!$A$55:$D$64,4))*VLOOKUP($A357,Lookups!$C$2:$D$11,2))),0),10))","v":7},null,{"$f":"VLOOKUP(A357,Lookups!$A$126:$C$135,3)","v":2},{"$f":"VLOOKUP(A357,Lookups!$A$126:$C$135,2)","v":"Food"},"No",0,{"$f":"IF($R357<>3,VLOOKUP($D357,'Points Table A'!$B$3:$F$33,5),VLOOKUP($D357,'Points Table A'!$H$3:$L$33,5))","v":0},{"$f":"IF($R357<>3,VLOOKUP($E357,'Points Table A'!$C$3:$F$33,4),VLOOKUP($E357,'Points Table A'!$I$3:$L$33,4))","v":0},{"$f":"IF($R357<>3,VLOOKUP($F357,'Points Table A'!$D$3:$F$33,3),VLOOKUP($F357,'Points Table A'!$J$3:$L$33,3))","v":0},{"$f":"IF($R357<>3,VLOOKUP($G357,'Points Table A'!$E$3:$F$33,2),VLOOKUP($G357,'Points Table A'!$K$3:$L$33,2))","v":0},0,{"$f":"IF($T357=Lookups!$B$113,VLOOKUP($J357,'Points Table C'!$A$3:$F$11,5),VLOOKUP($U357,'Points Table C'!$B$3:$F$11,4))","v":0},{"$f":"IF($R357=1,0,VLOOKUP($N357,'Points Table C'!$C$3:$E$18,3))","v":0},{"$f":"VLOOKUP($I357,'Points Table C'!$D$3:$E$18,2)","v":0},{"$f":"IF($Z357<Lookups!$C$106,(AA357+AB357+AC357),IF(AA357>=Lookups!$C$120,(AA357+AB357+AC357),AA357+AB357))","v":0}]
["Non-core foods","Enter a food name here","Company name",0,0,0,0,0,0,0,0,0,{"$f":"IF((SUM(D358:L358)=0),\"J\",VLOOKUP(P358,Lookups!$A$1:$B$11,2))","v":"J"},{"$f":"H358+(L358*Lookups!$C$102*H358/100)","v":0},0,{"$f":"IF(ROUND(10.499-(((O358-VLOOKUP($A358,Lookups!$A$55:$D$64,3))/(VLOOKUP($A358,Lookups!$A$55:$D$64,4))*VLOOKUP($A358,Lookups!$C$2:$D$11,2))),0)<1,1,IF(ROUND(10.499-(((O358-VLOOKUP($A358,Lookups!$A$55:$D$64,3))/(VLOOKUP($A358,Lookups!$A$55:$D$64,4))*VLOOKUP($A358,Lookups!$C$2:$D$11,2))),0)<11,ROUND(10.499-(((O358-VLOOKUP($A358,Lookups!$A$55:$D$64,3))/(VLOOKUP($A358,Lookups!$A$55:$D$64,4))*VLOOKUP($A358,Lookups!$C$2:$D$11,2))),0),10))","v":7},null,{"$f":"VLOOKUP(A358,Lookups!$A$126:$C$135,3)","v":2},{"$f":"VLOOKUP(A358,Lookups!$A$126:$C$135,2)","v":"Food"},"No",0,{"$f":"IF($R358<>3,VLOOKUP($D358,'Points Table A'!$B$3:$F$33,5),VLOOKUP($D358,'Points Table A'!$H$3:$L$33,5))","v":0},{"$f":"IF($R358<>3,VLOOKUP($E358,'Points Table A'!$C$3:$F$33,4),VLOOKUP($E358,'Points Table A'!$I$3:$L$33,4))","v":0},{"$f":"IF($R358<>3,VLOOKUP($F358,'Points Table A'!$D$3:$F$33,3),VLOOKUP($F358,'Points Table A'!$J$3:$L$33,3))","v":0},{"$f":"IF($R358<>3,VLOOKUP($G358,'Points Table A'!$E$3:$F$33,2),VLOOKUP($G358,'Points Table A'!$K$3:$L$33,2))","v":0},0,{"$f":"IF($T358=Lookups!$B$113,VLOOKUP($J358,'Points Table C'!$A$3:$F$11,5),VLOOKUP($U358,'Points Table C'!$B$3:$F$11,4))","v":0},{"$f":"IF($R358=1,0,VLOOKUP($N358,'Points Table C'!$C$3:$E$18,3))","v":0},{"$f":"VLOOKUP($I358,'Points Table C'!$D$3:$E$18,2)","v":0},{"$f":"IF($Z358<Lookups!$C$106,(AA358+AB358+AC358),IF(AA358>=Lookups!$C$120,(AA358+AB358+AC358),AA358+AB358))","v":0}]
["Non-core foods","Enter a food name here","Company name",0,0,0,0,0,0,0,0,0,{"$f":"IF((SUM(D359:L359)=0),\"J\",VLOOKUP(P359,Lookups!$A$1:$B$11,2))","v":"J"},{"$f":"H359+(L359*Lookups!$C$102*H359/100)","v":0},0,{"$f":"IF(ROUND(10.499-(((O359-VLOOKUP($A359,Lookups!$A$55:$D$64,3))/(VLOOKUP($A359,Lookups!$A$55:$D$64,4))*VLOOKUP($A359,Lookups!$C$2:$D$11,2))),0)<1,1,IF(ROUND(10.499-(((O359-VLOOKUP($A359,Lookups!$A$55:$D$64,3))/(VLOOKUP($A359,Lookups!$A$55:$D$64,4))*VLOOKUP($A359,Lookups!$C$2:$D$11,2))),0)<11,ROUND(10.499-(((O359-VLOOKUP($A359,Lookups!$A$55:$D$64,3))/(VLOOKUP($A359,Lookups!$A$55:$D$64,4))*VLOOKUP($A359,Lookups!$C$2:$D$11,2))),0),10))","v":7},null,{"$f":"VLOOKUP(A359,Lookups!$A$126:$C$135,3)","v":2},{"$f":"VLOOKUP(A359,Lookups!$A$126:$C$135,2)","v":"Food"},"No",0,{"$f":"IF($R359<>3,VLOOKUP($D359,'Points Table A'!$B$3:$F$33,5),VLOOKUP($D359,'Points Table A'!$H$3:$L$33,5))","v":0},{"$f":"IF($R359<>3,VLOOKUP($E359,'Points Table A'!$C$3:$F$33,4),VLOOKUP($E359,'Points Table A'!$I$3:$L$33,4))","v":0},{"$f":"IF($R359<>3,VLOOKUP($F359,'Points Table A'!$D$3:$F$33,3),VLOOKUP($F359,'Points Table A'!$J$3:$L$33,3))","v":0},{"$f":"IF($R359<>3,VLOOKUP($G359,'Points Table A'!$E$3:$F$33,2),VLOOKUP($G359,'Points Table A'!$K$3:$L$33,2))","v":0},0,{"$f":"IF($T359=Lookups!$B$113,VLOOKUP($J359,'Points Table C'!$A$3:$F$11,5),VLOOKUP($U359,'Points Table C'!$B$3:$F$11,4))","v":0},{"$f":"IF($R359=1,0,VLOOKUP($N359,'Points Table C'!$C$3:$E$18,3))","v":0},{"$f":"VLOOKUP($I359,'Points Table C'!$D$3:$E$18,2)","v":0},{"$f":"IF($Z359<Lookups!$C$106,(AA359+AB359+AC359),IF(AA359>=Lookups!$C$120,(AA359+AB359+AC359),AA359+AB359))","v":0}]
["Non-core foods","Enter a food name here","Company name",0,0,0,0,0,0,0,0,0,{"$f":"IF((SUM(D360:L360)=0),\"J\",VLOOKUP(P360,Lookups!$A$1:$B$11,2))","v":"J"},{"$f":"H360+(L360*Lookups!$C$102*H360/100)","v":0},0,{"$f":"IF(ROUND(10.499-(((O360-VLOOKUP($A360,Lookups!$A$55:$D$64,3))/(VLOOKUP($A360,Lookups!$A$55:$D$64,4))*VLOOKUP($A360,Lookups!$C$2:$D$11,2))),0)<1,1,IF(ROUND(10.499-(((O360-VLOOKUP($A360,Lookups!$A$55:$D$64,3))/(VLOOKUP($A360,Lookups!$A$55:$D$64,4))*VLOOKUP($A360,Lookups!$C$2:$D$11,2))),0)<11,ROUND(10.499-(((O360-VLOOKUP($A360,Lookups!$A$55:$D$64,3))/(VLOOKUP($A360,Lookups!$A$55:$D$64,4))*VLOOKUP($A360,Lookups!$C$2:$D$11,2))),0),10))","v":7},null,{"$f":"VLOOKUP(A360,Lookups!$A$126:$C$135,3)","v":2},{"$f":"VLOOKUP(A360,Lookups!$A$126:$C$135,2)","v":"Food"},"No",0,{"$f":"IF($R360<>3,VLOOKUP($D360,'Points Table A'!$B$3:$F$33,5),VLOOKUP($D360,'Points Table A'!$H$3:$L$33,5))","v":0},{"$f":"IF($R360<>3,VLOOKUP($E360,'Points Table A'!$C$3:$F$33,4),VLOOKUP($E360,'Points Table A'!$I$3:$L$33,4))","v":0},{"$f":"IF($R360<>3,VLOOKUP($F360,'Points Table A'!$D$3:$F$33,3),VLOOKUP($F360,'Points Table A'!$J$3:$L$33,3))","v":0},{"$f":"IF($R360<>3,VLOOKUP($G360,'Points Table A'!$E$3:$F$33,2),VLOOKUP($G360,'Points Table A'!$K$3:$L$33,2))","v":0},0,{"$f":"IF($T360=Lookups!$B$113,VLOOKUP($J360,'Points Table C'!$A$3:$F$11,5),VLOOKUP($U360,'Points Table C'!$B$3:$F$11,4))","v":0},{"$f":"IF($R360=1,0,VLOOKUP($N360,'Points Table C'!$C$3:$E$18,3))","v":0},{"$f":"VLOOKUP($I360,'Points Table C'!$D$3:$E$18,2)","v":0},{"$f":"IF($Z360<Lookups!$C$106,(AA360+AB360+AC360),IF(AA360>=Lookups!$C$120,(AA360+AB360+AC360),AA360+AB360))","v":0}]
["Non-core foods","Enter a food name here","Company name",0,0,0,0,0,0,0,0,0,{"$f":"IF((SUM(D361:L361)=0),\"J\",VLOOKUP(P361,Lookups!$A$1:$B$11,2))","v":"J"},{"$f":"H361+(L361*Lookups!$C$102*H361/100)","v":0},0,{"$f":"IF(ROUND(10.499-(((O361-VLOOKUP($A361,Lookups!$A$55:$D$64,3))/(VLOOKUP($A361,Lookups!$A$55:$D$64,4))*VLOOKUP($A361,Lookups!$C$2:$D$11,2))),0)<1,1,IF(ROUND(10.499-(((O361-VLOOKUP($A361,Lookups!$A$55:$D$64,3))/(VLOOKUP($A361,Lookups!$A$55:$D$64,4))*VLOOKUP($A361,Lookups!$C$2:$D$11,2))),0)<11,ROUND(10.499-(((O361-VLOOKUP($A361,Lookups!$A$55:$D$64,3))/(VLOOKUP($A361,Lookups!$A$55:$D$64,4))*VLOOKUP($A361,Lookups!$C$2:$D$11,2))),0),10))","v":7},null,{"$f":"VLOOKUP(A361,Lookups!$A$126:$C$135,3)","v":2},{"$f":"VLOOKUP(A361,Lookups!$A$126:$C$135,2)","v":"Food"},"No",0,{"$f":"IF($R361<>3,VLOOKUP($D361,'Points Table A'!$B$3:$F$33,5),VLOOKUP($D361,'Points Table A'!$H$3:$L$33,5))","v":0},{"$f":"IF($R361<>3,VLOOKUP($E361,'Points Table A'!$C$3:$F$33,4),VLOOKUP($E361,'Points Table A'!$I$3:$L$33,4))","v":0},{"$f":"IF($R361<>3,VLOOKUP($F361,'Points Table A'!$D$3:$F$33,3),VLOOKUP($F361,'Points Table A'!$J$3:$L$33,3))","v":0},{"$f":"IF($R361<>3,VLOOKUP($G361,'Points Table A'!$E$3:$F$33,2),VLOOKUP($G361,'Points Table A'!$K$3:$L$33,2))","v":0},0,{"$f":"IF($T361=Lookups!$B$113,VLOOKUP($J361,'Points Table C'!$A$3:$F$11,5),VLOOKUP($U361,'Points Table C'!$B$3:$F$11,4))","v":0},{"$f":"IF($R361=1,0,VLOOKUP($N361,'Points Table C'!$C$3:$E$18,3))","v":0},{"$f":"VLOOKUP($I361,'Points Table C'!$D$3:$E$18,2)","v":0},{"$f":"IF($Z361<Lookups!$C$106,(AA361+AB361+AC361),IF(AA361>=Lookups!$C$120,(AA361+AB361+AC361),AA361+AB361))","v":0}]
["Non-core foods","Enter a food name here","Company name",0,0,0,0,0,0,0,0,0,{"$f":"IF((SUM(D362:L362)=0),\"J\",VLOOKUP(P362,Lookups!$A$1:$B$11,2))","v":"J"},{"$f":"H362+(L362*Lookups!$C$102*H362/100)","v":0},0,{"$f":"IF(ROUND(10.499-(((O362-VLOOKUP($A362,Lookups!$A$55:$D$64,3))/(VLOOKUP($A362,Lookups!$A$55:$D$64,4))*VLOOKUP($A362,Lookups!$C$2:$D$11,2))),0)<1,1,IF(ROUND(10.499-(((O362-VLOOKUP($A362,Lookups!$A$55:$D$64,3))/(VLOOKUP($A362,Lookups!$A$55:$D$64,4))*VLOOKUP($A362,Lookups!$C$2:$D$11,2))),0)<11,ROUND(10.499-(((O362-VLOOKUP($A362,Lookups!$A$55:$D$64,3))/(VLOOKUP($A362,Lookups!$A$55:$D$64,4))*VLOOKUP($A362,Lookups!$C$2:$D$11,2))),0),10))","v":7},null,{"$f":"VLOOKUP(A362,Lookups!$A$126:$C$135,3)","v":2},{"$f":"VLOOKUP(A362,Lookups!$A$126:$C$135,2)","v":"Food"},"No",0,{"$f":"IF($R362<>3,VLOOKUP($D362,'Points Table A'!$B$3:$F$33,5),VLOOKUP($D362,'Points Table A'!$H$3:$L$33,5))","v":0},{"$f":"IF($R362<>3,VLOOKUP($E362,'Points Table A'!$C$3:$F$33,4),VLOOKUP($E362,'Points Table A'!$I$3:$L$33,4))","v":0},{"$f":"IF($R362<>3,VLOOKUP($F362,'Points Table A'!$D$3:$F$33,3),VLOOKUP($F362,'Points Table A'!$J$3:$L$33,3))","v":0},{"$f":"IF($R362<>3,VLOOKUP($G362,'Points Table A'!$E$3:$F$33,2),VLOOKUP($G362,'Points Table A'!$K$3:$L$33,2))","v":0},0,{"$f":"IF($T362=Lookups!$B$113,VLOOKUP($J362,'Points Table C'!$A$3:$F$11,5),VLOOKUP($U362,'Points Table C'!$B$3:$F$11,4))","v":0},{"$f":"IF($R362=1,0,VLOOKUP($N362,'Points Table C'!$C$3:$E$18,3))","v":0},{"$f":"VLOOKUP($I362,'Points Table C'!$D$3:$E$18,2)","v":0},{"$f":"IF($Z362<Lookups!$C$106,(AA362+AB362+AC362),IF(AA362>=Lookups!$C$120,(AA362+AB362+AC362),AA362+AB362))","v":0}]
["Non-core foods","Enter a food name here","Company name",0,0,0,0,0,0,0,0,0,{"$f":"IF((SUM(D363:L363)=0),\"J\",VLOOKUP(P363,Lookups!$A$1:$B$11,2))","v":"J"},{"$f":"H363+(L363*Lookups!$C$102*H363/100)","v":0},0,{"$f":"IF(ROUND(10.499-(((O363-VLOOKUP($A363,Lookups!$A$55:$D$64,3))/(VLOOKUP($A363,Lookups!$A$55:$D$64,4))*VLOOKUP($A363,Lookups!$C$2:$D$11,2))),0)<1,1,IF(ROUND(10.499-(((O363-VLOOKUP($A363,Lookups!$A$55:$D$64,3))/(VLOOKUP($A363,Lookups!$A$55:$D$64,4))*VLOOKUP($A363,Lookups!$C$2:$D$11,2))),0)<11,ROUND(10.499-(((O363-VLOOKUP($A363,Lookups!$A$55:$D$64,3))/(VLOOKUP($A363,Lookups!$A$55:$D$64,4))*VLOOKUP($A363,Lookups!$C$2:$D$11,2))),0),10))","v":7},null,{"$f":"VLOOKUP(A363,Lookups!$A$126:$C$135,3)","v":2},{"$f":"VLOOKUP(A363,Lookups!$A$126:$C$135,2)","v":"Food"},"No",0,{"$f":"IF($R363<>3,VLOOKUP($D363,'Points Table A'!$B$3:$F$33,5),VLOOKUP($D363,'Points Table A'!$H$3:$L$33,5))","v":0},{"$f":"IF($R363<>3,VLOOKUP($E363,'Points Table A'!$C$3:$F$33,4),VLOOKUP($E363,'Points Table A'!$I$3:$L$33,4))","v":0},{"$f":"IF($R363<>3,VLOOKUP($F363,'Points Table A'!$D$3:$F$33,3),VLOOKUP($F363,'Points Table A'!$J$3:$L$33,3))","v":0},{"$f":"IF($R363<>3,VLOOKUP($G363,'Points Table A'!$E$3:$F$33,2),VLOOKUP($G363,'Points Table A'!$K$3:$L$33,2))","v":0},0,{"$f":"IF($T363=Lookups!$B$113,VLOOKUP($J363,'Points Table C'!$A$3:$F$11,5),VLOOKUP($U363,'Points Table C'!$B$3:$F$11,4))","v":0},{"$f":"IF($R363=1,0,VLOOKUP($N363,'Points Table C'!$C$3:$E$18,3))","v":0},{"$f":"VLOOKUP($I363,'Points Table C'!$D$3:$E$18,2)","v":0},{"$f":"IF($Z363<Lookups!$C$106,(AA363+AB363+AC363),IF(AA363>=Lookups!$C$120,(AA363+AB363+AC363),AA363+AB363))","v":0}]
["Non-core foods","Enter a food name here","Company name",0,0,0,0,0,0,0,0,0,{"$f":"IF((SUM(D364:L364)=0),\"J\",VLOOKUP(P364,Lookups!$A$1:$B$11,2))","v":"J"},{"$f":"H364+(L364*Lookups!$C$102*H364/100)","v":0},0,{"$f":"IF(ROUND(10.499-(((O364-VLOOKUP($A364,Lookups!$A$55:$D$64,3))/(VLOOKUP($A364,Lookups!$A$55:$D$64,4))*VLOOKUP($A364,Lookups!$C$2:$D$11,2))),0)<1,1,IF(ROUND(10.499-(((O364-VLOOKUP($A364,Lookups!$A$55:$D$64,3))/(VLOOKUP($A364,Lookups!$A$55:$D$64,4))*VLOOKUP($A364,Lookups!$C$2:$D$11,2))),0)<11,ROUND(10.499-(((O364-VLOOKUP($A364,Lookups!$A$55:$D$64,3))/(VLOOKUP($A364,Lookups!$A$55:$D$64,4))*VLOOKUP($A364,Lookups!$C$2:$D$11,2))),0),10))","v":7},null,{"$f":"VLOOKUP(A364,Lookups!$A$126:$C$135,3)","v":2},{"$f":"VLOOKUP(A364,Lookups!$A$126:$C$135,2)","v":"Food"},"No",0,{"$f":"IF($R364<>3,VLOOKUP($D364,'Points Table A'!$B$3:$F$33,5),VLOOKUP($D364,'Points Table A'!$H$3:$L$33,5))","v":0},{"$f":"IF($R364<>3,VLOOKUP($E364,'Points Table A'!$C$3:$F$33,4),VLOOKUP($E364,'Points Table A'!$I$3:$L$33,4))","v":0},{"$f":"IF($R364<>3,VLOOKUP($F364,'Points Table A'!$D$3:$F$33,3),VLOOKUP($F364,'Points Table A'!$J$3:$L$33,3))","v":0},{"$f":"IF($R364<>3,VLOOKUP($G364,'Points Table A'!$E$3:$F$33,2),VLOOKUP($G364,'Points Table A'!$K$3:$L$33,2))","v":0},0,{"$f":"IF($T364=Lookups!$B$113,VLOOKUP($J364,'Points Table C'!$A$3:$F$11,5),VLOOKUP($U364,'Points Table C'!$B$3:$F$11,4))","v":0},{"$f":"IF($R364=1,0,VLOOKUP($N364,'Points Table C'!$C$3:$E$18,3))","v":0},{"$f":"VLOOKUP($I364,'Points Table C'!$D$3:$E$18,2)","v":0},{"$f":"IF($Z364<Lookups!$C$106,(AA364+AB364+AC364),IF(AA364>=Lookups!$C$120,(AA364+AB364+AC364),AA364+AB364))","v":0}]
["Non-core foods","Enter a food name here","Company name",0,0,0,0,0,0,0,0,0,{"$f":"IF((SUM(D365:L365)=0),\"J\",VLOOKUP(P365,Lookups!$A$1:$B$11,2))","v":"J"},{"$f":"H365+(L365*Lookups!$C$102*H365/100)","v":0},0,{"$f":"IF(ROUND(10.499-(((O365-VLOOKUP($A365,Lookups!$A$55:$D$64,3))/(VLOOKUP($A365,Lookups!$A$55:$D$64,4))*VLOOKUP($A365,Lookups!$C$2:$D$11,2))),0)<1,1,IF(ROUND(10.499-(((O365-VLOOKUP($A365,Lookups!$A$55:$D$64,3))/(VLOOKUP($A365,Lookups!$A$55:$D$64,4))*VLOOKUP($A365,Lookups!$C$2:$D$11,2))),0)<11,ROUND(10.499-(((O365-VLOOKUP($A365,Lookups!$A$55:$D$64,3))/(VLOOKUP($A365,Lookups!$A$55:$D$64,4))*VLOOKUP($A365,Lookups!$C$2:$D$11,2))),0),10))","v":7},null,{"$f":"VLOOKUP(A365,Lookups!$A$126:$C$135,3)","v":2},{"$f":"VLOOKUP(A365,Lookups!$A$126:$C$135,2)","v":"Food"},"No",0,{"$f":"IF($R365<>3,VLOOKUP($D365,'Points Table A'!$B$3:$F$33,5),VLOOKUP($D365,'Points Table A'!$H$3:$L$33,5))","v":0},{"$f":"IF($R365<>3,VLOOKUP($E365,'Points Table A'!$C$3:$F$33,4),VLOOKUP($E365,'Points Table A'!$I$3:$L$33,4))","v":0},{"$f":"IF($R365<>3,VLOOKUP($F365,'Points Table A'!$D$3:$F$33,3),VLOOKUP($F365,'Points Table A'!$J$3:$L$33,3))","v":0},{"$f":"IF($R365<>3,VLOOKUP($G365,'Points Table A'!$E$3:$F$33,2),VLOOKUP($G365,'Points Table A'!$K$3:$L$33,2))","v":0},0,{"$f":"IF($T365=Lookups!$B$113,VLOOKUP($J365,'Points Table C'!$A$3:$F$11,5),VLOOKUP($U365,'Points Table C'!$B$3:$F$11,4))","v":0},{"$f":"IF($R365=1,0,VLOOKUP($N365,'Points Table C'!$C$3:$E$18,3))","v":0},{"$f":"VLOOKUP($I365,'Points Table C'!$D$3:$E$18,2)","v":0},{"$f":"IF($Z365<Lookups!$C$106,(AA365+AB365+AC365),IF(AA365>=Lookups!$C$120,(AA365+AB365+AC365),AA365+AB365))","v":0}]
["Non-core foods","Enter a food name here","Company name",0,0,0,0,0,0,0,0,0,{"$f":"IF((SUM(D366:L366)=0),\"J\",VLOOKUP(P366,Lookups!$A$1:$B$11,2))","v":"J"},{"$f":"H366+(L366*Lookups!$C$102*H366/100)","v":0},0,{"$f":"IF(ROUND(10.499-(((O366-VLOOKUP($A366,Lookups!$A$55:$D$64,3))/(VLOOKUP($A366,Lookups!$A$55:$D$64,4))*VLOOKUP($A366,Lookups!$C$2:$D$11,2))),0)<1,1,IF(ROUND(10.499-(((O366-VLOOKUP($A366,Lookups!$A$55:$D$64,3))/(VLOOKUP($A366,Lookups!$A$55:$D$64,4))*VLOOKUP($A366,Lookups!$C$2:$D$11,2))),0)<11,ROUND(10.499-(((O366-VLOOKUP($A366,Lookups!$A$55:$D$64,3))/(VLOOKUP($A366,Lookups!$A$55:$D$64,4))*VLOOKUP($A366,Lookups!$C$2:$D$11,2))),0),10))","v":7},null,{"$f":"VLOOKUP(A366,Lookups!$A$126:$C$135,3)","v":2},{"$f":"VLOOKUP(A366,Lookups!$A$126:$C$135,2)","v":"Food"},"No",0,{"$f":"IF($R366<>3,VLOOKUP($D366,'Points Table A'!$B$3:$F$33,5),VLOOKUP($D366,'Points Table A'!$H$3:$L$33,5))","v":0},{"$f":"IF($R366<>3,VLOOKUP($E366,'Points Table A'!$C$3:$F$33,4),VLOOKUP($E366,'Points Table A'!$I$3:$L$33,4))","v":0},{"$f":"IF($R366<>3,VLOOKUP($F366,'Points Table A'!$D$3:$F$33,3),VLOOKUP($F366,'Points Table A'!$J$3:$L$33,3))","v":0},{"$f":"IF($R366<>3,VLOOKUP($G366,'Points Table A'!$E$3:$F$33,2),VLOOKUP($G366,'Points Table A'!$K$3:$L$33,2))","v":0},0,{"$f":"IF($T366=Lookups!$B$113,VLOOKUP($J366,'Points Table C'!$A$3:$F$11,5),VLOOKUP($U366,'Points Table C'!$B$3:$F$11,4))","v":0},{"$f":"IF($R366=1,0,VLOOKUP($N366,'Points Table C'!$C$3:$E$18,3))","v":0},{"$f":"VLOOKUP($I366,'Points Table C'!$D$3:$E$18,2)","v":0},{"$f":"IF($Z366<Lookups!$C$106,(AA366+AB366+AC366),IF(AA366>=Lookups!$C$120,(AA366+AB366+AC366),AA366+AB366))","v":0}]
["Non-core foods","Enter a food name here","Company name",0,0,0,0,0,0,0,0,0,{"$f":"IF((SUM(D367:L367)=0),\"J\",VLOOKUP(P367,Lookups!$A$1:$B$11,2))","v":"J"},{"$f":"H367+(L367*Lookups!$C$102*H367/100)","v":0},0,{"$f":"IF(ROUND(10.499-(((O367-VLOOKUP($A367,Lookups!$A$55:$D$64,3))/(VLOOKUP($A367,Lookups!$A$55:$D$64,4))*VLOOKUP($A367,Lookups!$C$2:$D$11,2))),0)<1,1,IF(ROUND(10.499-(((O367-VLOOKUP($A367,Lookups!$A$55:$D$64,3))/(VLOOKUP($A367,Lookups!$A$55:$D$64,4))*VLOOKUP($A367,Lookups!$C$2:$D$11,2))),0)<11,ROUND(10.499-(((O367-VLOOKUP($A367,Lookups!$A$55:$D$64,3))/(VLOOKUP($A367,Lookups!$A$55:$D$64,4))*VLOOKUP($A367,Lookups!$C$2:$D$11,2))),0),10))","v":7},null,{"$f":"VLOOKUP(A367,Lookups!$A$126:$C$135,3)","v":2},{"$f":"VLOOKUP(A367,Lookups!$A$126:$C$135,2)","v":"Food"},"No",0,{"$f":"IF($R367<>3,VLOOKUP($D367,'Points Table A'!$B$3:$F$33,5),VLOOKUP($D367,'Points Table A'!$H$3:$L$33,5))","v":0},{"$f":"IF($R367<>3,VLOOKUP($E367,'Points Table A'!$C$3:$F$33,4),VLOOKUP($E367,'Points Table A'!$I$3:$L$33,4))","v":0},{"$f":"IF($R367<>3,VLOOKUP($F367,'Points Table A'!$D$3:$F$33,3),VLOOKUP($F367,'Points Table A'!$J$3:$L$33,3))","v":0},{"$f":"IF($R367<>3,VLOOKUP($G367,'Points Table A'!$E$3:$F$33,2),VLOOKUP($G367,'Points Table A'!$K$3:$L$33,2))","v":0},0,{"$f":"IF($T367=Lookups!$B$113,VLOOKUP($J367,'Points Table C'!$A$3:$F$11,5),VLOOKUP($U367,'Points Table C'!$B$3:$F$11,4))","v":0},{"$f":"IF($R367=1,0,VLOOKUP($N367,'Points Table C'!$C$3:$E$18,3))","v":0},{"$f":"VLOOKUP($I367,'Points Table C'!$D$3:$E$18,2)","v":0},{"$f":"IF($Z367<Lookups!$C$106,(AA367+AB367+AC367),IF(AA367>=Lookups!$C$120,(AA367+AB367+AC367),AA367+AB367))","v":0}]
["Non-core foods","Enter a food name here","Company name",0,0,0,0,0,0,0,0,0,{"$f":"IF((SUM(D368:L368)=0),\"J\",VLOOKUP(P368,Lookups!$A$1:$B$11,2))","v":"J"},{"$f":"H368+(L368*Lookups!$C$102*H368/100)","v":0},0,{"$f":"IF(ROUND(10.499-(((O368-VLOOKUP($A368,Lookups!$A$55:$D$64,3))/(VLOOKUP($A368,Lookups!$A$55:$D$64,4))*VLOOKUP($A368,Lookups!$C$2:$D$11,2))),0)<1,1,IF(ROUND(10.499-(((O368-VLOOKUP($A368,Lookups!$A$55:$D$64,3))/(VLOOKUP($A368,Lookups!$A$55:$D$64,4))*VLOOKUP($A368,Lookups!$C$2:$D$11,2))),0)<11,ROUND(10.499-(((O368-VLOOKUP($A368,Lookups!$A$55:$D$64,3))/(VLOOKUP($A368,Lookups!$A$55:$D$64,4))*VLOOKUP($A368,Lookups!$C$2:$D$11,2))),0),10))","v":7},null,{"$f":"VLOOKUP(A368,Lookups!$A$126:$C$135,3)","v":2},{"$f":"VLOOKUP(A368,Lookups!$A$126:$C$135,2)","v":"Food"},"No",0,{"$f":"IF($R368<>3,VLOOKUP($D368,'Points Table A'!$B$3:$F$33,5),VLOOKUP($D368,'Points Table A'!$H$3:$L$33,5))","v":0},{"$f":"IF($R368<>3,VLOOKUP($E368,'Points Table A'!$C$3:$F$33,4),VLOOKUP($E368,'Points Table A'!$I$3:$L$33,4))","v":0},{"$f":"IF($R368<>3,VLOOKUP($F368,'Points Table A'!$D$3:$F$33,3),VLOOKUP($F368,'Points Table A'!$J$3:$L$33,3))","v":0},{"$f":"IF($R368<>3,VLOOKUP($G368,'Points Table A'!$E$3:$F$33,2),VLOOKUP($G368,'Points Table A'!$K$3:$L$33,2))","v":0},0,{"$f":"IF($T368=Lookups!$B$113,VLOOKUP($J368,'Points Table C'!$A$3:$F$11,5),VLOOKUP($U368,'Points Table C'!$B$3:$F$11,4))","v":0},{"$f":"IF($R368=1,0,VLOOKUP($N368,'Points Table C'!$C$3:$E$18,3))","v":0},{"$f":"VLOOKUP($I368,'Points Table C'!$D$3:$E$18,2)","v":0},{"$f":"IF($Z368<Lookups!$C$106,(AA368+AB368+AC368),IF(AA368>=Lookups!$C$120,(AA368+AB368+AC368),AA368+AB368))","v":0}]
["Non-core foods","Enter a food name here","Company name",0,0,0,0,0,0,0,0,0,{"$f":"IF((SUM(D369:L369)=0),\"J\",VLOOKUP(P369,Lookups!$A$1:$B$11,2))","v":"J"},{"$f":"H369+(L369*Lookups!$C$102*H369/100)","v":0},0,{"$f":"IF(ROUND(10.499-(((O369-VLOOKUP($A369,Lookups!$A$55:$D$64,3))/(VLOOKUP($A369,Lookups!$A$55:$D$64,4))*VLOOKUP($A369,Lookups!$C$2:$D$11,2))),0)<1,1,IF(ROUND(10.499-(((O369-VLOOKUP($A369,Lookups!$A$55:$D$64,3))/(VLOOKUP($A369,Lookups!$A$55:$D$64,4))*VLOOKUP($A369,Lookups!$C$2:$D$11,2))),0)<11,ROUND(10.499-(((O369-VLOOKUP($A369,Lookups!$A$55:$D$64,3))/(VLOOKUP($A369,Lookups!$A$55:$D$64,4))*VLOOKUP($A369,Lookups!$C$2:$D$11,2))),0),10))","v":7},null,{"$f":"VLOOKUP(A369,Lookups!$A$126:$C$135,3)","v":2},{"$f":"VLOOKUP(A369,Lookups!$A$126:$C$135,2)","v":"Food"},"No",0,{"$f":"IF($R369<>3,VLOOKUP($D369,'Points Table A'!$B$3:$F$33,5),VLOOKUP($D369,'Points Table A'!$H$3:$L$33,5))","v":0},{"$f":"IF($R369<>3,VLOOKUP($E369,'Points Table A'!$C$3:$F$33,4),VLOOKUP($E369,'Points Table A'!$I$3:$L$33,4))","v":0},{"$f":"IF($R369<>3,VLOOKUP($F369,'Points Table A'!$D$3:$F$33,3),VLOOKUP($F369,'Points Table A'!$J$3:$L$33,3))","v":0},{"$f":"IF($R369<>3,VLOOKUP($G369,'Points Table A'!$E$3:$F$33,2),VLOOKUP($G369,'Points Table A'!$K$3:$L$33,2))","v":0},0,{"$f":"IF($T369=Lookups!$B$113,VLOOKUP($J369,'Points Table C'!$A$3:$F$11,5),VLOOKUP($U369,'Points Table C'!$B$3:$F$11,4))","v":0},{"$f":"IF($R369=1,0,VLOOKUP($N369,'Points Table C'!$C$3:$E$18,3))","v":0},{"$f":"VLOOKUP($I369,'Points Table C'!$D$3:$E$18,2)","v":0},{"$f":"IF($Z369<Lookups!$C$106,(AA369+AB369+AC369),IF(AA369>=Lookups!$C$120,(AA369+AB369+AC369),AA369+AB369))","v":0}]
["Non-core foods","Enter a food name here","Company name",0,0,0,0,0,0,0,0,0,{"$f":"IF((SUM(D370:L370)=0),\"J\",VLOOKUP(P370,Lookups!$A$1:$B$11,2))","v":"J"},{"$f":"H370+(L370*Lookups!$C$102*H370/100)","v":0},0,{"$f":"IF(ROUND(10.499-(((O370-VLOOKUP($A370,Lookups!$A$55:$D$64,3))/(VLOOKUP($A370,Lookups!$A$55:$D$64,4))*VLOOKUP($A370,Lookups!$C$2:$D$11,2))),0)<1,1,IF(ROUND(10.499-(((O370-VLOOKUP($A370,Lookups!$A$55:$D$64,3))/(VLOOKUP($A370,Lookups!$A$55:$D$64,4))*VLOOKUP($A370,Lookups!$C$2:$D$11,2))),0)<11,ROUND(10.499-(((O370-VLOOKUP($A370,Lookups!$A$55:$D$64,3))/(VLOOKUP($A370,Lookups!$A$55:$D$64,4))*VLOOKUP($A370,Lookups!$C$2:$D$11,2))),0),10))","v":7},null,{"$f":"VLOOKUP(A370,Lookups!$A$126:$C$135,3)","v":2},{"$f":"VLOOKUP(A370,Lookups!$A$126:$C$135,2)","v":"Food"},"No",0,{"$f":"IF($R370<>3,VLOOKUP($D370,'Points Table A'!$B$3:$F$33,5),VLOOKUP($D370,'Points Table A'!$H$3:$L$33,5))","v":0},{"$f":"IF($R370<>3,VLOOKUP($E370,'Points Table A'!$C$3:$F$33,4),VLOOKUP($E370,'Points Table A'!$I$3:$L$33,4))","v":0},{"$f":"IF($R370<>3,VLOOKUP($F370,'Points Table A'!$D$3:$F$33,3),VLOOKUP($F370,'Points Table A'!$J$3:$L$33,3))","v":0},{"$f":"IF($R370<>3,VLOOKUP($G370,'Points Table A'!$E$3:$F$33,2),VLOOKUP($G370,'Points Table A'!$K$3:$L$33,2))","v":0},0,{"$f":"IF($T370=Lookups!$B$113,VLOOKUP($J370,'Points Table C'!$A$3:$F$11,5),VLOOKUP($U370,'Points Table C'!$B$3:$F$11,4))","v":0},{"$f":"IF($R370=1,0,VLOOKUP($N370,'Points Table C'!$C$3:$E$18,3))","v":0},{"$f":"VLOOKUP($I370,'Points Table C'!$D$3:$E$18,2)","v":0},{"$f":"IF($Z370<Lookups!$C$106,(AA370+AB370+AC370),IF(AA370>=Lookups!$C$120,(AA370+AB370+AC370),AA370+AB370))","v":0}]
["Non-core foods","Enter a food name here","Company name",0,0,0,0,0,0,0,0,0,{"$f":"IF((SUM(D371:L371)=0),\"J\",VLOOKUP(P371,Lookups!$A$1:$B$11,2))","v":"J"},{"$f":"H371+(L371*Lookups!$C$102*H371/100)","v":0},0,{"$f":"IF(ROUND(10.499-(((O371-VLOOKUP($A371,Lookups!$A$55:$D$64,3))/(VLOOKUP($A371,Lookups!$A$55:$D$64,4))*VLOOKUP($A371,Lookups!$C$2:$D$11,2))),0)<1,1,IF(ROUND(10.499-(((O371-VLOOKUP($A371,Lookups!$A$55:$D$64,3))/(VLOOKUP($A371,Lookups!$A$55:$D$64,4))*VLOOKUP($A371,Lookups!$C$2:$D$11,2))),0)<11,ROUND(10.499-(((O371-VLOOKUP($A371,Lookups!$A$55:$D$64,3))/(VLOOKUP($A371,Lookups!$A$55:$D$64,4))*VLOOKUP($A371,Lookups!$C$2:$D$11,2))),0),10))","v":7},null,{"$f":"VLOOKUP(A371,Lookups!$A$126:$C$135,3)","v":2},{"$f":"VLOOKUP(A371,Lookups!$A$126:$C$135,2)","v":"Food"},"No",0,{"$f":"IF($R371<>3,VLOOKUP($D371,'Points Table A'!$B$3:$F$33,5),VLOOKUP($D371,'Points Table A'!$H$3:$L$33,5))","v":0},{"$f":"IF($R371<>3,VLOOKUP($E371,'Points Table A'!$C$3:$F$33,4),VLOOKUP($E371,'Points Table A'!$I$3:$L$33,4))","v":0},{"$f":"IF($R371<>3,VLOOKUP($F371,'Points Table A'!$D$3:$F$33,3),VLOOKUP($F371,'Points Table A'!$J$3:$L$33,3))","v":0},{"$f":"IF($R371<>3,VLOOKUP($G371,'Points Table A'!$E$3:$F$33,2),VLOOKUP($G371,'Points Table A'!$K$3:$L$33,2))","v":0},0,{"$f":"IF($T371=Lookups!$B$113,VLOOKUP($J371,'Points Table C'!$A$3:$F$11,5),VLOOKUP($U371,'Points Table C'!$B$3:$F$11,4))","v":0},{"$f":"IF($R371=1,0,VLOOKUP($N371,'Points Table C'!$C$3:$E$18,3))","v":0},{"$f":"VLOOKUP($I371,'Points Table C'!$D$3:$E$18,2)","v":0},{"$f":"IF($Z371<Lookups!$C$106,(AA371+AB371+AC371),IF(AA371>=Lookups!$C$120,(AA371+AB371+AC371),AA371+AB371))","v":0}]
["Non-core foods","Enter a food name here","Company name",0,0,0,0,0,0,0,0,0,{"$f":"IF((SUM(D372:L372)=0),\"J\",VLOOKUP(P372,Lookups!$A$1:$B$11,2))","v":"J"},{"$f":"H372+(L372*Lookups!$C$102*H372/100)","v":0},0,{"$f":"IF(ROUND(10.499-(((O372-VLOOKUP($A372,Lookups!$A$55:$D$64,3))/(VLOOKUP($A372,Lookups!$A$55:$D$64,4))*VLOOKUP($A372,Lookups!$C$2:$D$11,2))),0)<1,1,IF(ROUND(10.499-(((O372-VLOOKUP($A372,Lookups!$A$55:$D$64,3))/(VLOOKUP($A372,Lookups!$A$55:$D$64,4))*VLOOKUP($A372,Lookups!$C$2:$D$11,2))),0)<11,ROUND(10.499-(((O372-VLOOKUP($A372,Lookups!$A$55:$D$64,3))/(VLOOKUP($A372,Lookups!$A$55:$D$64,4))*VLOOKUP($A372,Lookups!$C$2:$D$11,2))),0),10))","v":7},null,{"$f":"VLOOKUP(A372,Lookups!$A$126:$C$135,3)","v":2},{"$f":"VLOOKUP(A372,Lookups!$A$126:$C$135,2)","v":"Food"},"No",0,{"$f":"IF($R372<>3,VLOOKUP($D372,'Points Table A'!$B$3:$F$33,5),VLOOKUP($D372,'Points Table A'!$H$3:$L$33,5))","v":0},{"$f":"IF($R372<>3,VLOOKUP($E372,'Points Table A'!$C$3:$F$33,4),VLOOKUP($E372,'Points Table A'!$I$3:$L$33,4))","v":0},{"$f":"IF($R372<>3,VLOOKUP($F372,'Points Table A'!$D$3:$F$33,3),VLOOKUP($F372,'Points Table A'!$J$3:$L$33,3))","v":0},{"$f":"IF($R372<>3,VLOOKUP($G372,'Points Table A'!$E$3:$F$33,2),VLOOKUP($G372,'Points Table A'!$K$3:$L$33,2))","v":0},0,{"$f":"IF($T372=Lookups!$B$113,VLOOKUP($J372,'Points Table C'!$A$3:$F$11,5),VLOOKUP($U372,'Points Table C'!$B$3:$F$11,4))","v":0},{"$f":"IF($R372=1,0,VLOOKUP($N372,'Points Table C'!$C$3:$E$18,3))","v":0},{"$f":"VLOOKUP($I372,'Points Table C'!$D$3:$E$18,2)","v":0},{"$f":"IF($Z372<Lookups!$C$106,(AA372+AB372+AC372),IF(AA372>=Lookups!$C$120,(AA372+AB372+AC372),AA372+AB372))","v":0}]
["Non-core foods","Enter a food name here","Company name",0,0,0,0,0,0,0,0,0,{"$f":"IF((SUM(D373:L373)=0),\"J\",VLOOKUP(P373,Lookups!$A$1:$B$11,2))","v":"J"},{"$f":"H373+(L373*Lookups!$C$102*H373/100)","v":0},0,{"$f":"IF(ROUND(10.499-(((O373-VLOOKUP($A373,Lookups!$A$55:$D$64,3))/(VLOOKUP($A373,Lookups!$A$55:$D$64,4))*VLOOKUP($A373,Lookups!$C$2:$D$11,2))),0)<1,1,IF(ROUND(10.499-(((O373-VLOOKUP($A373,Lookups!$A$55:$D$64,3))/(VLOOKUP($A373,Lookups!$A$55:$D$64,4))*VLOOKUP($A373,Lookups!$C$2:$D$11,2))),0)<11,ROUND(10.499-(((O373-VLOOKUP($A373,Lookups!$A$55:$D$64,3))/(VLOOKUP($A373,Lookups!$A$55:$D$64,4))*VLOOKUP($A373,Lookups!$C$2:$D$11,2))),0),10))","v":7},null,{"$f":"VLOOKUP(A373,Lookups!$A$126:$C$135,3)","v":2},{"$f":"VLOOKUP(A373,Lookups!$A$126:$C$135,2)","v":"Food"},"No",0,{"$f":"IF($R373<>3,VLOOKUP($D373,'Points Table A'!$B$3:$F$33,5),VLOOKUP($D373,'Points Table A'!$H$3:$L$33,5))","v":0},{"$f":"IF($R373<>3,VLOOKUP($E373,'Points Table A'!$C$3:$F$33,4),VLOOKUP($E373,'Points Table A'!$I$3:$L$33,4))","v":0},{"$f":"IF($R373<>3,VLOOKUP($F373,'Points Table A'!$D$3:$F$33,3),VLOOKUP($F373,'Points Table A'!$J$3:$L$33,3))","v":0},{"$f":"IF($R373<>3,VLOOKUP($G373,'Points Table A'!$E$3:$F$33,2),VLOOKUP($G373,'Points Table A'!$K$3:$L$33,2))","v":0},0,{"$f":"IF($T373=Lookups!$B$113,VLOOKUP($J373,'Points Table C'!$A$3:$F$11,5),VLOOKUP($U373,'Points Table C'!$B$3:$F$11,4))","v":0},{"$f":"IF($R373=1,0,VLOOKUP($N373,'Points Table C'!$C$3:$E$18,3))","v":0},{"$f":"VLOOKUP($I373,'Points Table C'!$D$3:$E$18,2)","v":0},{"$f":"IF($Z373<Lookups!$C$106,(AA373+AB373+AC373),IF(AA373>=Lookups!$C$120,(AA373+AB373+AC373),AA373+AB373))","v":0}]
["Non-core foods","Enter a food name here","Company name",0,0,0,0,0,0,0,0,0,{"$f":"IF((SUM(D374:L374)=0),\"J\",VLOOKUP(P374,Lookups!$A$1:$B$11,2))","v":"J"},{"$f":"H374+(L374*Lookups!$C$102*H374/100)","v":0},0,{"$f":"IF(ROUND(10.499-(((O374-VLOOKUP($A374,Lookups!$A$55:$D$64,3))/(VLOOKUP($A374,Lookups!$A$55:$D$64,4))*VLOOKUP($A374,Lookups!$C$2:$D$11,2))),0)<1,1,IF(ROUND(10.499-(((O374-VLOOKUP($A374,Lookups!$A$55:$D$64,3))/(VLOOKUP($A374,Lookups!$A$55:$D$64,4))*VLOOKUP($A374,Lookups!$C$2:$D$11,2))),0)<11,ROUND(10.499-(((O374-VLOOKUP($A374,Lookups!$A$55:$D$64,3))/(VLOOKUP($A374,Lookups!$A$55:$D$64,4))*VLOOKUP($A374,Lookups!$C$2:$D$11,2))),0),10))","v":7},null,{"$f":"VLOOKUP(A374,Lookups!$A$126:$C$135,3)","v":2},{"$f":"VLOOKUP(A374,Lookups!$A$126:$C$135,2)","v":"Food"},"No",0,{"$f":"IF($R374<>3,VLOOKUP($D374,'Points Table A'!$B$3:$F$33,5),VLOOKUP($D374,'Points Table A'!$H$3:$L$33,5))","v":0},{"$f":"IF($R374<>3,VLOOKUP($E374,'Points Table A'!$C$3:$F$33,4),VLOOKUP($E374,'Points Table A'!$I$3:$L$33,4))","v":0},{"$f":"IF($R374<>3,VLOOKUP($F374,'Points Table A'!$D$3:$F$33,3),VLOOKUP($F374,'Points Table A'!$J$3:$L$33,3))","v":0},{"$f":"IF($R374<>3,VLOOKUP($G374,'Points Table A'!$E$3:$F$33,2),VLOOKUP($G374,'Points Table A'!$K$3:$L$33,2))","v":0},0,{"$f":"IF($T374=Lookups!$B$113,VLOOKUP($J374,'Points Table C'!$A$3:$F$11,5),VLOOKUP($U374,'Points Table C'!$B$3:$F$11,4))","v":0},{"$f":"IF($R374=1,0,VLOOKUP($N374,'Points Table C'!$C$3:$E$18,3))","v":0},{"$f":"VLOOKUP($I374,'Points Table C'!$D$3:$E$18,2)","v":0},{"$f":"IF($Z374<Lookups!$C$106,(AA374+AB374+AC374),IF(AA374>=Lookups!$C$120,(AA374+AB374+AC374),AA374+AB374))","v":0}]
["Non-core foods","Enter a food name here","Company name",0,0,0,0,0,0,0,0,0,{"$f":"IF((SUM(D375:L375)=0),\"J\",VLOOKUP(P375,Lookups!$A$1:$B$11,2))","v":"J"},{"$f":"H375+(L375*Lookups!$C$102*H375/100)","v":0},0,{"$f":"IF(ROUND(10.499-(((O375-VLOOKUP($A375,Lookups!$A$55:$D$64,3))/(VLOOKUP($A375,Lookups!$A$55:$D$64,4))*VLOOKUP($A375,Lookups!$C$2:$D$11,2))),0)<1,1,IF(ROUND(10.499-(((O375-VLOOKUP($A375,Lookups!$A$55:$D$64,3))/(VLOOKUP($A375,Lookups!$A$55:$D$64,4))*VLOOKUP($A375,Lookups!$C$2:$D$11,2))),0)<11,ROUND(10.499-(((O375-VLOOKUP($A375,Lookups!$A$55:$D$64,3))/(VLOOKUP($A375,Lookups!$A$55:$D$64,4))*VLOOKUP($A375,Lookups!$C$2:$D$11,2))),0),10))","v":7},null,{"$f":"VLOOKUP(A375,Lookups!$A$126:$C$135,3)","v":2},{"$f":"VLOOKUP(A375,Lookups!$A$126:$C$135,2)","v":"Food"},"No",0,{"$f":"IF($R375<>3,VLOOKUP($D375,'Points Table A'!$B$3:$F$33,5),VLOOKUP($D375,'Points Table A'!$H$3:$L$33,5))","v":0},{"$f":"IF($R375<>3,VLOOKUP($E375,'Points Table A'!$C$3:$F$33,4),VLOOKUP($E375,'Points Table A'!$I$3:$L$33,4))","v":0},{"$f":"IF($R375<>3,VLOOKUP($F375,'Points Table A'!$D$3:$F$33,3),VLOOKUP($F375,'Points Table A'!$J$3:$L$33,3))","v":0},{"$f":"IF($R375<>3,VLOOKUP($G375,'Points Table A'!$E$3:$F$33,2),VLOOKUP($G375,'Points Table A'!$K$3:$L$33,2))","v":0},0,{"$f":"IF($T375=Lookups!$B$113,VLOOKUP($J375,'Points Table C'!$A$3:$F$11,5),VLOOKUP($U375,'Points Table C'!$B$3:$F$11,4))","v":0},{"$f":"IF($R375=1,0,VLOOKUP($N375,'Points Table C'!$C$3:$E$18,3))","v":0},{"$f":"VLOOKUP($I375,'Points Table C'!$D$3:$E$18,2)","v":0},{"$f":"IF($Z375<Lookups!$C$106,(AA375+AB375+AC375),IF(AA375>=Lookups!$C$120,(AA375+AB375+AC375),AA375+AB375))","v":0}]
["Non-core foods","Enter a food name here","Company name",0,0,0,0,0,0,0,0,0,{"$f":"IF((SUM(D376:L376)=0),\"J\",VLOOKUP(P376,Lookups!$A$1:$B$11,2))","v":"J"},{"$f":"H376+(L376*Lookups!$C$102*H376/100)","v":0},0,{"$f":"IF(ROUND(10.499-(((O376-VLOOKUP($A376,Lookups!$A$55:$D$64,3))/(VLOOKUP($A376,Lookups!$A$55:$D$64,4))*VLOOKUP($A376,Lookups!$C$2:$D$11,2))),0)<1,1,IF(ROUND(10.499-(((O376-VLOOKUP($A376,Lookups!$A$55:$D$64,3))/(VLOOKUP($A376,Lookups!$A$55:$D$64,4))*VLOOKUP($A376,Lookups!$C$2:$D$11,2))),0)<11,ROUND(10.499-(((O376-VLOOKUP($A376,Lookups!$A$55:$D$64,3))/(VLOOKUP($A376,Lookups!$A$55:$D$64,4))*VLOOKUP($A376,Lookups!$C$2:$D$11,2))),0),10))","v":7},null,{"$f":"VLOOKUP(A376,Lookups!$A$126:$C$135,3)","v":2},{"$f":"VLOOKUP(A376,Lookups!$A$126:$C$135,2)","v":"Food"},"No",0,{"$f":"IF($R376<>3,VLOOKUP($D376,'Points Table A'!$B$3:$F$33,5),VLOOKUP($D376,'Points Table A'!$H$3:$L$33,5))","v":0},{"$f":"IF($R376<>3,VLOOKUP($E376,'Points Table A'!$C$3:$F$33,4),VLOOKUP($E376,'Points Table A'!$I$3:$L$33,4))","v":0},{"$f":"IF($R376<>3,VLOOKUP($F376,'Points Table A'!$D$3:$F$33,3),VLOOKUP($F376,'Points Table A'!$J$3:$L$33,3))","v":0},{"$f":"IF($R376<>3,VLOOKUP($G376,'Points Table A'!$E$3:$F$33,2),VLOOKUP($G376,'Points Table A'!$K$3:$L$33,2))","v":0},0,{"$f":"IF($T376=Lookups!$B$113,VLOOKUP($J376,'Points Table C'!$A$3:$F$11,5),VLOOKUP($U376,'Points Table C'!$B$3:$F$11,4))","v":0},{"$f":"IF($R376=1,0,VLOOKUP($N376,'Points Table C'!$C$3:$E$18,3))","v":0},{"$f":"VLOOKUP($I376,'Points Table C'!$D$3:$E$18,2)","v":0},{"$f":"IF($Z376<Lookups!$C$106,(AA376+AB376+AC376),IF(AA376>=Lookups!$C$120,(AA376+AB376+AC376),AA376+AB376))","v":0}]
["Non-core foods","Enter a food name here","Company name",0,0,0,0,0,0,0,0,0,{"$f":"IF((SUM(D377:L377)=0),\"J\",VLOOKUP(P377,Lookups!$A$1:$B$11,2))","v":"J"},{"$f":"H377+(L377*Lookups!$C$102*H377/100)","v":0},0,{"$f":"IF(ROUND(10.499-(((O377-VLOOKUP($A377,Lookups!$A$55:$D$64,3))/(VLOOKUP($A377,Lookups!$A$55:$D$64,4))*VLOOKUP($A377,Lookups!$C$2:$D$11,2))),0)<1,1,IF(ROUND(10.499-(((O377-VLOOKUP($A377,Lookups!$A$55:$D$64,3))/(VLOOKUP($A377,Lookups!$A$55:$D$64,4))*VLOOKUP($A377,Lookups!$C$2:$D$11,2))),0)<11,ROUND(10.499-(((O377-VLOOKUP($A377,Lookups!$A$55:$D$64,3))/(VLOOKUP($A377,Lookups!$A$55:$D$64,4))*VLOOKUP($A377,Lookups!$C$2:$D$11,2))),0),10))","v":7},null,{"$f":"VLOOKUP(A377,Lookups!$A$126:$C$135,3)","v":2},{"$f":"VLOOKUP(A377,Lookups!$A$126:$C$135,2)","v":"Food"},"No",0,{"$f":"IF($R377<>3,VLOOKUP($D377,'Points Table A'!$B$3:$F$33,5),VLOOKUP($D377,'Points Table A'!$H$3:$L$33,5))","v":0},{"$f":"IF($R377<>3,VLOOKUP($E377,'Points Table A'!$C$3:$F$33,4),VLOOKUP($E377,'Points Table A'!$I$3:$L$33,4))","v":0},{"$f":"IF($R377<>3,VLOOKUP($F377,'Points Table A'!$D$3:$F$33,3),VLOOKUP($F377,'Points Table A'!$J$3:$L$33,3))","v":0},{"$f":"IF($R377<>3,VLOOKUP($G377,'Points Table A'!$E$3:$F$33,2),VLOOKUP($G377,'Points Table A'!$K$3:$L$33,2))","v":0},0,{"$f":"IF($T377=Lookups!$B$113,VLOOKUP($J377,'Points Table C'!$A$3:$F$11,5),VLOOKUP($U377,'Points Table C'!$B$3:$F$11,4))","v":0},{"$f":"IF($R377=1,0,VLOOKUP($N377,'Points Table C'!$C$3:$E$18,3))","v":0},{"$f":"VLOOKUP($I377,'Points Table C'!$D$3:$E$18,2)","v":0},{"$f":"IF($Z377<Lookups!$C$106,(AA377+AB377+AC377),IF(AA377>=Lookups!$C$120,(AA377+AB377+AC377),AA377+AB377))","v":0}]
["Non-core foods","Enter a food name here","Company name",0,0,0,0,0,0,0,0,0,{"$f":"IF((SUM(D378:L378)=0),\"J\",VLOOKUP(P378,Lookups!$A$1:$B$11,2))","v":"J"},{"$f":"H378+(L378*Lookups!$C$102*H378/100)","v":0},0,{"$f":"IF(ROUND(10.499-(((O378-VLOOKUP($A378,Lookups!$A$55:$D$64,3))/(VLOOKUP($A378,Lookups!$A$55:$D$64,4))*VLOOKUP($A378,Lookups!$C$2:$D$11,2))),0)<1,1,IF(ROUND(10.499-(((O378-VLOOKUP($A378,Lookups!$A$55:$D$64,3))/(VLOOKUP($A378,Lookups!$A$55:$D$64,4))*VLOOKUP($A378,Lookups!$C$2:$D$11,2))),0)<11,ROUND(10.499-(((O378-VLOOKUP($A378,Lookups!$A$55:$D$64,3))/(VLOOKUP($A378,Lookups!$A$55:$D$64,4))*VLOOKUP($A378,Lookups!$C$2:$D$11,2))),0),10))","v":7},null,{"$f":"VLOOKUP(A378,Lookups!$A$126:$C$135,3)","v":2},{"$f":"VLOOKUP(A378,Lookups!$A$126:$C$135,2)","v":"Food"},"No",0,{"$f":"IF($R378<>3,VLOOKUP($D378,'Points Table A'!$B$3:$F$33,5),VLOOKUP($D378,'Points Table A'!$H$3:$L$33,5))","v":0},{"$f":"IF($R378<>3,VLOOKUP($E378,'Points Table A'!$C$3:$F$33,4),VLOOKUP($E378,'Points Table A'!$I$3:$L$33,4))","v":0},{"$f":"IF($R378<>3,VLOOKUP($F378,'Points Table A'!$D$3:$F$33,3),VLOOKUP($F378,'Points Table A'!$J$3:$L$33,3))","v":0},{"$f":"IF($R378<>3,VLOOKUP($G378,'Points Table A'!$E$3:$F$33,2),VLOOKUP($G378,'Points Table A'!$K$3:$L$33,2))","v":0},0,{"$f":"IF($T378=Lookups!$B$113,VLOOKUP($J378,'Points Table C'!$A$3:$F$11,5),VLOOKUP($U378,'Points Table C'!$B$3:$F$11,4))","v":0},{"$f":"IF($R378=1,0,VLOOKUP($N378,'Points Table C'!$C$3:$E$18,3))","v":0},{"$f":"VLOOKUP($I378,'Points Table C'!$D$3:$E$18,2)","v":0},{"$f":"IF($Z378<Lookups!$C$106,(AA378+AB378+AC378),IF(AA378>=Lookups!$C$120,(AA378+AB378+AC378),AA378+AB378))","v":0}]
["Non-core foods","Enter a food name here","Company name",0,0,0,0,0,0,0,0,0,{"$f":"IF((SUM(D379:L379)=0),\"J\",VLOOKUP(P379,Lookups!$A$1:$B$11,2))","v":"J"},{"$f":"H379+(L379*Lookups!$C$102*H379/100)","v":0},0,{"$f":"IF(ROUND(10.499-(((O379-VLOOKUP($A379,Lookups!$A$55:$D$64,3))/(VLOOKUP($A379,Lookups!$A$55:$D$64,4))*VLOOKUP($A379,Lookups!$C$2:$D$11,2))),0)<1,1,IF(ROUND(10.499-(((O379-VLOOKUP($A379,Lookups!$A$55:$D$64,3))/(VLOOKUP($A379,Lookups!$A$55:$D$64,4))*VLOOKUP($A379,Lookups!$C$2:$D$11,2))),0)<11,ROUND(10.499-(((O379-VLOOKUP($A379,Lookups!$A$55:$D$64,3))/(VLOOKUP($A379,Lookups!$A$55:$D$64,4))*VLOOKUP($A379,Lookups!$C$2:$D$11,2))),0),10))","v":7},null,{"$f":"VLOOKUP(A379,Lookups!$A$126:$C$135,3)","v":2},{"$f":"VLOOKUP(A379,Lookups!$A$126:$C$135,2)","v":"Food"},"No",0,{"$f":"IF($R379<>3,VLOOKUP($D379,'Points Table A'!$B$3:$F$33,5),VLOOKUP($D379,'Points Table A'!$H$3:$L$33,5))","v":0},{"$f":"IF($R379<>3,VLOOKUP($E379,'Points Table A'!$C$3:$F$33,4),VLOOKUP($E379,'Points Table A'!$I$3:$L$33,4))","v":0},{"$f":"IF($R379<>3,VLOOKUP($F379,'Points Table A'!$D$3:$F$33,3),VLOOKUP($F379,'Points Table A'!$J$3:$L$33,3))","v":0},{"$f":"IF($R379<>3,VLOOKUP($G379,'Points Table A'!$E$3:$F$33,2),VLOOKUP($G379,'Points Table A'!$K$3:$L$33,2))","v":0},0,{"$f":"IF($T379=Lookups!$B$113,VLOOKUP($J379,'Points Table C'!$A$3:$F$11,5),VLOOKUP($U379,'Points Table C'!$B$3:$F$11,4))","v":0},{"$f":"IF($R379=1,0,VLOOKUP($N379,'Points Table C'!$C$3:$E$18,3))","v":0},{"$f":"VLOOKUP($I379,'Points Table C'!$D$3:$E$18,2)","v":0},{"$f":"IF($Z379<Lookups!$C$106,(AA379+AB379+AC379),IF(AA379>=Lookups!$C$120,(AA379+AB379+AC379),AA379+AB379))","v":0}]
["Non-core foods","Enter a food name here","Company name",0,0,0,0,0,0,0,0,0,{"$f":"IF((SUM(D380:L380)=0),\"J\",VLOOKUP(P380,Lookups!$A$1:$B$11,2))","v":"J"},{"$f":"H380+(L380*Lookups!$C$102*H380/100)","v":0},0,{"$f":"IF(ROUND(10.499-(((O380-VLOOKUP($A380,Lookups!$A$55:$D$64,3))/(VLOOKUP($A380,Lookups!$A$55:$D$64,4))*VLOOKUP($A380,Lookups!$C$2:$D$11,2))),0)<1,1,IF(ROUND(10.499-(((O380-VLOOKUP($A380,Lookups!$A$55:$D$64,3))/(VLOOKUP($A380,Lookups!$A$55:$D$64,4))*VLOOKUP($A380,Lookups!$C$2:$D$11,2))),0)<11,ROUND(10.499-(((O380-VLOOKUP($A380,Lookups!$A$55:$D$64,3))/(VLOOKUP($A380,Lookups!$A$55:$D$64,4))*VLOOKUP($A380,Lookups!$C$2:$D$11,2))),0),10))","v":7},null,{"$f":"VLOOKUP(A380,Lookups!$A$126:$C$135,3)","v":2},{"$f":"VLOOKUP(A380,Lookups!$A$126:$C$135,2)","v":"Food"},"No",0,{"$f":"IF($R380<>3,VLOOKUP($D380,'Points Table A'!$B$3:$F$33,5),VLOOKUP($D380,'Points Table A'!$H$3:$L$33,5))","v":0},{"$f":"IF($R380<>3,VLOOKUP($E380,'Points Table A'!$C$3:$F$33,4),VLOOKUP($E380,'Points Table A'!$I$3:$L$33,4))","v":0},{"$f":"IF($R380<>3,VLOOKUP($F380,'Points Table A'!$D$3:$F$33,3),VLOOKUP($F380,'Points Table A'!$J$3:$L$33,3))","v":0},{"$f":"IF($R380<>3,VLOOKUP($G380,'Points Table A'!$E$3:$F$33,2),VLOOKUP($G380,'Points Table A'!$K$3:$L$33,2))","v":0},0,{"$f":"IF($T380=Lookups!$B$113,VLOOKUP($J380,'Points Table C'!$A$3:$F$11,5),VLOOKUP($U380,'Points Table C'!$B$3:$F$11,4))","v":0},{"$f":"IF($R380=1,0,VLOOKUP($N380,'Points Table C'!$C$3:$E$18,3))","v":0},{"$f":"VLOOKUP($I380,'Points Table C'!$D$3:$E$18,2)","v":0},{"$f":"IF($Z380<Lookups!$C$106,(AA380+AB380+AC380),IF(AA380>=Lookups!$C$120,(AA380+AB380+AC380),AA380+AB380))","v":0}]
["Non-core foods","Enter a food name here","Company name",0,0,0,0,0,0,0,0,0,{"$f":"IF((SUM(D381:L381)=0),\"J\",VLOOKUP(P381,Lookups!$A$1:$B$11,2))","v":"J"},{"$f":"H381+(L381*Lookups!$C$102*H381/100)","v":0},0,{"$f":"IF(ROUND(10.499-(((O381-VLOOKUP($A381,Lookups!$A$55:$D$64,3))/(VLOOKUP($A381,Lookups!$A$55:$D$64,4))*VLOOKUP($A381,Lookups!$C$2:$D$11,2))),0)<1,1,IF(ROUND(10.499-(((O381-VLOOKUP($A381,Lookups!$A$55:$D$64,3))/(VLOOKUP($A381,Lookups!$A$55:$D$64,4))*VLOOKUP($A381,Lookups!$C$2:$D$11,2))),0)<11,ROUND(10.499-(((O381-VLOOKUP($A381,Lookups!$A$55:$D$64,3))/(VLOOKUP($A381,Lookups!$A$55:$D$64,4))*VLOOKUP($A381,Lookups!$C$2:$D$11,2))),0),10))","v":7},null,{"$f":"VLOOKUP(A381,Lookups!$A$126:$C$135,3)","v":2},{"$f":"VLOOKUP(A381,Lookups!$A$126:$C$135,2)","v":"Food"},"No",0,{"$f":"IF($R381<>3,VLOOKUP($D381,'Points Table A'!$B$3:$F$33,5),VLOOKUP($D381,'Points Table A'!$H$3:$L$33,5))","v":0},{"$f":"IF($R381<>3,VLOOKUP($E381,'Points Table A'!$C$3:$F$33,4),VLOOKUP($E381,'Points Table A'!$I$3:$L$33,4))","v":0},{"$f":"IF($R381<>3,VLOOKUP($F381,'Points Table A'!$D$3:$F$33,3),VLOOKUP($F381,'Points Table A'!$J$3:$L$33,3))","v":0},{"$f":"IF($R381<>3,VLOOKUP($G381,'Points Table A'!$E$3:$F$33,2),VLOOKUP($G381,'Points Table A'!$K$3:$L$33,2))","v":0},0,{"$f":"IF($T381=Lookups!$B$113,VLOOKUP($J381,'Points Table C'!$A$3:$F$11,5),VLOOKUP($U381,'Points Table C'!$B$3:$F$11,4))","v":0},{"$f":"IF($R381=1,0,VLOOKUP($N381,'Points Table C'!$C$3:$E$18,3))","v":0},{"$f":"VLOOKUP($I381,'Points Table C'!$D$3:$E$18,2)","v":0},{"$f":"IF($Z381<Lookups!$C$106,(AA381+AB381+AC381),IF(AA381>=Lookups!$C$120,(AA381+AB381+AC381),AA381+AB381))","v":0}]
["Non-core foods","Enter a food name here","Company name",0,0,0,0,0,0,0,0,0,{"$f":"IF((SUM(D382:L382)=0),\"J\",VLOOKUP(P382,Lookups!$A$1:$B$11,2))","v":"J"},{"$f":"H382+(L382*Lookups!$C$102*H382/100)","v":0},0,{"$f":"IF(ROUND(10.499-(((O382-VLOOKUP($A382,Lookups!$A$55:$D$64,3))/(VLOOKUP($A382,Lookups!$A$55:$D$64,4))*VLOOKUP($A382,Lookups!$C$2:$D$11,2))),0)<1,1,IF(ROUND(10.499-(((O382-VLOOKUP($A382,Lookups!$A$55:$D$64,3))/(VLOOKUP($A382,Lookups!$A$55:$D$64,4))*VLOOKUP($A382,Lookups!$C$2:$D$11,2))),0)<11,ROUND(10.499-(((O382-VLOOKUP($A382,Lookups!$A$55:$D$64,3))/(VLOOKUP($A382,Lookups!$A$55:$D$64,4))*VLOOKUP($A382,Lookups!$C$2:$D$11,2))),0),10))","v":7},null,{"$f":"VLOOKUP(A382,Lookups!$A$126:$C$135,3)","v":2},{"$f":"VLOOKUP(A382,Lookups!$A$126:$C$135,2)","v":"Food"},"No",0,{"$f":"IF($R382<>3,VLOOKUP($D382,'Points Table A'!$B$3:$F$33,5),VLOOKUP($D382,'Points Table A'!$H$3:$L$33,5))","v":0},{"$f":"IF($R382<>3,VLOOKUP($E382,'Points Table A'!$C$3:$F$33,4),VLOOKUP($E382,'Points Table A'!$I$3:$L$33,4))","v":0},{"$f":"IF($R382<>3,VLOOKUP($F382,'Points Table A'!$D$3:$F$33,3),VLOOKUP($F382,'Points Table A'!$J$3:$L$33,3))","v":0},{"$f":"IF($R382<>3,VLOOKUP($G382,'Points Table A'!$E$3:$F$33,2),VLOOKUP($G382,'Points Table A'!$K$3:$L$33,2))","v":0},0,{"$f":"IF($T382=Lookups!$B$113,VLOOKUP($J382,'Points Table C'!$A$3:$F$11,5),VLOOKUP($U382,'Points Table C'!$B$3:$F$11,4))","v":0},{"$f":"IF($R382=1,0,VLOOKUP($N382,'Points Table C'!$C$3:$E$18,3))","v":0},{"$f":"VLOOKUP($I382,'Points Table C'!$D$3:$E$18,2)","v":0},{"$f":"IF($Z382<Lookups!$C$106,(AA382+AB382+AC382),IF(AA382>=Lookups!$C$120,(AA382+AB382+AC382),AA382+AB382))","v":0}]
["Non-core foods","Enter a food name here","Company name",0,0,0,0,0,0,0,0,0,{"$f":"IF((SUM(D383:L383)=0),\"J\",VLOOKUP(P383,Lookups!$A$1:$B$11,2))","v":"J"},{"$f":"H383+(L383*Lookups!$C$102*H383/100)","v":0},0,{"$f":"IF(ROUND(10.499-(((O383-VLOOKUP($A383,Lookups!$A$55:$D$64,3))/(VLOOKUP($A383,Lookups!$A$55:$D$64,4))*VLOOKUP($A383,Lookups!$C$2:$D$11,2))),0)<1,1,IF(ROUND(10.499-(((O383-VLOOKUP($A383,Lookups!$A$55:$D$64,3))/(VLOOKUP($A383,Lookups!$A$55:$D$64,4))*VLOOKUP($A383,Lookups!$C$2:$D$11,2))),0)<11,ROUND(10.499-(((O383-VLOOKUP($A383,Lookups!$A$55:$D$64,3))/(VLOOKUP($A383,Lookups!$A$55:$D$64,4))*VLOOKUP($A383,Lookups!$C$2:$D$11,2))),0),10))","v":7},null,{"$f":"VLOOKUP(A383,Lookups!$A$126:$C$135,3)","v":2},{"$f":"VLOOKUP(A383,Lookups!$A$126:$C$135,2)","v":"Food"},"No",0,{"$f":"IF($R383<>3,VLOOKUP($D383,'Points Table A'!$B$3:$F$33,5),VLOOKUP($D383,'Points Table A'!$H$3:$L$33,5))","v":0},{"$f":"IF($R383<>3,VLOOKUP($E383,'Points Table A'!$C$3:$F$33,4),VLOOKUP($E383,'Points Table A'!$I$3:$L$33,4))","v":0},{"$f":"IF($R383<>3,VLOOKUP($F383,'Points Table A'!$D$3:$F$33,3),VLOOKUP($F383,'Points Table A'!$J$3:$L$33,3))","v":0},{"$f":"IF($R383<>3,VLOOKUP($G383,'Points Table A'!$E$3:$F$33,2),VLOOKUP($G383,'Points Table A'!$K$3:$L$33,2))","v":0},0,{"$f":"IF($T383=Lookups!$B$113,VLOOKUP($J383,'Points Table C'!$A$3:$F$11,5),VLOOKUP($U383,'Points Table C'!$B$3:$F$11,4))","v":0},{"$f":"IF($R383=1,0,VLOOKUP($N383,'Points Table C'!$C$3:$E$18,3))","v":0},{"$f":"VLOOKUP($I383,'Points Table C'!$D$3:$E$18,2)","v":0},{"$f":"IF($Z383<Lookups!$C$106,(AA383+AB383+AC383),IF(AA383>=Lookups!$C$120,(AA383+AB383+AC383),AA383+AB383))","v":0}]
["Non-core foods","Enter a food name here","Company name",0,0,0,0,0,0,0,0,0,{"$f":"IF((SUM(D384:L384)=0),\"J\",VLOOKUP(P384,Lookups!$A$1:$B$11,2))","v":"J"},{"$f":"H384+(L384*Lookups!$C$102*H384/100)","v":0},0,{"$f":"IF(ROUND(10.499-(((O384-VLOOKUP($A384,Lookups!$A$55:$D$64,3))/(VLOOKUP($A384,Lookups!$A$55:$D$64,4))*VLOOKUP($A384,Lookups!$C$2:$D$11,2))),0)<1,1,IF(ROUND(10.499-(((O384-VLOOKUP($A384,Lookups!$A$55:$D$64,3))/(VLOOKUP($A384,Lookups!$A$55:$D$64,4))*VLOOKUP($A384,Lookups!$C$2:$D$11,2))),0)<11,ROUND(10.499-(((O384-VLOOKUP($A384,Lookups!$A$55:$D$64,3))/(VLOOKUP($A384,Lookups!$A$55:$D$64,4))*VLOOKUP($A384,Lookups!$C$2:$D$11,2))),0),10))","v":7},null,{"$f":"VLOOKUP(A384,Lookups!$A$126:$C$135,3)","v":2},{"$f":"VLOOKUP(A384,Lookups!$A$126:$C$135,2)","v":"Food"},"No",0,{"$f":"IF($R384<>3,VLOOKUP($D384,'Points Table A'!$B$3:$F$33,5),VLOOKUP($D384,'Points Table A'!$H$3:$L$33,5))","v":0},{"$f":"IF($R384<>3,VLOOKUP($E384,'Points Table A'!$C$3:$F$33,4),VLOOKUP($E384,'Points Table A'!$I$3:$L$33,4))","v":0},{"$f":"IF($R384<>3,VLOOKUP($F384,'Points Table A'!$D$3:$F$33,3),VLOOKUP($F384,'Points Table A'!$J$3:$L$33,3))","v":0},{"$f":"IF($R384<>3,VLOOKUP($G384,'Points Table A'!$E$3:$F$33,2),VLOOKUP($G384,'Points Table A'!$K$3:$L$33,2))","v":0},0,{"$f":"IF($T384=Lookups!$B$113,VLOOKUP($J384,'Points Table C'!$A$3:$F$11,5),VLOOKUP($U384,'Points Table C'!$B$3:$F$11,4))","v":0},{"$f":"IF($R384=1,0,VLOOKUP($N384,'Points Table C'!$C$3:$E$18,3))","v":0},{"$f":"VLOOKUP($I384,'Points Table C'!$D$3:$E$18,2)","v":0},{"$f":"IF($Z384<Lookups!$C$106,(AA384+AB384+AC384),IF(AA384>=Lookups!$C$120,(AA384+AB384+AC384),AA384+AB384))","v":0}]
["Non-core foods","Enter a food name here","Company name",0,0,0,0,0,0,0,0,0,{"$f":"IF((SUM(D385:L385)=0),\"J\",VLOOKUP(P385,Lookups!$A$1:$B$11,2))","v":"J"},{"$f":"H385+(L385*Lookups!$C$102*H385/100)","v":0},0,{"$f":"IF(ROUND(10.499-(((O385-VLOOKUP($A385,Lookups!$A$55:$D$64,3))/(VLOOKUP($A385,Lookups!$A$55:$D$64,4))*VLOOKUP($A385,Lookups!$C$2:$D$11,2))),0)<1,1,IF(ROUND(10.499-(((O385-VLOOKUP($A385,Lookups!$A$55:$D$64,3))/(VLOOKUP($A385,Lookups!$A$55:$D$64,4))*VLOOKUP($A385,Lookups!$C$2:$D$11,2))),0)<11,ROUND(10.499-(((O385-VLOOKUP($A385,Lookups!$A$55:$D$64,3))/(VLOOKUP($A385,Lookups!$A$55:$D$64,4))*VLOOKUP($A385,Lookups!$C$2:$D$11,2))),0),10))","v":7},null,{"$f":"VLOOKUP(A385,Lookups!$A$126:$C$135,3)","v":2},{"$f":"VLOOKUP(A385,Lookups!$A$126:$C$135,2)","v":"Food"},"No",0,{"$f":"IF($R385<>3,VLOOKUP($D385,'Points Table A'!$B$3:$F$33,5),VLOOKUP($D385,'Points Table A'!$H$3:$L$33,5))","v":0},{"$f":"IF($R385<>3,VLOOKUP($E385,'Points Table A'!$C$3:$F$33,4),VLOOKUP($E385,'Points Table A'!$I$3:$L$33,4))","v":0},{"$f":"IF($R385<>3,VLOOKUP($F385,'Points Table A'!$D$3:$F$33,3),VLOOKUP($F385,'Points Table A'!$J$3:$L$33,3))","v":0},{"$f":"IF($R385<>3,VLOOKUP($G385,'Points Table A'!$E$3:$F$33,2),VLOOKUP($G385,'Points Table A'!$K$3:$L$33,2))","v":0},0,{"$f":"IF($T385=Lookups!$B$113,VLOOKUP($J385,'Points Table C'!$A$3:$F$11,5),VLOOKUP($U385,'Points Table C'!$B$3:$F$11,4))","v":0},{"$f":"IF($R385=1,0,VLOOKUP($N385,'Points Table C'!$C$3:$E$18,3))","v":0},{"$f":"VLOOKUP($I385,'Points Table C'!$D$3:$E$18,2)","v":0},{"$f":"IF($Z385<Lookups!$C$106,(AA385+AB385+AC385),IF(AA385>=Lookups!$C$120,(AA385+AB385+AC385),AA385+AB385))","v":0}]
["Non-core foods","Enter a food name here","Company name",0,0,0,0,0,0,0,0,0,{"$f":"IF((SUM(D386:L386)=0),\"J\",VLOOKUP(P386,Lookups!$A$1:$B$11,2))","v":"J"},{"$f":"H386+(L386*Lookups!$C$102*H386/100)","v":0},0,{"$f":"IF(ROUND(10.499-(((O386-VLOOKUP($A386,Lookups!$A$55:$D$64,3))/(VLOOKUP($A386,Lookups!$A$55:$D$64,4))*VLOOKUP($A386,Lookups!$C$2:$D$11,2))),0)<1,1,IF(ROUND(10.499-(((O386-VLOOKUP($A386,Lookups!$A$55:$D$64,3))/(VLOOKUP($A386,Lookups!$A$55:$D$64,4))*VLOOKUP($A386,Lookups!$C$2:$D$11,2))),0)<11,ROUND(10.499-(((O386-VLOOKUP($A386,Lookups!$A$55:$D$64,3))/(VLOOKUP($A386,Lookups!$A$55:$D$64,4))*VLOOKUP($A386,Lookups!$C$2:$D$11,2))),0),10))","v":7},null,{"$f":"VLOOKUP(A386,Lookups!$A$126:$C$135,3)","v":2},{"$f":"VLOOKUP(A386,Lookups!$A$126:$C$135,2)","v":"Food"},"No",0,{"$f":"IF($R386<>3,VLOOKUP($D386,'Points Table A'!$B$3:$F$33,5),VLOOKUP($D386,'Points Table A'!$H$3:$L$33,5))","v":0},{"$f":"IF($R386<>3,VLOOKUP($E386,'Points Table A'!$C$3:$F$33,4),VLOOKUP($E386,'Points Table A'!$I$3:$L$33,4))","v":0},{"$f":"IF($R386<>3,VLOOKUP($F386,'Points Table A'!$D$3:$F$33,3),VLOOKUP($F386,'Points Table A'!$J$3:$L$33,3))","v":0},{"$f":"IF($R386<>3,VLOOKUP($G386,'Points Table A'!$E$3:$F$33,2),VLOOKUP($G386,'Points Table A'!$K$3:$L$33,2))","v":0},0,{"$f":"IF($T386=Lookups!$B$113,VLOOKUP($J386,'Points Table C'!$A$3:$F$11,5),VLOOKUP($U386,'Points Table C'!$B$3:$F$11,4))","v":0},{"$f":"IF($R386=1,0,VLOOKUP($N386,'Points Table C'!$C$3:$E$18,3))","v":0},{"$f":"VLOOKUP($I386,'Points Table C'!$D$3:$E$18,2)","v":0},{"$f":"IF($Z386<Lookups!$C$106,(AA386+AB386+AC386),IF(AA386>=Lookups!$C$120,(AA386+AB386+AC386),AA386+AB386))","v":0}]
["Non-core foods","Enter a food name here","Company name",0,0,0,0,0,0,0,0,0,{"$f":"IF((SUM(D387:L387)=0),\"J\",VLOOKUP(P387,Lookups!$A$1:$B$11,2))","v":"J"},{"$f":"H387+(L387*Lookups!$C$102*H387/100)","v":0},{"$f":"$Z387-$AD387","v":0},{"$f":"IF(ROUND(10.499-(((O387-VLOOKUP($A387,Lookups!$A$55:$D$64,3))/(VLOOKUP($A387,Lookups!$A$55:$D$64,4))*VLOOKUP($A387,Lookups!$C$2:$D$11,2))),0)<1,1,IF(ROUND(10.499-(((O387-VLOOKUP($A387,Lookups!$A$55:$D$64,3))/(VLOOKUP($A387,Lookups!$A$55:$D$64,4))*VLOOKUP($A387,Lookups!$C$2:$D$11,2))),0)<11,ROUND(10.499-(((O387-VLOOKUP($A387,Lookups!$A$55:$D$64,3))/(VLOOKUP($A387,Lookups!$A$55:$D$64,4))*VLOOKUP($A387,Lookups!$C$2:$D$11,2))),0),10))","v":7},null,{"$f":"VLOOKUP(A387,Lookups!$A$126:$C$135,3)","v":2},{"$f":"VLOOKUP(A387,Lookups!$A$126:$C$135,2)","v":"Food"},{"$f":"IF(AND(J387>0,K387=0),\"Yes\",\"No\")","v":"No"},{"$f":"ROUND(100*(K387+2*J387)/(K387+2*J387+(100-J387-K387)),2)","v":0},{"$f":"IF($R387<>3,VLOOKUP($D387,'Points Table A'!$B$3:$F$33,5),VLOOKUP($D387,'Points Table A'!$H$3:$L$33,5))","v":0},{"$f":"IF($R387<>3,VLOOKUP($E387,'Points Table A'!$C$3:$F$33,4),VLOOKUP($E387,'Points Table A'!$I$3:$L$33,4))","v":0},{"$f":"IF($R387<>3,VLOOKUP($F387,'Points Table A'!$D$3:$F$33,3),VLOOKUP($F387,'Points Table A'!$J$3:$L$33,3))","v":0},{"$f":"IF($R387<>3,VLOOKUP($G387,'Points Table A'!$E$3:$F$33,2),VLOOKUP($G387,'Points Table A'!$K$3:$L$33,2))","v":0},0,{"$f":"IF($T387=Lookups!$B$113,VLOOKUP($J387,'Points Table C'!$A$3:$F$11,5),VLOOKUP($U387,'Points Table C'!$B$3:$F$11,4))","v":0},{"$f":"IF($R387=1,0,VLOOKUP($N387,'Points Table C'!$C$3:$E$18,3))","v":0},{"$f":"VLOOKUP($I387,'Points Table C'!$D$3:$E$18,2)","v":0},{"$f":"IF($Z387<Lookups!$C$106,(AA387+AB387+AC387),IF(AA387>=Lookups!$C$120,(AA387+AB387+AC387),AA387+AB387))","v":0}]
["Non-core foods","Enter a food name here","Company name",0,0,0,0,0,0,0,0,0,{"$f":"IF((SUM(D388:L388)=0),\"J\",VLOOKUP(P388,Lookups!$A$1:$B$11,2))","v":"J"},{"$f":"H388+(L388*Lookups!$C$102*H388/100)","v":0},0,{"$f":"IF(ROUND(10.499-(((O388-VLOOKUP($A388,Lookups!$A$55:$D$64,3))/(VLOOKUP($A388,Lookups!$A$55:$D$64,4))*VLOOKUP($A388,Lookups!$C$2:$D$11,2))),0)<1,1,IF(ROUND(10.499-(((O388-VLOOKUP($A388,Lookups!$A$55:$D$64,3))/(VLOOKUP($A388,Lookups!$A$55:$D$64,4))*VLOOKUP($A388,Lookups!$C$2:$D$11,2))),0)<11,ROUND(10.499-(((O388-VLOOKUP($A388,Lookups!$A$55:$D$64,3))/(VLOOKUP($A388,Lookups!$A$55:$D$64,4))*VLOOKUP($A388,Lookups!$C$2:$D$11,2))),0),10))","v":7},null,{"$f":"VLOOKUP(A388,Lookups!$A$126:$C$135,3)","v":2},{"$f":"VLOOKUP(A388,Lookups!$A$126:$C$135,2)","v":"Food"},"No",0,{"$f":"IF($R388<>3,VLOOKUP($D388,'Points Table A'!$B$3:$F$33,5),VLOOKUP($D388,'Points Table A'!$H$3:$L$33,5))","v":0},{"$f":"IF($R388<>3,VLOOKUP($E388,'Points Table A'!$C$3:$F$33,4),VLOOKUP($E388,'Points Table A'!$I$3:$L$33,4))","v":0},{"$f":"IF($R388<>3,VLOOKUP($F388,'Points Table A'!$D$3:$F$33,3),VLOOKUP($F388,'Points Table A'!$J$3:$L$33,3))","v":0},{"$f":"IF($R388<>3,VLOOKUP($G388,'Points Table A'!$E$3:$F$33,2),VLOOKUP($G388,'Points Table A'!$K$3:$L$33,2))","v":0},{"$f":"SUM(V388:Y388)","v":0},{"$f":"IF($T388=Lookups!$B$113,VLOOKUP($J388,'Points Table C'!$A$3:$F$11,5),VLOOKUP($U388,'Points Table C'!$B$3:$F$11,4))","v":0},{"$f":"IF($R388=1,0,VLOOKUP($N388,'Points Table C'!$C$3:$E$18,3))","v":0},{"$f":"VLOOKUP($I388,'Points Table C'!$D$3:$E$18,2)","v":0},{"$f":"IF($Z388<Lookups!$C$106,(AA388+AB388+AC388),IF(AA388>=Lookups!$C$120,(AA388+AB388+AC388),AA388+AB388))","v":0}]
["Non-core foods","Enter a food name here","Company name",0,0,0,0,0,0,0,0,0,{"$f":"IF((SUM(D389:L389)=0),\"J\",VLOOKUP(P389,Lookups!$A$1:$B$11,2))","v":"J"},{"$f":"H389+(L389*Lookups!$C$102*H389/100)","v":0},0,{"$f":"IF(ROUND(10.499-(((O389-VLOOKUP($A389,Lookups!$A$55:$D$64,3))/(VLOOKUP($A389,Lookups!$A$55:$D$64,4))*VLOOKUP($A389,Lookups!$C$2:$D$11,2))),0)<1,1,IF(ROUND(10.499-(((O389-VLOOKUP($A389,Lookups!$A$55:$D$64,3))/(VLOOKUP($A389,Lookups!$A$55:$D$64,4))*VLOOKUP($A389,Lookups!$C$2:$D$11,2))),0)<11,ROUND(10.499-(((O389-VLOOKUP($A389,Lookups!$A$55:$D$64,3))/(VLOOKUP($A389,Lookups!$A$55:$D$64,4))*VLOOKUP($A389,Lookups!$C$2:$D$11,2))),0),10))","v":7},null,{"$f":"VLOOKUP(A389,Lookups!$A$126:$C$135,3)","v":2},{"$f":"VLOOKUP(A389,Lookups!$A$126:$C$135,2)","v":"Food"},"No",0,{"$f":"IF($R389<>3,VLOOKUP($D389,'Points Table A'!$B$3:$F$33,5),VLOOKUP($D389,'Points Table A'!$H$3:$L$33,5))","v":0},{"$f":"IF($R389<>3,VLOOKUP($E389,'Points Table A'!$C$3:$F$33,4),VLOOKUP($E389,'Points Table A'!$I$3:$L$33,4))","v":0},{"$f":"IF($R389<>3,VLOOKUP($F389,'Points Table A'!$D$3:$F$33,3),VLOOKUP($F389,'Points Table A'!$J$3:$L$33,3))","v":0},{"$f":"IF($R389<>3,VLOOKUP($G389,'Points Table A'!$E$3:$F$33,2),VLOOKUP($G389,'Points Table A'!$K$3:$L$33,2))","v":0},0,{"$f":"IF($T389=Lookups!$B$113,VLOOKUP($J389,'Points Table C'!$A$3:$F$11,5),VLOOKUP($U389,'Points Table C'!$B$3:$F$11,4))","v":0},{"$f":"IF($R389=1,0,VLOOKUP($N389,'Points Table C'!$C$3:$E$18,3))","v":0},{"$f":"VLOOKUP($I389,'Points Table C'!$D$3:$E$18,2)","v":0},{"$f":"IF($Z389<Lookups!$C$106,(AA389+AB389+AC389),IF(AA389>=Lookups!$C$120,(AA389+AB389+AC389),AA389+AB389))","v":0}]
["Non-core foods","Enter a food name here","Company name",0,0,0,0,0,0,0,0,0,{"$f":"IF((SUM(D390:L390)=0),\"J\",VLOOKUP(P390,Lookups!$A$1:$B$11,2))","v":"J"},{"$f":"H390+(L390*Lookups!$C$102*H390/100)","v":0},0,{"$f":"IF(ROUND(10.499-(((O390-VLOOKUP($A390,Lookups!$A$55:$D$64,3))/(VLOOKUP($A390,Lookups!$A$55:$D$64,4))*VLOOKUP($A390,Lookups!$C$2:$D$11,2))),0)<1,1,IF(ROUND(10.499-(((O390-VLOOKUP($A390,Lookups!$A$55:$D$64,3))/(VLOOKUP($A390,Lookups!$A$55:$D$64,4))*VLOOKUP($A390,Lookups!$C$2:$D$11,2))),0)<11,ROUND(10.499-(((O390-VLOOKUP($A390,Lookups!$A$55:$D$64,3))/(VLOOKUP($A390,Lookups!$A$55:$D$64,4))*VLOOKUP($A390,Lookups!$C$2:$D$11,2))),0),10))","v":7},null,{"$f":"VLOOKUP(A390,Lookups!$A$126:$C$135,3)","v":2},{"$f":"VLOOKUP(A390,Lookups!$A$126:$C$135,2)","v":"Food"},"No",0,{"$f":"IF($R390<>3,VLOOKUP($D390,'Points Table A'!$B$3:$F$33,5),VLOOKUP($D390,'Points Table A'!$H$3:$L$33,5))","v":0},{"$f":"IF($R390<>3,VLOOKUP($E390,'Points Table A'!$C$3:$F$33,4),VLOOKUP($E390,'Points Table A'!$I$3:$L$33,4))","v":0},{"$f":"IF($R390<>3,VLOOKUP($F390,'Points Table A'!$D$3:$F$33,3),VLOOKUP($F390,'Points Table A'!$J$3:$L$33,3))","v":0},{"$f":"IF($R390<>3,VLOOKUP($G390,'Points Table A'!$E$3:$F$33,2),VLOOKUP($G390,'Points Table A'!$K$3:$L$33,2))","v":0},0,{"$f":"IF($T390=Lookups!$B$113,VLOOKUP($J390,'Points Table C'!$A$3:$F$11,5),VLOOKUP($U390,'Points Table C'!$B$3:$F$11,4))","v":0},{"$f":"IF($R390=1,0,VLOOKUP($N390,'Points Table C'!$C$3:$E$18,3))","v":0},{"$f":"VLOOKUP($I390,'Points Table C'!$D$3:$E$18,2)","v":0},{"$f":"IF($Z390<Lookups!$C$106,(AA390+AB390+AC390),IF(AA390>=Lookups!$C$120,(AA390+AB390+AC390),AA390+AB390))","v":0}]
["Non-core foods","Enter a food name here","Company name",0,0,0,0,0,0,0,0,0,{"$f":"IF((SUM(D391:L391)=0),\"J\",VLOOKUP(P391,Lookups!$A$1:$B$11,2))","v":"J"},{"$f":"H391+(L391*Lookups!$C$102*H391/100)","v":0},0,{"$f":"IF(ROUND(10.499-(((O391-VLOOKUP($A391,Lookups!$A$55:$D$64,3))/(VLOOKUP($A391,Lookups!$A$55:$D$64,4))*VLOOKUP($A391,Lookups!$C$2:$D$11,2))),0)<1,1,IF(ROUND(10.499-(((O391-VLOOKUP($A391,Lookups!$A$55:$D$64,3))/(VLOOKUP($A391,Lookups!$A$55:$D$64,4))*VLOOKUP($A391,Lookups!$C$2:$D$11,2))),0)<11,ROUND(10.499-(((O391-VLOOKUP($A391,Lookups!$A$55:$D$64,3))/(VLOOKUP($A391,Lookups!$A$55:$D$64,4))*VLOOKUP($A391,Lookups!$C$2:$D$11,2))),0),10))","v":7},null,{"$f":"VLOOKUP(A391,Lookups!$A$126:$C$135,3)","v":2},{"$f":"VLOOKUP(A391,Lookups!$A$126:$C$135,2)","v":"Food"},"No",0,{"$f":"IF($R391<>3,VLOOKUP($D391,'Points Table A'!$B$3:$F$33,5),VLOOKUP($D391,'Points Table A'!$H$3:$L$33,5))","v":0},{"$f":"IF($R391<>3,VLOOKUP($E391,'Points Table A'!$C$3:$F$33,4),VLOOKUP($E391,'Points Table A'!$I$3:$L$33,4))","v":0},{"$f":"IF($R391<>3,VLOOKUP($F391,'Points Table A'!$D$3:$F$33,3),VLOOKUP($F391,'Points Table A'!$J$3:$L$33,3))","v":0},{"$f":"IF($R391<>3,VLOOKUP($G391,'Points Table A'!$E$3:$F$33,2),VLOOKUP($G391,'Points Table A'!$K$3:$L$33,2))","v":0},0,{"$f":"IF($T391=Lookups!$B$113,VLOOKUP($J391,'Points Table C'!$A$3:$F$11,5),VLOOKUP($U391,'Points Table C'!$B$3:$F$11,4))","v":0},{"$f":"IF($R391=1,0,VLOOKUP($N391,'Points Table C'!$C$3:$E$18,3))","v":0},{"$f":"VLOOKUP($I391,'Points Table C'!$D$3:$E$18,2)","v":0},{"$f":"IF($Z391<Lookups!$C$106,(AA391+AB391+AC391),IF(AA391>=Lookups!$C$120,(AA391+AB391+AC391),AA391+AB391))","v":0}]
["Non-core foods","Enter a food name here","Company name",0,0,0,0,0,0,0,0,0,{"$f":"IF((SUM(D392:L392)=0),\"J\",VLOOKUP(P392,Lookups!$A$1:$B$11,2))","v":"J"},{"$f":"H392+(L392*Lookups!$C$102*H392/100)","v":0},0,{"$f":"IF(ROUND(10.499-(((O392-VLOOKUP($A392,Lookups!$A$55:$D$64,3))/(VLOOKUP($A392,Lookups!$A$55:$D$64,4))*VLOOKUP($A392,Lookups!$C$2:$D$11,2))),0)<1,1,IF(ROUND(10.499-(((O392-VLOOKUP($A392,Lookups!$A$55:$D$64,3))/(VLOOKUP($A392,Lookups!$A$55:$D$64,4))*VLOOKUP($A392,Lookups!$C$2:$D$11,2))),0)<11,ROUND(10.499-(((O392-VLOOKUP($A392,Lookups!$A$55:$D$64,3))/(VLOOKUP($A392,Lookups!$A$55:$D$64,4))*VLOOKUP($A392,Lookups!$C$2:$D$11,2))),0),10))","v":7},null,{"$f":"VLOOKUP(A392,Lookups!$A$126:$C$135,3)","v":2},{"$f":"VLOOKUP(A392,Lookups!$A$126:$C$135,2)","v":"Food"},"No",0,{"$f":"IF($R392<>3,VLOOKUP($D392,'Points Table A'!$B$3:$F$33,5),VLOOKUP($D392,'Points Table A'!$H$3:$L$33,5))","v":0},{"$f":"IF($R392<>3,VLOOKUP($E392,'Points Table A'!$C$3:$F$33,4),VLOOKUP($E392,'Points Table A'!$I$3:$L$33,4))","v":0},{"$f":"IF($R392<>3,VLOOKUP($F392,'Points Table A'!$D$3:$F$33,3),VLOOKUP($F392,'Points Table A'!$J$3:$L$33,3))","v":0},{"$f":"IF($R392<>3,VLOOKUP($G392,'Points Table A'!$E$3:$F$33,2),VLOOKUP($G392,'Points Table A'!$K$3:$L$33,2))","v":0},0,{"$f":"IF($T392=Lookups!$B$113,VLOOKUP($J392,'Points Table C'!$A$3:$F$11,5),VLOOKUP($U392,'Points Table C'!$B$3:$F$11,4))","v":0},{"$f":"IF($R392=1,0,VLOOKUP($N392,'Points Table C'!$C$3:$E$18,3))","v":0},{"$f":"VLOOKUP($I392,'Points Table C'!$D$3:$E$18,2)","v":0},{"$f":"IF($Z392<Lookups!$C$106,(AA392+AB392+AC392),IF(AA392>=Lookups!$C$120,(AA392+AB392+AC392),AA392+AB392))","v":0}]
["Non-core foods","Enter a food name here","Company name",0,0,0,0,0,0,0,0,0,{"$f":"IF((SUM(D393:L393)=0),\"J\",VLOOKUP(P393,Lookups!$A$1:$B$11,2))","v":"J"},{"$f":"H393+(L393*Lookups!$C$102*H393/100)","v":0},0,{"$f":"IF(ROUND(10.499-(((O393-VLOOKUP($A393,Lookups!$A$55:$D$64,3))/(VLOOKUP($A393,Lookups!$A$55:$D$64,4))*VLOOKUP($A393,Lookups!$C$2:$D$11,2))),0)<1,1,IF(ROUND(10.499-(((O393-VLOOKUP($A393,Lookups!$A$55:$D$64,3))/(VLOOKUP($A393,Lookups!$A$55:$D$64,4))*VLOOKUP($A393,Lookups!$C$2:$D$11,2))),0)<11,ROUND(10.499-(((O393-VLOOKUP($A393,Lookups!$A$55:$D$64,3))/(VLOOKUP($A393,Lookups!$A$55:$D$64,4))*VLOOKUP($A393,Lookups!$C$2:$D$11,2))),0),10))","v":7},null,{"$f":"VLOOKUP(A393,Lookups!$A$126:$C$135,3)","v":2},{"$f":"VLOOKUP(A393,Lookups!$A$126:$C$135,2)","v":"Food"},"No",0,{"$f":"IF($R393<>3,VLOOKUP($D393,'Points Table A'!$B$3:$F$33,5),VLOOKUP($D393,'Points Table A'!$H$3:$L$33,5))","v":0},{"$f":"IF($R393<>3,VLOOKUP($E393,'Points Table A'!$C$3:$F$33,4),VLOOKUP($E393,'Points Table A'!$I$3:$L$33,4))","v":0},{"$f":"IF($R393<>3,VLOOKUP($F393,'Points Table A'!$D$3:$F$33,3),VLOOKUP($F393,'Points Table A'!$J$3:$L$33,3))","v":0},{"$f":"IF($R393<>3,VLOOKUP($G393,'Points Table A'!$E$3:$F$33,2),VLOOKUP($G393,'Points Table A'!$K$3:$L$33,2))","v":0},0,{"$f":"IF($T393=Lookups!$B$113,VLOOKUP($J393,'Points Table C'!$A$3:$F$11,5),VLOOKUP($U393,'Points Table C'!$B$3:$F$11,4))","v":0},{"$f":"IF($R393=1,0,VLOOKUP($N393,'Points Table C'!$C$3:$E$18,3))","v":0},{"$f":"VLOOKUP($I393,'Points Table C'!$D$3:$E$18,2)","v":0},{"$f":"IF($Z393<Lookups!$C$106,(AA393+AB393+AC393),IF(AA393>=Lookups!$C$120,(AA393+AB393+AC393),AA393+AB393))","v":0}]
["Non-core foods","Enter a food name here","Company name",0,0,0,0,0,0,0,0,0,{"$f":"IF((SUM(D394:L394)=0),\"J\",VLOOKUP(P394,Lookups!$A$1:$B$11,2))","v":"J"},{"$f":"H394+(L394*Lookups!$C$102*H394/100)","v":0},0,{"$f":"IF(ROUND(10.499-(((O394-VLOOKUP($A394,Lookups!$A$55:$D$64,3))/(VLOOKUP($A394,Lookups!$A$55:$D$64,4))*VLOOKUP($A394,Lookups!$C$2:$D$11,2))),0)<1,1,IF(ROUND(10.499-(((O394-VLOOKUP($A394,Lookups!$A$55:$D$64,3))/(VLOOKUP($A394,Lookups!$A$55:$D$64,4))*VLOOKUP($A394,Lookups!$C$2:$D$11,2))),0)<11,ROUND(10.499-(((O394-VLOOKUP($A394,Lookups!$A$55:$D$64,3))/(VLOOKUP($A394,Lookups!$A$55:$D$64,4))*VLOOKUP($A394,Lookups!$C$2:$D$11,2))),0),10))","v":7},null,{"$f":"VLOOKUP(A394,Lookups!$A$126:$C$135,3)","v":2},{"$f":"VLOOKUP(A394,Lookups!$A$126:$C$135,2)","v":"Food"},"No",0,{"$f":"IF($R394<>3,VLOOKUP($D394,'Points Table A'!$B$3:$F$33,5),VLOOKUP($D394,'Points Table A'!$H$3:$L$33,5))","v":0},{"$f":"IF($R394<>3,VLOOKUP($E394,'Points Table A'!$C$3:$F$33,4),VLOOKUP($E394,'Points Table A'!$I$3:$L$33,4))","v":0},{"$f":"IF($R394<>3,VLOOKUP($F394,'Points Table A'!$D$3:$F$33,3),VLOOKUP($F394,'Points Table A'!$J$3:$L$33,3))","v":0},{"$f":"IF($R394<>3,VLOOKUP($G394,'Points Table A'!$E$3:$F$33,2),VLOOKUP($G394,'Points Table A'!$K$3:$L$33,2))","v":0},0,{"$f":"IF($T394=Lookups!$B$113,VLOOKUP($J394,'Points Table C'!$A$3:$F$11,5),VLOOKUP($U394,'Points Table C'!$B$3:$F$11,4))","v":0},{"$f":"IF($R394=1,0,VLOOKUP($N394,'Points Table C'!$C$3:$E$18,3))","v":0},{"$f":"VLOOKUP($I394,'Points Table C'!$D$3:$E$18,2)","v":0},{"$f":"IF($Z394<Lookups!$C$106,(AA394+AB394+AC394),IF(AA394>=Lookups!$C$120,(AA394+AB394+AC394),AA394+AB394))","v":0}]
["Non-core foods","Enter a food name here","Company name",0,0,0,0,0,0,0,0,0,{"$f":"IF((SUM(D395:L395)=0),\"J\",VLOOKUP(P395,Lookups!$A$1:$B$11,2))","v":"J"},{"$f":"H395+(L395*Lookups!$C$102*H395/100)","v":0},0,{"$f":"IF(ROUND(10.499-(((O395-VLOOKUP($A395,Lookups!$A$55:$D$64,3))/(VLOOKUP($A395,Lookups!$A$55:$D$64,4))*VLOOKUP($A395,Lookups!$C$2:$D$11,2))),0)<1,1,IF(ROUND(10.499-(((O395-VLOOKUP($A395,Lookups!$A$55:$D$64,3))/(VLOOKUP($A395,Lookups!$A$55:$D$64,4))*VLOOKUP($A395,Lookups!$C$2:$D$11,2))),0)<11,ROUND(10.499-(((O395-VLOOKUP($A395,Lookups!$A$55:$D$64,3))/(VLOOKUP($A395,Lookups!$A$55:$D$64,4))*VLOOKUP($A395,Lookups!$C$2:$D$11,2))),0),10))","v":7},null,{"$f":"VLOOKUP(A395,Lookups!$A$126:$C$135,3)","v":2},{"$f":"VLOOKUP(A395,Lookups!$A$126:$C$135,2)","v":"Food"},"No",0,{"$f":"IF($R395<>3,VLOOKUP($D395,'Points Table A'!$B$3:$F$33,5),VLOOKUP($D395,'Points Table A'!$H$3:$L$33,5))","v":0},{"$f":"IF($R395<>3,VLOOKUP($E395,'Points Table A'!$C$3:$F$33,4),VLOOKUP($E395,'Points Table A'!$I$3:$L$33,4))","v":0},{"$f":"IF($R395<>3,VLOOKUP($F395,'Points Table A'!$D$3:$F$33,3),VLOOKUP($F395,'Points Table A'!$J$3:$L$33,3))","v":0},{"$f":"IF($R395<>3,VLOOKUP($G395,'Points Table A'!$E$3:$F$33,2),VLOOKUP($G395,'Points Table A'!$K$3:$L$33,2))","v":0},0,{"$f":"IF($T395=Lookups!$B$113,VLOOKUP($J395,'Points Table C'!$A$3:$F$11,5),VLOOKUP($U395,'Points Table C'!$B$3:$F$11,4))","v":0},{"$f":"IF($R395=1,0,VLOOKUP($N395,'Points Table C'!$C$3:$E$18,3))","v":0},{"$f":"VLOOKUP($I395,'Points Table C'!$D$3:$E$18,2)","v":0},{"$f":"IF($Z395<Lookups!$C$106,(AA395+AB395+AC395),IF(AA395>=Lookups!$C$120,(AA395+AB395+AC395),AA395+AB395))","v":0}]
["Non-core foods","Enter a food name here","Company name",0,0,0,0,0,0,0,0,0,{"$f":"IF((SUM(D396:L396)=0),\"J\",VLOOKUP(P396,Lookups!$A$1:$B$11,2))","v":"J"},{"$f":"H396+(L396*Lookups!$C$102*H396/100)","v":0},0,{"$f":"IF(ROUND(10.499-(((O396-VLOOKUP($A396,Lookups!$A$55:$D$64,3))/(VLOOKUP($A396,Lookups!$A$55:$D$64,4))*VLOOKUP($A396,Lookups!$C$2:$D$11,2))),0)<1,1,IF(ROUND(10.499-(((O396-VLOOKUP($A396,Lookups!$A$55:$D$64,3))/(VLOOKUP($A396,Lookups!$A$55:$D$64,4))*VLOOKUP($A396,Lookups!$C$2:$D$11,2))),0)<11,ROUND(10.499-(((O396-VLOOKUP($A396,Lookups!$A$55:$D$64,3))/(VLOOKUP($A396,Lookups!$A$55:$D$64,4))*VLOOKUP($A396,Lookups!$C$2:$D$11,2))),0),10))","v":7},null,{"$f":"VLOOKUP(A396,Lookups!$A$126:$C$135,3)","v":2},{"$f":"VLOOKUP(A396,Lookups!$A$126:$C$135,2)","v":"Food"},"No",0,{"$f":"IF($R396<>3,VLOOKUP($D396,'Points Table A'!$B$3:$F$33,5),VLOOKUP($D396,'Points Table A'!$H$3:$L$33,5))","v":0},{"$f":"IF($R396<>3,VLOOKUP($E396,'Points Table A'!$C$3:$F$33,4),VLOOKUP($E396,'Points Table A'!$I$3:$L$33,4))","v":0},{"$f":"IF($R396<>3,VLOOKUP($F396,'Points Table A'!$D$3:$F$33,3),VLOOKUP($F396,'Points Table A'!$J$3:$L$33,3))","v":0},{"$f":"IF($R396<>3,VLOOKUP($G396,'Points Table A'!$E$3:$F$33,2),VLOOKUP($G396,'Points Table A'!$K$3:$L$33,2))","v":0},0,{"$f":"IF($T396=Lookups!$B$113,VLOOKUP($J396,'Points Table C'!$A$3:$F$11,5),VLOOKUP($U396,'Points Table C'!$B$3:$F$11,4))","v":0},{"$f":"IF($R396=1,0,VLOOKUP($N396,'Points Table C'!$C$3:$E$18,3))","v":0},{"$f":"VLOOKUP($I396,'Points Table C'!$D$3:$E$18,2)","v":0},{"$f":"IF($Z396<Lookups!$C$106,(AA396+AB396+AC396),IF(AA396>=Lookups!$C$120,(AA396+AB396+AC396),AA396+AB396))","v":0}]
["Non-core foods","Enter a food name here","Company name",0,0,0,0,0,0,0,0,0,{"$f":"IF((SUM(D397:L397)=0),\"J\",VLOOKUP(P397,Lookups!$A$1:$B$11,2))","v":"J"},{"$f":"H397+(L397*Lookups!$C$102*H397/100)","v":0},0,{"$f":"IF(ROUND(10.499-(((O397-VLOOKUP($A397,Lookups!$A$55:$D$64,3))/(VLOOKUP($A397,Lookups!$A$55:$D$64,4))*VLOOKUP($A397,Lookups!$C$2:$D$11,2))),0)<1,1,IF(ROUND(10.499-(((O397-VLOOKUP($A397,Lookups!$A$55:$D$64,3))/(VLOOKUP($A397,Lookups!$A$55:$D$64,4))*VLOOKUP($A397,Lookups!$C$2:$D$11,2))),0)<11,ROUND(10.499-(((O397-VLOOKUP($A397,Lookups!$A$55:$D$64,3))/(VLOOKUP($A397,Lookups!$A$55:$D$64,4))*VLOOKUP($A397,Lookups!$C$2:$D$11,2))),0),10))","v":7},null,{"$f":"VLOOKUP(A397,Lookups!$A$126:$C$135,3)","v":2},{"$f":"VLOOKUP(A397,Lookups!$A$126:$C$135,2)","v":"Food"},"No",0,{"$f":"IF($R397<>3,VLOOKUP($D397,'Points Table A'!$B$3:$F$33,5),VLOOKUP($D397,'Points Table A'!$H$3:$L$33,5))","v":0},{"$f":"IF($R397<>3,VLOOKUP($E397,'Points Table A'!$C$3:$F$33,4),VLOOKUP($E397,'Points Table A'!$I$3:$L$33,4))","v":0},{"$f":"IF($R397<>3,VLOOKUP($F397,'Points Table A'!$D$3:$F$33,3),VLOOKUP($F397,'Points Table A'!$J$3:$L$33,3))","v":0},{"$f":"IF($R397<>3,VLOOKUP($G397,'Points Table A'!$E$3:$F$33,2),VLOOKUP($G397,'Points Table A'!$K$3:$L$33,2))","v":0},0,{"$f":"IF($T397=Lookups!$B$113,VLOOKUP($J397,'Points Table C'!$A$3:$F$11,5),VLOOKUP($U397,'Points Table C'!$B$3:$F$11,4))","v":0},{"$f":"IF($R397=1,0,VLOOKUP($N397,'Points Table C'!$C$3:$E$18,3))","v":0},{"$f":"VLOOKUP($I397,'Points Table C'!$D$3:$E$18,2)","v":0},{"$f":"IF($Z397<Lookups!$C$106,(AA397+AB397+AC397),IF(AA397>=Lookups!$C$120,(AA397+AB397+AC397),AA397+AB397))","v":0}]
["Non-core foods","Enter a food name here","Company name",0,0,0,0,0,0,0,0,0,{"$f":"IF((SUM(D398:L398)=0),\"J\",VLOOKUP(P398,Lookups!$A$1:$B$11,2))","v":"J"},{"$f":"H398+(L398*Lookups!$C$102*H398/100)","v":0},0,{"$f":"IF(ROUND(10.499-(((O398-VLOOKUP($A398,Lookups!$A$55:$D$64,3))/(VLOOKUP($A398,Lookups!$A$55:$D$64,4))*VLOOKUP($A398,Lookups!$C$2:$D$11,2))),0)<1,1,IF(ROUND(10.499-(((O398-VLOOKUP($A398,Lookups!$A$55:$D$64,3))/(VLOOKUP($A398,Lookups!$A$55:$D$64,4))*VLOOKUP($A398,Lookups!$C$2:$D$11,2))),0)<11,ROUND(10.499-(((O398-VLOOKUP($A398,Lookups!$A$55:$D$64,3))/(VLOOKUP($A398,Lookups!$A$55:$D$64,4))*VLOOKUP($A398,Lookups!$C$2:$D$11,2))),0),10))","v":7},null,{"$f":"VLOOKUP(A398,Lookups!$A$126:$C$135,3)","v":2},{"$f":"VLOOKUP(A398,Lookups!$A$126:$C$135,2)","v":"Food"},"No",0,{"$f":"IF($R398<>3,VLOOKUP($D398,'Points Table A'!$B$3:$F$33,5),VLOOKUP($D398,'Points Table A'!$H$3:$L$33,5))","v":0},{"$f":"IF($R398<>3,VLOOKUP($E398,'Points Table A'!$C$3:$F$33,4),VLOOKUP($E398,'Points Table A'!$I$3:$L$33,4))","v":0},{"$f":"IF($R398<>3,VLOOKUP($F398,'Points Table A'!$D$3:$F$33,3),VLOOKUP($F398,'Points Table A'!$J$3:$L$33,3))","v":0},{"$f":"IF($R398<>3,VLOOKUP($G398,'Points Table A'!$E$3:$F$33,2),VLOOKUP($G398,'Points Table A'!$K$3:$L$33,2))","v":0},0,{"$f":"IF($T398=Lookups!$B$113,VLOOKUP($J398,'Points Table C'!$A$3:$F$11,5),VLOOKUP($U398,'Points Table C'!$B$3:$F$11,4))","v":0},{"$f":"IF($R398=1,0,VLOOKUP($N398,'Points Table C'!$C$3:$E$18,3))","v":0},{"$f":"VLOOKUP($I398,'Points Table C'!$D$3:$E$18,2)","v":0},{"$f":"IF($Z398<Lookups!$C$106,(AA398+AB398+AC398),IF(AA398>=Lookups!$C$120,(AA398+AB398+AC398),AA398+AB398))","v":0}]
["Non-core foods","Enter a food name here","Company name",0,0,0,0,0,0,0,0,0,{"$f":"IF((SUM(D399:L399)=0),\"J\",VLOOKUP(P399,Lookups!$A$1:$B$11,2))","v":"J"},{"$f":"H399+(L399*Lookups!$C$102*H399/100)","v":0},0,{"$f":"IF(ROUND(10.499-(((O399-VLOOKUP($A399,Lookups!$A$55:$D$64,3))/(VLOOKUP($A399,Lookups!$A$55:$D$64,4))*VLOOKUP($A399,Lookups!$C$2:$D$11,2))),0)<1,1,IF(ROUND(10.499-(((O399-VLOOKUP($A399,Lookups!$A$55:$D$64,3))/(VLOOKUP($A399,Lookups!$A$55:$D$64,4))*VLOOKUP($A399,Lookups!$C$2:$D$11,2))),0)<11,ROUND(10.499-(((O399-VLOOKUP($A399,Lookups!$A$55:$D$64,3))/(VLOOKUP($A399,Lookups!$A$55:$D$64,4))*VLOOKUP($A399,Lookups!$C$2:$D$11,2))),0),10))","v":7},null,{"$f":"VLOOKUP(A399,Lookups!$A$126:$C$135,3)","v":2},{"$f":"VLOOKUP(A399,Lookups!$A$126:$C$135,2)","v":"Food"},"No",0,{"$f":"IF($R399<>3,VLOOKUP($D399,'Points Table A'!$B$3:$F$33,5),VLOOKUP($D399,'Points Table A'!$H$3:$L$33,5))","v":0},{"$f":"IF($R399<>3,VLOOKUP($E399,'Points Table A'!$C$3:$F$33,4),VLOOKUP($E399,'Points Table A'!$I$3:$L$33,4))","v":0},{"$f":"IF($R399<>3,VLOOKUP($F399,'Points Table A'!$D$3:$F$33,3),VLOOKUP($F399,'Points Table A'!$J$3:$L$33,3))","v":0},{"$f":"IF($R399<>3,VLOOKUP($G399,'Points Table A'!$E$3:$F$33,2),VLOOKUP($G399,'Points Table A'!$K$3:$L$33,2))","v":0},0,{"$f":"IF($T399=Lookups!$B$113,VLOOKUP($J399,'Points Table C'!$A$3:$F$11,5),VLOOKUP($U399,'Points Table C'!$B$3:$F$11,4))","v":0},{"$f":"IF($R399=1,0,VLOOKUP($N399,'Points Table C'!$C$3:$E$18,3))","v":0},{"$f":"VLOOKUP($I399,'Points Table C'!$D$3:$E$18,2)","v":0},{"$f":"IF($Z399<Lookups!$C$106,(AA399+AB399+AC399),IF(AA399>=Lookups!$C$120,(AA399+AB399+AC399),AA399+AB399))","v":0}]
["Non-core foods","Enter a food name here","Company name",0,0,0,0,0,0,0,0,0,{"$f":"IF((SUM(D400:L400)=0),\"J\",VLOOKUP(P400,Lookups!$A$1:$B$11,2))","v":"J"},{"$f":"H400+(L400*Lookups!$C$102*H400/100)","v":0},0,{"$f":"IF(ROUND(10.499-(((O400-VLOOKUP($A400,Lookups!$A$55:$D$64,3))/(VLOOKUP($A400,Lookups!$A$55:$D$64,4))*VLOOKUP($A400,Lookups!$C$2:$D$11,2))),0)<1,1,IF(ROUND(10.499-(((O400-VLOOKUP($A400,Lookups!$A$55:$D$64,3))/(VLOOKUP($A400,Lookups!$A$55:$D$64,4))*VLOOKUP($A400,Lookups!$C$2:$D$11,2))),0)<11,ROUND(10.499-(((O400-VLOOKUP($A400,Lookups!$A$55:$D$64,3))/(VLOOKUP($A400,Lookups!$A$55:$D$64,4))*VLOOKUP($A400,Lookups!$C$2:$D$11,2))),0),10))","v":7},null,{"$f":"VLOOKUP(A400,Lookups!$A$126:$C$135,3)","v":2},{"$f":"VLOOKUP(A400,Lookups!$A$126:$C$135,2)","v":"Food"},"No",0,{"$f":"IF($R400<>3,VLOOKUP($D400,'Points Table A'!$B$3:$F$33,5),VLOOKUP($D400,'Points Table A'!$H$3:$L$33,5))","v":0},{"$f":"IF($R400<>3,VLOOKUP($E400,'Points Table A'!$C$3:$F$33,4),VLOOKUP($E400,'Points Table A'!$I$3:$L$33,4))","v":0},{"$f":"IF($R400<>3,VLOOKUP($F400,'Points Table A'!$D$3:$F$33,3),VLOOKUP($F400,'Points Table A'!$J$3:$L$33,3))","v":0},{"$f":"IF($R400<>3,VLOOKUP($G400,'Points Table A'!$E$3:$F$33,2),VLOOKUP($G400,'Points Table A'!$K$3:$L$33,2))","v":0},0,{"$f":"IF($T400=Lookups!$B$113,VLOOKUP($J400,'Points Table C'!$A$3:$F$11,5),VLOOKUP($U400,'Points Table C'!$B$3:$F$11,4))","v":0},{"$f":"IF($R400=1,0,VLOOKUP($N400,'Points Table C'!$C$3:$E$18,3))","v":0},{"$f":"VLOOKUP($I400,'Points Table C'!$D$3:$E$18,2)","v":0},{"$f":"IF($Z400<Lookups!$C$106,(AA400+AB400+AC400),IF(AA400>=Lookups!$C$120,(AA400+AB400+AC400),AA400+AB400))","v":0}]
["Non-core foods","Enter a food name here","Company name",0,0,0,0,0,0,0,0,0,{"$f":"IF((SUM(D401:L401)=0),\"J\",VLOOKUP(P401,Lookups!$A$1:$B$11,2))","v":"J"},{"$f":"H401+(L401*Lookups!$C$102*H401/100)","v":0},0,{"$f":"IF(ROUND(10.499-(((O401-VLOOKUP($A401,Lookups!$A$55:$D$64,3))/(VLOOKUP($A401,Lookups!$A$55:$D$64,4))*VLOOKUP($A401,Lookups!$C$2:$D$11,2))),0)<1,1,IF(ROUND(10.499-(((O401-VLOOKUP($A401,Lookups!$A$55:$D$64,3))/(VLOOKUP($A401,Lookups!$A$55:$D$64,4))*VLOOKUP($A401,Lookups!$C$2:$D$11,2))),0)<11,ROUND(10.499-(((O401-VLOOKUP($A401,Lookups!$A$55:$D$64,3))/(VLOOKUP($A401,Lookups!$A$55:$D$64,4))*VLOOKUP($A401,Lookups!$C$2:$D$11,2))),0),10))","v":7},null,{"$f":"VLOOKUP(A401,Lookups!$A$126:$C$135,3)","v":2},{"$f":"VLOOKUP(A401,Lookups!$A$126:$C$135,2)","v":"Food"},"No",0,{"$f":"IF($R401<>3,VLOOKUP($D401,'Points Table A'!$B$3:$F$33,5),VLOOKUP($D401,'Points Table A'!$H$3:$L$33,5))","v":0},{"$f":"IF($R401<>3,VLOOKUP($E401,'Points Table A'!$C$3:$F$33,4),VLOOKUP($E401,'Points Table A'!$I$3:$L$33,4))","v":0},{"$f":"IF($R401<>3,VLOOKUP($F401,'Points Table A'!$D$3:$F$33,3),VLOOKUP($F401,'Points Table A'!$J$3:$L$33,3))","v":0},{"$f":"IF($R401<>3,VLOOKUP($G401,'Points Table A'!$E$3:$F$33,2),VLOOKUP($G401,'Points Table A'!$K$3:$L$33,2))","v":0},0,{"$f":"IF($T401=Lookups!$B$113,VLOOKUP($J401,'Points Table C'!$A$3:$F$11,5),VLOOKUP($U401,'Points Table C'!$B$3:$F$11,4))","v":0},{"$f":"IF($R401=1,0,VLOOKUP($N401,'Points Table C'!$C$3:$E$18,3))","v":0},{"$f":"VLOOKUP($I401,'Points Table C'!$D$3:$E$18,2)","v":0},{"$f":"IF($Z401<Lookups!$C$106,(AA401+AB401+AC401),IF(AA401>=Lookups!$C$120,(AA401+AB401+AC401),AA401+AB401))","v":0}]
["Non-core foods","Enter a food name here","Company name",0,0,0,0,0,0,0,0,0,{"$f":"IF((SUM(D402:L402)=0),\"J\",VLOOKUP(P402,Lookups!$A$1:$B$11,2))","v":"J"},{"$f":"H402+(L402*Lookups!$C$102*H402/100)","v":0},0,{"$f":"IF(ROUND(10.499-(((O402-VLOOKUP($A402,Lookups!$A$55:$D$64,3))/(VLOOKUP($A402,Lookups!$A$55:$D$64,4))*VLOOKUP($A402,Lookups!$C$2:$D$11,2))),0)<1,1,IF(ROUND(10.499-(((O402-VLOOKUP($A402,Lookups!$A$55:$D$64,3))/(VLOOKUP($A402,Lookups!$A$55:$D$64,4))*VLOOKUP($A402,Lookups!$C$2:$D$11,2))),0)<11,ROUND(10.499-(((O402-VLOOKUP($A402,Lookups!$A$55:$D$64,3))/(VLOOKUP($A402,Lookups!$A$55:$D$64,4))*VLOOKUP($A402,Lookups!$C$2:$D$11,2))),0),10))","v":7},null,{"$f":"VLOOKUP(A402,Lookups!$A$126:$C$135,3)","v":2},{"$f":"VLOOKUP(A402,Lookups!$A$126:$C$135,2)","v":"Food"},"No",0,{"$f":"IF($R402<>3,VLOOKUP($D402,'Points Table A'!$B$3:$F$33,5),VLOOKUP($D402,'Points Table A'!$H$3:$L$33,5))","v":0},{"$f":"IF($R402<>3,VLOOKUP($E402,'Points Table A'!$C$3:$F$33,4),VLOOKUP($E402,'Points Table A'!$I$3:$L$33,4))","v":0},{"$f":"IF($R402<>3,VLOOKUP($F402,'Points Table A'!$D$3:$F$33,3),VLOOKUP($F402,'Points Table A'!$J$3:$L$33,3))","v":0},{"$f":"IF($R402<>3,VLOOKUP($G402,'Points Table A'!$E$3:$F$33,2),VLOOKUP($G402,'Points Table A'!$K$3:$L$33,2))","v":0},0,{"$f":"IF($T402=Lookups!$B$113,VLOOKUP($J402,'Points Table C'!$A$3:$F$11,5),VLOOKUP($U402,'Points Table C'!$B$3:$F$11,4))","v":0},{"$f":"IF($R402=1,0,VLOOKUP($N402,'Points Table C'!$C$3:$E$18,3))","v":0},{"$f":"VLOOKUP($I402,'Points Table C'!$D$3:$E$18,2)","v":0},{"$f":"IF($Z402<Lookups!$C$106,(AA402+AB402+AC402),IF(AA402>=Lookups!$C$120,(AA402+AB402+AC402),AA402+AB402))","v":0}]
["Non-core foods","Enter a food name here","Company name",0,0,0,0,0,0,0,0,0,{"$f":"IF((SUM(D403:L403)=0),\"J\",VLOOKUP(P403,Lookups!$A$1:$B$11,2))","v":"J"},{"$f":"H403+(L403*Lookups!$C$102*H403/100)","v":0},0,{"$f":"IF(ROUND(10.499-(((O403-VLOOKUP($A403,Lookups!$A$55:$D$64,3))/(VLOOKUP($A403,Lookups!$A$55:$D$64,4))*VLOOKUP($A403,Lookups!$C$2:$D$11,2))),0)<1,1,IF(ROUND(10.499-(((O403-VLOOKUP($A403,Lookups!$A$55:$D$64,3))/(VLOOKUP($A403,Lookups!$A$55:$D$64,4))*VLOOKUP($A403,Lookups!$C$2:$D$11,2))),0)<11,ROUND(10.499-(((O403-VLOOKUP($A403,Lookups!$A$55:$D$64,3))/(VLOOKUP($A403,Lookups!$A$55:$D$64,4))*VLOOKUP($A403,Lookups!$C$2:$D$11,2))),0),10))","v":7},null,{"$f":"VLOOKUP(A403,Lookups!$A$126:$C$135,3)","v":2},{"$f":"VLOOKUP(A403,Lookups!$A$126:$C$135,2)","v":"Food"},"No",0,{"$f":"IF($R403<>3,VLOOKUP($D403,'Points Table A'!$B$3:$F$33,5),VLOOKUP($D403,'Points Table A'!$H$3:$L$33,5))","v":0},{"$f":"IF($R403<>3,VLOOKUP($E403,'Points Table A'!$C$3:$F$33,4),VLOOKUP($E403,'Points Table A'!$I$3:$L$33,4))","v":0},{"$f":"IF($R403<>3,VLOOKUP($F403,'Points Table A'!$D$3:$F$33,3),VLOOKUP($F403,'Points Table A'!$J$3:$L$33,3))","v":0},{"$f":"IF($R403<>3,VLOOKUP($G403,'Points Table A'!$E$3:$F$33,2),VLOOKUP($G403,'Points Table A'!$K$3:$L$33,2))","v":0},0,{"$f":"IF($T403=Lookups!$B$113,VLOOKUP($J403,'Points Table C'!$A$3:$F$11,5),VLOOKUP($U403,'Points Table C'!$B$3:$F$11,4))","v":0},{"$f":"IF($R403=1,0,VLOOKUP($N403,'Points Table C'!$C$3:$E$18,3))","v":0},{"$f":"VLOOKUP($I403,'Points Table C'!$D$3:$E$18,2)","v":0},{"$f":"IF($Z403<Lookups!$C$106,(AA403+AB403+AC403),IF(AA403>=Lookups!$C$120,(AA403+AB403+AC403),AA403+AB403))","v":0}]
["Non-core foods","Enter a food name here","Company name",0,0,0,0,0,0,0,0,0,{"$f":"IF((SUM(D404:L404)=0),\"J\",VLOOKUP(P404,Lookups!$A$1:$B$11,2))","v":"J"},{"$f":"H404+(L404*Lookups!$C$102*H404/100)","v":0},0,{"$f":"IF(ROUND(10.499-(((O404-VLOOKUP($A404,Lookups!$A$55:$D$64,3))/(VLOOKUP($A404,Lookups!$A$55:$D$64,4))*VLOOKUP($A404,Lookups!$C$2:$D$11,2))),0)<1,1,IF(ROUND(10.499-(((O404-VLOOKUP($A404,Lookups!$A$55:$D$64,3))/(VLOOKUP($A404,Lookups!$A$55:$D$64,4))*VLOOKUP($A404,Lookups!$C$2:$D$11,2))),0)<11,ROUND(10.499-(((O404-VLOOKUP($A404,Lookups!$A$55:$D$64,3))/(VLOOKUP($A404,Lookups!$A$55:$D$64,4))*VLOOKUP($A404,Lookups!$C$2:$D$11,2))),0),10))","v":7},null,{"$f":"VLOOKUP(A404,Lookups!$A$126:$C$135,3)","v":2},{"$f":"VLOOKUP(A404,Lookups!$A$126:$C$135,2)","v":"Food"},"No",0,{"$f":"IF($R404<>3,VLOOKUP($D404,'Points Table A'!$B$3:$F$33,5),VLOOKUP($D404,'Points Table A'!$H$3:$L$33,5))","v":0},{"$f":"IF($R404<>3,VLOOKUP($E404,'Points Table A'!$C$3:$F$33,4),VLOOKUP($E404,'Points Table A'!$I$3:$L$33,4))","v":0},{"$f":"IF($R404<>3,VLOOKUP($F404,'Points Table A'!$D$3:$F$33,3),VLOOKUP($F404,'Points Table A'!$J$3:$L$33,3))","v":0},{"$f":"IF($R404<>3,VLOOKUP($G404,'Points Table A'!$E$3:$F$33,2),VLOOKUP($G404,'Points Table A'!$K$3:$L$33,2))","v":0},0,{"$f":"IF($T404=Lookups!$B$113,VLOOKUP($J404,'Points Table C'!$A$3:$F$11,5),VLOOKUP($U404,'Points Table C'!$B$3:$F$11,4))","v":0},{"$f":"IF($R404=1,0,VLOOKUP($N404,'Points Table C'!$C$3:$E$18,3))","v":0},{"$f":"VLOOKUP($I404,'Points Table C'!$D$3:$E$18,2)","v":0},{"$f":"IF($Z404<Lookups!$C$106,(AA404+AB404+AC404),IF(AA404>=Lookups!$C$120,(AA404+AB404+AC404),AA404+AB404))","v":0}]
["Non-core foods","Enter a food name here","Company name",0,0,0,0,0,0,0,0,0,{"$f":"IF((SUM(D405:L405)=0),\"J\",VLOOKUP(P405,Lookups!$A$1:$B$11,2))","v":"J"},{"$f":"H405+(L405*Lookups!$C$102*H405/100)","v":0},0,{"$f":"IF(ROUND(10.499-(((O405-VLOOKUP($A405,Lookups!$A$55:$D$64,3))/(VLOOKUP($A405,Lookups!$A$55:$D$64,4))*VLOOKUP($A405,Lookups!$C$2:$D$11,2))),0)<1,1,IF(ROUND(10.499-(((O405-VLOOKUP($A405,Lookups!$A$55:$D$64,3))/(VLOOKUP($A405,Lookups!$A$55:$D$64,4))*VLOOKUP($A405,Lookups!$C$2:$D$11,2))),0)<11,ROUND(10.499-(((O405-VLOOKUP($A405,Lookups!$A$55:$D$64,3))/(VLOOKUP($A405,Lookups!$A$55:$D$64,4))*VLOOKUP($A405,Lookups!$C$2:$D$11,2))),0),10))","v":7},null,{"$f":"VLOOKUP(A405,Lookups!$A$126:$C$135,3)","v":2},{"$f":"VLOOKUP(A405,Lookups!$A$126:$C$135,2)","v":"Food"},"No",0,{"$f":"IF($R405<>3,VLOOKUP($D405,'Points Table A'!$B$3:$F$33,5),VLOOKUP($D405,'Points Table A'!$H$3:$L$33,5))","v":0},{"$f":"IF($R405<>3,VLOOKUP($E405,'Points Table A'!$C$3:$F$33,4),VLOOKUP($E405,'Points Table A'!$I$3:$L$33,4))","v":0},{"$f":"IF($R405<>3,VLOOKUP($F405,'Points Table A'!$D$3:$F$33,3),VLOOKUP($F405,'Points Table A'!$J$3:$L$33,3))","v":0},{"$f":"IF($R405<>3,VLOOKUP($G405,'Points Table A'!$E$3:$F$33,2),VLOOKUP($G405,'Points Table A'!$K$3:$L$33,2))","v":0},0,{"$f":"IF($T405=Lookups!$B$113,VLOOKUP($J405,'Points Table C'!$A$3:$F$11,5),VLOOKUP($U405,'Points Table C'!$B$3:$F$11,4))","v":0},{"$f":"IF($R405=1,0,VLOOKUP($N405,'Points Table C'!$C$3:$E$18,3))","v":0},{"$f":"VLOOKUP($I405,'Points Table C'!$D$3:$E$18,2)","v":0},{"$f":"IF($Z405<Lookups!$C$106,(AA405+AB405+AC405),IF(AA405>=Lookups!$C$120,(AA405+AB405+AC405),AA405+AB405))","v":0}]
["Non-core foods","Enter a food name here","Company name",0,0,0,0,0,0,0,0,0,{"$f":"IF((SUM(D406:L406)=0),\"J\",VLOOKUP(P406,Lookups!$A$1:$B$11,2))","v":"J"},{"$f":"H406+(L406*Lookups!$C$102*H406/100)","v":0},0,{"$f":"IF(ROUND(10.499-(((O406-VLOOKUP($A406,Lookups!$A$55:$D$64,3))/(VLOOKUP($A406,Lookups!$A$55:$D$64,4))*VLOOKUP($A406,Lookups!$C$2:$D$11,2))),0)<1,1,IF(ROUND(10.499-(((O406-VLOOKUP($A406,Lookups!$A$55:$D$64,3))/(VLOOKUP($A406,Lookups!$A$55:$D$64,4))*VLOOKUP($A406,Lookups!$C$2:$D$11,2))),0)<11,ROUND(10.499-(((O406-VLOOKUP($A406,Lookups!$A$55:$D$64,3))/(VLOOKUP($A406,Lookups!$A$55:$D$64,4))*VLOOKUP($A406,Lookups!$C$2:$D$11,2))),0),10))","v":7},null,{"$f":"VLOOKUP(A406,Lookups!$A$126:$C$135,3)","v":2},{"$f":"VLOOKUP(A406,Lookups!$A$126:$C$135,2)","v":"Food"},"No",0,{"$f":"IF($R406<>3,VLOOKUP($D406,'Points Table A'!$B$3:$F$33,5),VLOOKUP($D406,'Points Table A'!$H$3:$L$33,5))","v":0},{"$f":"IF($R406<>3,VLOOKUP($E406,'Points Table A'!$C$3:$F$33,4),VLOOKUP($E406,'Points Table A'!$I$3:$L$33,4))","v":0},{"$f":"IF($R406<>3,VLOOKUP($F406,'Points Table A'!$D$3:$F$33,3),VLOOKUP($F406,'Points Table A'!$J$3:$L$33,3))","v":0},{"$f":"IF($R406<>3,VLOOKUP($G406,'Points Table A'!$E$3:$F$33,2),VLOOKUP($G406,'Points Table A'!$K$3:$L$33,2))","v":0},0,{"$f":"IF($T406=Lookups!$B$113,VLOOKUP($J406,'Points Table C'!$A$3:$F$11,5),VLOOKUP($U406,'Points Table C'!$B$3:$F$11,4))","v":0},{"$f":"IF($R406=1,0,VLOOKUP($N406,'Points Table C'!$C$3:$E$18,3))","v":0},{"$f":"VLOOKUP($I406,'Points Table C'!$D$3:$E$18,2)","v":0},{"$f":"IF($Z406<Lookups!$C$106,(AA406+AB406+AC406),IF(AA406>=Lookups!$C$120,(AA406+AB406+AC406),AA406+AB406))","v":0}]
["Non-core foods","Enter a food name here","Company name",0,0,0,0,0,0,0,0,0,{"$f":"IF((SUM(D407:L407)=0),\"J\",VLOOKUP(P407,Lookups!$A$1:$B$11,2))","v":"J"},{"$f":"H407+(L407*Lookups!$C$102*H407/100)","v":0},0,{"$f":"IF(ROUND(10.499-(((O407-VLOOKUP($A407,Lookups!$A$55:$D$64,3))/(VLOOKUP($A407,Lookups!$A$55:$D$64,4))*VLOOKUP($A407,Lookups!$C$2:$D$11,2))),0)<1,1,IF(ROUND(10.499-(((O407-VLOOKUP($A407,Lookups!$A$55:$D$64,3))/(VLOOKUP($A407,Lookups!$A$55:$D$64,4))*VLOOKUP($A407,Lookups!$C$2:$D$11,2))),0)<11,ROUND(10.499-(((O407-VLOOKUP($A407,Lookups!$A$55:$D$64,3))/(VLOOKUP($A407,Lookups!$A$55:$D$64,4))*VLOOKUP($A407,Lookups!$C$2:$D$11,2))),0),10))","v":7},null,{"$f":"VLOOKUP(A407,Lookups!$A$126:$C$135,3)","v":2},{"$f":"VLOOKUP(A407,Lookups!$A$126:$C$135,2)","v":"Food"},"No",0,{"$f":"IF($R407<>3,VLOOKUP($D407,'Points Table A'!$B$3:$F$33,5),VLOOKUP($D407,'Points Table A'!$H$3:$L$33,5))","v":0},{"$f":"IF($R407<>3,VLOOKUP($E407,'Points Table A'!$C$3:$F$33,4),VLOOKUP($E407,'Points Table A'!$I$3:$L$33,4))","v":0},{"$f":"IF($R407<>3,VLOOKUP($F407,'Points Table A'!$D$3:$F$33,3),VLOOKUP($F407,'Points Table A'!$J$3:$L$33,3))","v":0},{"$f":"IF($R407<>3,VLOOKUP($G407,'Points Table A'!$E$3:$F$33,2),VLOOKUP($G407,'Points Table A'!$K$3:$L$33,2))","v":0},0,{"$f":"IF($T407=Lookups!$B$113,VLOOKUP($J407,'Points Table C'!$A$3:$F$11,5),VLOOKUP($U407,'Points Table C'!$B$3:$F$11,4))","v":0},{"$f":"IF($R407=1,0,VLOOKUP($N407,'Points Table C'!$C$3:$E$18,3))","v":0},{"$f":"VLOOKUP($I407,'Points Table C'!$D$3:$E$18,2)","v":0},{"$f":"IF($Z407<Lookups!$C$106,(AA407+AB407+AC407),IF(AA407>=Lookups!$C$120,(AA407+AB407+AC407),AA407+AB407))","v":0}]
["Non-core foods","Enter a food name here","Company name",0,0,0,0,0,0,0,0,0,{"$f":"IF((SUM(D408:L408)=0),\"J\",VLOOKUP(P408,Lookups!$A$1:$B$11,2))","v":"J"},{"$f":"H408+(L408*Lookups!$C$102*H408/100)","v":0},0,{"$f":"IF(ROUND(10.499-(((O408-VLOOKUP($A408,Lookups!$A$55:$D$64,3))/(VLOOKUP($A408,Lookups!$A$55:$D$64,4))*VLOOKUP($A408,Lookups!$C$2:$D$11,2))),0)<1,1,IF(ROUND(10.499-(((O408-VLOOKUP($A408,Lookups!$A$55:$D$64,3))/(VLOOKUP($A408,Lookups!$A$55:$D$64,4))*VLOOKUP($A408,Lookups!$C$2:$D$11,2))),0)<11,ROUND(10.499-(((O408-VLOOKUP($A408,Lookups!$A$55:$D$64,3))/(VLOOKUP($A408,Lookups!$A$55:$D$64,4))*VLOOKUP($A408,Lookups!$C$2:$D$11,2))),0),10))","v":7},null,{"$f":"VLOOKUP(A408,Lookups!$A$126:$C$135,3)","v":2},{"$f":"VLOOKUP(A408,Lookups!$A$126:$C$135,2)","v":"Food"},"No",0,{"$f":"IF($R408<>3,VLOOKUP($D408,'Points Table A'!$B$3:$F$33,5),VLOOKUP($D408,'Points Table A'!$H$3:$L$33,5))","v":0},{"$f":"IF($R408<>3,VLOOKUP($E408,'Points Table A'!$C$3:$F$33,4),VLOOKUP($E408,'Points Table A'!$I$3:$L$33,4))","v":0},{"$f":"IF($R408<>3,VLOOKUP($F408,'Points Table A'!$D$3:$F$33,3),VLOOKUP($F408,'Points Table A'!$J$3:$L$33,3))","v":0},{"$f":"IF($R408<>3,VLOOKUP($G408,'Points Table A'!$E$3:$F$33,2),VLOOKUP($G408,'Points Table A'!$K$3:$L$33,2))","v":0},0,{"$f":"IF($T408=Lookups!$B$113,VLOOKUP($J408,'Points Table C'!$A$3:$F$11,5),VLOOKUP($U408,'Points Table C'!$B$3:$F$11,4))","v":0},{"$f":"IF($R408=1,0,VLOOKUP($N408,'Points Table C'!$C$3:$E$18,3))","v":0},{"$f":"VLOOKUP($I408,'Points Table C'!$D$3:$E$18,2)","v":0},{"$f":"IF($Z408<Lookups!$C$106,(AA408+AB408+AC408),IF(AA408>=Lookups!$C$120,(AA408+AB408+AC408),AA408+AB408))","v":0}]
["Non-core foods","Enter a food name here","Company name",0,0,0,0,0,0,0,0,0,{"$f":"IF((SUM(D409:L409)=0),\"J\",VLOOKUP(P409,Lookups!$A$1:$B$11,2))","v":"J"},{"$f":"H409+(L409*Lookups!$C$102*H409/100)","v":0},0,{"$f":"IF(ROUND(10.499-(((O409-VLOOKUP($A409,Lookups!$A$55:$D$64,3))/(VLOOKUP($A409,Lookups!$A$55:$D$64,4))*VLOOKUP($A409,Lookups!$C$2:$D$11,2))),0)<1,1,IF(ROUND(10.499-(((O409-VLOOKUP($A409,Lookups!$A$55:$D$64,3))/(VLOOKUP($A409,Lookups!$A$55:$D$64,4))*VLOOKUP($A409,Lookups!$C$2:$D$11,2))),0)<11,ROUND(10.499-(((O409-VLOOKUP($A409,Lookups!$A$55:$D$64,3))/(VLOOKUP($A409,Lookups!$A$55:$D$64,4))*VLOOKUP($A409,Lookups!$C$2:$D$11,2))),0),10))","v":7},null,{"$f":"VLOOKUP(A409,Lookups!$A$126:$C$135,3)","v":2},{"$f":"VLOOKUP(A409,Lookups!$A$126:$C$135,2)","v":"Food"},"No",0,{"$f":"IF($R409<>3,VLOOKUP($D409,'Points Table A'!$B$3:$F$33,5),VLOOKUP($D409,'Points Table A'!$H$3:$L$33,5))","v":0},{"$f":"IF($R409<>3,VLOOKUP($E409,'Points Table A'!$C$3:$F$33,4),VLOOKUP($E409,'Points Table A'!$I$3:$L$33,4))","v":0},{"$f":"IF($R409<>3,VLOOKUP($F409,'Points Table A'!$D$3:$F$33,3),VLOOKUP($F409,'Points Table A'!$J$3:$L$33,3))","v":0},{"$f":"IF($R409<>3,VLOOKUP($G409,'Points Table A'!$E$3:$F$33,2),VLOOKUP($G409,'Points Table A'!$K$3:$L$33,2))","v":0},0,{"$f":"IF($T409=Lookups!$B$113,VLOOKUP($J409,'Points Table C'!$A$3:$F$11,5),VLOOKUP($U409,'Points Table C'!$B$3:$F$11,4))","v":0},{"$f":"IF($R409=1,0,VLOOKUP($N409,'Points Table C'!$C$3:$E$18,3))","v":0},{"$f":"VLOOKUP($I409,'Points Table C'!$D$3:$E$18,2)","v":0},{"$f":"IF($Z409<Lookups!$C$106,(AA409+AB409+AC409),IF(AA409>=Lookups!$C$120,(AA409+AB409+AC409),AA409+AB409))","v":0}]
["Non-core foods","Enter a food name here","Company name",0,0,0,0,0,0,0,0,0,{"$f":"IF((SUM(D410:L410)=0),\"J\",VLOOKUP(P410,Lookups!$A$1:$B$11,2))","v":"J"},{"$f":"H410+(L410*Lookups!$C$102*H410/100)","v":0},0,{"$f":"IF(ROUND(10.499-(((O410-VLOOKUP($A410,Lookups!$A$55:$D$64,3))/(VLOOKUP($A410,Lookups!$A$55:$D$64,4))*VLOOKUP($A410,Lookups!$C$2:$D$11,2))),0)<1,1,IF(ROUND(10.499-(((O410-VLOOKUP($A410,Lookups!$A$55:$D$64,3))/(VLOOKUP($A410,Lookups!$A$55:$D$64,4))*VLOOKUP($A410,Lookups!$C$2:$D$11,2))),0)<11,ROUND(10.499-(((O410-VLOOKUP($A410,Lookups!$A$55:$D$64,3))/(VLOOKUP($A410,Lookups!$A$55:$D$64,4))*VLOOKUP($A410,Lookups!$C$2:$D$11,2))),0),10))","v":7},null,{"$f":"VLOOKUP(A410,Lookups!$A$126:$C$135,3)","v":2},{"$f":"VLOOKUP(A410,Lookups!$A$126:$C$135,2)","v":"Food"},"No",0,{"$f":"IF($R410<>3,VLOOKUP($D410,'Points Table A'!$B$3:$F$33,5),VLOOKUP($D410,'Points Table A'!$H$3:$L$33,5))","v":0},{"$f":"IF($R410<>3,VLOOKUP($E410,'Points Table A'!$C$3:$F$33,4),VLOOKUP($E410,'Points Table A'!$I$3:$L$33,4))","v":0},{"$f":"IF($R410<>3,VLOOKUP($F410,'Points Table A'!$D$3:$F$33,3),VLOOKUP($F410,'Points Table A'!$J$3:$L$33,3))","v":0},{"$f":"IF($R410<>3,VLOOKUP($G410,'Points Table A'!$E$3:$F$33,2),VLOOKUP($G410,'Points Table A'!$K$3:$L$33,2))","v":0},0,{"$f":"IF($T410=Lookups!$B$113,VLOOKUP($J410,'Points Table C'!$A$3:$F$11,5),VLOOKUP($U410,'Points Table C'!$B$3:$F$11,4))","v":0},{"$f":"IF($R410=1,0,VLOOKUP($N410,'Points Table C'!$C$3:$E$18,3))","v":0},{"$f":"VLOOKUP($I410,'Points Table C'!$D$3:$E$18,2)","v":0},{"$f":"IF($Z410<Lookups!$C$106,(AA410+AB410+AC410),IF(AA410>=Lookups!$C$120,(AA410+AB410+AC410),AA410+AB410))","v":0}]
["Non-core foods","Enter a food name here","Company name",0,0,0,0,0,0,0,0,0,{"$f":"IF((SUM(D411:L411)=0),\"J\",VLOOKUP(P411,Lookups!$A$1:$B$11,2))","v":"J"},{"$f":"H411+(L411*Lookups!$C$102*H411/100)","v":0},0,{"$f":"IF(ROUND(10.499-(((O411-VLOOKUP($A411,Lookups!$A$55:$D$64,3))/(VLOOKUP($A411,Lookups!$A$55:$D$64,4))*VLOOKUP($A411,Lookups!$C$2:$D$11,2))),0)<1,1,IF(ROUND(10.499-(((O411-VLOOKUP($A411,Lookups!$A$55:$D$64,3))/(VLOOKUP($A411,Lookups!$A$55:$D$64,4))*VLOOKUP($A411,Lookups!$C$2:$D$11,2))),0)<11,ROUND(10.499-(((O411-VLOOKUP($A411,Lookups!$A$55:$D$64,3))/(VLOOKUP($A411,Lookups!$A$55:$D$64,4))*VLOOKUP($A411,Lookups!$C$2:$D$11,2))),0),10))","v":7},null,{"$f":"VLOOKUP(A411,Lookups!$A$126:$C$135,3)","v":2},{"$f":"VLOOKUP(A411,Lookups!$A$126:$C$135,2)","v":"Food"},"No",0,{"$f":"IF($R411<>3,VLOOKUP($D411,'Points Table A'!$B$3:$F$33,5),VLOOKUP($D411,'Points Table A'!$H$3:$L$33,5))","v":0},{"$f":"IF($R411<>3,VLOOKUP($E411,'Points Table A'!$C$3:$F$33,4),VLOOKUP($E411,'Points Table A'!$I$3:$L$33,4))","v":0},{"$f":"IF($R411<>3,VLOOKUP($F411,'Points Table A'!$D$3:$F$33,3),VLOOKUP($F411,'Points Table A'!$J$3:$L$33,3))","v":0},{"$f":"IF($R411<>3,VLOOKUP($G411,'Points Table A'!$E$3:$F$33,2),VLOOKUP($G411,'Points Table A'!$K$3:$L$33,2))","v":0},0,{"$f":"IF($T411=Lookups!$B$113,VLOOKUP($J411,'Points Table C'!$A$3:$F$11,5),VLOOKUP($U411,'Points Table C'!$B$3:$F$11,4))","v":0},{"$f":"IF($R411=1,0,VLOOKUP($N411,'Points Table C'!$C$3:$E$18,3))","v":0},{"$f":"VLOOKUP($I411,'Points Table C'!$D$3:$E$18,2)","v":0},{"$f":"IF($Z411<Lookups!$C$106,(AA411+AB411+AC411),IF(AA411>=Lookups!$C$120,(AA411+AB411+AC411),AA411+AB411))","v":0}]
["Non-core foods","Enter a food name here","Company name",0,0,0,0,0,0,0,0,0,{"$f":"IF((SUM(D412:L412)=0),\"J\",VLOOKUP(P412,Lookups!$A$1:$B$11,2))","v":"J"},{"$f":"H412+(L412*Lookups!$C$102*H412/100)","v":0},0,{"$f":"IF(ROUND(10.499-(((O412-VLOOKUP($A412,Lookups!$A$55:$D$64,3))/(VLOOKUP($A412,Lookups!$A$55:$D$64,4))*VLOOKUP($A412,Lookups!$C$2:$D$11,2))),0)<1,1,IF(ROUND(10.499-(((O412-VLOOKUP($A412,Lookups!$A$55:$D$64,3))/(VLOOKUP($A412,Lookups!$A$55:$D$64,4))*VLOOKUP($A412,Lookups!$C$2:$D$11,2))),0)<11,ROUND(10.499-(((O412-VLOOKUP($A412,Lookups!$A$55:$D$64,3))/(VLOOKUP($A412,Lookups!$A$55:$D$64,4))*VLOOKUP($A412,Lookups!$C$2:$D$11,2))),0),10))","v":7},null,{"$f":"VLOOKUP(A412,Lookups!$A$126:$C$135,3)","v":2},{"$f":"VLOOKUP(A412,Lookups!$A$126:$C$135,2)","v":"Food"},"No",0,{"$f":"IF($R412<>3,VLOOKUP($D412,'Points Table A'!$B$3:$F$33,5),VLOOKUP($D412,'Points Table A'!$H$3:$L$33,5))","v":0},{"$f":"IF($R412<>3,VLOOKUP($E412,'Points Table A'!$C$3:$F$33,4),VLOOKUP($E412,'Points Table A'!$I$3:$L$33,4))","v":0},{"$f":"IF($R412<>3,VLOOKUP($F412,'Points Table A'!$D$3:$F$33,3),VLOOKUP($F412,'Points Table A'!$J$3:$L$33,3))","v":0},{"$f":"IF($R412<>3,VLOOKUP($G412,'Points Table A'!$E$3:$F$33,2),VLOOKUP($G412,'Points Table A'!$K$3:$L$33,2))","v":0},0,{"$f":"IF($T412=Lookups!$B$113,VLOOKUP($J412,'Points Table C'!$A$3:$F$11,5),VLOOKUP($U412,'Points Table C'!$B$3:$F$11,4))","v":0},{"$f":"IF($R412=1,0,VLOOKUP($N412,'Points Table C'!$C$3:$E$18,3))","v":0},{"$f":"VLOOKUP($I412,'Points Table C'!$D$3:$E$18,2)","v":0},{"$f":"IF($Z412<Lookups!$C$106,(AA412+AB412+AC412),IF(AA412>=Lookups!$C$120,(AA412+AB412+AC412),AA412+AB412))","v":0}]
["Non-core foods","Enter a food name here","Company name",0,0,0,0,0,0,0,0,0,{"$f":"IF((SUM(D413:L413)=0),\"J\",VLOOKUP(P413,Lookups!$A$1:$B$11,2))","v":"J"},{"$f":"H413+(L413*Lookups!$C$102*H413/100)","v":0},0,{"$f":"IF(ROUND(10.499-(((O413-VLOOKUP($A413,Lookups!$A$55:$D$64,3))/(VLOOKUP($A413,Lookups!$A$55:$D$64,4))*VLOOKUP($A413,Lookups!$C$2:$D$11,2))),0)<1,1,IF(ROUND(10.499-(((O413-VLOOKUP($A413,Lookups!$A$55:$D$64,3))/(VLOOKUP($A413,Lookups!$A$55:$D$64,4))*VLOOKUP($A413,Lookups!$C$2:$D$11,2))),0)<11,ROUND(10.499-(((O413-VLOOKUP($A413,Lookups!$A$55:$D$64,3))/(VLOOKUP($A413,Lookups!$A$55:$D$64,4))*VLOOKUP($A413,Lookups!$C$2:$D$11,2))),0),10))","v":7},null,{"$f":"VLOOKUP(A413,Lookups!$A$126:$C$135,3)","v":2},{"$f":"VLOOKUP(A413,Lookups!$A$126:$C$135,2)","v":"Food"},"No",0,{"$f":"IF($R413<>3,VLOOKUP($D413,'Points Table A'!$B$3:$F$33,5),VLOOKUP($D413,'Points Table A'!$H$3:$L$33,5))","v":0},{"$f":"IF($R413<>3,VLOOKUP($E413,'Points Table A'!$C$3:$F$33,4),VLOOKUP($E413,'Points Table A'!$I$3:$L$33,4))","v":0},{"$f":"IF($R413<>3,VLOOKUP($F413,'Points Table A'!$D$3:$F$33,3),VLOOKUP($F413,'Points Table A'!$J$3:$L$33,3))","v":0},{"$f":"IF($R413<>3,VLOOKUP($G413,'Points Table A'!$E$3:$F$33,2),VLOOKUP($G413,'Points Table A'!$K$3:$L$33,2))","v":0},0,{"$f":"IF($T413=Lookups!$B$113,VLOOKUP($J413,'Points Table C'!$A$3:$F$11,5),VLOOKUP($U413,'Points Table C'!$B$3:$F$11,4))","v":0},{"$f":"IF($R413=1,0,VLOOKUP($N413,'Points Table C'!$C$3:$E$18,3))","v":0},{"$f":"VLOOKUP($I413,'Points Table C'!$D$3:$E$18,2)","v":0},{"$f":"IF($Z413<Lookups!$C$106,(AA413+AB413+AC413),IF(AA413>=Lookups!$C$120,(AA413+AB413+AC413),AA413+AB413))","v":0}]
["Non-core foods","Enter a food name here","Company name",0,0,0,0,0,0,0,0,0,{"$f":"IF((SUM(D414:L414)=0),\"J\",VLOOKUP(P414,Lookups!$A$1:$B$11,2))","v":"J"},{"$f":"H414+(L414*Lookups!$C$102*H414/100)","v":0},0,{"$f":"IF(ROUND(10.499-(((O414-VLOOKUP($A414,Lookups!$A$55:$D$64,3))/(VLOOKUP($A414,Lookups!$A$55:$D$64,4))*VLOOKUP($A414,Lookups!$C$2:$D$11,2))),0)<1,1,IF(ROUND(10.499-(((O414-VLOOKUP($A414,Lookups!$A$55:$D$64,3))/(VLOOKUP($A414,Lookups!$A$55:$D$64,4))*VLOOKUP($A414,Lookups!$C$2:$D$11,2))),0)<11,ROUND(10.499-(((O414-VLOOKUP($A414,Lookups!$A$55:$D$64,3))/(VLOOKUP($A414,Lookups!$A$55:$D$64,4))*VLOOKUP($A414,Lookups!$C$2:$D$11,2))),0),10))","v":7},null,{"$f":"VLOOKUP(A414,Lookups!$A$126:$C$135,3)","v":2},{"$f":"VLOOKUP(A414,Lookups!$A$126:$C$135,2)","v":"Food"},"No",0,{"$f":"IF($R414<>3,VLOOKUP($D414,'Points Table A'!$B$3:$F$33,5),VLOOKUP($D414,'Points Table A'!$H$3:$L$33,5))","v":0},{"$f":"IF($R414<>3,VLOOKUP($E414,'Points Table A'!$C$3:$F$33,4),VLOOKUP($E414,'Points Table A'!$I$3:$L$33,4))","v":0},{"$f":"IF($R414<>3,VLOOKUP($F414,'Points Table A'!$D$3:$F$33,3),VLOOKUP($F414,'Points Table A'!$J$3:$L$33,3))","v":0},{"$f":"IF($R414<>3,VLOOKUP($G414,'Points Table A'!$E$3:$F$33,2),VLOOKUP($G414,'Points Table A'!$K$3:$L$33,2))","v":0},0,{"$f":"IF($T414=Lookups!$B$113,VLOOKUP($J414,'Points Table C'!$A$3:$F$11,5),VLOOKUP($U414,'Points Table C'!$B$3:$F$11,4))","v":0},{"$f":"IF($R414=1,0,VLOOKUP($N414,'Points Table C'!$C$3:$E$18,3))","v":0},{"$f":"VLOOKUP($I414,'Points Table C'!$D$3:$E$18,2)","v":0},{"$f":"IF($Z414<Lookups!$C$106,(AA414+AB414+AC414),IF(AA414>=Lookups!$C$120,(AA414+AB414+AC414),AA414+AB414))","v":0}]
["Non-core foods","Enter a food name here","Company name",0,0,0,0,0,0,0,0,0,{"$f":"IF((SUM(D415:L415)=0),\"J\",VLOOKUP(P415,Lookups!$A$1:$B$11,2))","v":"J"},{"$f":"H415+(L415*Lookups!$C$102*H415/100)","v":0},0,{"$f":"IF(ROUND(10.499-(((O415-VLOOKUP($A415,Lookups!$A$55:$D$64,3))/(VLOOKUP($A415,Lookups!$A$55:$D$64,4))*VLOOKUP($A415,Lookups!$C$2:$D$11,2))),0)<1,1,IF(ROUND(10.499-(((O415-VLOOKUP($A415,Lookups!$A$55:$D$64,3))/(VLOOKUP($A415,Lookups!$A$55:$D$64,4))*VLOOKUP($A415,Lookups!$C$2:$D$11,2))),0)<11,ROUND(10.499-(((O415-VLOOKUP($A415,Lookups!$A$55:$D$64,3))/(VLOOKUP($A415,Lookups!$A$55:$D$64,4))*VLOOKUP($A415,Lookups!$C$2:$D$11,2))),0),10))","v":7},null,{"$f":"VLOOKUP(A415,Lookups!$A$126:$C$135,3)","v":2},{"$f":"VLOOKUP(A415,Lookups!$A$126:$C$135,2)","v":"Food"},"No",0,{"$f":"IF($R415<>3,VLOOKUP($D415,'Points Table A'!$B$3:$F$33,5),VLOOKUP($D415,'Points Table A'!$H$3:$L$33,5))","v":0},{"$f":"IF($R415<>3,VLOOKUP($E415,'Points Table A'!$C$3:$F$33,4),VLOOKUP($E415,'Points Table A'!$I$3:$L$33,4))","v":0},{"$f":"IF($R415<>3,VLOOKUP($F415,'Points Table A'!$D$3:$F$33,3),VLOOKUP($F415,'Points Table A'!$J$3:$L$33,3))","v":0},{"$f":"IF($R415<>3,VLOOKUP($G415,'Points Table A'!$E$3:$F$33,2),VLOOKUP($G415,'Points Table A'!$K$3:$L$33,2))","v":0},0,{"$f":"IF($T415=Lookups!$B$113,VLOOKUP($J415,'Points Table C'!$A$3:$F$11,5),VLOOKUP($U415,'Points Table C'!$B$3:$F$11,4))","v":0},{"$f":"IF($R415=1,0,VLOOKUP($N415,'Points Table C'!$C$3:$E$18,3))","v":0},{"$f":"VLOOKUP($I415,'Points Table C'!$D$3:$E$18,2)","v":0},{"$f":"IF($Z415<Lookups!$C$106,(AA415+AB415+AC415),IF(AA415>=Lookups!$C$120,(AA415+AB415+AC415),AA415+AB415))","v":0}]
["Non-core foods","Enter a food name here","Company name",0,0,0,0,0,0,0,0,0,{"$f":"IF((SUM(D416:L416)=0),\"J\",VLOOKUP(P416,Lookups!$A$1:$B$11,2))","v":"J"},{"$f":"H416+(L416*Lookups!$C$102*H416/100)","v":0},0,{"$f":"IF(ROUND(10.499-(((O416-VLOOKUP($A416,Lookups!$A$55:$D$64,3))/(VLOOKUP($A416,Lookups!$A$55:$D$64,4))*VLOOKUP($A416,Lookups!$C$2:$D$11,2))),0)<1,1,IF(ROUND(10.499-(((O416-VLOOKUP($A416,Lookups!$A$55:$D$64,3))/(VLOOKUP($A416,Lookups!$A$55:$D$64,4))*VLOOKUP($A416,Lookups!$C$2:$D$11,2))),0)<11,ROUND(10.499-(((O416-VLOOKUP($A416,Lookups!$A$55:$D$64,3))/(VLOOKUP($A416,Lookups!$A$55:$D$64,4))*VLOOKUP($A416,Lookups!$C$2:$D$11,2))),0),10))","v":7},null,{"$f":"VLOOKUP(A416,Lookups!$A$126:$C$135,3)","v":2},{"$f":"VLOOKUP(A416,Lookups!$A$126:$C$135,2)","v":"Food"},"No",0,{"$f":"IF($R416<>3,VLOOKUP($D416,'Points Table A'!$B$3:$F$33,5),VLOOKUP($D416,'Points Table A'!$H$3:$L$33,5))","v":0},{"$f":"IF($R416<>3,VLOOKUP($E416,'Points Table A'!$C$3:$F$33,4),VLOOKUP($E416,'Points Table A'!$I$3:$L$33,4))","v":0},{"$f":"IF($R416<>3,VLOOKUP($F416,'Points Table A'!$D$3:$F$33,3),VLOOKUP($F416,'Points Table A'!$J$3:$L$33,3))","v":0},{"$f":"IF($R416<>3,VLOOKUP($G416,'Points Table A'!$E$3:$F$33,2),VLOOKUP($G416,'Points Table A'!$K$3:$L$33,2))","v":0},0,{"$f":"IF($T416=Lookups!$B$113,VLOOKUP($J416,'Points Table C'!$A$3:$F$11,5),VLOOKUP($U416,'Points Table C'!$B$3:$F$11,4))","v":0},{"$f":"IF($R416=1,0,VLOOKUP($N416,'Points Table C'!$C$3:$E$18,3))","v":0},{"$f":"VLOOKUP($I416,'Points Table C'!$D$3:$E$18,2)","v":0},{"$f":"IF($Z416<Lookups!$C$106,(AA416+AB416+AC416),IF(AA416>=Lookups!$C$120,(AA416+AB416+AC416),AA416+AB416))","v":0}]
["Non-core foods","Enter a food name here","Company name",0,0,0,0,0,0,0,0,0,{"$f":"IF((SUM(D417:L417)=0),\"J\",VLOOKUP(P417,Lookups!$A$1:$B$11,2))","v":"J"},{"$f":"H417+(L417*Lookups!$C$102*H417/100)","v":0},0,{"$f":"IF(ROUND(10.499-(((O417-VLOOKUP($A417,Lookups!$A$55:$D$64,3))/(VLOOKUP($A417,Lookups!$A$55:$D$64,4))*VLOOKUP($A417,Lookups!$C$2:$D$11,2))),0)<1,1,IF(ROUND(10.499-(((O417-VLOOKUP($A417,Lookups!$A$55:$D$64,3))/(VLOOKUP($A417,Lookups!$A$55:$D$64,4))*VLOOKUP($A417,Lookups!$C$2:$D$11,2))),0)<11,ROUND(10.499-(((O417-VLOOKUP($A417,Lookups!$A$55:$D$64,3))/(VLOOKUP($A417,Lookups!$A$55:$D$64,4))*VLOOKUP($A417,Lookups!$C$2:$D$11,2))),0),10))","v":7},null,{"$f":"VLOOKUP(A417,Lookups!$A$126:$C$135,3)","v":2},{"$f":"VLOOKUP(A417,Lookups!$A$126:$C$135,2)","v":"Food"},"No",0,{"$f":"IF($R417<>3,VLOOKUP($D417,'Points Table A'!$B$3:$F$33,5),VLOOKUP($D417,'Points Table A'!$H$3:$L$33,5))","v":0},{"$f":"IF($R417<>3,VLOOKUP($E417,'Points Table A'!$C$3:$F$33,4),VLOOKUP($E417,'Points Table A'!$I$3:$L$33,4))","v":0},{"$f":"IF($R417<>3,VLOOKUP($F417,'Points Table A'!$D$3:$F$33,3),VLOOKUP($F417,'Points Table A'!$J$3:$L$33,3))","v":0},{"$f":"IF($R417<>3,VLOOKUP($G417,'Points Table A'!$E$3:$F$33,2),VLOOKUP($G417,'Points Table A'!$K$3:$L$33,2))","v":0},0,{"$f":"IF($T417=Lookups!$B$113,VLOOKUP($J417,'Points Table C'!$A$3:$F$11,5),VLOOKUP($U417,'Points Table C'!$B$3:$F$11,4))","v":0},{"$f":"IF($R417=1,0,VLOOKUP($N417,'Points Table C'!$C$3:$E$18,3))","v":0},{"$f":"VLOOKUP($I417,'Points Table C'!$D$3:$E$18,2)","v":0},{"$f":"IF($Z417<Lookups!$C$106,(AA417+AB417+AC417),IF(AA417>=Lookups!$C$120,(AA417+AB417+AC417),AA417+AB417))","v":0}]
["Non-core foods","Enter a food name here","Company name",0,0,0,0,0,0,0,0,0,{"$f":"IF((SUM(D418:L418)=0),\"J\",VLOOKUP(P418,Lookups!$A$1:$B$11,2))","v":"J"},{"$f":"H418+(L418*Lookups!$C$102*H418/100)","v":0},0,{"$f":"IF(ROUND(10.499-(((O418-VLOOKUP($A418,Lookups!$A$55:$D$64,3))/(VLOOKUP($A418,Lookups!$A$55:$D$64,4))*VLOOKUP($A418,Lookups!$C$2:$D$11,2))),0)<1,1,IF(ROUND(10.499-(((O418-VLOOKUP($A418,Lookups!$A$55:$D$64,3))/(VLOOKUP($A418,Lookups!$A$55:$D$64,4))*VLOOKUP($A418,Lookups!$C$2:$D$11,2))),0)<11,ROUND(10.499-(((O418-VLOOKUP($A418,Lookups!$A$55:$D$64,3))/(VLOOKUP($A418,Lookups!$A$55:$D$64,4))*VLOOKUP($A418,Lookups!$C$2:$D$11,2))),0),10))","v":7},null,{"$f":"VLOOKUP(A418,Lookups!$A$126:$C$135,3)","v":2},{"$f":"VLOOKUP(A418,Lookups!$A$126:$C$135,2)","v":"Food"},"No",0,{"$f":"IF($R418<>3,VLOOKUP($D418,'Points Table A'!$B$3:$F$33,5),VLOOKUP($D418,'Points Table A'!$H$3:$L$33,5))","v":0},{"$f":"IF($R418<>3,VLOOKUP($E418,'Points Table A'!$C$3:$F$33,4),VLOOKUP($E418,'Points Table A'!$I$3:$L$33,4))","v":0},{"$f":"IF($R418<>3,VLOOKUP($F418,'Points Table A'!$D$3:$F$33,3),VLOOKUP($F418,'Points Table A'!$J$3:$L$33,3))","v":0},{"$f":"IF($R418<>3,VLOOKUP($G418,'Points Table A'!$E$3:$F$33,2),VLOOKUP($G418,'Points Table A'!$K$3:$L$33,2))","v":0},0,{"$f":"IF($T418=Lookups!$B$113,VLOOKUP($J418,'Points Table C'!$A$3:$F$11,5),VLOOKUP($U418,'Points Table C'!$B$3:$F$11,4))","v":0},{"$f":"IF($R418=1,0,VLOOKUP($N418,'Points Table C'!$C$3:$E$18,3))","v":0},{"$f":"VLOOKUP($I418,'Points Table C'!$D$3:$E$18,2)","v":0},{"$f":"IF($Z418<Lookups!$C$106,(AA418+AB418+AC418),IF(AA418>=Lookups!$C$120,(AA418+AB418+AC418),AA418+AB418))","v":0}]
["Non-core foods","Enter a food name here","Company name",0,0,0,0,0,0,0,0,0,{"$f":"IF((SUM(D419:L419)=0),\"J\",VLOOKUP(P419,Lookups!$A$1:$B$11,2))","v":"J"},{"$f":"H419+(L419*Lookups!$C$102*H419/100)","v":0},0,{"$f":"IF(ROUND(10.499-(((O419-VLOOKUP($A419,Lookups!$A$55:$D$64,3))/(VLOOKUP($A419,Lookups!$A$55:$D$64,4))*VLOOKUP($A419,Lookups!$C$2:$D$11,2))),0)<1,1,IF(ROUND(10.499-(((O419-VLOOKUP($A419,Lookups!$A$55:$D$64,3))/(VLOOKUP($A419,Lookups!$A$55:$D$64,4))*VLOOKUP($A419,Lookups!$C$2:$D$11,2))),0)<11,ROUND(10.499-(((O419-VLOOKUP($A419,Lookups!$A$55:$D$64,3))/(VLOOKUP($A419,Lookups!$A$55:$D$64,4))*VLOOKUP($A419,Lookups!$C$2:$D$11,2))),0),10))","v":7},null,{"$f":"VLOOKUP(A419,Lookups!$A$126:$C$135,3)","v":2},{"$f":"VLOOKUP(A419,Lookups!$A$126:$C$135,2)","v":"Food"},"No",0,{"$f":"IF($R419<>3,VLOOKUP($D419,'Points Table A'!$B$3:$F$33,5),VLOOKUP($D419,'Points Table A'!$H$3:$L$33,5))","v":0},{"$f":"IF($R419<>3,VLOOKUP($E419,'Points Table A'!$C$3:$F$33,4),VLOOKUP($E419,'Points Table A'!$I$3:$L$33,4))","v":0},{"$f":"IF($R419<>3,VLOOKUP($F419,'Points Table A'!$D$3:$F$33,3),VLOOKUP($F419,'Points Table A'!$J$3:$L$33,3))","v":0},{"$f":"IF($R419<>3,VLOOKUP($G419,'Points Table A'!$E$3:$F$33,2),VLOOKUP($G419,'Points Table A'!$K$3:$L$33,2))","v":0},0,{"$f":"IF($T419=Lookups!$B$113,VLOOKUP($J419,'Points Table C'!$A$3:$F$11,5),VLOOKUP($U419,'Points Table C'!$B$3:$F$11,4))","v":0},{"$f":"IF($R419=1,0,VLOOKUP($N419,'Points Table C'!$C$3:$E$18,3))","v":0},{"$f":"VLOOKUP($I419,'Points Table C'!$D$3:$E$18,2)","v":0},{"$f":"IF($Z419<Lookups!$C$106,(AA419+AB419+AC419),IF(AA419>=Lookups!$C$120,(AA419+AB419+AC419),AA419+AB419))","v":0}]
["Non-core foods","Enter a food name here","Company name",0,0,0,0,0,0,0,0,0,{"$f":"IF((SUM(D420:L420)=0),\"J\",VLOOKUP(P420,Lookups!$A$1:$B$11,2))","v":"J"},{"$f":"H420+(L420*Lookups!$C$102*H420/100)","v":0},0,{"$f":"IF(ROUND(10.499-(((O420-VLOOKUP($A420,Lookups!$A$55:$D$64,3))/(VLOOKUP($A420,Lookups!$A$55:$D$64,4))*VLOOKUP($A420,Lookups!$C$2:$D$11,2))),0)<1,1,IF(ROUND(10.499-(((O420-VLOOKUP($A420,Lookups!$A$55:$D$64,3))/(VLOOKUP($A420,Lookups!$A$55:$D$64,4))*VLOOKUP($A420,Lookups!$C$2:$D$11,2))),0)<11,ROUND(10.499-(((O420-VLOOKUP($A420,Lookups!$A$55:$D$64,3))/(VLOOKUP($A420,Lookups!$A$55:$D$64,4))*VLOOKUP($A420,Lookups!$C$2:$D$11,2))),0),10))","v":7},null,{"$f":"VLOOKUP(A420,Lookups!$A$126:$C$135,3)","v":2},{"$f":"VLOOKUP(A420,Lookups!$A$126:$C$135,2)","v":"Food"},"No",0,{"$f":"IF($R420<>3,VLOOKUP($D420,'Points Table A'!$B$3:$F$33,5),VLOOKUP($D420,'Points Table A'!$H$3:$L$33,5))","v":0},{"$f":"IF($R420<>3,VLOOKUP($E420,'Points Table A'!$C$3:$F$33,4),VLOOKUP($E420,'Points Table A'!$I$3:$L$33,4))","v":0},{"$f":"IF($R420<>3,VLOOKUP($F420,'Points Table A'!$D$3:$F$33,3),VLOOKUP($F420,'Points Table A'!$J$3:$L$33,3))","v":0},{"$f":"IF($R420<>3,VLOOKUP($G420,'Points Table A'!$E$3:$F$33,2),VLOOKUP($G420,'Points Table A'!$K$3:$L$33,2))","v":0},0,{"$f":"IF($T420=Lookups!$B$113,VLOOKUP($J420,'Points Table C'!$A$3:$F$11,5),VLOOKUP($U420,'Points Table C'!$B$3:$F$11,4))","v":0},{"$f":"IF($R420=1,0,VLOOKUP($N420,'Points Table C'!$C$3:$E$18,3))","v":0},{"$f":"VLOOKUP($I420,'Points Table C'!$D$3:$E$18,2)","v":0},{"$f":"IF($Z420<Lookups!$C$106,(AA420+AB420+AC420),IF(AA420>=Lookups!$C$120,(AA420+AB420+AC420),AA420+AB420))","v":0}]
["Non-core foods","Enter a food name here","Company name",0,0,0,0,0,0,0,0,0,{"$f":"IF((SUM(D421:L421)=0),\"J\",VLOOKUP(P421,Lookups!$A$1:$B$11,2))","v":"J"},{"$f":"H421+(L421*Lookups!$C$102*H421/100)","v":0},0,{"$f":"IF(ROUND(10.499-(((O421-VLOOKUP($A421,Lookups!$A$55:$D$64,3))/(VLOOKUP($A421,Lookups!$A$55:$D$64,4))*VLOOKUP($A421,Lookups!$C$2:$D$11,2))),0)<1,1,IF(ROUND(10.499-(((O421-VLOOKUP($A421,Lookups!$A$55:$D$64,3))/(VLOOKUP($A421,Lookups!$A$55:$D$64,4))*VLOOKUP($A421,Lookups!$C$2:$D$11,2))),0)<11,ROUND(10.499-(((O421-VLOOKUP($A421,Lookups!$A$55:$D$64,3))/(VLOOKUP($A421,Lookups!$A$55:$D$64,4))*VLOOKUP($A421,Lookups!$C$2:$D$11,2))),0),10))","v":7},null,{"$f":"VLOOKUP(A421,Lookups!$A$126:$C$135,3)","v":2},{"$f":"VLOOKUP(A421,Lookups!$A$126:$C$135,2)","v":"Food"},"No",0,{"$f":"IF($R421<>3,VLOOKUP($D421,'Points Table A'!$B$3:$F$33,5),VLOOKUP($D421,'Points Table A'!$H$3:$L$33,5))","v":0},{"$f":"IF($R421<>3,VLOOKUP($E421,'Points Table A'!$C$3:$F$33,4),VLOOKUP($E421,'Points Table A'!$I$3:$L$33,4))","v":0},{"$f":"IF($R421<>3,VLOOKUP($F421,'Points Table A'!$D$3:$F$33,3),VLOOKUP($F421,'Points Table A'!$J$3:$L$33,3))","v":0},{"$f":"IF($R421<>3,VLOOKUP($G421,'Points Table A'!$E$3:$F$33,2),VLOOKUP($G421,'Points Table A'!$K$3:$L$33,2))","v":0},0,{"$f":"IF($T421=Lookups!$B$113,VLOOKUP($J421,'Points Table C'!$A$3:$F$11,5),VLOOKUP($U421,'Points Table C'!$B$3:$F$11,4))","v":0},{"$f":"IF($R421=1,0,VLOOKUP($N421,'Points Table C'!$C$3:$E$18,3))","v":0},{"$f":"VLOOKUP($I421,'Points Table C'!$D$3:$E$18,2)","v":0},{"$f":"IF($Z421<Lookups!$C$106,(AA421+AB421+AC421),IF(AA421>=Lookups!$C$120,(AA421+AB421+AC421),AA421+AB421))","v":0}]
["Non-core foods","Enter a food name here","Company name",0,0,0,0,0,0,0,0,0,{"$f":"IF((SUM(D422:L422)=0),\"J\",VLOOKUP(P422,Lookups!$A$1:$B$11,2))","v":"J"},{"$f":"H422+(L422*Lookups!$C$102*H422/100)","v":0},0,{"$f":"IF(ROUND(10.499-(((O422-VLOOKUP($A422,Lookups!$A$55:$D$64,3))/(VLOOKUP($A422,Lookups!$A$55:$D$64,4))*VLOOKUP($A422,Lookups!$C$2:$D$11,2))),0)<1,1,IF(ROUND(10.499-(((O422-VLOOKUP($A422,Lookups!$A$55:$D$64,3))/(VLOOKUP($A422,Lookups!$A$55:$D$64,4))*VLOOKUP($A422,Lookups!$C$2:$D$11,2))),0)<11,ROUND(10.499-(((O422-VLOOKUP($A422,Lookups!$A$55:$D$64,3))/(VLOOKUP($A422,Lookups!$A$55:$D$64,4))*VLOOKUP($A422,Lookups!$C$2:$D$11,2))),0),10))","v":7},null,{"$f":"VLOOKUP(A422,Lookups!$A$126:$C$135,3)","v":2},{"$f":"VLOOKUP(A422,Lookups!$A$126:$C$135,2)","v":"Food"},"No",0,{"$f":"IF($R422<>3,VLOOKUP($D422,'Points Table A'!$B$3:$F$33,5),VLOOKUP($D422,'Points Table A'!$H$3:$L$33,5))","v":0},{"$f":"IF($R422<>3,VLOOKUP($E422,'Points Table A'!$C$3:$F$33,4),VLOOKUP($E422,'Points Table A'!$I$3:$L$33,4))","v":0},{"$f":"IF($R422<>3,VLOOKUP($F422,'Points Table A'!$D$3:$F$33,3),VLOOKUP($F422,'Points Table A'!$J$3:$L$33,3))","v":0},{"$f":"IF($R422<>3,VLOOKUP($G422,'Points Table A'!$E$3:$F$33,2),VLOOKUP($G422,'Points Table A'!$K$3:$L$33,2))","v":0},0,{"$f":"IF($T422=Lookups!$B$113,VLOOKUP($J422,'Points Table C'!$A$3:$F$11,5),VLOOKUP($U422,'Points Table C'!$B$3:$F$11,4))","v":0},{"$f":"IF($R422=1,0,VLOOKUP($N422,'Points Table C'!$C$3:$E$18,3))","v":0},{"$f":"VLOOKUP($I422,'Points Table C'!$D$3:$E$18,2)","v":0},{"$f":"IF($Z422<Lookups!$C$106,(AA422+AB422+AC422),IF(AA422>=Lookups!$C$120,(AA422+AB422+AC422),AA422+AB422))","v":0}]
["Non-core foods","Enter a food name here","Company name",0,0,0,0,0,0,0,0,0,{"$f":"IF((SUM(D423:L423)=0),\"J\",VLOOKUP(P423,Lookups!$A$1:$B$11,2))","v":"J"},{"$f":"H423+(L423*Lookups!$C$102*H423/100)","v":0},0,{"$f":"IF(ROUND(10.499-(((O423-VLOOKUP($A423,Lookups!$A$55:$D$64,3))/(VLOOKUP($A423,Lookups!$A$55:$D$64,4))*VLOOKUP($A423,Lookups!$C$2:$D$11,2))),0)<1,1,IF(ROUND(10.499-(((O423-VLOOKUP($A423,Lookups!$A$55:$D$64,3))/(VLOOKUP($A423,Lookups!$A$55:$D$64,4))*VLOOKUP($A423,Lookups!$C$2:$D$11,2))),0)<11,ROUND(10.499-(((O423-VLOOKUP($A423,Lookups!$A$55:$D$64,3))/(VLOOKUP($A423,Lookups!$A$55:$D$64,4))*VLOOKUP($A423,Lookups!$C$2:$D$11,2))),0),10))","v":7},null,{"$f":"VLOOKUP(A423,Lookups!$A$126:$C$135,3)","v":2},{"$f":"VLOOKUP(A423,Lookups!$A$126:$C$135,2)","v":"Food"},"No",0,{"$f":"IF($R423<>3,VLOOKUP($D423,'Points Table A'!$B$3:$F$33,5),VLOOKUP($D423,'Points Table A'!$H$3:$L$33,5))","v":0},{"$f":"IF($R423<>3,VLOOKUP($E423,'Points Table A'!$C$3:$F$33,4),VLOOKUP($E423,'Points Table A'!$I$3:$L$33,4))","v":0},{"$f":"IF($R423<>3,VLOOKUP($F423,'Points Table A'!$D$3:$F$33,3),VLOOKUP($F423,'Points Table A'!$J$3:$L$33,3))","v":0},{"$f":"IF($R423<>3,VLOOKUP($G423,'Points Table A'!$E$3:$F$33,2),VLOOKUP($G423,'Points Table A'!$K$3:$L$33,2))","v":0},0,{"$f":"IF($T423=Lookups!$B$113,VLOOKUP($J423,'Points Table C'!$A$3:$F$11,5),VLOOKUP($U423,'Points Table C'!$B$3:$F$11,4))","v":0},{"$f":"IF($R423=1,0,VLOOKUP($N423,'Points Table C'!$C$3:$E$18,3))","v":0},{"$f":"VLOOKUP($I423,'Points Table C'!$D$3:$E$18,2)","v":0},{"$f":"IF($Z423<Lookups!$C$106,(AA423+AB423+AC423),IF(AA423>=Lookups!$C$120,(AA423+AB423+AC423),AA423+AB423))","v":0}]
["Non-core foods","Enter a food name here","Company name",0,0,0,0,0,0,0,0,0,{"$f":"IF((SUM(D424:L424)=0),\"J\",VLOOKUP(P424,Lookups!$A$1:$B$11,2))","v":"J"},{"$f":"H424+(L424*Lookups!$C$102*H424/100)","v":0},0,{"$f":"IF(ROUND(10.499-(((O424-VLOOKUP($A424,Lookups!$A$55:$D$64,3))/(VLOOKUP($A424,Lookups!$A$55:$D$64,4))*VLOOKUP($A424,Lookups!$C$2:$D$11,2))),0)<1,1,IF(ROUND(10.499-(((O424-VLOOKUP($A424,Lookups!$A$55:$D$64,3))/(VLOOKUP($A424,Lookups!$A$55:$D$64,4))*VLOOKUP($A424,Lookups!$C$2:$D$11,2))),0)<11,ROUND(10.499-(((O424-VLOOKUP($A424,Lookups!$A$55:$D$64,3))/(VLOOKUP($A424,Lookups!$A$55:$D$64,4))*VLOOKUP($A424,Lookups!$C$2:$D$11,2))),0),10))","v":7},null,{"$f":"VLOOKUP(A424,Lookups!$A$126:$C$135,3)","v":2},{"$f":"VLOOKUP(A424,Lookups!$A$126:$C$135,2)","v":"Food"},"No",0,{"$f":"IF($R424<>3,VLOOKUP($D424,'Points Table A'!$B$3:$F$33,5),VLOOKUP($D424,'Points Table A'!$H$3:$L$33,5))","v":0},{"$f":"IF($R424<>3,VLOOKUP($E424,'Points Table A'!$C$3:$F$33,4),VLOOKUP($E424,'Points Table A'!$I$3:$L$33,4))","v":0},{"$f":"IF($R424<>3,VLOOKUP($F424,'Points Table A'!$D$3:$F$33,3),VLOOKUP($F424,'Points Table A'!$J$3:$L$33,3))","v":0},{"$f":"IF($R424<>3,VLOOKUP($G424,'Points Table A'!$E$3:$F$33,2),VLOOKUP($G424,'Points Table A'!$K$3:$L$33,2))","v":0},0,{"$f":"IF($T424=Lookups!$B$113,VLOOKUP($J424,'Points Table C'!$A$3:$F$11,5),VLOOKUP($U424,'Points Table C'!$B$3:$F$11,4))","v":0},{"$f":"IF($R424=1,0,VLOOKUP($N424,'Points Table C'!$C$3:$E$18,3))","v":0},{"$f":"VLOOKUP($I424,'Points Table C'!$D$3:$E$18,2)","v":0},{"$f":"IF($Z424<Lookups!$C$106,(AA424+AB424+AC424),IF(AA424>=Lookups!$C$120,(AA424+AB424+AC424),AA424+AB424))","v":0}]
["Non-core foods","Enter a food name here","Company name",0,0,0,0,0,0,0,0,0,{"$f":"IF((SUM(D425:L425)=0),\"J\",VLOOKUP(P425,Lookups!$A$1:$B$11,2))","v":"J"},{"$f":"H425+(L425*Lookups!$C$102*H425/100)","v":0},0,{"$f":"IF(ROUND(10.499-(((O425-VLOOKUP($A425,Lookups!$A$55:$D$64,3))/(VLOOKUP($A425,Lookups!$A$55:$D$64,4))*VLOOKUP($A425,Lookups!$C$2:$D$11,2))),0)<1,1,IF(ROUND(10.499-(((O425-VLOOKUP($A425,Lookups!$A$55:$D$64,3))/(VLOOKUP($A425,Lookups!$A$55:$D$64,4))*VLOOKUP($A425,Lookups!$C$2:$D$11,2))),0)<11,ROUND(10.499-(((O425-VLOOKUP($A425,Lookups!$A$55:$D$64,3))/(VLOOKUP($A425,Lookups!$A$55:$D$64,4))*VLOOKUP($A425,Lookups!$C$2:$D$11,2))),0),10))","v":7},null,{"$f":"VLOOKUP(A425,Lookups!$A$126:$C$135,3)","v":2},{"$f":"VLOOKUP(A425,Lookups!$A$126:$C$135,2)","v":"Food"},"No",0,{"$f":"IF($R425<>3,VLOOKUP($D425,'Points Table A'!$B$3:$F$33,5),VLOOKUP($D425,'Points Table A'!$H$3:$L$33,5))","v":0},{"$f":"IF($R425<>3,VLOOKUP($E425,'Points Table A'!$C$3:$F$33,4),VLOOKUP($E425,'Points Table A'!$I$3:$L$33,4))","v":0},{"$f":"IF($R425<>3,VLOOKUP($F425,'Points Table A'!$D$3:$F$33,3),VLOOKUP($F425,'Points Table A'!$J$3:$L$33,3))","v":0},{"$f":"IF($R425<>3,VLOOKUP($G425,'Points Table A'!$E$3:$F$33,2),VLOOKUP($G425,'Points Table A'!$K$3:$L$33,2))","v":0},0,{"$f":"IF($T425=Lookups!$B$113,VLOOKUP($J425,'Points Table C'!$A$3:$F$11,5),VLOOKUP($U425,'Points Table C'!$B$3:$F$11,4))","v":0},{"$f":"IF($R425=1,0,VLOOKUP($N425,'Points Table C'!$C$3:$E$18,3))","v":0},{"$f":"VLOOKUP($I425,'Points Table C'!$D$3:$E$18,2)","v":0},{"$f":"IF($Z425<Lookups!$C$106,(AA425+AB425+AC425),IF(AA425>=Lookups!$C$120,(AA425+AB425+AC425),AA425+AB425))","v":0}]
["Non-core foods","Enter a food name here","Company name",0,0,0,0,0,0,0,0,0,{"$f":"IF((SUM(D426:L426)=0),\"J\",VLOOKUP(P426,Lookups!$A$1:$B$11,2))","v":"J"},{"$f":"H426+(L426*Lookups!$C$102*H426/100)","v":0},0,{"$f":"IF(ROUND(10.499-(((O426-VLOOKUP($A426,Lookups!$A$55:$D$64,3))/(VLOOKUP($A426,Lookups!$A$55:$D$64,4))*VLOOKUP($A426,Lookups!$C$2:$D$11,2))),0)<1,1,IF(ROUND(10.499-(((O426-VLOOKUP($A426,Lookups!$A$55:$D$64,3))/(VLOOKUP($A426,Lookups!$A$55:$D$64,4))*VLOOKUP($A426,Lookups!$C$2:$D$11,2))),0)<11,ROUND(10.499-(((O426-VLOOKUP($A426,Lookups!$A$55:$D$64,3))/(VLOOKUP($A426,Lookups!$A$55:$D$64,4))*VLOOKUP($A426,Lookups!$C$2:$D$11,2))),0),10))","v":7},null,{"$f":"VLOOKUP(A426,Lookups!$A$126:$C$135,3)","v":2},{"$f":"VLOOKUP(A426,Lookups!$A$126:$C$135,2)","v":"Food"},"No",0,{"$f":"IF($R426<>3,VLOOKUP($D426,'Points Table A'!$B$3:$F$33,5),VLOOKUP($D426,'Points Table A'!$H$3:$L$33,5))","v":0},{"$f":"IF($R426<>3,VLOOKUP($E426,'Points Table A'!$C$3:$F$33,4),VLOOKUP($E426,'Points Table A'!$I$3:$L$33,4))","v":0},{"$f":"IF($R426<>3,VLOOKUP($F426,'Points Table A'!$D$3:$F$33,3),VLOOKUP($F426,'Points Table A'!$J$3:$L$33,3))","v":0},{"$f":"IF($R426<>3,VLOOKUP($G426,'Points Table A'!$E$3:$F$33,2),VLOOKUP($G426,'Points Table A'!$K$3:$L$33,2))","v":0},0,{"$f":"IF($T426=Lookups!$B$113,VLOOKUP($J426,'Points Table C'!$A$3:$F$11,5),VLOOKUP($U426,'Points Table C'!$B$3:$F$11,4))","v":0},{"$f":"IF($R426=1,0,VLOOKUP($N426,'Points Table C'!$C$3:$E$18,3))","v":0},{"$f":"VLOOKUP($I426,'Points Table C'!$D$3:$E$18,2)","v":0},{"$f":"IF($Z426<Lookups!$C$106,(AA426+AB426+AC426),IF(AA426>=Lookups!$C$120,(AA426+AB426+AC426),AA426+AB426))","v":0}]
["Non-core foods","Enter a food name here","Company name",0,0,0,0,0,0,0,0,0,{"$f":"IF((SUM(D427:L427)=0),\"J\",VLOOKUP(P427,Lookups!$A$1:$B$11,2))","v":"J"},{"$f":"H427+(L427*Lookups!$C$102*H427/100)","v":0},0,{"$f":"IF(ROUND(10.499-(((O427-VLOOKUP($A427,Lookups!$A$55:$D$64,3))/(VLOOKUP($A427,Lookups!$A$55:$D$64,4))*VLOOKUP($A427,Lookups!$C$2:$D$11,2))),0)<1,1,IF(ROUND(10.499-(((O427-VLOOKUP($A427,Lookups!$A$55:$D$64,3))/(VLOOKUP($A427,Lookups!$A$55:$D$64,4))*VLOOKUP($A427,Lookups!$C$2:$D$11,2))),0)<11,ROUND(10.499-(((O427-VLOOKUP($A427,Lookups!$A$55:$D$64,3))/(VLOOKUP($A427,Lookups!$A$55:$D$64,4))*VLOOKUP($A427,Lookups!$C$2:$D$11,2))),0),10))","v":7},null,{"$f":"VLOOKUP(A427,Lookups!$A$126:$C$135,3)","v":2},{"$f":"VLOOKUP(A427,Lookups!$A$126:$C$135,2)","v":"Food"},"No",0,{"$f":"IF($R427<>3,VLOOKUP($D427,'Points Table A'!$B$3:$F$33,5),VLOOKUP($D427,'Points Table A'!$H$3:$L$33,5))","v":0},{"$f":"IF($R427<>3,VLOOKUP($E427,'Points Table A'!$C$3:$F$33,4),VLOOKUP($E427,'Points Table A'!$I$3:$L$33,4))","v":0},{"$f":"IF($R427<>3,VLOOKUP($F427,'Points Table A'!$D$3:$F$33,3),VLOOKUP($F427,'Points Table A'!$J$3:$L$33,3))","v":0},{"$f":"IF($R427<>3,VLOOKUP($G427,'Points Table A'!$E$3:$F$33,2),VLOOKUP($G427,'Points Table A'!$K$3:$L$33,2))","v":0},0,{"$f":"IF($T427=Lookups!$B$113,VLOOKUP($J427,'Points Table C'!$A$3:$F$11,5),VLOOKUP($U427,'Points Table C'!$B$3:$F$11,4))","v":0},{"$f":"IF($R427=1,0,VLOOKUP($N427,'Points Table C'!$C$3:$E$18,3))","v":0},{"$f":"VLOOKUP($I427,'Points Table C'!$D$3:$E$18,2)","v":0},{"$f":"IF($Z427<Lookups!$C$106,(AA427+AB427+AC427),IF(AA427>=Lookups!$C$120,(AA427+AB427+AC427),AA427+AB427))","v":0}]
["Non-core foods","Enter a food name here","Company name",0,0,0,0,0,0,0,0,0,{"$f":"IF((SUM(D428:L428)=0),\"J\",VLOOKUP(P428,Lookups!$A$1:$B$11,2))","v":"J"},{"$f":"H428+(L428*Lookups!$C$102*H428/100)","v":0},0,{"$f":"IF(ROUND(10.499-(((O428-VLOOKUP($A428,Lookups!$A$55:$D$64,3))/(VLOOKUP($A428,Lookups!$A$55:$D$64,4))*VLOOKUP($A428,Lookups!$C$2:$D$11,2))),0)<1,1,IF(ROUND(10.499-(((O428-VLOOKUP($A428,Lookups!$A$55:$D$64,3))/(VLOOKUP($A428,Lookups!$A$55:$D$64,4))*VLOOKUP($A428,Lookups!$C$2:$D$11,2))),0)<11,ROUND(10.499-(((O428-VLOOKUP($A428,Lookups!$A$55:$D$64,3))/(VLOOKUP($A428,Lookups!$A$55:$D$64,4))*VLOOKUP($A428,Lookups!$C$2:$D$11,2))),0),10))","v":7},null,{"$f":"VLOOKUP(A428,Lookups!$A$126:$C$135,3)","v":2},{"$f":"VLOOKUP(A428,Lookups!$A$126:$C$135,2)","v":"Food"},"No",0,{"$f":"IF($R428<>3,VLOOKUP($D428,'Points Table A'!$B$3:$F$33,5),VLOOKUP($D428,'Points Table A'!$H$3:$L$33,5))","v":0},{"$f":"IF($R428<>3,VLOOKUP($E428,'Points Table A'!$C$3:$F$33,4),VLOOKUP($E428,'Points Table A'!$I$3:$L$33,4))","v":0},{"$f":"IF($R428<>3,VLOOKUP($F428,'Points Table A'!$D$3:$F$33,3),VLOOKUP($F428,'Points Table A'!$J$3:$L$33,3))","v":0},{"$f":"IF($R428<>3,VLOOKUP($G428,'Points Table A'!$E$3:$F$33,2),VLOOKUP($G428,'Points Table A'!$K$3:$L$33,2))","v":0},0,{"$f":"IF($T428=Lookups!$B$113,VLOOKUP($J428,'Points Table C'!$A$3:$F$11,5),VLOOKUP($U428,'Points Table C'!$B$3:$F$11,4))","v":0},{"$f":"IF($R428=1,0,VLOOKUP($N428,'Points Table C'!$C$3:$E$18,3))","v":0},{"$f":"VLOOKUP($I428,'Points Table C'!$D$3:$E$18,2)","v":0},{"$f":"IF($Z428<Lookups!$C$106,(AA428+AB428+AC428),IF(AA428>=Lookups!$C$120,(AA428+AB428+AC428),AA428+AB428))","v":0}]
["Non-core foods","Enter a food name here","Company name",0,0,0,0,0,0,0,0,0,{"$f":"IF((SUM(D429:L429)=0),\"J\",VLOOKUP(P429,Lookups!$A$1:$B$11,2))","v":"J"},{"$f":"H429+(L429*Lookups!$C$102*H429/100)","v":0},0,{"$f":"IF(ROUND(10.499-(((O429-VLOOKUP($A429,Lookups!$A$55:$D$64,3))/(VLOOKUP($A429,Lookups!$A$55:$D$64,4))*VLOOKUP($A429,Lookups!$C$2:$D$11,2))),0)<1,1,IF(ROUND(10.499-(((O429-VLOOKUP($A429,Lookups!$A$55:$D$64,3))/(VLOOKUP($A429,Lookups!$A$55:$D$64,4))*VLOOKUP($A429,Lookups!$C$2:$D$11,2))),0)<11,ROUND(10.499-(((O429-VLOOKUP($A429,Lookups!$A$55:$D$64,3))/(VLOOKUP($A429,Lookups!$A$55:$D$64,4))*VLOOKUP($A429,Lookups!$C$2:$D$11,2))),0),10))","v":7},null,{"$f":"VLOOKUP(A429,Lookups!$A$126:$C$135,3)","v":2},{"$f":"VLOOKUP(A429,Lookups!$A$126:$C$135,2)","v":"Food"},"No",0,{"$f":"IF($R429<>3,VLOOKUP($D429,'Points Table A'!$B$3:$F$33,5),VLOOKUP($D429,'Points Table A'!$H$3:$L$33,5))","v":0},{"$f":"IF($R429<>3,VLOOKUP($E429,'Points Table A'!$C$3:$F$33,4),VLOOKUP($E429,'Points Table A'!$I$3:$L$33,4))","v":0},{"$f":"IF($R429<>3,VLOOKUP($F429,'Points Table A'!$D$3:$F$33,3),VLOOKUP($F429,'Points Table A'!$J$3:$L$33,3))","v":0},{"$f":"IF($R429<>3,VLOOKUP($G429,'Points Table A'!$E$3:$F$33,2),VLOOKUP($G429,'Points Table A'!$K$3:$L$33,2))","v":0},0,{"$f":"IF($T429=Lookups!$B$113,VLOOKUP($J429,'Points Table C'!$A$3:$F$11,5),VLOOKUP($U429,'Points Table C'!$B$3:$F$11,4))","v":0},{"$f":"IF($R429=1,0,VLOOKUP($N429,'Points Table C'!$C$3:$E$18,3))","v":0},{"$f":"VLOOKUP($I429,'Points Table C'!$D$3:$E$18,2)","v":0},{"$f":"IF($Z429<Lookups!$C$106,(AA429+AB429+AC429),IF(AA429>=Lookups!$C$120,(AA429+AB429+AC429),AA429+AB429))","v":0}]
["Non-core foods","Enter a food name here","Company name",0,0,0,0,0,0,0,0,0,{"$f":"IF((SUM(D430:L430)=0),\"J\",VLOOKUP(P430,Lookups!$A$1:$B$11,2))","v":"J"},{"$f":"H430+(L430*Lookups!$C$102*H430/100)","v":0},0,{"$f":"IF(ROUND(10.499-(((O430-VLOOKUP($A430,Lookups!$A$55:$D$64,3))/(VLOOKUP($A430,Lookups!$A$55:$D$64,4))*VLOOKUP($A430,Lookups!$C$2:$D$11,2))),0)<1,1,IF(ROUND(10.499-(((O430-VLOOKUP($A430,Lookups!$A$55:$D$64,3))/(VLOOKUP($A430,Lookups!$A$55:$D$64,4))*VLOOKUP($A430,Lookups!$C$2:$D$11,2))),0)<11,ROUND(10.499-(((O430-VLOOKUP($A430,Lookups!$A$55:$D$64,3))/(VLOOKUP($A430,Lookups!$A$55:$D$64,4))*VLOOKUP($A430,Lookups!$C$2:$D$11,2))),0),10))","v":7},null,{"$f":"VLOOKUP(A430,Lookups!$A$126:$C$135,3)","v":2},{"$f":"VLOOKUP(A430,Lookups!$A$126:$C$135,2)","v":"Food"},"No",0,{"$f":"IF($R430<>3,VLOOKUP($D430,'Points Table A'!$B$3:$F$33,5),VLOOKUP($D430,'Points Table A'!$H$3:$L$33,5))","v":0},{"$f":"IF($R430<>3,VLOOKUP($E430,'Points Table A'!$C$3:$F$33,4),VLOOKUP($E430,'Points Table A'!$I$3:$L$33,4))","v":0},{"$f":"IF($R430<>3,VLOOKUP($F430,'Points Table A'!$D$3:$F$33,3),VLOOKUP($F430,'Points Table A'!$J$3:$L$33,3))","v":0},{"$f":"IF($R430<>3,VLOOKUP($G430,'Points Table A'!$E$3:$F$33,2),VLOOKUP($G430,'Points Table A'!$K$3:$L$33,2))","v":0},0,{"$f":"IF($T430=Lookups!$B$113,VLOOKUP($J430,'Points Table C'!$A$3:$F$11,5),VLOOKUP($U430,'Points Table C'!$B$3:$F$11,4))","v":0},{"$f":"IF($R430=1,0,VLOOKUP($N430,'Points Table C'!$C$3:$E$18,3))","v":0},{"$f":"VLOOKUP($I430,'Points Table C'!$D$3:$E$18,2)","v":0},{"$f":"IF($Z430<Lookups!$C$106,(AA430+AB430+AC430),IF(AA430>=Lookups!$C$120,(AA430+AB430+AC430),AA430+AB430))","v":0}]
["Non-core foods","Enter a food name here","Company name",0,0,0,0,0,0,0,0,0,{"$f":"IF((SUM(D431:L431)=0),\"J\",VLOOKUP(P431,Lookups!$A$1:$B$11,2))","v":"J"},{"$f":"H431+(L431*Lookups!$C$102*H431/100)","v":0},0,{"$f":"IF(ROUND(10.499-(((O431-VLOOKUP($A431,Lookups!$A$55:$D$64,3))/(VLOOKUP($A431,Lookups!$A$55:$D$64,4))*VLOOKUP($A431,Lookups!$C$2:$D$11,2))),0)<1,1,IF(ROUND(10.499-(((O431-VLOOKUP($A431,Lookups!$A$55:$D$64,3))/(VLOOKUP($A431,Lookups!$A$55:$D$64,4))*VLOOKUP($A431,Lookups!$C$2:$D$11,2))),0)<11,ROUND(10.499-(((O431-VLOOKUP($A431,Lookups!$A$55:$D$64,3))/(VLOOKUP($A431,Lookups!$A$55:$D$64,4))*VLOOKUP($A431,Lookups!$C$2:$D$11,2))),0),10))","v":7},null,{"$f":"VLOOKUP(A431,Lookups!$A$126:$C$135,3)","v":2},{"$f":"VLOOKUP(A431,Lookups!$A$126:$C$135,2)","v":"Food"},"No",0,{"$f":"IF($R431<>3,VLOOKUP($D431,'Points Table A'!$B$3:$F$33,5),VLOOKUP($D431,'Points Table A'!$H$3:$L$33,5))","v":0},{"$f":"IF($R431<>3,VLOOKUP($E431,'Points Table A'!$C$3:$F$33,4),VLOOKUP($E431,'Points Table A'!$I$3:$L$33,4))","v":0},{"$f":"IF($R431<>3,VLOOKUP($F431,'Points Table A'!$D$3:$F$33,3),VLOOKUP($F431,'Points Table A'!$J$3:$L$33,3))","v":0},{"$f":"IF($R431<>3,VLOOKUP($G431,'Points Table A'!$E$3:$F$33,2),VLOOKUP($G431,'Points Table A'!$K$3:$L$33,2))","v":0},0,{"$f":"IF($T431=Lookups!$B$113,VLOOKUP($J431,'Points Table C'!$A$3:$F$11,5),VLOOKUP($U431,'Points Table C'!$B$3:$F$11,4))","v":0},{"$f":"IF($R431=1,0,VLOOKUP($N431,'Points Table C'!$C$3:$E$18,3))","v":0},{"$f":"VLOOKUP($I431,'Points Table C'!$D$3:$E$18,2)","v":0},{"$f":"IF($Z431<Lookups!$C$106,(AA431+AB431+AC431),IF(AA431>=Lookups!$C$120,(AA431+AB431+AC431),AA431+AB431))","v":0}]
["Non-core foods","Enter a food name here","Company name",0,0,0,0,0,0,0,0,0,{"$f":"IF((SUM(D432:L432)=0),\"J\",VLOOKUP(P432,Lookups!$A$1:$B$11,2))","v":"J"},{"$f":"H432+(L432*Lookups!$C$102*H432/100)","v":0},0,{"$f":"IF(ROUND(10.499-(((O432-VLOOKUP($A432,Lookups!$A$55:$D$64,3))/(VLOOKUP($A432,Lookups!$A$55:$D$64,4))*VLOOKUP($A432,Lookups!$C$2:$D$11,2))),0)<1,1,IF(ROUND(10.499-(((O432-VLOOKUP($A432,Lookups!$A$55:$D$64,3))/(VLOOKUP($A432,Lookups!$A$55:$D$64,4))*VLOOKUP($A432,Lookups!$C$2:$D$11,2))),0)<11,ROUND(10.499-(((O432-VLOOKUP($A432,Lookups!$A$55:$D$64,3))/(VLOOKUP($A432,Lookups!$A$55:$D$64,4))*VLOOKUP($A432,Lookups!$C$2:$D$11,2))),0),10))","v":7},null,{"$f":"VLOOKUP(A432,Lookups!$A$126:$C$135,3)","v":2},{"$f":"VLOOKUP(A432,Lookups!$A$126:$C$135,2)","v":"Food"},"No",0,{"$f":"IF($R432<>3,VLOOKUP($D432,'Points Table A'!$B$3:$F$33,5),VLOOKUP($D432,'Points Table A'!$H$3:$L$33,5))","v":0},{"$f":"IF($R432<>3,VLOOKUP($E432,'Points Table A'!$C$3:$F$33,4),VLOOKUP($E432,'Points Table A'!$I$3:$L$33,4))","v":0},{"$f":"IF($R432<>3,VLOOKUP($F432,'Points Table A'!$D$3:$F$33,3),VLOOKUP($F432,'Points Table A'!$J$3:$L$33,3))","v":0},{"$f":"IF($R432<>3,VLOOKUP($G432,'Points Table A'!$E$3:$F$33,2),VLOOKUP($G432,'Points Table A'!$K$3:$L$33,2))","v":0},0,{"$f":"IF($T432=Lookups!$B$113,VLOOKUP($J432,'Points Table C'!$A$3:$F$11,5),VLOOKUP($U432,'Points Table C'!$B$3:$F$11,4))","v":0},{"$f":"IF($R432=1,0,VLOOKUP($N432,'Points Table C'!$C$3:$E$18,3))","v":0},{"$f":"VLOOKUP($I432,'Points Table C'!$D$3:$E$18,2)","v":0},{"$f":"IF($Z432<Lookups!$C$106,(AA432+AB432+AC432),IF(AA432>=Lookups!$C$120,(AA432+AB432+AC432),AA432+AB432))","v":0}]
["Non-core foods","Enter a food name here","Company name",0,0,0,0,0,0,0,0,0,{"$f":"IF((SUM(D433:L433)=0),\"J\",VLOOKUP(P433,Lookups!$A$1:$B$11,2))","v":"J"},{"$f":"H433+(L433*Lookups!$C$102*H433/100)","v":0},0,{"$f":"IF(ROUND(10.499-(((O433-VLOOKUP($A433,Lookups!$A$55:$D$64,3))/(VLOOKUP($A433,Lookups!$A$55:$D$64,4))*VLOOKUP($A433,Lookups!$C$2:$D$11,2))),0)<1,1,IF(ROUND(10.499-(((O433-VLOOKUP($A433,Lookups!$A$55:$D$64,3))/(VLOOKUP($A433,Lookups!$A$55:$D$64,4))*VLOOKUP($A433,Lookups!$C$2:$D$11,2))),0)<11,ROUND(10.499-(((O433-VLOOKUP($A433,Lookups!$A$55:$D$64,3))/(VLOOKUP($A433,Lookups!$A$55:$D$64,4))*VLOOKUP($A433,Lookups!$C$2:$D$11,2))),0),10))","v":7},null,{"$f":"VLOOKUP(A433,Lookups!$A$126:$C$135,3)","v":2},{"$f":"VLOOKUP(A433,Lookups!$A$126:$C$135,2)","v":"Food"},"No",0,{"$f":"IF($R433<>3,VLOOKUP($D433,'Points Table A'!$B$3:$F$33,5),VLOOKUP($D433,'Points Table A'!$H$3:$L$33,5))","v":0},{"$f":"IF($R433<>3,VLOOKUP($E433,'Points Table A'!$C$3:$F$33,4),VLOOKUP($E433,'Points Table A'!$I$3:$L$33,4))","v":0},{"$f":"IF($R433<>3,VLOOKUP($F433,'Points Table A'!$D$3:$F$33,3),VLOOKUP($F433,'Points Table A'!$J$3:$L$33,3))","v":0},{"$f":"IF($R433<>3,VLOOKUP($G433,'Points Table A'!$E$3:$F$33,2),VLOOKUP($G433,'Points Table A'!$K$3:$L$33,2))","v":0},0,{"$f":"IF($T433=Lookups!$B$113,VLOOKUP($J433,'Points Table C'!$A$3:$F$11,5),VLOOKUP($U433,'Points Table C'!$B$3:$F$11,4))","v":0},{"$f":"IF($R433=1,0,VLOOKUP($N433,'Points Table C'!$C$3:$E$18,3))","v":0},{"$f":"VLOOKUP($I433,'Points Table C'!$D$3:$E$18,2)","v":0},{"$f":"IF($Z433<Lookups!$C$106,(AA433+AB433+AC433),IF(AA433>=Lookups!$C$120,(AA433+AB433+AC433),AA433+AB433))","v":0}]
["Non-core foods","Enter a food name here","Company name",0,0,0,0,0,0,0,0,0,{"$f":"IF((SUM(D434:L434)=0),\"J\",VLOOKUP(P434,Lookups!$A$1:$B$11,2))","v":"J"},{"$f":"H434+(L434*Lookups!$C$102*H434/100)","v":0},0,{"$f":"IF(ROUND(10.499-(((O434-VLOOKUP($A434,Lookups!$A$55:$D$64,3))/(VLOOKUP($A434,Lookups!$A$55:$D$64,4))*VLOOKUP($A434,Lookups!$C$2:$D$11,2))),0)<1,1,IF(ROUND(10.499-(((O434-VLOOKUP($A434,Lookups!$A$55:$D$64,3))/(VLOOKUP($A434,Lookups!$A$55:$D$64,4))*VLOOKUP($A434,Lookups!$C$2:$D$11,2))),0)<11,ROUND(10.499-(((O434-VLOOKUP($A434,Lookups!$A$55:$D$64,3))/(VLOOKUP($A434,Lookups!$A$55:$D$64,4))*VLOOKUP($A434,Lookups!$C$2:$D$11,2))),0),10))","v":7},null,{"$f":"VLOOKUP(A434,Lookups!$A$126:$C$135,3)","v":2},{"$f":"VLOOKUP(A434,Lookups!$A$126:$C$135,2)","v":"Food"},"No",0,{"$f":"IF($R434<>3,VLOOKUP($D434,'Points Table A'!$B$3:$F$33,5),VLOOKUP($D434,'Points Table A'!$H$3:$L$33,5))","v":0},{"$f":"IF($R434<>3,VLOOKUP($E434,'Points Table A'!$C$3:$F$33,4),VLOOKUP($E434,'Points Table A'!$I$3:$L$33,4))","v":0},{"$f":"IF($R434<>3,VLOOKUP($F434,'Points Table A'!$D$3:$F$33,3),VLOOKUP($F434,'Points Table A'!$J$3:$L$33,3))","v":0},{"$f":"IF($R434<>3,VLOOKUP($G434,'Points Table A'!$E$3:$F$33,2),VLOOKUP($G434,'Points Table A'!$K$3:$L$33,2))","v":0},0,{"$f":"IF($T434=Lookups!$B$113,VLOOKUP($J434,'Points Table C'!$A$3:$F$11,5),VLOOKUP($U434,'Points Table C'!$B$3:$F$11,4))","v":0},{"$f":"IF($R434=1,0,VLOOKUP($N434,'Points Table C'!$C$3:$E$18,3))","v":0},{"$f":"VLOOKUP($I434,'Points Table C'!$D$3:$E$18,2)","v":0},{"$f":"IF($Z434<Lookups!$C$106,(AA434+AB434+AC434),IF(AA434>=Lookups!$C$120,(AA434+AB434+AC434),AA434+AB434))","v":0}]
["Non-core foods","Enter a food name here","Company name",0,0,0,0,0,0,0,0,0,{"$f":"IF((SUM(D435:L435)=0),\"J\",VLOOKUP(P435,Lookups!$A$1:$B$11,2))","v":"J"},{"$f":"H435+(L435*Lookups!$C$102*H435/100)","v":0},0,{"$f":"IF(ROUND(10.499-(((O435-VLOOKUP($A435,Lookups!$A$55:$D$64,3))/(VLOOKUP($A435,Lookups!$A$55:$D$64,4))*VLOOKUP($A435,Lookups!$C$2:$D$11,2))),0)<1,1,IF(ROUND(10.499-(((O435-VLOOKUP($A435,Lookups!$A$55:$D$64,3))/(VLOOKUP($A435,Lookups!$A$55:$D$64,4))*VLOOKUP($A435,Lookups!$C$2:$D$11,2))),0)<11,ROUND(10.499-(((O435-VLOOKUP($A435,Lookups!$A$55:$D$64,3))/(VLOOKUP($A435,Lookups!$A$55:$D$64,4))*VLOOKUP($A435,Lookups!$C$2:$D$11,2))),0),10))","v":7},null,{"$f":"VLOOKUP(A435,Lookups!$A$126:$C$135,3)","v":2},{"$f":"VLOOKUP(A435,Lookups!$A$126:$C$135,2)","v":"Food"},"No",0,{"$f":"IF($R435<>3,VLOOKUP($D435,'Points Table A'!$B$3:$F$33,5),VLOOKUP($D435,'Points Table A'!$H$3:$L$33,5))","v":0},{"$f":"IF($R435<>3,VLOOKUP($E435,'Points Table A'!$C$3:$F$33,4),VLOOKUP($E435,'Points Table A'!$I$3:$L$33,4))","v":0},{"$f":"IF($R435<>3,VLOOKUP($F435,'Points Table A'!$D$3:$F$33,3),VLOOKUP($F435,'Points Table A'!$J$3:$L$33,3))","v":0},{"$f":"IF($R435<>3,VLOOKUP($G435,'Points Table A'!$E$3:$F$33,2),VLOOKUP($G435,'Points Table A'!$K$3:$L$33,2))","v":0},0,{"$f":"IF($T435=Lookups!$B$113,VLOOKUP($J435,'Points Table C'!$A$3:$F$11,5),VLOOKUP($U435,'Points Table C'!$B$3:$F$11,4))","v":0},{"$f":"IF($R435=1,0,VLOOKUP($N435,'Points Table C'!$C$3:$E$18,3))","v":0},{"$f":"VLOOKUP($I435,'Points Table C'!$D$3:$E$18,2)","v":0},{"$f":"IF($Z435<Lookups!$C$106,(AA435+AB435+AC435),IF(AA435>=Lookups!$C$120,(AA435+AB435+AC435),AA435+AB435))","v":0}]
["Non-core foods","Enter a food name here","Company name",0,0,0,0,0,0,0,0,0,{"$f":"IF((SUM(D436:L436)=0),\"J\",VLOOKUP(P436,Lookups!$A$1:$B$11,2))","v":"J"},{"$f":"H436+(L436*Lookups!$C$102*H436/100)","v":0},0,{"$f":"IF(ROUND(10.499-(((O436-VLOOKUP($A436,Lookups!$A$55:$D$64,3))/(VLOOKUP($A436,Lookups!$A$55:$D$64,4))*VLOOKUP($A436,Lookups!$C$2:$D$11,2))),0)<1,1,IF(ROUND(10.499-(((O436-VLOOKUP($A436,Lookups!$A$55:$D$64,3))/(VLOOKUP($A436,Lookups!$A$55:$D$64,4))*VLOOKUP($A436,Lookups!$C$2:$D$11,2))),0)<11,ROUND(10.499-(((O436-VLOOKUP($A436,Lookups!$A$55:$D$64,3))/(VLOOKUP($A436,Lookups!$A$55:$D$64,4))*VLOOKUP($A436,Lookups!$C$2:$D$11,2))),0),10))","v":7},null,{"$f":"VLOOKUP(A436,Lookups!$A$126:$C$135,3)","v":2},{"$f":"VLOOKUP(A436,Lookups!$A$126:$C$135,2)","v":"Food"},"No",0,{"$f":"IF($R436<>3,VLOOKUP($D436,'Points Table A'!$B$3:$F$33,5),VLOOKUP($D436,'Points Table A'!$H$3:$L$33,5))","v":0},{"$f":"IF($R436<>3,VLOOKUP($E436,'Points Table A'!$C$3:$F$33,4),VLOOKUP($E436,'Points Table A'!$I$3:$L$33,4))","v":0},{"$f":"IF($R436<>3,VLOOKUP($F436,'Points Table A'!$D$3:$F$33,3),VLOOKUP($F436,'Points Table A'!$J$3:$L$33,3))","v":0},{"$f":"IF($R436<>3,VLOOKUP($G436,'Points Table A'!$E$3:$F$33,2),VLOOKUP($G436,'Points Table A'!$K$3:$L$33,2))","v":0},0,{"$f":"IF($T436=Lookups!$B$113,VLOOKUP($J436,'Points Table C'!$A$3:$F$11,5),VLOOKUP($U436,'Points Table C'!$B$3:$F$11,4))","v":0},{"$f":"IF($R436=1,0,VLOOKUP($N436,'Points Table C'!$C$3:$E$18,3))","v":0},{"$f":"VLOOKUP($I436,'Points Table C'!$D$3:$E$18,2)","v":0},{"$f":"IF($Z436<Lookups!$C$106,(AA436+AB436+AC436),IF(AA436>=Lookups!$C$120,(AA436+AB436+AC436),AA436+AB436))","v":0}]
["Non-core foods","Enter a food name here","Company name",0,0,0,0,0,0,0,0,0,{"$f":"IF((SUM(D437:L437)=0),\"J\",VLOOKUP(P437,Lookups!$A$1:$B$11,2))","v":"J"},{"$f":"H437+(L437*Lookups!$C$102*H437/100)","v":0},0,{"$f":"IF(ROUND(10.499-(((O437-VLOOKUP($A437,Lookups!$A$55:$D$64,3))/(VLOOKUP($A437,Lookups!$A$55:$D$64,4))*VLOOKUP($A437,Lookups!$C$2:$D$11,2))),0)<1,1,IF(ROUND(10.499-(((O437-VLOOKUP($A437,Lookups!$A$55:$D$64,3))/(VLOOKUP($A437,Lookups!$A$55:$D$64,4))*VLOOKUP($A437,Lookups!$C$2:$D$11,2))),0)<11,ROUND(10.499-(((O437-VLOOKUP($A437,Lookups!$A$55:$D$64,3))/(VLOOKUP($A437,Lookups!$A$55:$D$64,4))*VLOOKUP($A437,Lookups!$C$2:$D$11,2))),0),10))","v":7},null,{"$f":"VLOOKUP(A437,Lookups!$A$126:$C$135,3)","v":2},{"$f":"VLOOKUP(A437,Lookups!$A$126:$C$135,2)","v":"Food"},"No",0,{"$f":"IF($R437<>3,VLOOKUP($D437,'Points Table A'!$B$3:$F$33,5),VLOOKUP($D437,'Points Table A'!$H$3:$L$33,5))","v":0},{"$f":"IF($R437<>3,VLOOKUP($E437,'Points Table A'!$C$3:$F$33,4),VLOOKUP($E437,'Points Table A'!$I$3:$L$33,4))","v":0},{"$f":"IF($R437<>3,VLOOKUP($F437,'Points Table A'!$D$3:$F$33,3),VLOOKUP($F437,'Points Table A'!$J$3:$L$33,3))","v":0},{"$f":"IF($R437<>3,VLOOKUP($G437,'Points Table A'!$E$3:$F$33,2),VLOOKUP($G437,'Points Table A'!$K$3:$L$33,2))","v":0},0,{"$f":"IF($T437=Lookups!$B$113,VLOOKUP($J437,'Points Table C'!$A$3:$F$11,5),VLOOKUP($U437,'Points Table C'!$B$3:$F$11,4))","v":0},{"$f":"IF($R437=1,0,VLOOKUP($N437,'Points Table C'!$C$3:$E$18,3))","v":0},{"$f":"VLOOKUP($I437,'Points Table C'!$D$3:$E$18,2)","v":0},{"$f":"IF($Z437<Lookups!$C$106,(AA437+AB437+AC437),IF(AA437>=Lookups!$C$120,(AA437+AB437+AC437),AA437+AB437))","v":0}]
["Non-core foods","Enter a food name here","Company name",0,0,0,0,0,0,0,0,0,{"$f":"IF((SUM(D438:L438)=0),\"J\",VLOOKUP(P438,Lookups!$A$1:$B$11,2))","v":"J"},{"$f":"H438+(L438*Lookups!$C$102*H438/100)","v":0},0,{"$f":"IF(ROUND(10.499-(((O438-VLOOKUP($A438,Lookups!$A$55:$D$64,3))/(VLOOKUP($A438,Lookups!$A$55:$D$64,4))*VLOOKUP($A438,Lookups!$C$2:$D$11,2))),0)<1,1,IF(ROUND(10.499-(((O438-VLOOKUP($A438,Lookups!$A$55:$D$64,3))/(VLOOKUP($A438,Lookups!$A$55:$D$64,4))*VLOOKUP($A438,Lookups!$C$2:$D$11,2))),0)<11,ROUND(10.499-(((O438-VLOOKUP($A438,Lookups!$A$55:$D$64,3))/(VLOOKUP($A438,Lookups!$A$55:$D$64,4))*VLOOKUP($A438,Lookups!$C$2:$D$11,2))),0),10))","v":7},null,{"$f":"VLOOKUP(A438,Lookups!$A$126:$C$135,3)","v":2},{"$f":"VLOOKUP(A438,Lookups!$A$126:$C$135,2)","v":"Food"},"No",0,{"$f":"IF($R438<>3,VLOOKUP($D438,'Points Table A'!$B$3:$F$33,5),VLOOKUP($D438,'Points Table A'!$H$3:$L$33,5))","v":0},{"$f":"IF($R438<>3,VLOOKUP($E438,'Points Table A'!$C$3:$F$33,4),VLOOKUP($E438,'Points Table A'!$I$3:$L$33,4))","v":0},{"$f":"IF($R438<>3,VLOOKUP($F438,'Points Table A'!$D$3:$F$33,3),VLOOKUP($F438,'Points Table A'!$J$3:$L$33,3))","v":0},{"$f":"IF($R438<>3,VLOOKUP($G438,'Points Table A'!$E$3:$F$33,2),VLOOKUP($G438,'Points Table A'!$K$3:$L$33,2))","v":0},0,{"$f":"IF($T438=Lookups!$B$113,VLOOKUP($J438,'Points Table C'!$A$3:$F$11,5),VLOOKUP($U438,'Points Table C'!$B$3:$F$11,4))","v":0},{"$f":"IF($R438=1,0,VLOOKUP($N438,'Points Table C'!$C$3:$E$18,3))","v":0},{"$f":"VLOOKUP($I438,'Points Table C'!$D$3:$E$18,2)","v":0},{"$f":"IF($Z438<Lookups!$C$106,(AA438+AB438+AC438),IF(AA438>=Lookups!$C$120,(AA438+AB438+AC438),AA438+AB438))","v":0}]
["Non-core foods","Enter a food name here","Company name",0,0,0,0,0,0,0,0,0,{"$f":"IF((SUM(D439:L439)=0),\"J\",VLOOKUP(P439,Lookups!$A$1:$B$11,2))","v":"J"},{"$f":"H439+(L439*Lookups!$C$102*H439/100)","v":0},0,{"$f":"IF(ROUND(10.499-(((O439-VLOOKUP($A439,Lookups!$A$55:$D$64,3))/(VLOOKUP($A439,Lookups!$A$55:$D$64,4))*VLOOKUP($A439,Lookups!$C$2:$D$11,2))),0)<1,1,IF(ROUND(10.499-(((O439-VLOOKUP($A439,Lookups!$A$55:$D$64,3))/(VLOOKUP($A439,Lookups!$A$55:$D$64,4))*VLOOKUP($A439,Lookups!$C$2:$D$11,2))),0)<11,ROUND(10.499-(((O439-VLOOKUP($A439,Lookups!$A$55:$D$64,3))/(VLOOKUP($A439,Lookups!$A$55:$D$64,4))*VLOOKUP($A439,Lookups!$C$2:$D$11,2))),0),10))","v":7},null,{"$f":"VLOOKUP(A439,Lookups!$A$126:$C$135,3)","v":2},{"$f":"VLOOKUP(A439,Lookups!$A$126:$C$135,2)","v":"Food"},"No",0,{"$f":"IF($R439<>3,VLOOKUP($D439,'Points Table A'!$B$3:$F$33,5),VLOOKUP($D439,'Points Table A'!$H$3:$L$33,5))","v":0},{"$f":"IF($R439<>3,VLOOKUP($E439,'Points Table A'!$C$3:$F$33,4),VLOOKUP($E439,'Points Table A'!$I$3:$L$33,4))","v":0},{"$f":"IF($R439<>3,VLOOKUP($F439,'Points Table A'!$D$3:$F$33,3),VLOOKUP($F439,'Points Table A'!$J$3:$L$33,3))","v":0},{"$f":"IF($R439<>3,VLOOKUP($G439,'Points Table A'!$E$3:$F$33,2),VLOOKUP($G439,'Points Table A'!$K$3:$L$33,2))","v":0},0,{"$f":"IF($T439=Lookups!$B$113,VLOOKUP($J439,'Points Table C'!$A$3:$F$11,5),VLOOKUP($U439,'Points Table C'!$B$3:$F$11,4))","v":0},{"$f":"IF($R439=1,0,VLOOKUP($N439,'Points Table C'!$C$3:$E$18,3))","v":0},{"$f":"VLOOKUP($I439,'Points Table C'!$D$3:$E$18,2)","v":0},{"$f":"IF($Z439<Lookups!$C$106,(AA439+AB439+AC439),IF(AA439>=Lookups!$C$120,(AA439+AB439+AC439),AA439+AB439))","v":0}]
["Non-core foods","Enter a food name here","Company name",0,0,0,0,0,0,0,0,0,{"$f":"IF((SUM(D440:L440)=0),\"J\",VLOOKUP(P440,Lookups!$A$1:$B$11,2))","v":"J"},{"$f":"H440+(L440*Lookups!$C$102*H440/100)","v":0},0,{"$f":"IF(ROUND(10.499-(((O440-VLOOKUP($A440,Lookups!$A$55:$D$64,3))/(VLOOKUP($A440,Lookups!$A$55:$D$64,4))*VLOOKUP($A440,Lookups!$C$2:$D$11,2))),0)<1,1,IF(ROUND(10.499-(((O440-VLOOKUP($A440,Lookups!$A$55:$D$64,3))/(VLOOKUP($A440,Lookups!$A$55:$D$64,4))*VLOOKUP($A440,Lookups!$C$2:$D$11,2))),0)<11,ROUND(10.499-(((O440-VLOOKUP($A440,Lookups!$A$55:$D$64,3))/(VLOOKUP($A440,Lookups!$A$55:$D$64,4))*VLOOKUP($A440,Lookups!$C$2:$D$11,2))),0),10))","v":7},null,{"$f":"VLOOKUP(A440,Lookups!$A$126:$C$135,3)","v":2},{"$f":"VLOOKUP(A440,Lookups!$A$126:$C$135,2)","v":"Food"},"No",0,{"$f":"IF($R440<>3,VLOOKUP($D440,'Points Table A'!$B$3:$F$33,5),VLOOKUP($D440,'Points Table A'!$H$3:$L$33,5))","v":0},{"$f":"IF($R440<>3,VLOOKUP($E440,'Points Table A'!$C$3:$F$33,4),VLOOKUP($E440,'Points Table A'!$I$3:$L$33,4))","v":0},{"$f":"IF($R440<>3,VLOOKUP($F440,'Points Table A'!$D$3:$F$33,3),VLOOKUP($F440,'Points Table A'!$J$3:$L$33,3))","v":0},{"$f":"IF($R440<>3,VLOOKUP($G440,'Points Table A'!$E$3:$F$33,2),VLOOKUP($G440,'Points Table A'!$K$3:$L$33,2))","v":0},0,{"$f":"IF($T440=Lookups!$B$113,VLOOKUP($J440,'Points Table C'!$A$3:$F$11,5),VLOOKUP($U440,'Points Table C'!$B$3:$F$11,4))","v":0},{"$f":"IF($R440=1,0,VLOOKUP($N440,'Points Table C'!$C$3:$E$18,3))","v":0},{"$f":"VLOOKUP($I440,'Points Table C'!$D$3:$E$18,2)","v":0},{"$f":"IF($Z440<Lookups!$C$106,(AA440+AB440+AC440),IF(AA440>=Lookups!$C$120,(AA440+AB440+AC440),AA440+AB440))","v":0}]
["Non-core foods","Enter a food name here","Company name",0,0,0,0,0,0,0,0,0,{"$f":"IF((SUM(D441:L441)=0),\"J\",VLOOKUP(P441,Lookups!$A$1:$B$11,2))","v":"J"},{"$f":"H441+(L441*Lookups!$C$102*H441/100)","v":0},0,{"$f":"IF(ROUND(10.499-(((O441-VLOOKUP($A441,Lookups!$A$55:$D$64,3))/(VLOOKUP($A441,Lookups!$A$55:$D$64,4))*VLOOKUP($A441,Lookups!$C$2:$D$11,2))),0)<1,1,IF(ROUND(10.499-(((O441-VLOOKUP($A441,Lookups!$A$55:$D$64,3))/(VLOOKUP($A441,Lookups!$A$55:$D$64,4))*VLOOKUP($A441,Lookups!$C$2:$D$11,2))),0)<11,ROUND(10.499-(((O441-VLOOKUP($A441,Lookups!$A$55:$D$64,3))/(VLOOKUP($A441,Lookups!$A$55:$D$64,4))*VLOOKUP($A441,Lookups!$C$2:$D$11,2))),0),10))","v":7},null,{"$f":"VLOOKUP(A441,Lookups!$A$126:$C$135,3)","v":2},{"$f":"VLOOKUP(A441,Lookups!$A$126:$C$135,2)","v":"Food"},"No",0,{"$f":"IF($R441<>3,VLOOKUP($D441,'Points Table A'!$B$3:$F$33,5),VLOOKUP($D441,'Points Table A'!$H$3:$L$33,5))","v":0},{"$f":"IF($R441<>3,VLOOKUP($E441,'Points Table A'!$C$3:$F$33,4),VLOOKUP($E441,'Points Table A'!$I$3:$L$33,4))","v":0},{"$f":"IF($R441<>3,VLOOKUP($F441,'Points Table A'!$D$3:$F$33,3),VLOOKUP($F441,'Points Table A'!$J$3:$L$33,3))","v":0},{"$f":"IF($R441<>3,VLOOKUP($G441,'Points Table A'!$E$3:$F$33,2),VLOOKUP($G441,'Points Table A'!$K$3:$L$33,2))","v":0},0,{"$f":"IF($T441=Lookups!$B$113,VLOOKUP($J441,'Points Table C'!$A$3:$F$11,5),VLOOKUP($U441,'Points Table C'!$B$3:$F$11,4))","v":0},{"$f":"IF($R441=1,0,VLOOKUP($N441,'Points Table C'!$C$3:$E$18,3))","v":0},{"$f":"VLOOKUP($I441,'Points Table C'!$D$3:$E$18,2)","v":0},{"$f":"IF($Z441<Lookups!$C$106,(AA441+AB441+AC441),IF(AA441>=Lookups!$C$120,(AA441+AB441+AC441),AA441+AB441))","v":0}]
["Non-core foods","Enter a food name here","Company name",0,0,0,0,0,0,0,0,0,{"$f":"IF((SUM(D442:L442)=0),\"J\",VLOOKUP(P442,Lookups!$A$1:$B$11,2))","v":"J"},{"$f":"H442+(L442*Lookups!$C$102*H442/100)","v":0},0,{"$f":"IF(ROUND(10.499-(((O442-VLOOKUP($A442,Lookups!$A$55:$D$64,3))/(VLOOKUP($A442,Lookups!$A$55:$D$64,4))*VLOOKUP($A442,Lookups!$C$2:$D$11,2))),0)<1,1,IF(ROUND(10.499-(((O442-VLOOKUP($A442,Lookups!$A$55:$D$64,3))/(VLOOKUP($A442,Lookups!$A$55:$D$64,4))*VLOOKUP($A442,Lookups!$C$2:$D$11,2))),0)<11,ROUND(10.499-(((O442-VLOOKUP($A442,Lookups!$A$55:$D$64,3))/(VLOOKUP($A442,Lookups!$A$55:$D$64,4))*VLOOKUP($A442,Lookups!$C$2:$D$11,2))),0),10))","v":7},null,{"$f":"VLOOKUP(A442,Lookups!$A$126:$C$135,3)","v":2},{"$f":"VLOOKUP(A442,Lookups!$A$126:$C$135,2)","v":"Food"},"No",0,{"$f":"IF($R442<>3,VLOOKUP($D442,'Points Table A'!$B$3:$F$33,5),VLOOKUP($D442,'Points Table A'!$H$3:$L$33,5))","v":0},{"$f":"IF($R442<>3,VLOOKUP($E442,'Points Table A'!$C$3:$F$33,4),VLOOKUP($E442,'Points Table A'!$I$3:$L$33,4))","v":0},{"$f":"IF($R442<>3,VLOOKUP($F442,'Points Table A'!$D$3:$F$33,3),VLOOKUP($F442,'Points Table A'!$J$3:$L$33,3))","v":0},{"$f":"IF($R442<>3,VLOOKUP($G442,'Points Table A'!$E$3:$F$33,2),VLOOKUP($G442,'Points Table A'!$K$3:$L$33,2))","v":0},0,{"$f":"IF($T442=Lookups!$B$113,VLOOKUP($J442,'Points Table C'!$A$3:$F$11,5),VLOOKUP($U442,'Points Table C'!$B$3:$F$11,4))","v":0},{"$f":"IF($R442=1,0,VLOOKUP($N442,'Points Table C'!$C$3:$E$18,3))","v":0},{"$f":"VLOOKUP($I442,'Points Table C'!$D$3:$E$18,2)","v":0},{"$f":"IF($Z442<Lookups!$C$106,(AA442+AB442+AC442),IF(AA442>=Lookups!$C$120,(AA442+AB442+AC442),AA442+AB442))","v":0}]
["Non-core foods","Enter a food name here","Company name",0,0,0,0,0,0,0,0,0,{"$f":"IF((SUM(D443:L443)=0),\"J\",VLOOKUP(P443,Lookups!$A$1:$B$11,2))","v":"J"},{"$f":"H443+(L443*Lookups!$C$102*H443/100)","v":0},0,{"$f":"IF(ROUND(10.499-(((O443-VLOOKUP($A443,Lookups!$A$55:$D$64,3))/(VLOOKUP($A443,Lookups!$A$55:$D$64,4))*VLOOKUP($A443,Lookups!$C$2:$D$11,2))),0)<1,1,IF(ROUND(10.499-(((O443-VLOOKUP($A443,Lookups!$A$55:$D$64,3))/(VLOOKUP($A443,Lookups!$A$55:$D$64,4))*VLOOKUP($A443,Lookups!$C$2:$D$11,2))),0)<11,ROUND(10.499-(((O443-VLOOKUP($A443,Lookups!$A$55:$D$64,3))/(VLOOKUP($A443,Lookups!$A$55:$D$64,4))*VLOOKUP($A443,Lookups!$C$2:$D$11,2))),0),10))","v":7},null,{"$f":"VLOOKUP(A443,Lookups!$A$126:$C$135,3)","v":2},{"$f":"VLOOKUP(A443,Lookups!$A$126:$C$135,2)","v":"Food"},"No",0,{"$f":"IF($R443<>3,VLOOKUP($D443,'Points Table A'!$B$3:$F$33,5),VLOOKUP($D443,'Points Table A'!$H$3:$L$33,5))","v":0},{"$f":"IF($R443<>3,VLOOKUP($E443,'Points Table A'!$C$3:$F$33,4),VLOOKUP($E443,'Points Table A'!$I$3:$L$33,4))","v":0},{"$f":"IF($R443<>3,VLOOKUP($F443,'Points Table A'!$D$3:$F$33,3),VLOOKUP($F443,'Points Table A'!$J$3:$L$33,3))","v":0},{"$f":"IF($R443<>3,VLOOKUP($G443,'Points Table A'!$E$3:$F$33,2),VLOOKUP($G443,'Points Table A'!$K$3:$L$33,2))","v":0},0,{"$f":"IF($T443=Lookups!$B$113,VLOOKUP($J443,'Points Table C'!$A$3:$F$11,5),VLOOKUP($U443,'Points Table C'!$B$3:$F$11,4))","v":0},{"$f":"IF($R443=1,0,VLOOKUP($N443,'Points Table C'!$C$3:$E$18,3))","v":0},{"$f":"VLOOKUP($I443,'Points Table C'!$D$3:$E$18,2)","v":0},{"$f":"IF($Z443<Lookups!$C$106,(AA443+AB443+AC443),IF(AA443>=Lookups!$C$120,(AA443+AB443+AC443),AA443+AB443))","v":0}]
["Non-core foods","Enter a food name here","Company name",0,0,0,0,0,0,0,0,0,{"$f":"IF((SUM(D444:L444)=0),\"J\",VLOOKUP(P444,Lookups!$A$1:$B$11,2))","v":"J"},{"$f":"H444+(L444*Lookups!$C$102*H444/100)","v":0},0,{"$f":"IF(ROUND(10.499-(((O444-VLOOKUP($A444,Lookups!$A$55:$D$64,3))/(VLOOKUP($A444,Lookups!$A$55:$D$64,4))*VLOOKUP($A444,Lookups!$C$2:$D$11,2))),0)<1,1,IF(ROUND(10.499-(((O444-VLOOKUP($A444,Lookups!$A$55:$D$64,3))/(VLOOKUP($A444,Lookups!$A$55:$D$64,4))*VLOOKUP($A444,Lookups!$C$2:$D$11,2))),0)<11,ROUND(10.499-(((O444-VLOOKUP($A444,Lookups!$A$55:$D$64,3))/(VLOOKUP($A444,Lookups!$A$55:$D$64,4))*VLOOKUP($A444,Lookups!$C$2:$D$11,2))),0),10))","v":7},null,{"$f":"VLOOKUP(A444,Lookups!$A$126:$C$135,3)","v":2},{"$f":"VLOOKUP(A444,Lookups!$A$126:$C$135,2)","v":"Food"},"No",0,{"$f":"IF($R444<>3,VLOOKUP($D444,'Points Table A'!$B$3:$F$33,5),VLOOKUP($D444,'Points Table A'!$H$3:$L$33,5))","v":0},{"$f":"IF($R444<>3,VLOOKUP($E444,'Points Table A'!$C$3:$F$33,4),VLOOKUP($E444,'Points Table A'!$I$3:$L$33,4))","v":0},{"$f":"IF($R444<>3,VLOOKUP($F444,'Points Table A'!$D$3:$F$33,3),VLOOKUP($F444,'Points Table A'!$J$3:$L$33,3))","v":0},{"$f":"IF($R444<>3,VLOOKUP($G444,'Points Table A'!$E$3:$F$33,2),VLOOKUP($G444,'Points Table A'!$K$3:$L$33,2))","v":0},0,{"$f":"IF($T444=Lookups!$B$113,VLOOKUP($J444,'Points Table C'!$A$3:$F$11,5),VLOOKUP($U444,'Points Table C'!$B$3:$F$11,4))","v":0},{"$f":"IF($R444=1,0,VLOOKUP($N444,'Points Table C'!$C$3:$E$18,3))","v":0},{"$f":"VLOOKUP($I444,'Points Table C'!$D$3:$E$18,2)","v":0},{"$f":"IF($Z444<Lookups!$C$106,(AA444+AB444+AC444),IF(AA444>=Lookups!$C$120,(AA444+AB444+AC444),AA444+AB444))","v":0}]
["Non-core foods","Enter a food name here","Company name",0,0,0,0,0,0,0,0,0,{"$f":"IF((SUM(D445:L445)=0),\"J\",VLOOKUP(P445,Lookups!$A$1:$B$11,2))","v":"J"},{"$f":"H445+(L445*Lookups!$C$102*H445/100)","v":0},0,{"$f":"IF(ROUND(10.499-(((O445-VLOOKUP($A445,Lookups!$A$55:$D$64,3))/(VLOOKUP($A445,Lookups!$A$55:$D$64,4))*VLOOKUP($A445,Lookups!$C$2:$D$11,2))),0)<1,1,IF(ROUND(10.499-(((O445-VLOOKUP($A445,Lookups!$A$55:$D$64,3))/(VLOOKUP($A445,Lookups!$A$55:$D$64,4))*VLOOKUP($A445,Lookups!$C$2:$D$11,2))),0)<11,ROUND(10.499-(((O445-VLOOKUP($A445,Lookups!$A$55:$D$64,3))/(VLOOKUP($A445,Lookups!$A$55:$D$64,4))*VLOOKUP($A445,Lookups!$C$2:$D$11,2))),0),10))","v":7},null,{"$f":"VLOOKUP(A445,Lookups!$A$126:$C$135,3)","v":2},{"$f":"VLOOKUP(A445,Lookups!$A$126:$C$135,2)","v":"Food"},"No",0,{"$f":"IF($R445<>3,VLOOKUP($D445,'Points Table A'!$B$3:$F$33,5),VLOOKUP($D445,'Points Table A'!$H$3:$L$33,5))","v":0},{"$f":"IF($R445<>3,VLOOKUP($E445,'Points Table A'!$C$3:$F$33,4),VLOOKUP($E445,'Points Table A'!$I$3:$L$33,4))","v":0},{"$f":"IF($R445<>3,VLOOKUP($F445,'Points Table A'!$D$3:$F$33,3),VLOOKUP($F445,'Points Table A'!$J$3:$L$33,3))","v":0},{"$f":"IF($R445<>3,VLOOKUP($G445,'Points Table A'!$E$3:$F$33,2),VLOOKUP($G445,'Points Table A'!$K$3:$L$33,2))","v":0},0,{"$f":"IF($T445=Lookups!$B$113,VLOOKUP($J445,'Points Table C'!$A$3:$F$11,5),VLOOKUP($U445,'Points Table C'!$B$3:$F$11,4))","v":0},{"$f":"IF($R445=1,0,VLOOKUP($N445,'Points Table C'!$C$3:$E$18,3))","v":0},{"$f":"VLOOKUP($I445,'Points Table C'!$D$3:$E$18,2)","v":0},{"$f":"IF($Z445<Lookups!$C$106,(AA445+AB445+AC445),IF(AA445>=Lookups!$C$120,(AA445+AB445+AC445),AA445+AB445))","v":0}]
["Non-core foods","Enter a food name here","Company name",0,0,0,0,0,0,0,0,0,{"$f":"IF((SUM(D446:L446)=0),\"J\",VLOOKUP(P446,Lookups!$A$1:$B$11,2))","v":"J"},{"$f":"H446+(L446*Lookups!$C$102*H446/100)","v":0},0,{"$f":"IF(ROUND(10.499-(((O446-VLOOKUP($A446,Lookups!$A$55:$D$64,3))/(VLOOKUP($A446,Lookups!$A$55:$D$64,4))*VLOOKUP($A446,Lookups!$C$2:$D$11,2))),0)<1,1,IF(ROUND(10.499-(((O446-VLOOKUP($A446,Lookups!$A$55:$D$64,3))/(VLOOKUP($A446,Lookups!$A$55:$D$64,4))*VLOOKUP($A446,Lookups!$C$2:$D$11,2))),0)<11,ROUND(10.499-(((O446-VLOOKUP($A446,Lookups!$A$55:$D$64,3))/(VLOOKUP($A446,Lookups!$A$55:$D$64,4))*VLOOKUP($A446,Lookups!$C$2:$D$11,2))),0),10))","v":7},null,{"$f":"VLOOKUP(A446,Lookups!$A$126:$C$135,3)","v":2},{"$f":"VLOOKUP(A446,Lookups!$A$126:$C$135,2)","v":"Food"},"No",0,{"$f":"IF($R446<>3,VLOOKUP($D446,'Points Table A'!$B$3:$F$33,5),VLOOKUP($D446,'Points Table A'!$H$3:$L$33,5))","v":0},{"$f":"IF($R446<>3,VLOOKUP($E446,'Points Table A'!$C$3:$F$33,4),VLOOKUP($E446,'Points Table A'!$I$3:$L$33,4))","v":0},{"$f":"IF($R446<>3,VLOOKUP($F446,'Points Table A'!$D$3:$F$33,3),VLOOKUP($F446,'Points Table A'!$J$3:$L$33,3))","v":0},{"$f":"IF($R446<>3,VLOOKUP($G446,'Points Table A'!$E$3:$F$33,2),VLOOKUP($G446,'Points Table A'!$K$3:$L$33,2))","v":0},0,{"$f":"IF($T446=Lookups!$B$113,VLOOKUP($J446,'Points Table C'!$A$3:$F$11,5),VLOOKUP($U446,'Points Table C'!$B$3:$F$11,4))","v":0},{"$f":"IF($R446=1,0,VLOOKUP($N446,'Points Table C'!$C$3:$E$18,3))","v":0},{"$f":"VLOOKUP($I446,'Points Table C'!$D$3:$E$18,2)","v":0},{"$f":"IF($Z446<Lookups!$C$106,(AA446+AB446+AC446),IF(AA446>=Lookups!$C$120,(AA446+AB446+AC446),AA446+AB446))","v":0}]
["Non-core foods","Enter a food name here","Company name",0,0,0,0,0,0,0,0,0,{"$f":"IF((SUM(D447:L447)=0),\"J\",VLOOKUP(P447,Lookups!$A$1:$B$11,2))","v":"J"},{"$f":"H447+(L447*Lookups!$C$102*H447/100)","v":0},0,{"$f":"IF(ROUND(10.499-(((O447-VLOOKUP($A447,Lookups!$A$55:$D$64,3))/(VLOOKUP($A447,Lookups!$A$55:$D$64,4))*VLOOKUP($A447,Lookups!$C$2:$D$11,2))),0)<1,1,IF(ROUND(10.499-(((O447-VLOOKUP($A447,Lookups!$A$55:$D$64,3))/(VLOOKUP($A447,Lookups!$A$55:$D$64,4))*VLOOKUP($A447,Lookups!$C$2:$D$11,2))),0)<11,ROUND(10.499-(((O447-VLOOKUP($A447,Lookups!$A$55:$D$64,3))/(VLOOKUP($A447,Lookups!$A$55:$D$64,4))*VLOOKUP($A447,Lookups!$C$2:$D$11,2))),0),10))","v":7},null,{"$f":"VLOOKUP(A447,Lookups!$A$126:$C$135,3)","v":2},{"$f":"VLOOKUP(A447,Lookups!$A$126:$C$135,2)","v":"Food"},"No",0,{"$f":"IF($R447<>3,VLOOKUP($D447,'Points Table A'!$B$3:$F$33,5),VLOOKUP($D447,'Points Table A'!$H$3:$L$33,5))","v":0},{"$f":"IF($R447<>3,VLOOKUP($E447,'Points Table A'!$C$3:$F$33,4),VLOOKUP($E447,'Points Table A'!$I$3:$L$33,4))","v":0},{"$f":"IF($R447<>3,VLOOKUP($F447,'Points Table A'!$D$3:$F$33,3),VLOOKUP($F447,'Points Table A'!$J$3:$L$33,3))","v":0},{"$f":"IF($R447<>3,VLOOKUP($G447,'Points Table A'!$E$3:$F$33,2),VLOOKUP($G447,'Points Table A'!$K$3:$L$33,2))","v":0},0,{"$f":"IF($T447=Lookups!$B$113,VLOOKUP($J447,'Points Table C'!$A$3:$F$11,5),VLOOKUP($U447,'Points Table C'!$B$3:$F$11,4))","v":0},{"$f":"IF($R447=1,0,VLOOKUP($N447,'Points Table C'!$C$3:$E$18,3))","v":0},{"$f":"VLOOKUP($I447,'Points Table C'!$D$3:$E$18,2)","v":0},{"$f":"IF($Z447<Lookups!$C$106,(AA447+AB447+AC447),IF(AA447>=Lookups!$C$120,(AA447+AB447+AC447),AA447+AB447))","v":0}]
["Non-core foods","Enter a food name here","Company name",0,0,0,0,0,0,0,0,0,{"$f":"IF((SUM(D448:L448)=0),\"J\",VLOOKUP(P448,Lookups!$A$1:$B$11,2))","v":"J"},{"$f":"H448+(L448*Lookups!$C$102*H448/100)","v":0},0,{"$f":"IF(ROUND(10.499-(((O448-VLOOKUP($A448,Lookups!$A$55:$D$64,3))/(VLOOKUP($A448,Lookups!$A$55:$D$64,4))*VLOOKUP($A448,Lookups!$C$2:$D$11,2))),0)<1,1,IF(ROUND(10.499-(((O448-VLOOKUP($A448,Lookups!$A$55:$D$64,3))/(VLOOKUP($A448,Lookups!$A$55:$D$64,4))*VLOOKUP($A448,Lookups!$C$2:$D$11,2))),0)<11,ROUND(10.499-(((O448-VLOOKUP($A448,Lookups!$A$55:$D$64,3))/(VLOOKUP($A448,Lookups!$A$55:$D$64,4))*VLOOKUP($A448,Lookups!$C$2:$D$11,2))),0),10))","v":7},null,{"$f":"VLOOKUP(A448,Lookups!$A$126:$C$135,3)","v":2},{"$f":"VLOOKUP(A448,Lookups!$A$126:$C$135,2)","v":"Food"},"No",0,{"$f":"IF($R448<>3,VLOOKUP($D448,'Points Table A'!$B$3:$F$33,5),VLOOKUP($D448,'Points Table A'!$H$3:$L$33,5))","v":0},{"$f":"IF($R448<>3,VLOOKUP($E448,'Points Table A'!$C$3:$F$33,4),VLOOKUP($E448,'Points Table A'!$I$3:$L$33,4))","v":0},{"$f":"IF($R448<>3,VLOOKUP($F448,'Points Table A'!$D$3:$F$33,3),VLOOKUP($F448,'Points Table A'!$J$3:$L$33,3))","v":0},{"$f":"IF($R448<>3,VLOOKUP($G448,'Points Table A'!$E$3:$F$33,2),VLOOKUP($G448,'Points Table A'!$K$3:$L$33,2))","v":0},0,{"$f":"IF($T448=Lookups!$B$113,VLOOKUP($J448,'Points Table C'!$A$3:$F$11,5),VLOOKUP($U448,'Points Table C'!$B$3:$F$11,4))","v":0},{"$f":"IF($R448=1,0,VLOOKUP($N448,'Points Table C'!$C$3:$E$18,3))","v":0},{"$f":"VLOOKUP($I448,'Points Table C'!$D$3:$E$18,2)","v":0},{"$f":"IF($Z448<Lookups!$C$106,(AA448+AB448+AC448),IF(AA448>=Lookups!$C$120,(AA448+AB448+AC448),AA448+AB448))","v":0}]
["Non-core foods","Enter a food name here","Company name",0,0,0,0,0,0,0,0,0,{"$f":"IF((SUM(D449:L449)=0),\"J\",VLOOKUP(P449,Lookups!$A$1:$B$11,2))","v":"J"},{"$f":"H449+(L449*Lookups!$C$102*H449/100)","v":0},0,{"$f":"IF(ROUND(10.499-(((O449-VLOOKUP($A449,Lookups!$A$55:$D$64,3))/(VLOOKUP($A449,Lookups!$A$55:$D$64,4))*VLOOKUP($A449,Lookups!$C$2:$D$11,2))),0)<1,1,IF(ROUND(10.499-(((O449-VLOOKUP($A449,Lookups!$A$55:$D$64,3))/(VLOOKUP($A449,Lookups!$A$55:$D$64,4))*VLOOKUP($A449,Lookups!$C$2:$D$11,2))),0)<11,ROUND(10.499-(((O449-VLOOKUP($A449,Lookups!$A$55:$D$64,3))/(VLOOKUP($A449,Lookups!$A$55:$D$64,4))*VLOOKUP($A449,Lookups!$C$2:$D$11,2))),0),10))","v":7},null,{"$f":"VLOOKUP(A449,Lookups!$A$126:$C$135,3)","v":2},{"$f":"VLOOKUP(A449,Lookups!$A$126:$C$135,2)","v":"Food"},"No",0,{"$f":"IF($R449<>3,VLOOKUP($D449,'Points Table A'!$B$3:$F$33,5),VLOOKUP($D449,'Points Table A'!$H$3:$L$33,5))","v":0},{"$f":"IF($R449<>3,VLOOKUP($E449,'Points Table A'!$C$3:$F$33,4),VLOOKUP($E449,'Points Table A'!$I$3:$L$33,4))","v":0},{"$f":"IF($R449<>3,VLOOKUP($F449,'Points Table A'!$D$3:$F$33,3),VLOOKUP($F449,'Points Table A'!$J$3:$L$33,3))","v":0},{"$f":"IF($R449<>3,VLOOKUP($G449,'Points Table A'!$E$3:$F$33,2),VLOOKUP($G449,'Points Table A'!$K$3:$L$33,2))","v":0},0,{"$f":"IF($T449=Lookups!$B$113,VLOOKUP($J449,'Points Table C'!$A$3:$F$11,5),VLOOKUP($U449,'Points Table C'!$B$3:$F$11,4))","v":0},{"$f":"IF($R449=1,0,VLOOKUP($N449,'Points Table C'!$C$3:$E$18,3))","v":0},{"$f":"VLOOKUP($I449,'Points Table C'!$D$3:$E$18,2)","v":0},{"$f":"IF($Z449<Lookups!$C$106,(AA449+AB449+AC449),IF(AA449>=Lookups!$C$120,(AA449+AB449+AC449),AA449+AB449))","v":0}]
["Non-core foods","Enter a food name here","Company name",0,0,0,0,0,0,0,0,0,{"$f":"IF((SUM(D450:L450)=0),\"J\",VLOOKUP(P450,Lookups!$A$1:$B$11,2))","v":"J"},{"$f":"H450+(L450*Lookups!$C$102*H450/100)","v":0},0,{"$f":"IF(ROUND(10.499-(((O450-VLOOKUP($A450,Lookups!$A$55:$D$64,3))/(VLOOKUP($A450,Lookups!$A$55:$D$64,4))*VLOOKUP($A450,Lookups!$C$2:$D$11,2))),0)<1,1,IF(ROUND(10.499-(((O450-VLOOKUP($A450,Lookups!$A$55:$D$64,3))/(VLOOKUP($A450,Lookups!$A$55:$D$64,4))*VLOOKUP($A450,Lookups!$C$2:$D$11,2))),0)<11,ROUND(10.499-(((O450-VLOOKUP($A450,Lookups!$A$55:$D$64,3))/(VLOOKUP($A450,Lookups!$A$55:$D$64,4))*VLOOKUP($A450,Lookups!$C$2:$D$11,2))),0),10))","v":7},null,{"$f":"VLOOKUP(A450,Lookups!$A$126:$C$135,3)","v":2},{"$f":"VLOOKUP(A450,Lookups!$A$126:$C$135,2)","v":"Food"},"No",0,{"$f":"IF($R450<>3,VLOOKUP($D450,'Points Table A'!$B$3:$F$33,5),VLOOKUP($D450,'Points Table A'!$H$3:$L$33,5))","v":0},{"$f":"IF($R450<>3,VLOOKUP($E450,'Points Table A'!$C$3:$F$33,4),VLOOKUP($E450,'Points Table A'!$I$3:$L$33,4))","v":0},{"$f":"IF($R450<>3,VLOOKUP($F450,'Points Table A'!$D$3:$F$33,3),VLOOKUP($F450,'Points Table A'!$J$3:$L$33,3))","v":0},{"$f":"IF($R450<>3,VLOOKUP($G450,'Points Table A'!$E$3:$F$33,2),VLOOKUP($G450,'Points Table A'!$K$3:$L$33,2))","v":0},0,{"$f":"IF($T450=Lookups!$B$113,VLOOKUP($J450,'Points Table C'!$A$3:$F$11,5),VLOOKUP($U450,'Points Table C'!$B$3:$F$11,4))","v":0},{"$f":"IF($R450=1,0,VLOOKUP($N450,'Points Table C'!$C$3:$E$18,3))","v":0},{"$f":"VLOOKUP($I450,'Points Table C'!$D$3:$E$18,2)","v":0},{"$f":"IF($Z450<Lookups!$C$106,(AA450+AB450+AC450),IF(AA450>=Lookups!$C$120,(AA450+AB450+AC450),AA450+AB450))","v":0}]
["Non-core foods","Enter a food name here","Company name",0,0,0,0,0,0,0,0,0,{"$f":"IF((SUM(D451:L451)=0),\"J\",VLOOKUP(P451,Lookups!$A$1:$B$11,2))","v":"J"},{"$f":"H451+(L451*Lookups!$C$102*H451/100)","v":0},{"$f":"$Z451-$AD451","v":0},{"$f":"IF(ROUND(10.499-(((O451-VLOOKUP($A451,Lookups!$A$55:$D$64,3))/(VLOOKUP($A451,Lookups!$A$55:$D$64,4))*VLOOKUP($A451,Lookups!$C$2:$D$11,2))),0)<1,1,IF(ROUND(10.499-(((O451-VLOOKUP($A451,Lookups!$A$55:$D$64,3))/(VLOOKUP($A451,Lookups!$A$55:$D$64,4))*VLOOKUP($A451,Lookups!$C$2:$D$11,2))),0)<11,ROUND(10.499-(((O451-VLOOKUP($A451,Lookups!$A$55:$D$64,3))/(VLOOKUP($A451,Lookups!$A$55:$D$64,4))*VLOOKUP($A451,Lookups!$C$2:$D$11,2))),0),10))","v":7},null,{"$f":"VLOOKUP(A451,Lookups!$A$126:$C$135,3)","v":2},{"$f":"VLOOKUP(A451,Lookups!$A$126:$C$135,2)","v":"Food"},{"$f":"IF(AND(J451>0,K451=0),\"Yes\",\"No\")","v":"No"},{"$f":"ROUND(100*(K451+2*J451)/(K451+2*J451+(100-J451-K451)),2)","v":0},{"$f":"IF($R451<>3,VLOOKUP($D451,'Points Table A'!$B$3:$F$33,5),VLOOKUP($D451,'Points Table A'!$H$3:$L$33,5))","v":0},{"$f":"IF($R451<>3,VLOOKUP($E451,'Points Table A'!$C$3:$F$33,4),VLOOKUP($E451,'Points Table A'!$I$3:$L$33,4))","v":0},{"$f":"IF($R451<>3,VLOOKUP($F451,'Points Table A'!$D$3:$F$33,3),VLOOKUP($F451,'Points Table A'!$J$3:$L$33,3))","v":0},{"$f":"IF($R451<>3,VLOOKUP($G451,'Points Table A'!$E$3:$F$33,2),VLOOKUP($G451,'Points Table A'!$K$3:$L$33,2))","v":0},0,{"$f":"IF($T451=Lookups!$B$113,VLOOKUP($J451,'Points Table C'!$A$3:$F$11,5),VLOOKUP($U451,'Points Table C'!$B$3:$F$11,4))","v":0},{"$f":"IF($R451=1,0,VLOOKUP($N451,'Points Table C'!$C$3:$E$18,3))","v":0},{"$f":"VLOOKUP($I451,'Points Table C'!$D$3:$E$18,2)","v":0},{"$f":"IF($Z451<Lookups!$C$106,(AA451+AB451+AC451),IF(AA451>=Lookups!$C$120,(AA451+AB451+AC451),AA451+AB451))","v":0}]
["Non-core foods","Enter a food name here","Company name",0,0,0,0,0,0,0,0,0,{"$f":"IF((SUM(D452:L452)=0),\"J\",VLOOKUP(P452,Lookups!$A$1:$B$11,2))","v":"J"},{"$f":"H452+(L452*Lookups!$C$102*H452/100)","v":0},0,{"$f":"IF(ROUND(10.499-(((O452-VLOOKUP($A452,Lookups!$A$55:$D$64,3))/(VLOOKUP($A452,Lookups!$A$55:$D$64,4))*VLOOKUP($A452,Lookups!$C$2:$D$11,2))),0)<1,1,IF(ROUND(10.499-(((O452-VLOOKUP($A452,Lookups!$A$55:$D$64,3))/(VLOOKUP($A452,Lookups!$A$55:$D$64,4))*VLOOKUP($A452,Lookups!$C$2:$D$11,2))),0)<11,ROUND(10.499-(((O452-VLOOKUP($A452,Lookups!$A$55:$D$64,3))/(VLOOKUP($A452,Lookups!$A$55:$D$64,4))*VLOOKUP($A452,Lookups!$C$2:$D$11,2))),0),10))","v":7},null,{"$f":"VLOOKUP(A452,Lookups!$A$126:$C$135,3)","v":2},{"$f":"VLOOKUP(A452,Lookups!$A$126:$C$135,2)","v":"Food"},"No",0,{"$f":"IF($R452<>3,VLOOKUP($D452,'Points Table A'!$B$3:$F$33,5),VLOOKUP($D452,'Points Table A'!$H$3:$L$33,5))","v":0},{"$f":"IF($R452<>3,VLOOKUP($E452,'Points Table A'!$C$3:$F$33,4),VLOOKUP($E452,'Points Table A'!$I$3:$L$33,4))","v":0},{"$f":"IF($R452<>3,VLOOKUP($F452,'Points Table A'!$D$3:$F$33,3),VLOOKUP($F452,'Points Table A'!$J$3:$L$33,3))","v":0},{"$f":"IF($R452<>3,VLOOKUP($G452,'Points Table A'!$E$3:$F$33,2),VLOOKUP($G452,'Points Table A'!$K$3:$L$33,2))","v":0},{"$f":"SUM(V452:Y452)","v":0},{"$f":"IF($T452=Lookups!$B$113,VLOOKUP($J452,'Points Table C'!$A$3:$F$11,5),VLOOKUP($U452,'Points Table C'!$B$3:$F$11,4))","v":0},{"$f":"IF($R452=1,0,VLOOKUP($N452,'Points Table C'!$C$3:$E$18,3))","v":0},{"$f":"VLOOKUP($I452,'Points Table C'!$D$3:$E$18,2)","v":0},{"$f":"IF($Z452<Lookups!$C$106,(AA452+AB452+AC452),IF(AA452>=Lookups!$C$120,(AA452+AB452+AC452),AA452+AB452))","v":0}]
["Non-core foods","Enter a food name here","Company name",0,0,0,0,0,0,0,0,0,{"$f":"IF((SUM(D453:L453)=0),\"J\",VLOOKUP(P453,Lookups!$A$1:$B$11,2))","v":"J"},{"$f":"H453+(L453*Lookups!$C$102*H453/100)","v":0},0,{"$f":"IF(ROUND(10.499-(((O453-VLOOKUP($A453,Lookups!$A$55:$D$64,3))/(VLOOKUP($A453,Lookups!$A$55:$D$64,4))*VLOOKUP($A453,Lookups!$C$2:$D$11,2))),0)<1,1,IF(ROUND(10.499-(((O453-VLOOKUP($A453,Lookups!$A$55:$D$64,3))/(VLOOKUP($A453,Lookups!$A$55:$D$64,4))*VLOOKUP($A453,Lookups!$C$2:$D$11,2))),0)<11,ROUND(10.499-(((O453-VLOOKUP($A453,Lookups!$A$55:$D$64,3))/(VLOOKUP($A453,Lookups!$A$55:$D$64,4))*VLOOKUP($A453,Lookups!$C$2:$D$11,2))),0),10))","v":7},null,{"$f":"VLOOKUP(A453,Lookups!$A$126:$C$135,3)","v":2},{"$f":"VLOOKUP(A453,Lookups!$A$126:$C$135,2)","v":"Food"},"No",0,{"$f":"IF($R453<>3,VLOOKUP($D453,'Points Table A'!$B$3:$F$33,5),VLOOKUP($D453,'Points Table A'!$H$3:$L$33,5))","v":0},{"$f":"IF($R453<>3,VLOOKUP($E453,'Points Table A'!$C$3:$F$33,4),VLOOKUP($E453,'Points Table A'!$I$3:$L$33,4))","v":0},{"$f":"IF($R453<>3,VLOOKUP($F453,'Points Table A'!$D$3:$F$33,3),VLOOKUP($F453,'Points Table A'!$J$3:$L$33,3))","v":0},{"$f":"IF($R453<>3,VLOOKUP($G453,'Points Table A'!$E$3:$F$33,2),VLOOKUP($G453,'Points Table A'!$K$3:$L$33,2))","v":0},0,{"$f":"IF($T453=Lookups!$B$113,VLOOKUP($J453,'Points Table C'!$A$3:$F$11,5),VLOOKUP($U453,'Points Table C'!$B$3:$F$11,4))","v":0},{"$f":"IF($R453=1,0,VLOOKUP($N453,'Points Table C'!$C$3:$E$18,3))","v":0},{"$f":"VLOOKUP($I453,'Points Table C'!$D$3:$E$18,2)","v":0},{"$f":"IF($Z453<Lookups!$C$106,(AA453+AB453+AC453),IF(AA453>=Lookups!$C$120,(AA453+AB453+AC453),AA453+AB453))","v":0}]
["Non-core foods","Enter a food name here","Company name",0,0,0,0,0,0,0,0,0,{"$f":"IF((SUM(D454:L454)=0),\"J\",VLOOKUP(P454,Lookups!$A$1:$B$11,2))","v":"J"},{"$f":"H454+(L454*Lookups!$C$102*H454/100)","v":0},0,{"$f":"IF(ROUND(10.499-(((O454-VLOOKUP($A454,Lookups!$A$55:$D$64,3))/(VLOOKUP($A454,Lookups!$A$55:$D$64,4))*VLOOKUP($A454,Lookups!$C$2:$D$11,2))),0)<1,1,IF(ROUND(10.499-(((O454-VLOOKUP($A454,Lookups!$A$55:$D$64,3))/(VLOOKUP($A454,Lookups!$A$55:$D$64,4))*VLOOKUP($A454,Lookups!$C$2:$D$11,2))),0)<11,ROUND(10.499-(((O454-VLOOKUP($A454,Lookups!$A$55:$D$64,3))/(VLOOKUP($A454,Lookups!$A$55:$D$64,4))*VLOOKUP($A454,Lookups!$C$2:$D$11,2))),0),10))","v":7},null,{"$f":"VLOOKUP(A454,Lookups!$A$126:$C$135,3)","v":2},{"$f":"VLOOKUP(A454,Lookups!$A$126:$C$135,2)","v":"Food"},"No",0,{"$f":"IF($R454<>3,VLOOKUP($D454,'Points Table A'!$B$3:$F$33,5),VLOOKUP($D454,'Points Table A'!$H$3:$L$33,5))","v":0},{"$f":"IF($R454<>3,VLOOKUP($E454,'Points Table A'!$C$3:$F$33,4),VLOOKUP($E454,'Points Table A'!$I$3:$L$33,4))","v":0},{"$f":"IF($R454<>3,VLOOKUP($F454,'Points Table A'!$D$3:$F$33,3),VLOOKUP($F454,'Points Table A'!$J$3:$L$33,3))","v":0},{"$f":"IF($R454<>3,VLOOKUP($G454,'Points Table A'!$E$3:$F$33,2),VLOOKUP($G454,'Points Table A'!$K$3:$L$33,2))","v":0},0,{"$f":"IF($T454=Lookups!$B$113,VLOOKUP($J454,'Points Table C'!$A$3:$F$11,5),VLOOKUP($U454,'Points Table C'!$B$3:$F$11,4))","v":0},{"$f":"IF($R454=1,0,VLOOKUP($N454,'Points Table C'!$C$3:$E$18,3))","v":0},{"$f":"VLOOKUP($I454,'Points Table C'!$D$3:$E$18,2)","v":0},{"$f":"IF($Z454<Lookups!$C$106,(AA454+AB454+AC454),IF(AA454>=Lookups!$C$120,(AA454+AB454+AC454),AA454+AB454))","v":0}]
["Non-core foods","Enter a food name here","Company name",0,0,0,0,0,0,0,0,0,{"$f":"IF((SUM(D455:L455)=0),\"J\",VLOOKUP(P455,Lookups!$A$1:$B$11,2))","v":"J"},{"$f":"H455+(L455*Lookups!$C$102*H455/100)","v":0},0,{"$f":"IF(ROUND(10.499-(((O455-VLOOKUP($A455,Lookups!$A$55:$D$64,3))/(VLOOKUP($A455,Lookups!$A$55:$D$64,4))*VLOOKUP($A455,Lookups!$C$2:$D$11,2))),0)<1,1,IF(ROUND(10.499-(((O455-VLOOKUP($A455,Lookups!$A$55:$D$64,3))/(VLOOKUP($A455,Lookups!$A$55:$D$64,4))*VLOOKUP($A455,Lookups!$C$2:$D$11,2))),0)<11,ROUND(10.499-(((O455-VLOOKUP($A455,Lookups!$A$55:$D$64,3))/(VLOOKUP($A455,Lookups!$A$55:$D$64,4))*VLOOKUP($A455,Lookups!$C$2:$D$11,2))),0),10))","v":7},null,{"$f":"VLOOKUP(A455,Lookups!$A$126:$C$135,3)","v":2},{"$f":"VLOOKUP(A455,Lookups!$A$126:$C$135,2)","v":"Food"},"No",0,{"$f":"IF($R455<>3,VLOOKUP($D455,'Points Table A'!$B$3:$F$33,5),VLOOKUP($D455,'Points Table A'!$H$3:$L$33,5))","v":0},{"$f":"IF($R455<>3,VLOOKUP($E455,'Points Table A'!$C$3:$F$33,4),VLOOKUP($E455,'Points Table A'!$I$3:$L$33,4))","v":0},{"$f":"IF($R455<>3,VLOOKUP($F455,'Points Table A'!$D$3:$F$33,3),VLOOKUP($F455,'Points Table A'!$J$3:$L$33,3))","v":0},{"$f":"IF($R455<>3,VLOOKUP($G455,'Points Table A'!$E$3:$F$33,2),VLOOKUP($G455,'Points Table A'!$K$3:$L$33,2))","v":0},0,{"$f":"IF($T455=Lookups!$B$113,VLOOKUP($J455,'Points Table C'!$A$3:$F$11,5),VLOOKUP($U455,'Points Table C'!$B$3:$F$11,4))","v":0},{"$f":"IF($R455=1,0,VLOOKUP($N455,'Points Table C'!$C$3:$E$18,3))","v":0},{"$f":"VLOOKUP($I455,'Points Table C'!$D$3:$E$18,2)","v":0},{"$f":"IF($Z455<Lookups!$C$106,(AA455+AB455+AC455),IF(AA455>=Lookups!$C$120,(AA455+AB455+AC455),AA455+AB455))","v":0}]
["Non-core foods","Enter a food name here","Company name",0,0,0,0,0,0,0,0,0,{"$f":"IF((SUM(D456:L456)=0),\"J\",VLOOKUP(P456,Lookups!$A$1:$B$11,2))","v":"J"},{"$f":"H456+(L456*Lookups!$C$102*H456/100)","v":0},0,{"$f":"IF(ROUND(10.499-(((O456-VLOOKUP($A456,Lookups!$A$55:$D$64,3))/(VLOOKUP($A456,Lookups!$A$55:$D$64,4))*VLOOKUP($A456,Lookups!$C$2:$D$11,2))),0)<1,1,IF(ROUND(10.499-(((O456-VLOOKUP($A456,Lookups!$A$55:$D$64,3))/(VLOOKUP($A456,Lookups!$A$55:$D$64,4))*VLOOKUP($A456,Lookups!$C$2:$D$11,2))),0)<11,ROUND(10.499-(((O456-VLOOKUP($A456,Lookups!$A$55:$D$64,3))/(VLOOKUP($A456,Lookups!$A$55:$D$64,4))*VLOOKUP($A456,Lookups!$C$2:$D$11,2))),0),10))","v":7},null,{"$f":"VLOOKUP(A456,Lookups!$A$126:$C$135,3)","v":2},{"$f":"VLOOKUP(A456,Lookups!$A$126:$C$135,2)","v":"Food"},"No",0,{"$f":"IF($R456<>3,VLOOKUP($D456,'Points Table A'!$B$3:$F$33,5),VLOOKUP($D456,'Points Table A'!$H$3:$L$33,5))","v":0},{"$f":"IF($R456<>3,VLOOKUP($E456,'Points Table A'!$C$3:$F$33,4),VLOOKUP($E456,'Points Table A'!$I$3:$L$33,4))","v":0},{"$f":"IF($R456<>3,VLOOKUP($F456,'Points Table A'!$D$3:$F$33,3),VLOOKUP($F456,'Points Table A'!$J$3:$L$33,3))","v":0},{"$f":"IF($R456<>3,VLOOKUP($G456,'Points Table A'!$E$3:$F$33,2),VLOOKUP($G456,'Points Table A'!$K$3:$L$33,2))","v":0},0,{"$f":"IF($T456=Lookups!$B$113,VLOOKUP($J456,'Points Table C'!$A$3:$F$11,5),VLOOKUP($U456,'Points Table C'!$B$3:$F$11,4))","v":0},{"$f":"IF($R456=1,0,VLOOKUP($N456,'Points Table C'!$C$3:$E$18,3))","v":0},{"$f":"VLOOKUP($I456,'Points Table C'!$D$3:$E$18,2)","v":0},{"$f":"IF($Z456<Lookups!$C$106,(AA456+AB456+AC456),IF(AA456>=Lookups!$C$120,(AA456+AB456+AC456),AA456+AB456))","v":0}]
["Non-core foods","Enter a food name here","Company name",0,0,0,0,0,0,0,0,0,{"$f":"IF((SUM(D457:L457)=0),\"J\",VLOOKUP(P457,Lookups!$A$1:$B$11,2))","v":"J"},{"$f":"H457+(L457*Lookups!$C$102*H457/100)","v":0},0,{"$f":"IF(ROUND(10.499-(((O457-VLOOKUP($A457,Lookups!$A$55:$D$64,3))/(VLOOKUP($A457,Lookups!$A$55:$D$64,4))*VLOOKUP($A457,Lookups!$C$2:$D$11,2))),0)<1,1,IF(ROUND(10.499-(((O457-VLOOKUP($A457,Lookups!$A$55:$D$64,3))/(VLOOKUP($A457,Lookups!$A$55:$D$64,4))*VLOOKUP($A457,Lookups!$C$2:$D$11,2))),0)<11,ROUND(10.499-(((O457-VLOOKUP($A457,Lookups!$A$55:$D$64,3))/(VLOOKUP($A457,Lookups!$A$55:$D$64,4))*VLOOKUP($A457,Lookups!$C$2:$D$11,2))),0),10))","v":7},null,{"$f":"VLOOKUP(A457,Lookups!$A$126:$C$135,3)","v":2},{"$f":"VLOOKUP(A457,Lookups!$A$126:$C$135,2)","v":"Food"},"No",0,{"$f":"IF($R457<>3,VLOOKUP($D457,'Points Table A'!$B$3:$F$33,5),VLOOKUP($D457,'Points Table A'!$H$3:$L$33,5))","v":0},{"$f":"IF($R457<>3,VLOOKUP($E457,'Points Table A'!$C$3:$F$33,4),VLOOKUP($E457,'Points Table A'!$I$3:$L$33,4))","v":0},{"$f":"IF($R457<>3,VLOOKUP($F457,'Points Table A'!$D$3:$F$33,3),VLOOKUP($F457,'Points Table A'!$J$3:$L$33,3))","v":0},{"$f":"IF($R457<>3,VLOOKUP($G457,'Points Table A'!$E$3:$F$33,2),VLOOKUP($G457,'Points Table A'!$K$3:$L$33,2))","v":0},0,{"$f":"IF($T457=Lookups!$B$113,VLOOKUP($J457,'Points Table C'!$A$3:$F$11,5),VLOOKUP($U457,'Points Table C'!$B$3:$F$11,4))","v":0},{"$f":"IF($R457=1,0,VLOOKUP($N457,'Points Table C'!$C$3:$E$18,3))","v":0},{"$f":"VLOOKUP($I457,'Points Table C'!$D$3:$E$18,2)","v":0},{"$f":"IF($Z457<Lookups!$C$106,(AA457+AB457+AC457),IF(AA457>=Lookups!$C$120,(AA457+AB457+AC457),AA457+AB457))","v":0}]
["Non-core foods","Enter a food name here","Company name",0,0,0,0,0,0,0,0,0,{"$f":"IF((SUM(D458:L458)=0),\"J\",VLOOKUP(P458,Lookups!$A$1:$B$11,2))","v":"J"},{"$f":"H458+(L458*Lookups!$C$102*H458/100)","v":0},0,{"$f":"IF(ROUND(10.499-(((O458-VLOOKUP($A458,Lookups!$A$55:$D$64,3))/(VLOOKUP($A458,Lookups!$A$55:$D$64,4))*VLOOKUP($A458,Lookups!$C$2:$D$11,2))),0)<1,1,IF(ROUND(10.499-(((O458-VLOOKUP($A458,Lookups!$A$55:$D$64,3))/(VLOOKUP($A458,Lookups!$A$55:$D$64,4))*VLOOKUP($A458,Lookups!$C$2:$D$11,2))),0)<11,ROUND(10.499-(((O458-VLOOKUP($A458,Lookups!$A$55:$D$64,3))/(VLOOKUP($A458,Lookups!$A$55:$D$64,4))*VLOOKUP($A458,Lookups!$C$2:$D$11,2))),0),10))","v":7},null,{"$f":"VLOOKUP(A458,Lookups!$A$126:$C$135,3)","v":2},{"$f":"VLOOKUP(A458,Lookups!$A$126:$C$135,2)","v":"Food"},"No",0,{"$f":"IF($R458<>3,VLOOKUP($D458,'Points Table A'!$B$3:$F$33,5),VLOOKUP($D458,'Points Table A'!$H$3:$L$33,5))","v":0},{"$f":"IF($R458<>3,VLOOKUP($E458,'Points Table A'!$C$3:$F$33,4),VLOOKUP($E458,'Points Table A'!$I$3:$L$33,4))","v":0},{"$f":"IF($R458<>3,VLOOKUP($F458,'Points Table A'!$D$3:$F$33,3),VLOOKUP($F458,'Points Table A'!$J$3:$L$33,3))","v":0},{"$f":"IF($R458<>3,VLOOKUP($G458,'Points Table A'!$E$3:$F$33,2),VLOOKUP($G458,'Points Table A'!$K$3:$L$33,2))","v":0},0,{"$f":"IF($T458=Lookups!$B$113,VLOOKUP($J458,'Points Table C'!$A$3:$F$11,5),VLOOKUP($U458,'Points Table C'!$B$3:$F$11,4))","v":0},{"$f":"IF($R458=1,0,VLOOKUP($N458,'Points Table C'!$C$3:$E$18,3))","v":0},{"$f":"VLOOKUP($I458,'Points Table C'!$D$3:$E$18,2)","v":0},{"$f":"IF($Z458<Lookups!$C$106,(AA458+AB458+AC458),IF(AA458>=Lookups!$C$120,(AA458+AB458+AC458),AA458+AB458))","v":0}]
["Non-core foods","Enter a food name here","Company name",0,0,0,0,0,0,0,0,0,{"$f":"IF((SUM(D459:L459)=0),\"J\",VLOOKUP(P459,Lookups!$A$1:$B$11,2))","v":"J"},{"$f":"H459+(L459*Lookups!$C$102*H459/100)","v":0},0,{"$f":"IF(ROUND(10.499-(((O459-VLOOKUP($A459,Lookups!$A$55:$D$64,3))/(VLOOKUP($A459,Lookups!$A$55:$D$64,4))*VLOOKUP($A459,Lookups!$C$2:$D$11,2))),0)<1,1,IF(ROUND(10.499-(((O459-VLOOKUP($A459,Lookups!$A$55:$D$64,3))/(VLOOKUP($A459,Lookups!$A$55:$D$64,4))*VLOOKUP($A459,Lookups!$C$2:$D$11,2))),0)<11,ROUND(10.499-(((O459-VLOOKUP($A459,Lookups!$A$55:$D$64,3))/(VLOOKUP($A459,Lookups!$A$55:$D$64,4))*VLOOKUP($A459,Lookups!$C$2:$D$11,2))),0),10))","v":7},null,{"$f":"VLOOKUP(A459,Lookups!$A$126:$C$135,3)","v":2},{"$f":"VLOOKUP(A459,Lookups!$A$126:$C$135,2)","v":"Food"},"No",0,{"$f":"IF($R459<>3,VLOOKUP($D459,'Points Table A'!$B$3:$F$33,5),VLOOKUP($D459,'Points Table A'!$H$3:$L$33,5))","v":0},{"$f":"IF($R459<>3,VLOOKUP($E459,'Points Table A'!$C$3:$F$33,4),VLOOKUP($E459,'Points Table A'!$I$3:$L$33,4))","v":0},{"$f":"IF($R459<>3,VLOOKUP($F459,'Points Table A'!$D$3:$F$33,3),VLOOKUP($F459,'Points Table A'!$J$3:$L$33,3))","v":0},{"$f":"IF($R459<>3,VLOOKUP($G459,'Points Table A'!$E$3:$F$33,2),VLOOKUP($G459,'Points Table A'!$K$3:$L$33,2))","v":0},0,{"$f":"IF($T459=Lookups!$B$113,VLOOKUP($J459,'Points Table C'!$A$3:$F$11,5),VLOOKUP($U459,'Points Table C'!$B$3:$F$11,4))","v":0},{"$f":"IF($R459=1,0,VLOOKUP($N459,'Points Table C'!$C$3:$E$18,3))","v":0},{"$f":"VLOOKUP($I459,'Points Table C'!$D$3:$E$18,2)","v":0},{"$f":"IF($Z459<Lookups!$C$106,(AA459+AB459+AC459),IF(AA459>=Lookups!$C$120,(AA459+AB459+AC459),AA459+AB459))","v":0}]
["Non-core foods","Enter a food name here","Company name",0,0,0,0,0,0,0,0,0,{"$f":"IF((SUM(D460:L460)=0),\"J\",VLOOKUP(P460,Lookups!$A$1:$B$11,2))","v":"J"},{"$f":"H460+(L460*Lookups!$C$102*H460/100)","v":0},0,{"$f":"IF(ROUND(10.499-(((O460-VLOOKUP($A460,Lookups!$A$55:$D$64,3))/(VLOOKUP($A460,Lookups!$A$55:$D$64,4))*VLOOKUP($A460,Lookups!$C$2:$D$11,2))),0)<1,1,IF(ROUND(10.499-(((O460-VLOOKUP($A460,Lookups!$A$55:$D$64,3))/(VLOOKUP($A460,Lookups!$A$55:$D$64,4))*VLOOKUP($A460,Lookups!$C$2:$D$11,2))),0)<11,ROUND(10.499-(((O460-VLOOKUP($A460,Lookups!$A$55:$D$64,3))/(VLOOKUP($A460,Lookups!$A$55:$D$64,4))*VLOOKUP($A460,Lookups!$C$2:$D$11,2))),0),10))","v":7},null,{"$f":"VLOOKUP(A460,Lookups!$A$126:$C$135,3)","v":2},{"$f":"VLOOKUP(A460,Lookups!$A$126:$C$135,2)","v":"Food"},"No",0,{"$f":"IF($R460<>3,VLOOKUP($D460,'Points Table A'!$B$3:$F$33,5),VLOOKUP($D460,'Points Table A'!$H$3:$L$33,5))","v":0},{"$f":"IF($R460<>3,VLOOKUP($E460,'Points Table A'!$C$3:$F$33,4),VLOOKUP($E460,'Points Table A'!$I$3:$L$33,4))","v":0},{"$f":"IF($R460<>3,VLOOKUP($F460,'Points Table A'!$D$3:$F$33,3),VLOOKUP($F460,'Points Table A'!$J$3:$L$33,3))","v":0},{"$f":"IF($R460<>3,VLOOKUP($G460,'Points Table A'!$E$3:$F$33,2),VLOOKUP($G460,'Points Table A'!$K$3:$L$33,2))","v":0},0,{"$f":"IF($T460=Lookups!$B$113,VLOOKUP($J460,'Points Table C'!$A$3:$F$11,5),VLOOKUP($U460,'Points Table C'!$B$3:$F$11,4))","v":0},{"$f":"IF($R460=1,0,VLOOKUP($N460,'Points Table C'!$C$3:$E$18,3))","v":0},{"$f":"VLOOKUP($I460,'Points Table C'!$D$3:$E$18,2)","v":0},{"$f":"IF($Z460<Lookups!$C$106,(AA460+AB460+AC460),IF(AA460>=Lookups!$C$120,(AA460+AB460+AC460),AA460+AB460))","v":0}]
["Non-core foods","Enter a food name here","Company name",0,0,0,0,0,0,0,0,0,{"$f":"IF((SUM(D461:L461)=0),\"J\",VLOOKUP(P461,Lookups!$A$1:$B$11,2))","v":"J"},{"$f":"H461+(L461*Lookups!$C$102*H461/100)","v":0},0,{"$f":"IF(ROUND(10.499-(((O461-VLOOKUP($A461,Lookups!$A$55:$D$64,3))/(VLOOKUP($A461,Lookups!$A$55:$D$64,4))*VLOOKUP($A461,Lookups!$C$2:$D$11,2))),0)<1,1,IF(ROUND(10.499-(((O461-VLOOKUP($A461,Lookups!$A$55:$D$64,3))/(VLOOKUP($A461,Lookups!$A$55:$D$64,4))*VLOOKUP($A461,Lookups!$C$2:$D$11,2))),0)<11,ROUND(10.499-(((O461-VLOOKUP($A461,Lookups!$A$55:$D$64,3))/(VLOOKUP($A461,Lookups!$A$55:$D$64,4))*VLOOKUP($A461,Lookups!$C$2:$D$11,2))),0),10))","v":7},null,{"$f":"VLOOKUP(A461,Lookups!$A$126:$C$135,3)","v":2},{"$f":"VLOOKUP(A461,Lookups!$A$126:$C$135,2)","v":"Food"},"No",0,{"$f":"IF($R461<>3,VLOOKUP($D461,'Points Table A'!$B$3:$F$33,5),VLOOKUP($D461,'Points Table A'!$H$3:$L$33,5))","v":0},{"$f":"IF($R461<>3,VLOOKUP($E461,'Points Table A'!$C$3:$F$33,4),VLOOKUP($E461,'Points Table A'!$I$3:$L$33,4))","v":0},{"$f":"IF($R461<>3,VLOOKUP($F461,'Points Table A'!$D$3:$F$33,3),VLOOKUP($F461,'Points Table A'!$J$3:$L$33,3))","v":0},{"$f":"IF($R461<>3,VLOOKUP($G461,'Points Table A'!$E$3:$F$33,2),VLOOKUP($G461,'Points Table A'!$K$3:$L$33,2))","v":0},0,{"$f":"IF($T461=Lookups!$B$113,VLOOKUP($J461,'Points Table C'!$A$3:$F$11,5),VLOOKUP($U461,'Points Table C'!$B$3:$F$11,4))","v":0},{"$f":"IF($R461=1,0,VLOOKUP($N461,'Points Table C'!$C$3:$E$18,3))","v":0},{"$f":"VLOOKUP($I461,'Points Table C'!$D$3:$E$18,2)","v":0},{"$f":"IF($Z461<Lookups!$C$106,(AA461+AB461+AC461),IF(AA461>=Lookups!$C$120,(AA461+AB461+AC461),AA461+AB461))","v":0}]
["Non-core foods","Enter a food name here","Company name",0,0,0,0,0,0,0,0,0,{"$f":"IF((SUM(D462:L462)=0),\"J\",VLOOKUP(P462,Lookups!$A$1:$B$11,2))","v":"J"},{"$f":"H462+(L462*Lookups!$C$102*H462/100)","v":0},0,{"$f":"IF(ROUND(10.499-(((O462-VLOOKUP($A462,Lookups!$A$55:$D$64,3))/(VLOOKUP($A462,Lookups!$A$55:$D$64,4))*VLOOKUP($A462,Lookups!$C$2:$D$11,2))),0)<1,1,IF(ROUND(10.499-(((O462-VLOOKUP($A462,Lookups!$A$55:$D$64,3))/(VLOOKUP($A462,Lookups!$A$55:$D$64,4))*VLOOKUP($A462,Lookups!$C$2:$D$11,2))),0)<11,ROUND(10.499-(((O462-VLOOKUP($A462,Lookups!$A$55:$D$64,3))/(VLOOKUP($A462,Lookups!$A$55:$D$64,4))*VLOOKUP($A462,Lookups!$C$2:$D$11,2))),0),10))","v":7},null,{"$f":"VLOOKUP(A462,Lookups!$A$126:$C$135,3)","v":2},{"$f":"VLOOKUP(A462,Lookups!$A$126:$C$135,2)","v":"Food"},"No",0,{"$f":"IF($R462<>3,VLOOKUP($D462,'Points Table A'!$B$3:$F$33,5),VLOOKUP($D462,'Points Table A'!$H$3:$L$33,5))","v":0},{"$f":"IF($R462<>3,VLOOKUP($E462,'Points Table A'!$C$3:$F$33,4),VLOOKUP($E462,'Points Table A'!$I$3:$L$33,4))","v":0},{"$f":"IF($R462<>3,VLOOKUP($F462,'Points Table A'!$D$3:$F$33,3),VLOOKUP($F462,'Points Table A'!$J$3:$L$33,3))","v":0},{"$f":"IF($R462<>3,VLOOKUP($G462,'Points Table A'!$E$3:$F$33,2),VLOOKUP($G462,'Points Table A'!$K$3:$L$33,2))","v":0},0,{"$f":"IF($T462=Lookups!$B$113,VLOOKUP($J462,'Points Table C'!$A$3:$F$11,5),VLOOKUP($U462,'Points Table C'!$B$3:$F$11,4))","v":0},{"$f":"IF($R462=1,0,VLOOKUP($N462,'Points Table C'!$C$3:$E$18,3))","v":0},{"$f":"VLOOKUP($I462,'Points Table C'!$D$3:$E$18,2)","v":0},{"$f":"IF($Z462<Lookups!$C$106,(AA462+AB462+AC462),IF(AA462>=Lookups!$C$120,(AA462+AB462+AC462),AA462+AB462))","v":0}]
["Non-core foods","Enter a food name here","Company name",0,0,0,0,0,0,0,0,0,{"$f":"IF((SUM(D463:L463)=0),\"J\",VLOOKUP(P463,Lookups!$A$1:$B$11,2))","v":"J"},{"$f":"H463+(L463*Lookups!$C$102*H463/100)","v":0},0,{"$f":"IF(ROUND(10.499-(((O463-VLOOKUP($A463,Lookups!$A$55:$D$64,3))/(VLOOKUP($A463,Lookups!$A$55:$D$64,4))*VLOOKUP($A463,Lookups!$C$2:$D$11,2))),0)<1,1,IF(ROUND(10.499-(((O463-VLOOKUP($A463,Lookups!$A$55:$D$64,3))/(VLOOKUP($A463,Lookups!$A$55:$D$64,4))*VLOOKUP($A463,Lookups!$C$2:$D$11,2))),0)<11,ROUND(10.499-(((O463-VLOOKUP($A463,Lookups!$A$55:$D$64,3))/(VLOOKUP($A463,Lookups!$A$55:$D$64,4))*VLOOKUP($A463,Lookups!$C$2:$D$11,2))),0),10))","v":7},null,{"$f":"VLOOKUP(A463,Lookups!$A$126:$C$135,3)","v":2},{"$f":"VLOOKUP(A463,Lookups!$A$126:$C$135,2)","v":"Food"},"No",0,{"$f":"IF($R463<>3,VLOOKUP($D463,'Points Table A'!$B$3:$F$33,5),VLOOKUP($D463,'Points Table A'!$H$3:$L$33,5))","v":0},{"$f":"IF($R463<>3,VLOOKUP($E463,'Points Table A'!$C$3:$F$33,4),VLOOKUP($E463,'Points Table A'!$I$3:$L$33,4))","v":0},{"$f":"IF($R463<>3,VLOOKUP($F463,'Points Table A'!$D$3:$F$33,3),VLOOKUP($F463,'Points Table A'!$J$3:$L$33,3))","v":0},{"$f":"IF($R463<>3,VLOOKUP($G463,'Points Table A'!$E$3:$F$33,2),VLOOKUP($G463,'Points Table A'!$K$3:$L$33,2))","v":0},0,{"$f":"IF($T463=Lookups!$B$113,VLOOKUP($J463,'Points Table C'!$A$3:$F$11,5),VLOOKUP($U463,'Points Table C'!$B$3:$F$11,4))","v":0},{"$f":"IF($R463=1,0,VLOOKUP($N463,'Points Table C'!$C$3:$E$18,3))","v":0},{"$f":"VLOOKUP($I463,'Points Table C'!$D$3:$E$18,2)","v":0},{"$f":"IF($Z463<Lookups!$C$106,(AA463+AB463+AC463),IF(AA463>=Lookups!$C$120,(AA463+AB463+AC463),AA463+AB463))","v":0}]
["Non-core foods","Enter a food name here","Company name",0,0,0,0,0,0,0,0,0,{"$f":"IF((SUM(D464:L464)=0),\"J\",VLOOKUP(P464,Lookups!$A$1:$B$11,2))","v":"J"},{"$f":"H464+(L464*Lookups!$C$102*H464/100)","v":0},0,{"$f":"IF(ROUND(10.499-(((O464-VLOOKUP($A464,Lookups!$A$55:$D$64,3))/(VLOOKUP($A464,Lookups!$A$55:$D$64,4))*VLOOKUP($A464,Lookups!$C$2:$D$11,2))),0)<1,1,IF(ROUND(10.499-(((O464-VLOOKUP($A464,Lookups!$A$55:$D$64,3))/(VLOOKUP($A464,Lookups!$A$55:$D$64,4))*VLOOKUP($A464,Lookups!$C$2:$D$11,2))),0)<11,ROUND(10.499-(((O464-VLOOKUP($A464,Lookups!$A$55:$D$64,3))/(VLOOKUP($A464,Lookups!$A$55:$D$64,4))*VLOOKUP($A464,Lookups!$C$2:$D$11,2))),0),10))","v":7},null,{"$f":"VLOOKUP(A464,Lookups!$A$126:$C$135,3)","v":2},{"$f":"VLOOKUP(A464,Lookups!$A$126:$C$135,2)","v":"Food"},"No",0,{"$f":"IF($R464<>3,VLOOKUP($D464,'Points Table A'!$B$3:$F$33,5),VLOOKUP($D464,'Points Table A'!$H$3:$L$33,5))","v":0},{"$f":"IF($R464<>3,VLOOKUP($E464,'Points Table A'!$C$3:$F$33,4),VLOOKUP($E464,'Points Table A'!$I$3:$L$33,4))","v":0},{"$f":"IF($R464<>3,VLOOKUP($F464,'Points Table A'!$D$3:$F$33,3),VLOOKUP($F464,'Points Table A'!$J$3:$L$33,3))","v":0},{"$f":"IF($R464<>3,VLOOKUP($G464,'Points Table A'!$E$3:$F$33,2),VLOOKUP($G464,'Points Table A'!$K$3:$L$33,2))","v":0},0,{"$f":"IF($T464=Lookups!$B$113,VLOOKUP($J464,'Points Table C'!$A$3:$F$11,5),VLOOKUP($U464,'Points Table C'!$B$3:$F$11,4))","v":0},{"$f":"IF($R464=1,0,VLOOKUP($N464,'Points Table C'!$C$3:$E$18,3))","v":0},{"$f":"VLOOKUP($I464,'Points Table C'!$D$3:$E$18,2)","v":0},{"$f":"IF($Z464<Lookups!$C$106,(AA464+AB464+AC464),IF(AA464>=Lookups!$C$120,(AA464+AB464+AC464),AA464+AB464))","v":0}]
["Non-core foods","Enter a food name here","Company name",0,0,0,0,0,0,0,0,0,{"$f":"IF((SUM(D465:L465)=0),\"J\",VLOOKUP(P465,Lookups!$A$1:$B$11,2))","v":"J"},{"$f":"H465+(L465*Lookups!$C$102*H465/100)","v":0},0,{"$f":"IF(ROUND(10.499-(((O465-VLOOKUP($A465,Lookups!$A$55:$D$64,3))/(VLOOKUP($A465,Lookups!$A$55:$D$64,4))*VLOOKUP($A465,Lookups!$C$2:$D$11,2))),0)<1,1,IF(ROUND(10.499-(((O465-VLOOKUP($A465,Lookups!$A$55:$D$64,3))/(VLOOKUP($A465,Lookups!$A$55:$D$64,4))*VLOOKUP($A465,Lookups!$C$2:$D$11,2))),0)<11,ROUND(10.499-(((O465-VLOOKUP($A465,Lookups!$A$55:$D$64,3))/(VLOOKUP($A465,Lookups!$A$55:$D$64,4))*VLOOKUP($A465,Lookups!$C$2:$D$11,2))),0),10))","v":7},null,{"$f":"VLOOKUP(A465,Lookups!$A$126:$C$135,3)","v":2},{"$f":"VLOOKUP(A465,Lookups!$A$126:$C$135,2)","v":"Food"},"No",0,{"$f":"IF($R465<>3,VLOOKUP($D465,'Points Table A'!$B$3:$F$33,5),VLOOKUP($D465,'Points Table A'!$H$3:$L$33,5))","v":0},{"$f":"IF($R465<>3,VLOOKUP($E465,'Points Table A'!$C$3:$F$33,4),VLOOKUP($E465,'Points Table A'!$I$3:$L$33,4))","v":0},{"$f":"IF($R465<>3,VLOOKUP($F465,'Points Table A'!$D$3:$F$33,3),VLOOKUP($F465,'Points Table A'!$J$3:$L$33,3))","v":0},{"$f":"IF($R465<>3,VLOOKUP($G465,'Points Table A'!$E$3:$F$33,2),VLOOKUP($G465,'Points Table A'!$K$3:$L$33,2))","v":0},0,{"$f":"IF($T465=Lookups!$B$113,VLOOKUP($J465,'Points Table C'!$A$3:$F$11,5),VLOOKUP($U465,'Points Table C'!$B$3:$F$11,4))","v":0},{"$f":"IF($R465=1,0,VLOOKUP($N465,'Points Table C'!$C$3:$E$18,3))","v":0},{"$f":"VLOOKUP($I465,'Points Table C'!$D$3:$E$18,2)","v":0},{"$f":"IF($Z465<Lookups!$C$106,(AA465+AB465+AC465),IF(AA465>=Lookups!$C$120,(AA465+AB465+AC465),AA465+AB465))","v":0}]
["Non-core foods","Enter a food name here","Company name",0,0,0,0,0,0,0,0,0,{"$f":"IF((SUM(D466:L466)=0),\"J\",VLOOKUP(P466,Lookups!$A$1:$B$11,2))","v":"J"},{"$f":"H466+(L466*Lookups!$C$102*H466/100)","v":0},0,{"$f":"IF(ROUND(10.499-(((O466-VLOOKUP($A466,Lookups!$A$55:$D$64,3))/(VLOOKUP($A466,Lookups!$A$55:$D$64,4))*VLOOKUP($A466,Lookups!$C$2:$D$11,2))),0)<1,1,IF(ROUND(10.499-(((O466-VLOOKUP($A466,Lookups!$A$55:$D$64,3))/(VLOOKUP($A466,Lookups!$A$55:$D$64,4))*VLOOKUP($A466,Lookups!$C$2:$D$11,2))),0)<11,ROUND(10.499-(((O466-VLOOKUP($A466,Lookups!$A$55:$D$64,3))/(VLOOKUP($A466,Lookups!$A$55:$D$64,4))*VLOOKUP($A466,Lookups!$C$2:$D$11,2))),0),10))","v":7},null,{"$f":"VLOOKUP(A466,Lookups!$A$126:$C$135,3)","v":2},{"$f":"VLOOKUP(A466,Lookups!$A$126:$C$135,2)","v":"Food"},"No",0,{"$f":"IF($R466<>3,VLOOKUP($D466,'Points Table A'!$B$3:$F$33,5),VLOOKUP($D466,'Points Table A'!$H$3:$L$33,5))","v":0},{"$f":"IF($R466<>3,VLOOKUP($E466,'Points Table A'!$C$3:$F$33,4),VLOOKUP($E466,'Points Table A'!$I$3:$L$33,4))","v":0},{"$f":"IF($R466<>3,VLOOKUP($F466,'Points Table A'!$D$3:$F$33,3),VLOOKUP($F466,'Points Table A'!$J$3:$L$33,3))","v":0},{"$f":"IF($R466<>3,VLOOKUP($G466,'Points Table A'!$E$3:$F$33,2),VLOOKUP($G466,'Points Table A'!$K$3:$L$33,2))","v":0},0,{"$f":"IF($T466=Lookups!$B$113,VLOOKUP($J466,'Points Table C'!$A$3:$F$11,5),VLOOKUP($U466,'Points Table C'!$B$3:$F$11,4))","v":0},{"$f":"IF($R466=1,0,VLOOKUP($N466,'Points Table C'!$C$3:$E$18,3))","v":0},{"$f":"VLOOKUP($I466,'Points Table C'!$D$3:$E$18,2)","v":0},{"$f":"IF($Z466<Lookups!$C$106,(AA466+AB466+AC466),IF(AA466>=Lookups!$C$120,(AA466+AB466+AC466),AA466+AB466))","v":0}]
["Non-core foods","Enter a food name here","Company name",0,0,0,0,0,0,0,0,0,{"$f":"IF((SUM(D467:L467)=0),\"J\",VLOOKUP(P467,Lookups!$A$1:$B$11,2))","v":"J"},{"$f":"H467+(L467*Lookups!$C$102*H467/100)","v":0},0,{"$f":"IF(ROUND(10.499-(((O467-VLOOKUP($A467,Lookups!$A$55:$D$64,3))/(VLOOKUP($A467,Lookups!$A$55:$D$64,4))*VLOOKUP($A467,Lookups!$C$2:$D$11,2))),0)<1,1,IF(ROUND(10.499-(((O467-VLOOKUP($A467,Lookups!$A$55:$D$64,3))/(VLOOKUP($A467,Lookups!$A$55:$D$64,4))*VLOOKUP($A467,Lookups!$C$2:$D$11,2))),0)<11,ROUND(10.499-(((O467-VLOOKUP($A467,Lookups!$A$55:$D$64,3))/(VLOOKUP($A467,Lookups!$A$55:$D$64,4))*VLOOKUP($A467,Lookups!$C$2:$D$11,2))),0),10))","v":7},null,{"$f":"VLOOKUP(A467,Lookups!$A$126:$C$135,3)","v":2},{"$f":"VLOOKUP(A467,Lookups!$A$126:$C$135,2)","v":"Food"},"No",0,{"$f":"IF($R467<>3,VLOOKUP($D467,'Points Table A'!$B$3:$F$33,5),VLOOKUP($D467,'Points Table A'!$H$3:$L$33,5))","v":0},{"$f":"IF($R467<>3,VLOOKUP($E467,'Points Table A'!$C$3:$F$33,4),VLOOKUP($E467,'Points Table A'!$I$3:$L$33,4))","v":0},{"$f":"IF($R467<>3,VLOOKUP($F467,'Points Table A'!$D$3:$F$33,3),VLOOKUP($F467,'Points Table A'!$J$3:$L$33,3))","v":0},{"$f":"IF($R467<>3,VLOOKUP($G467,'Points Table A'!$E$3:$F$33,2),VLOOKUP($G467,'Points Table A'!$K$3:$L$33,2))","v":0},0,{"$f":"IF($T467=Lookups!$B$113,VLOOKUP($J467,'Points Table C'!$A$3:$F$11,5),VLOOKUP($U467,'Points Table C'!$B$3:$F$11,4))","v":0},{"$f":"IF($R467=1,0,VLOOKUP($N467,'Points Table C'!$C$3:$E$18,3))","v":0},{"$f":"VLOOKUP($I467,'Points Table C'!$D$3:$E$18,2)","v":0},{"$f":"IF($Z467<Lookups!$C$106,(AA467+AB467+AC467),IF(AA467>=Lookups!$C$120,(AA467+AB467+AC467),AA467+AB467))","v":0}]
["Non-core foods","Enter a food name here","Company name",0,0,0,0,0,0,0,0,0,{"$f":"IF((SUM(D468:L468)=0),\"J\",VLOOKUP(P468,Lookups!$A$1:$B$11,2))","v":"J"},{"$f":"H468+(L468*Lookups!$C$102*H468/100)","v":0},0,{"$f":"IF(ROUND(10.499-(((O468-VLOOKUP($A468,Lookups!$A$55:$D$64,3))/(VLOOKUP($A468,Lookups!$A$55:$D$64,4))*VLOOKUP($A468,Lookups!$C$2:$D$11,2))),0)<1,1,IF(ROUND(10.499-(((O468-VLOOKUP($A468,Lookups!$A$55:$D$64,3))/(VLOOKUP($A468,Lookups!$A$55:$D$64,4))*VLOOKUP($A468,Lookups!$C$2:$D$11,2))),0)<11,ROUND(10.499-(((O468-VLOOKUP($A468,Lookups!$A$55:$D$64,3))/(VLOOKUP($A468,Lookups!$A$55:$D$64,4))*VLOOKUP($A468,Lookups!$C$2:$D$11,2))),0),10))","v":7},null,{"$f":"VLOOKUP(A468,Lookups!$A$126:$C$135,3)","v":2},{"$f":"VLOOKUP(A468,Lookups!$A$126:$C$135,2)","v":"Food"},"No",0,{"$f":"IF($R468<>3,VLOOKUP($D468,'Points Table A'!$B$3:$F$33,5),VLOOKUP($D468,'Points Table A'!$H$3:$L$33,5))","v":0},{"$f":"IF($R468<>3,VLOOKUP($E468,'Points Table A'!$C$3:$F$33,4),VLOOKUP($E468,'Points Table A'!$I$3:$L$33,4))","v":0},{"$f":"IF($R468<>3,VLOOKUP($F468,'Points Table A'!$D$3:$F$33,3),VLOOKUP($F468,'Points Table A'!$J$3:$L$33,3))","v":0},{"$f":"IF($R468<>3,VLOOKUP($G468,'Points Table A'!$E$3:$F$33,2),VLOOKUP($G468,'Points Table A'!$K$3:$L$33,2))","v":0},0,{"$f":"IF($T468=Lookups!$B$113,VLOOKUP($J468,'Points Table C'!$A$3:$F$11,5),VLOOKUP($U468,'Points Table C'!$B$3:$F$11,4))","v":0},{"$f":"IF($R468=1,0,VLOOKUP($N468,'Points Table C'!$C$3:$E$18,3))","v":0},{"$f":"VLOOKUP($I468,'Points Table C'!$D$3:$E$18,2)","v":0},{"$f":"IF($Z468<Lookups!$C$106,(AA468+AB468+AC468),IF(AA468>=Lookups!$C$120,(AA468+AB468+AC468),AA468+AB468))","v":0}]
["Non-core foods","Enter a food name here","Company name",0,0,0,0,0,0,0,0,0,{"$f":"IF((SUM(D469:L469)=0),\"J\",VLOOKUP(P469,Lookups!$A$1:$B$11,2))","v":"J"},{"$f":"H469+(L469*Lookups!$C$102*H469/100)","v":0},0,{"$f":"IF(ROUND(10.499-(((O469-VLOOKUP($A469,Lookups!$A$55:$D$64,3))/(VLOOKUP($A469,Lookups!$A$55:$D$64,4))*VLOOKUP($A469,Lookups!$C$2:$D$11,2))),0)<1,1,IF(ROUND(10.499-(((O469-VLOOKUP($A469,Lookups!$A$55:$D$64,3))/(VLOOKUP($A469,Lookups!$A$55:$D$64,4))*VLOOKUP($A469,Lookups!$C$2:$D$11,2))),0)<11,ROUND(10.499-(((O469-VLOOKUP($A469,Lookups!$A$55:$D$64,3))/(VLOOKUP($A469,Lookups!$A$55:$D$64,4))*VLOOKUP($A469,Lookups!$C$2:$D$11,2))),0),10))","v":7},null,{"$f":"VLOOKUP(A469,Lookups!$A$126:$C$135,3)","v":2},{"$f":"VLOOKUP(A469,Lookups!$A$126:$C$135,2)","v":"Food"},"No",0,{"$f":"IF($R469<>3,VLOOKUP($D469,'Points Table A'!$B$3:$F$33,5),VLOOKUP($D469,'Points Table A'!$H$3:$L$33,5))","v":0},{"$f":"IF($R469<>3,VLOOKUP($E469,'Points Table A'!$C$3:$F$33,4),VLOOKUP($E469,'Points Table A'!$I$3:$L$33,4))","v":0},{"$f":"IF($R469<>3,VLOOKUP($F469,'Points Table A'!$D$3:$F$33,3),VLOOKUP($F469,'Points Table A'!$J$3:$L$33,3))","v":0},{"$f":"IF($R469<>3,VLOOKUP($G469,'Points Table A'!$E$3:$F$33,2),VLOOKUP($G469,'Points Table A'!$K$3:$L$33,2))","v":0},0,{"$f":"IF($T469=Lookups!$B$113,VLOOKUP($J469,'Points Table C'!$A$3:$F$11,5),VLOOKUP($U469,'Points Table C'!$B$3:$F$11,4))","v":0},{"$f":"IF($R469=1,0,VLOOKUP($N469,'Points Table C'!$C$3:$E$18,3))","v":0},{"$f":"VLOOKUP($I469,'Points Table C'!$D$3:$E$18,2)","v":0},{"$f":"IF($Z469<Lookups!$C$106,(AA469+AB469+AC469),IF(AA469>=Lookups!$C$120,(AA469+AB469+AC469),AA469+AB469))","v":0}]
["Non-core foods","Enter a food name here","Company name",0,0,0,0,0,0,0,0,0,{"$f":"IF((SUM(D470:L470)=0),\"J\",VLOOKUP(P470,Lookups!$A$1:$B$11,2))","v":"J"},{"$f":"H470+(L470*Lookups!$C$102*H470/100)","v":0},0,{"$f":"IF(ROUND(10.499-(((O470-VLOOKUP($A470,Lookups!$A$55:$D$64,3))/(VLOOKUP($A470,Lookups!$A$55:$D$64,4))*VLOOKUP($A470,Lookups!$C$2:$D$11,2))),0)<1,1,IF(ROUND(10.499-(((O470-VLOOKUP($A470,Lookups!$A$55:$D$64,3))/(VLOOKUP($A470,Lookups!$A$55:$D$64,4))*VLOOKUP($A470,Lookups!$C$2:$D$11,2))),0)<11,ROUND(10.499-(((O470-VLOOKUP($A470,Lookups!$A$55:$D$64,3))/(VLOOKUP($A470,Lookups!$A$55:$D$64,4))*VLOOKUP($A470,Lookups!$C$2:$D$11,2))),0),10))","v":7},null,{"$f":"VLOOKUP(A470,Lookups!$A$126:$C$135,3)","v":2},{"$f":"VLOOKUP(A470,Lookups!$A$126:$C$135,2)","v":"Food"},"No",0,{"$f":"IF($R470<>3,VLOOKUP($D470,'Points Table A'!$B$3:$F$33,5),VLOOKUP($D470,'Points Table A'!$H$3:$L$33,5))","v":0},{"$f":"IF($R470<>3,VLOOKUP($E470,'Points Table A'!$C$3:$F$33,4),VLOOKUP($E470,'Points Table A'!$I$3:$L$33,4))","v":0},{"$f":"IF($R470<>3,VLOOKUP($F470,'Points Table A'!$D$3:$F$33,3),VLOOKUP($F470,'Points Table A'!$J$3:$L$33,3))","v":0},{"$f":"IF($R470<>3,VLOOKUP($G470,'Points Table A'!$E$3:$F$33,2),VLOOKUP($G470,'Points Table A'!$K$3:$L$33,2))","v":0},0,{"$f":"IF($T470=Lookups!$B$113,VLOOKUP($J470,'Points Table C'!$A$3:$F$11,5),VLOOKUP($U470,'Points Table C'!$B$3:$F$11,4))","v":0},{"$f":"IF($R470=1,0,VLOOKUP($N470,'Points Table C'!$C$3:$E$18,3))","v":0},{"$f":"VLOOKUP($I470,'Points Table C'!$D$3:$E$18,2)","v":0},{"$f":"IF($Z470<Lookups!$C$106,(AA470+AB470+AC470),IF(AA470>=Lookups!$C$120,(AA470+AB470+AC470),AA470+AB470))","v":0}]
["Non-core foods","Enter a food name here","Company name",0,0,0,0,0,0,0,0,0,{"$f":"IF((SUM(D471:L471)=0),\"J\",VLOOKUP(P471,Lookups!$A$1:$B$11,2))","v":"J"},{"$f":"H471+(L471*Lookups!$C$102*H471/100)","v":0},0,{"$f":"IF(ROUND(10.499-(((O471-VLOOKUP($A471,Lookups!$A$55:$D$64,3))/(VLOOKUP($A471,Lookups!$A$55:$D$64,4))*VLOOKUP($A471,Lookups!$C$2:$D$11,2))),0)<1,1,IF(ROUND(10.499-(((O471-VLOOKUP($A471,Lookups!$A$55:$D$64,3))/(VLOOKUP($A471,Lookups!$A$55:$D$64,4))*VLOOKUP($A471,Lookups!$C$2:$D$11,2))),0)<11,ROUND(10.499-(((O471-VLOOKUP($A471,Lookups!$A$55:$D$64,3))/(VLOOKUP($A471,Lookups!$A$55:$D$64,4))*VLOOKUP($A471,Lookups!$C$2:$D$11,2))),0),10))","v":7},null,{"$f":"VLOOKUP(A471,Lookups!$A$126:$C$135,3)","v":2},{"$f":"VLOOKUP(A471,Lookups!$A$126:$C$135,2)","v":"Food"},"No",0,{"$f":"IF($R471<>3,VLOOKUP($D471,'Points Table A'!$B$3:$F$33,5),VLOOKUP($D471,'Points Table A'!$H$3:$L$33,5))","v":0},{"$f":"IF($R471<>3,VLOOKUP($E471,'Points Table A'!$C$3:$F$33,4),VLOOKUP($E471,'Points Table A'!$I$3:$L$33,4))","v":0},{"$f":"IF($R471<>3,VLOOKUP($F471,'Points Table A'!$D$3:$F$33,3),VLOOKUP($F471,'Points Table A'!$J$3:$L$33,3))","v":0},{"$f":"IF($R471<>3,VLOOKUP($G471,'Points Table A'!$E$3:$F$33,2),VLOOKUP($G471,'Points Table A'!$K$3:$L$33,2))","v":0},0,{"$f":"IF($T471=Lookups!$B$113,VLOOKUP($J471,'Points Table C'!$A$3:$F$11,5),VLOOKUP($U471,'Points Table C'!$B$3:$F$11,4))","v":0},{"$f":"IF($R471=1,0,VLOOKUP($N471,'Points Table C'!$C$3:$E$18,3))","v":0},{"$f":"VLOOKUP($I471,'Points Table C'!$D$3:$E$18,2)","v":0},{"$f":"IF($Z471<Lookups!$C$106,(AA471+AB471+AC471),IF(AA471>=Lookups!$C$120,(AA471+AB471+AC471),AA471+AB471))","v":0}]
["Non-core foods","Enter a food name here","Company name",0,0,0,0,0,0,0,0,0,{"$f":"IF((SUM(D472:L472)=0),\"J\",VLOOKUP(P472,Lookups!$A$1:$B$11,2))","v":"J"},{"$f":"H472+(L472*Lookups!$C$102*H472/100)","v":0},0,{"$f":"IF(ROUND(10.499-(((O472-VLOOKUP($A472,Lookups!$A$55:$D$64,3))/(VLOOKUP($A472,Lookups!$A$55:$D$64,4))*VLOOKUP($A472,Lookups!$C$2:$D$11,2))),0)<1,1,IF(ROUND(10.499-(((O472-VLOOKUP($A472,Lookups!$A$55:$D$64,3))/(VLOOKUP($A472,Lookups!$A$55:$D$64,4))*VLOOKUP($A472,Lookups!$C$2:$D$11,2))),0)<11,ROUND(10.499-(((O472-VLOOKUP($A472,Lookups!$A$55:$D$64,3))/(VLOOKUP($A472,Lookups!$A$55:$D$64,4))*VLOOKUP($A472,Lookups!$C$2:$D$11,2))),0),10))","v":7},null,{"$f":"VLOOKUP(A472,Lookups!$A$126:$C$135,3)","v":2},{"$f":"VLOOKUP(A472,Lookups!$A$126:$C$135,2)","v":"Food"},"No",0,{"$f":"IF($R472<>3,VLOOKUP($D472,'Points Table A'!$B$3:$F$33,5),VLOOKUP($D472,'Points Table A'!$H$3:$L$33,5))","v":0},{"$f":"IF($R472<>3,VLOOKUP($E472,'Points Table A'!$C$3:$F$33,4),VLOOKUP($E472,'Points Table A'!$I$3:$L$33,4))","v":0},{"$f":"IF($R472<>3,VLOOKUP($F472,'Points Table A'!$D$3:$F$33,3),VLOOKUP($F472,'Points Table A'!$J$3:$L$33,3))","v":0},{"$f":"IF($R472<>3,VLOOKUP($G472,'Points Table A'!$E$3:$F$33,2),VLOOKUP($G472,'Points Table A'!$K$3:$L$33,2))","v":0},0,{"$f":"IF($T472=Lookups!$B$113,VLOOKUP($J472,'Points Table C'!$A$3:$F$11,5),VLOOKUP($U472,'Points Table C'!$B$3:$F$11,4))","v":0},{"$f":"IF($R472=1,0,VLOOKUP($N472,'Points Table C'!$C$3:$E$18,3))","v":0},{"$f":"VLOOKUP($I472,'Points Table C'!$D$3:$E$18,2)","v":0},{"$f":"IF($Z472<Lookups!$C$106,(AA472+AB472+AC472),IF(AA472>=Lookups!$C$120,(AA472+AB472+AC472),AA472+AB472))","v":0}]
["Non-core foods","Enter a food name here","Company name",0,0,0,0,0,0,0,0,0,{"$f":"IF((SUM(D473:L473)=0),\"J\",VLOOKUP(P473,Lookups!$A$1:$B$11,2))","v":"J"},{"$f":"H473+(L473*Lookups!$C$102*H473/100)","v":0},0,{"$f":"IF(ROUND(10.499-(((O473-VLOOKUP($A473,Lookups!$A$55:$D$64,3))/(VLOOKUP($A473,Lookups!$A$55:$D$64,4))*VLOOKUP($A473,Lookups!$C$2:$D$11,2))),0)<1,1,IF(ROUND(10.499-(((O473-VLOOKUP($A473,Lookups!$A$55:$D$64,3))/(VLOOKUP($A473,Lookups!$A$55:$D$64,4))*VLOOKUP($A473,Lookups!$C$2:$D$11,2))),0)<11,ROUND(10.499-(((O473-VLOOKUP($A473,Lookups!$A$55:$D$64,3))/(VLOOKUP($A473,Lookups!$A$55:$D$64,4))*VLOOKUP($A473,Lookups!$C$2:$D$11,2))),0),10))","v":7},null,{"$f":"VLOOKUP(A473,Lookups!$A$126:$C$135,3)","v":2},{"$f":"VLOOKUP(A473,Lookups!$A$126:$C$135,2)","v":"Food"},"No",0,{"$f":"IF($R473<>3,VLOOKUP($D473,'Points Table A'!$B$3:$F$33,5),VLOOKUP($D473,'Points Table A'!$H$3:$L$33,5))","v":0},{"$f":"IF($R473<>3,VLOOKUP($E473,'Points Table A'!$C$3:$F$33,4),VLOOKUP($E473,'Points Table A'!$I$3:$L$33,4))","v":0},{"$f":"IF($R473<>3,VLOOKUP($F473,'Points Table A'!$D$3:$F$33,3),VLOOKUP($F473,'Points Table A'!$J$3:$L$33,3))","v":0},{"$f":"IF($R473<>3,VLOOKUP($G473,'Points Table A'!$E$3:$F$33,2),VLOOKUP($G473,'Points Table A'!$K$3:$L$33,2))","v":0},0,{"$f":"IF($T473=Lookups!$B$113,VLOOKUP($J473,'Points Table C'!$A$3:$F$11,5),VLOOKUP($U473,'Points Table C'!$B$3:$F$11,4))","v":0},{"$f":"IF($R473=1,0,VLOOKUP($N473,'Points Table C'!$C$3:$E$18,3))","v":0},{"$f":"VLOOKUP($I473,'Points Table C'!$D$3:$E$18,2)","v":0},{"$f":"IF($Z473<Lookups!$C$106,(AA473+AB473+AC473),IF(AA473>=Lookups!$C$120,(AA473+AB473+AC473),AA473+AB473))","v":0}]
["Non-core foods","Enter a food name here","Company name",0,0,0,0,0,0,0,0,0,{"$f":"IF((SUM(D474:L474)=0),\"J\",VLOOKUP(P474,Lookups!$A$1:$B$11,2))","v":"J"},{"$f":"H474+(L474*Lookups!$C$102*H474/100)","v":0},0,{"$f":"IF(ROUND(10.499-(((O474-VLOOKUP($A474,Lookups!$A$55:$D$64,3))/(VLOOKUP($A474,Lookups!$A$55:$D$64,4))*VLOOKUP($A474,Lookups!$C$2:$D$11,2))),0)<1,1,IF(ROUND(10.499-(((O474-VLOOKUP($A474,Lookups!$A$55:$D$64,3))/(VLOOKUP($A474,Lookups!$A$55:$D$64,4))*VLOOKUP($A474,Lookups!$C$2:$D$11,2))),0)<11,ROUND(10.499-(((O474-VLOOKUP($A474,Lookups!$A$55:$D$64,3))/(VLOOKUP($A474,Lookups!$A$55:$D$64,4))*VLOOKUP($A474,Lookups!$C$2:$D$11,2))),0),10))","v":7},null,{"$f":"VLOOKUP(A474,Lookups!$A$126:$C$135,3)","v":2},{"$f":"VLOOKUP(A474,Lookups!$A$126:$C$135,2)","v":"Food"},"No",0,{"$f":"IF($R474<>3,VLOOKUP($D474,'Points Table A'!$B$3:$F$33,5),VLOOKUP($D474,'Points Table A'!$H$3:$L$33,5))","v":0},{"$f":"IF($R474<>3,VLOOKUP($E474,'Points Table A'!$C$3:$F$33,4),VLOOKUP($E474,'Points Table A'!$I$3:$L$33,4))","v":0},{"$f":"IF($R474<>3,VLOOKUP($F474,'Points Table A'!$D$3:$F$33,3),VLOOKUP($F474,'Points Table A'!$J$3:$L$33,3))","v":0},{"$f":"IF($R474<>3,VLOOKUP($G474,'Points Table A'!$E$3:$F$33,2),VLOOKUP($G474,'Points Table A'!$K$3:$L$33,2))","v":0},0,{"$f":"IF($T474=Lookups!$B$113,VLOOKUP($J474,'Points Table C'!$A$3:$F$11,5),VLOOKUP($U474,'Points Table C'!$B$3:$F$11,4))","v":0},{"$f":"IF($R474=1,0,VLOOKUP($N474,'Points Table C'!$C$3:$E$18,3))","v":0},{"$f":"VLOOKUP($I474,'Points Table C'!$D$3:$E$18,2)","v":0},{"$f":"IF($Z474<Lookups!$C$106,(AA474+AB474+AC474),IF(AA474>=Lookups!$C$120,(AA474+AB474+AC474),AA474+AB474))","v":0}]
["Non-core foods","Enter a food name here","Company name",0,0,0,0,0,0,0,0,0,{"$f":"IF((SUM(D475:L475)=0),\"J\",VLOOKUP(P475,Lookups!$A$1:$B$11,2))","v":"J"},{"$f":"H475+(L475*Lookups!$C$102*H475/100)","v":0},0,{"$f":"IF(ROUND(10.499-(((O475-VLOOKUP($A475,Lookups!$A$55:$D$64,3))/(VLOOKUP($A475,Lookups!$A$55:$D$64,4))*VLOOKUP($A475,Lookups!$C$2:$D$11,2))),0)<1,1,IF(ROUND(10.499-(((O475-VLOOKUP($A475,Lookups!$A$55:$D$64,3))/(VLOOKUP($A475,Lookups!$A$55:$D$64,4))*VLOOKUP($A475,Lookups!$C$2:$D$11,2))),0)<11,ROUND(10.499-(((O475-VLOOKUP($A475,Lookups!$A$55:$D$64,3))/(VLOOKUP($A475,Lookups!$A$55:$D$64,4))*VLOOKUP($A475,Lookups!$C$2:$D$11,2))),0),10))","v":7},null,{"$f":"VLOOKUP(A475,Lookups!$A$126:$C$135,3)","v":2},{"$f":"VLOOKUP(A475,Lookups!$A$126:$C$135,2)","v":"Food"},"No",0,{"$f":"IF($R475<>3,VLOOKUP($D475,'Points Table A'!$B$3:$F$33,5),VLOOKUP($D475,'Points Table A'!$H$3:$L$33,5))","v":0},{"$f":"IF($R475<>3,VLOOKUP($E475,'Points Table A'!$C$3:$F$33,4),VLOOKUP($E475,'Points Table A'!$I$3:$L$33,4))","v":0},{"$f":"IF($R475<>3,VLOOKUP($F475,'Points Table A'!$D$3:$F$33,3),VLOOKUP($F475,'Points Table A'!$J$3:$L$33,3))","v":0},{"$f":"IF($R475<>3,VLOOKUP($G475,'Points Table A'!$E$3:$F$33,2),VLOOKUP($G475,'Points Table A'!$K$3:$L$33,2))","v":0},0,{"$f":"IF($T475=Lookups!$B$113,VLOOKUP($J475,'Points Table C'!$A$3:$F$11,5),VLOOKUP($U475,'Points Table C'!$B$3:$F$11,4))","v":0},{"$f":"IF($R475=1,0,VLOOKUP($N475,'Points Table C'!$C$3:$E$18,3))","v":0},{"$f":"VLOOKUP($I475,'Points Table C'!$D$3:$E$18,2)","v":0},{"$f":"IF($Z475<Lookups!$C$106,(AA475+AB475+AC475),IF(AA475>=Lookups!$C$120,(AA475+AB475+AC475),AA475+AB475))","v":0}]
["Non-core foods","Enter a food name here","Company name",0,0,0,0,0,0,0,0,0,{"$f":"IF((SUM(D476:L476)=0),\"J\",VLOOKUP(P476,Lookups!$A$1:$B$11,2))","v":"J"},{"$f":"H476+(L476*Lookups!$C$102*H476/100)","v":0},0,{"$f":"IF(ROUND(10.499-(((O476-VLOOKUP($A476,Lookups!$A$55:$D$64,3))/(VLOOKUP($A476,Lookups!$A$55:$D$64,4))*VLOOKUP($A476,Lookups!$C$2:$D$11,2))),0)<1,1,IF(ROUND(10.499-(((O476-VLOOKUP($A476,Lookups!$A$55:$D$64,3))/(VLOOKUP($A476,Lookups!$A$55:$D$64,4))*VLOOKUP($A476,Lookups!$C$2:$D$11,2))),0)<11,ROUND(10.499-(((O476-VLOOKUP($A476,Lookups!$A$55:$D$64,3))/(VLOOKUP($A476,Lookups!$A$55:$D$64,4))*VLOOKUP($A476,Lookups!$C$2:$D$11,2))),0),10))","v":7},null,{"$f":"VLOOKUP(A476,Lookups!$A$126:$C$135,3)","v":2},{"$f":"VLOOKUP(A476,Lookups!$A$126:$C$135,2)","v":"Food"},"No",0,{"$f":"IF($R476<>3,VLOOKUP($D476,'Points Table A'!$B$3:$F$33,5),VLOOKUP($D476,'Points Table A'!$H$3:$L$33,5))","v":0},{"$f":"IF($R476<>3,VLOOKUP($E476,'Points Table A'!$C$3:$F$33,4),VLOOKUP($E476,'Points Table A'!$I$3:$L$33,4))","v":0},{"$f":"IF($R476<>3,VLOOKUP($F476,'Points Table A'!$D$3:$F$33,3),VLOOKUP($F476,'Points Table A'!$J$3:$L$33,3))","v":0},{"$f":"IF($R476<>3,VLOOKUP($G476,'Points Table A'!$E$3:$F$33,2),VLOOKUP($G476,'Points Table A'!$K$3:$L$33,2))","v":0},0,{"$f":"IF($T476=Lookups!$B$113,VLOOKUP($J476,'Points Table C'!$A$3:$F$11,5),VLOOKUP($U476,'Points Table C'!$B$3:$F$11,4))","v":0},{"$f":"IF($R476=1,0,VLOOKUP($N476,'Points Table C'!$C$3:$E$18,3))","v":0},{"$f":"VLOOKUP($I476,'Points Table C'!$D$3:$E$18,2)","v":0},{"$f":"IF($Z476<Lookups!$C$106,(AA476+AB476+AC476),IF(AA476>=Lookups!$C$120,(AA476+AB476+AC476),AA476+AB476))","v":0}]
["Non-core foods","Enter a food name here","Company name",0,0,0,0,0,0,0,0,0,{"$f":"IF((SUM(D477:L477)=0),\"J\",VLOOKUP(P477,Lookups!$A$1:$B$11,2))","v":"J"},{"$f":"H477+(L477*Lookups!$C$102*H477/100)","v":0},0,{"$f":"IF(ROUND(10.499-(((O477-VLOOKUP($A477,Lookups!$A$55:$D$64,3))/(VLOOKUP($A477,Lookups!$A$55:$D$64,4))*VLOOKUP($A477,Lookups!$C$2:$D$11,2))),0)<1,1,IF(ROUND(10.499-(((O477-VLOOKUP($A477,Lookups!$A$55:$D$64,3))/(VLOOKUP($A477,Lookups!$A$55:$D$64,4))*VLOOKUP($A477,Lookups!$C$2:$D$11,2))),0)<11,ROUND(10.499-(((O477-VLOOKUP($A477,Lookups!$A$55:$D$64,3))/(VLOOKUP($A477,Lookups!$A$55:$D$64,4))*VLOOKUP($A477,Lookups!$C$2:$D$11,2))),0),10))","v":7},null,{"$f":"VLOOKUP(A477,Lookups!$A$126:$C$135,3)","v":2},{"$f":"VLOOKUP(A477,Lookups!$A$126:$C$135,2)","v":"Food"},"No",0,{"$f":"IF($R477<>3,VLOOKUP($D477,'Points Table A'!$B$3:$F$33,5),VLOOKUP($D477,'Points Table A'!$H$3:$L$33,5))","v":0},{"$f":"IF($R477<>3,VLOOKUP($E477,'Points Table A'!$C$3:$F$33,4),VLOOKUP($E477,'Points Table A'!$I$3:$L$33,4))","v":0},{"$f":"IF($R477<>3,VLOOKUP($F477,'Points Table A'!$D$3:$F$33,3),VLOOKUP($F477,'Points Table A'!$J$3:$L$33,3))","v":0},{"$f":"IF($R477<>3,VLOOKUP($G477,'Points Table A'!$E$3:$F$33,2),VLOOKUP($G477,'Points Table A'!$K$3:$L$33,2))","v":0},0,{"$f":"IF($T477=Lookups!$B$113,VLOOKUP($J477,'Points Table C'!$A$3:$F$11,5),VLOOKUP($U477,'Points Table C'!$B$3:$F$11,4))","v":0},{"$f":"IF($R477=1,0,VLOOKUP($N477,'Points Table C'!$C$3:$E$18,3))","v":0},{"$f":"VLOOKUP($I477,'Points Table C'!$D$3:$E$18,2)","v":0},{"$f":"IF($Z477<Lookups!$C$106,(AA477+AB477+AC477),IF(AA477>=Lookups!$C$120,(AA477+AB477+AC477),AA477+AB477))","v":0}]
["Non-core foods","Enter a food name here","Company name",0,0,0,0,0,0,0,0,0,{"$f":"IF((SUM(D478:L478)=0),\"J\",VLOOKUP(P478,Lookups!$A$1:$B$11,2))","v":"J"},{"$f":"H478+(L478*Lookups!$C$102*H478/100)","v":0},0,{"$f":"IF(ROUND(10.499-(((O478-VLOOKUP($A478,Lookups!$A$55:$D$64,3))/(VLOOKUP($A478,Lookups!$A$55:$D$64,4))*VLOOKUP($A478,Lookups!$C$2:$D$11,2))),0)<1,1,IF(ROUND(10.499-(((O478-VLOOKUP($A478,Lookups!$A$55:$D$64,3))/(VLOOKUP($A478,Lookups!$A$55:$D$64,4))*VLOOKUP($A478,Lookups!$C$2:$D$11,2))),0)<11,ROUND(10.499-(((O478-VLOOKUP($A478,Lookups!$A$55:$D$64,3))/(VLOOKUP($A478,Lookups!$A$55:$D$64,4))*VLOOKUP($A478,Lookups!$C$2:$D$11,2))),0),10))","v":7},null,{"$f":"VLOOKUP(A478,Lookups!$A$126:$C$135,3)","v":2},{"$f":"VLOOKUP(A478,Lookups!$A$126:$C$135,2)","v":"Food"},"No",0,{"$f":"IF($R478<>3,VLOOKUP($D478,'Points Table A'!$B$3:$F$33,5),VLOOKUP($D478,'Points Table A'!$H$3:$L$33,5))","v":0},{"$f":"IF($R478<>3,VLOOKUP($E478,'Points Table A'!$C$3:$F$33,4),VLOOKUP($E478,'Points Table A'!$I$3:$L$33,4))","v":0},{"$f":"IF($R478<>3,VLOOKUP($F478,'Points Table A'!$D$3:$F$33,3),VLOOKUP($F478,'Points Table A'!$J$3:$L$33,3))","v":0},{"$f":"IF($R478<>3,VLOOKUP($G478,'Points Table A'!$E$3:$F$33,2),VLOOKUP($G478,'Points Table A'!$K$3:$L$33,2))","v":0},0,{"$f":"IF($T478=Lookups!$B$113,VLOOKUP($J478,'Points Table C'!$A$3:$F$11,5),VLOOKUP($U478,'Points Table C'!$B$3:$F$11,4))","v":0},{"$f":"IF($R478=1,0,VLOOKUP($N478,'Points Table C'!$C$3:$E$18,3))","v":0},{"$f":"VLOOKUP($I478,'Points Table C'!$D$3:$E$18,2)","v":0},{"$f":"IF($Z478<Lookups!$C$106,(AA478+AB478+AC478),IF(AA478>=Lookups!$C$120,(AA478+AB478+AC478),AA478+AB478))","v":0}]
["Non-core foods","Enter a food name here","Company name",0,0,0,0,0,0,0,0,0,{"$f":"IF((SUM(D479:L479)=0),\"J\",VLOOKUP(P479,Lookups!$A$1:$B$11,2))","v":"J"},{"$f":"H479+(L479*Lookups!$C$102*H479/100)","v":0},0,{"$f":"IF(ROUND(10.499-(((O479-VLOOKUP($A479,Lookups!$A$55:$D$64,3))/(VLOOKUP($A479,Lookups!$A$55:$D$64,4))*VLOOKUP($A479,Lookups!$C$2:$D$11,2))),0)<1,1,IF(ROUND(10.499-(((O479-VLOOKUP($A479,Lookups!$A$55:$D$64,3))/(VLOOKUP($A479,Lookups!$A$55:$D$64,4))*VLOOKUP($A479,Lookups!$C$2:$D$11,2))),0)<11,ROUND(10.499-(((O479-VLOOKUP($A479,Lookups!$A$55:$D$64,3))/(VLOOKUP($A479,Lookups!$A$55:$D$64,4))*VLOOKUP($A479,Lookups!$C$2:$D$11,2))),0),10))","v":7},null,{"$f":"VLOOKUP(A479,Lookups!$A$126:$C$135,3)","v":2},{"$f":"VLOOKUP(A479,Lookups!$A$126:$C$135,2)","v":"Food"},"No",0,{"$f":"IF($R479<>3,VLOOKUP($D479,'Points Table A'!$B$3:$F$33,5),VLOOKUP($D479,'Points Table A'!$H$3:$L$33,5))","v":0},{"$f":"IF($R479<>3,VLOOKUP($E479,'Points Table A'!$C$3:$F$33,4),VLOOKUP($E479,'Points Table A'!$I$3:$L$33,4))","v":0},{"$f":"IF($R479<>3,VLOOKUP($F479,'Points Table A'!$D$3:$F$33,3),VLOOKUP($F479,'Points Table A'!$J$3:$L$33,3))","v":0},{"$f":"IF($R479<>3,VLOOKUP($G479,'Points Table A'!$E$3:$F$33,2),VLOOKUP($G479,'Points Table A'!$K$3:$L$33,2))","v":0},0,{"$f":"IF($T479=Lookups!$B$113,VLOOKUP($J479,'Points Table C'!$A$3:$F$11,5),VLOOKUP($U479,'Points Table C'!$B$3:$F$11,4))","v":0},{"$f":"IF($R479=1,0,VLOOKUP($N479,'Points Table C'!$C$3:$E$18,3))","v":0},{"$f":"VLOOKUP($I479,'Points Table C'!$D$3:$E$18,2)","v":0},{"$f":"IF($Z479<Lookups!$C$106,(AA479+AB479+AC479),IF(AA479>=Lookups!$C$120,(AA479+AB479+AC479),AA479+AB479))","v":0}]
["Non-core foods","Enter a food name here","Company name",0,0,0,0,0,0,0,0,0,{"$f":"IF((SUM(D480:L480)=0),\"J\",VLOOKUP(P480,Lookups!$A$1:$B$11,2))","v":"J"},{"$f":"H480+(L480*Lookups!$C$102*H480/100)","v":0},0,{"$f":"IF(ROUND(10.499-(((O480-VLOOKUP($A480,Lookups!$A$55:$D$64,3))/(VLOOKUP($A480,Lookups!$A$55:$D$64,4))*VLOOKUP($A480,Lookups!$C$2:$D$11,2))),0)<1,1,IF(ROUND(10.499-(((O480-VLOOKUP($A480,Lookups!$A$55:$D$64,3))/(VLOOKUP($A480,Lookups!$A$55:$D$64,4))*VLOOKUP($A480,Lookups!$C$2:$D$11,2))),0)<11,ROUND(10.499-(((O480-VLOOKUP($A480,Lookups!$A$55:$D$64,3))/(VLOOKUP($A480,Lookups!$A$55:$D$64,4))*VLOOKUP($A480,Lookups!$C$2:$D$11,2))),0),10))","v":7},null,{"$f":"VLOOKUP(A480,Lookups!$A$126:$C$135,3)","v":2},{"$f":"VLOOKUP(A480,Lookups!$A$126:$C$135,2)","v":"Food"},"No",0,{"$f":"IF($R480<>3,VLOOKUP($D480,'Points Table A'!$B$3:$F$33,5),VLOOKUP($D480,'Points Table A'!$H$3:$L$33,5))","v":0},{"$f":"IF($R480<>3,VLOOKUP($E480,'Points Table A'!$C$3:$F$33,4),VLOOKUP($E480,'Points Table A'!$I$3:$L$33,4))","v":0},{"$f":"IF($R480<>3,VLOOKUP($F480,'Points Table A'!$D$3:$F$33,3),VLOOKUP($F480,'Points Table A'!$J$3:$L$33,3))","v":0},{"$f":"IF($R480<>3,VLOOKUP($G480,'Points Table A'!$E$3:$F$33,2),VLOOKUP($G480,'Points Table A'!$K$3:$L$33,2))","v":0},0,{"$f":"IF($T480=Lookups!$B$113,VLOOKUP($J480,'Points Table C'!$A$3:$F$11,5),VLOOKUP($U480,'Points Table C'!$B$3:$F$11,4))","v":0},{"$f":"IF($R480=1,0,VLOOKUP($N480,'Points Table C'!$C$3:$E$18,3))","v":0},{"$f":"VLOOKUP($I480,'Points Table C'!$D$3:$E$18,2)","v":0},{"$f":"IF($Z480<Lookups!$C$106,(AA480+AB480+AC480),IF(AA480>=Lookups!$C$120,(AA480+AB480+AC480),AA480+AB480))","v":0}]
["Non-core foods","Enter a food name here","Company name",0,0,0,0,0,0,0,0,0,{"$f":"IF((SUM(D481:L481)=0),\"J\",VLOOKUP(P481,Lookups!$A$1:$B$11,2))","v":"J"},{"$f":"H481+(L481*Lookups!$C$102*H481/100)","v":0},0,{"$f":"IF(ROUND(10.499-(((O481-VLOOKUP($A481,Lookups!$A$55:$D$64,3))/(VLOOKUP($A481,Lookups!$A$55:$D$64,4))*VLOOKUP($A481,Lookups!$C$2:$D$11,2))),0)<1,1,IF(ROUND(10.499-(((O481-VLOOKUP($A481,Lookups!$A$55:$D$64,3))/(VLOOKUP($A481,Lookups!$A$55:$D$64,4))*VLOOKUP($A481,Lookups!$C$2:$D$11,2))),0)<11,ROUND(10.499-(((O481-VLOOKUP($A481,Lookups!$A$55:$D$64,3))/(VLOOKUP($A481,Lookups!$A$55:$D$64,4))*VLOOKUP($A481,Lookups!$C$2:$D$11,2))),0),10))","v":7},null,{"$f":"VLOOKUP(A481,Lookups!$A$126:$C$135,3)","v":2},{"$f":"VLOOKUP(A481,Lookups!$A$126:$C$135,2)","v":"Food"},"No",0,{"$f":"IF($R481<>3,VLOOKUP($D481,'Points Table A'!$B$3:$F$33,5),VLOOKUP($D481,'Points Table A'!$H$3:$L$33,5))","v":0},{"$f":"IF($R481<>3,VLOOKUP($E481,'Points Table A'!$C$3:$F$33,4),VLOOKUP($E481,'Points Table A'!$I$3:$L$33,4))","v":0},{"$f":"IF($R481<>3,VLOOKUP($F481,'Points Table A'!$D$3:$F$33,3),VLOOKUP($F481,'Points Table A'!$J$3:$L$33,3))","v":0},{"$f":"IF($R481<>3,VLOOKUP($G481,'Points Table A'!$E$3:$F$33,2),VLOOKUP($G481,'Points Table A'!$K$3:$L$33,2))","v":0},0,{"$f":"IF($T481=Lookups!$B$113,VLOOKUP($J481,'Points Table C'!$A$3:$F$11,5),VLOOKUP($U481,'Points Table C'!$B$3:$F$11,4))","v":0},{"$f":"IF($R481=1,0,VLOOKUP($N481,'Points Table C'!$C$3:$E$18,3))","v":0},{"$f":"VLOOKUP($I481,'Points Table C'!$D$3:$E$18,2)","v":0},{"$f":"IF($Z481<Lookups!$C$106,(AA481+AB481+AC481),IF(AA481>=Lookups!$C$120,(AA481+AB481+AC481),AA481+AB481))","v":0}]
["Non-core foods","Enter a food name here","Company name",0,0,0,0,0,0,0,0,0,{"$f":"IF((SUM(D482:L482)=0),\"J\",VLOOKUP(P482,Lookups!$A$1:$B$11,2))","v":"J"},{"$f":"H482+(L482*Lookups!$C$102*H482/100)","v":0},0,{"$f":"IF(ROUND(10.499-(((O482-VLOOKUP($A482,Lookups!$A$55:$D$64,3))/(VLOOKUP($A482,Lookups!$A$55:$D$64,4))*VLOOKUP($A482,Lookups!$C$2:$D$11,2))),0)<1,1,IF(ROUND(10.499-(((O482-VLOOKUP($A482,Lookups!$A$55:$D$64,3))/(VLOOKUP($A482,Lookups!$A$55:$D$64,4))*VLOOKUP($A482,Lookups!$C$2:$D$11,2))),0)<11,ROUND(10.499-(((O482-VLOOKUP($A482,Lookups!$A$55:$D$64,3))/(VLOOKUP($A482,Lookups!$A$55:$D$64,4))*VLOOKUP($A482,Lookups!$C$2:$D$11,2))),0),10))","v":7},null,{"$f":"VLOOKUP(A482,Lookups!$A$126:$C$135,3)","v":2},{"$f":"VLOOKUP(A482,Lookups!$A$126:$C$135,2)","v":"Food"},"No",0,{"$f":"IF($R482<>3,VLOOKUP($D482,'Points Table A'!$B$3:$F$33,5),VLOOKUP($D482,'Points Table A'!$H$3:$L$33,5))","v":0},{"$f":"IF($R482<>3,VLOOKUP($E482,'Points Table A'!$C$3:$F$33,4),VLOOKUP($E482,'Points Table A'!$I$3:$L$33,4))","v":0},{"$f":"IF($R482<>3,VLOOKUP($F482,'Points Table A'!$D$3:$F$33,3),VLOOKUP($F482,'Points Table A'!$J$3:$L$33,3))","v":0},{"$f":"IF($R482<>3,VLOOKUP($G482,'Points Table A'!$E$3:$F$33,2),VLOOKUP($G482,'Points Table A'!$K$3:$L$33,2))","v":0},0,{"$f":"IF($T482=Lookups!$B$113,VLOOKUP($J482,'Points Table C'!$A$3:$F$11,5),VLOOKUP($U482,'Points Table C'!$B$3:$F$11,4))","v":0},{"$f":"IF($R482=1,0,VLOOKUP($N482,'Points Table C'!$C$3:$E$18,3))","v":0},{"$f":"VLOOKUP($I482,'Points Table C'!$D$3:$E$18,2)","v":0},{"$f":"IF($Z482<Lookups!$C$106,(AA482+AB482+AC482),IF(AA482>=Lookups!$C$120,(AA482+AB482+AC482),AA482+AB482))","v":0}]
["Non-core foods","Enter a food name here","Company name",0,0,0,0,0,0,0,0,0,{"$f":"IF((SUM(D483:L483)=0),\"J\",VLOOKUP(P483,Lookups!$A$1:$B$11,2))","v":"J"},{"$f":"H483+(L483*Lookups!$C$102*H483/100)","v":0},0,{"$f":"IF(ROUND(10.499-(((O483-VLOOKUP($A483,Lookups!$A$55:$D$64,3))/(VLOOKUP($A483,Lookups!$A$55:$D$64,4))*VLOOKUP($A483,Lookups!$C$2:$D$11,2))),0)<1,1,IF(ROUND(10.499-(((O483-VLOOKUP($A483,Lookups!$A$55:$D$64,3))/(VLOOKUP($A483,Lookups!$A$55:$D$64,4))*VLOOKUP($A483,Lookups!$C$2:$D$11,2))),0)<11,ROUND(10.499-(((O483-VLOOKUP($A483,Lookups!$A$55:$D$64,3))/(VLOOKUP($A483,Lookups!$A$55:$D$64,4))*VLOOKUP($A483,Lookups!$C$2:$D$11,2))),0),10))","v":7},null,{"$f":"VLOOKUP(A483,Lookups!$A$126:$C$135,3)","v":2},{"$f":"VLOOKUP(A483,Lookups!$A$126:$C$135,2)","v":"Food"},"No",0,{"$f":"IF($R483<>3,VLOOKUP($D483,'Points Table A'!$B$3:$F$33,5),VLOOKUP($D483,'Points Table A'!$H$3:$L$33,5))","v":0},{"$f":"IF($R483<>3,VLOOKUP($E483,'Points Table A'!$C$3:$F$33,4),VLOOKUP($E483,'Points Table A'!$I$3:$L$33,4))","v":0},{"$f":"IF($R483<>3,VLOOKUP($F483,'Points Table A'!$D$3:$F$33,3),VLOOKUP($F483,'Points Table A'!$J$3:$L$33,3))","v":0},{"$f":"IF($R483<>3,VLOOKUP($G483,'Points Table A'!$E$3:$F$33,2),VLOOKUP($G483,'Points Table A'!$K$3:$L$33,2))","v":0},0,{"$f":"IF($T483=Lookups!$B$113,VLOOKUP($J483,'Points Table C'!$A$3:$F$11,5),VLOOKUP($U483,'Points Table C'!$B$3:$F$11,4))","v":0},{"$f":"IF($R483=1,0,VLOOKUP($N483,'Points Table C'!$C$3:$E$18,3))","v":0},{"$f":"VLOOKUP($I483,'Points Table C'!$D$3:$E$18,2)","v":0},{"$f":"IF($Z483<Lookups!$C$106,(AA483+AB483+AC483),IF(AA483>=Lookups!$C$120,(AA483+AB483+AC483),AA483+AB483))","v":0}]
["Non-core foods","Enter a food name here","Company name",0,0,0,0,0,0,0,0,0,{"$f":"IF((SUM(D484:L484)=0),\"J\",VLOOKUP(P484,Lookups!$A$1:$B$11,2))","v":"J"},{"$f":"H484+(L484*Lookups!$C$102*H484/100)","v":0},0,{"$f":"IF(ROUND(10.499-(((O484-VLOOKUP($A484,Lookups!$A$55:$D$64,3))/(VLOOKUP($A484,Lookups!$A$55:$D$64,4))*VLOOKUP($A484,Lookups!$C$2:$D$11,2))),0)<1,1,IF(ROUND(10.499-(((O484-VLOOKUP($A484,Lookups!$A$55:$D$64,3))/(VLOOKUP($A484,Lookups!$A$55:$D$64,4))*VLOOKUP($A484,Lookups!$C$2:$D$11,2))),0)<11,ROUND(10.499-(((O484-VLOOKUP($A484,Lookups!$A$55:$D$64,3))/(VLOOKUP($A484,Lookups!$A$55:$D$64,4))*VLOOKUP($A484,Lookups!$C$2:$D$11,2))),0),10))","v":7},null,{"$f":"VLOOKUP(A484,Lookups!$A$126:$C$135,3)","v":2},{"$f":"VLOOKUP(A484,Lookups!$A$126:$C$135,2)","v":"Food"},"No",0,{"$f":"IF($R484<>3,VLOOKUP($D484,'Points Table A'!$B$3:$F$33,5),VLOOKUP($D484,'Points Table A'!$H$3:$L$33,5))","v":0},{"$f":"IF($R484<>3,VLOOKUP($E484,'Points Table A'!$C$3:$F$33,4),VLOOKUP($E484,'Points Table A'!$I$3:$L$33,4))","v":0},{"$f":"IF($R484<>3,VLOOKUP($F484,'Points Table A'!$D$3:$F$33,3),VLOOKUP($F484,'Points Table A'!$J$3:$L$33,3))","v":0},{"$f":"IF($R484<>3,VLOOKUP($G484,'Points Table A'!$E$3:$F$33,2),VLOOKUP($G484,'Points Table A'!$K$3:$L$33,2))","v":0},0,{"$f":"IF($T484=Lookups!$B$113,VLOOKUP($J484,'Points Table C'!$A$3:$F$11,5),VLOOKUP($U484,'Points Table C'!$B$3:$F$11,4))","v":0},{"$f":"IF($R484=1,0,VLOOKUP($N484,'Points Table C'!$C$3:$E$18,3))","v":0},{"$f":"VLOOKUP($I484,'Points Table C'!$D$3:$E$18,2)","v":0},{"$f":"IF($Z484<Lookups!$C$106,(AA484+AB484+AC484),IF(AA484>=Lookups!$C$120,(AA484+AB484+AC484),AA484+AB484))","v":0}]
["Non-core foods","Enter a food name here","Company name",0,0,0,0,0,0,0,0,0,{"$f":"IF((SUM(D485:L485)=0),\"J\",VLOOKUP(P485,Lookups!$A$1:$B$11,2))","v":"J"},{"$f":"H485+(L485*Lookups!$C$102*H485/100)","v":0},0,{"$f":"IF(ROUND(10.499-(((O485-VLOOKUP($A485,Lookups!$A$55:$D$64,3))/(VLOOKUP($A485,Lookups!$A$55:$D$64,4))*VLOOKUP($A485,Lookups!$C$2:$D$11,2))),0)<1,1,IF(ROUND(10.499-(((O485-VLOOKUP($A485,Lookups!$A$55:$D$64,3))/(VLOOKUP($A485,Lookups!$A$55:$D$64,4))*VLOOKUP($A485,Lookups!$C$2:$D$11,2))),0)<11,ROUND(10.499-(((O485-VLOOKUP($A485,Lookups!$A$55:$D$64,3))/(VLOOKUP($A485,Lookups!$A$55:$D$64,4))*VLOOKUP($A485,Lookups!$C$2:$D$11,2))),0),10))","v":7},null,{"$f":"VLOOKUP(A485,Lookups!$A$126:$C$135,3)","v":2},{"$f":"VLOOKUP(A485,Lookups!$A$126:$C$135,2)","v":"Food"},"No",0,{"$f":"IF($R485<>3,VLOOKUP($D485,'Points Table A'!$B$3:$F$33,5),VLOOKUP($D485,'Points Table A'!$H$3:$L$33,5))","v":0},{"$f":"IF($R485<>3,VLOOKUP($E485,'Points Table A'!$C$3:$F$33,4),VLOOKUP($E485,'Points Table A'!$I$3:$L$33,4))","v":0},{"$f":"IF($R485<>3,VLOOKUP($F485,'Points Table A'!$D$3:$F$33,3),VLOOKUP($F485,'Points Table A'!$J$3:$L$33,3))","v":0},{"$f":"IF($R485<>3,VLOOKUP($G485,'Points Table A'!$E$3:$F$33,2),VLOOKUP($G485,'Points Table A'!$K$3:$L$33,2))","v":0},0,{"$f":"IF($T485=Lookups!$B$113,VLOOKUP($J485,'Points Table C'!$A$3:$F$11,5),VLOOKUP($U485,'Points Table C'!$B$3:$F$11,4))","v":0},{"$f":"IF($R485=1,0,VLOOKUP($N485,'Points Table C'!$C$3:$E$18,3))","v":0},{"$f":"VLOOKUP($I485,'Points Table C'!$D$3:$E$18,2)","v":0},{"$f":"IF($Z485<Lookups!$C$106,(AA485+AB485+AC485),IF(AA485>=Lookups!$C$120,(AA485+AB485+AC485),AA485+AB485))","v":0}]
["Non-core foods","Enter a food name here","Company name",0,0,0,0,0,0,0,0,0,{"$f":"IF((SUM(D486:L486)=0),\"J\",VLOOKUP(P486,Lookups!$A$1:$B$11,2))","v":"J"},{"$f":"H486+(L486*Lookups!$C$102*H486/100)","v":0},0,{"$f":"IF(ROUND(10.499-(((O486-VLOOKUP($A486,Lookups!$A$55:$D$64,3))/(VLOOKUP($A486,Lookups!$A$55:$D$64,4))*VLOOKUP($A486,Lookups!$C$2:$D$11,2))),0)<1,1,IF(ROUND(10.499-(((O486-VLOOKUP($A486,Lookups!$A$55:$D$64,3))/(VLOOKUP($A486,Lookups!$A$55:$D$64,4))*VLOOKUP($A486,Lookups!$C$2:$D$11,2))),0)<11,ROUND(10.499-(((O486-VLOOKUP($A486,Lookups!$A$55:$D$64,3))/(VLOOKUP($A486,Lookups!$A$55:$D$64,4))*VLOOKUP($A486,Lookups!$C$2:$D$11,2))),0),10))","v":7},null,{"$f":"VLOOKUP(A486,Lookups!$A$126:$C$135,3)","v":2},{"$f":"VLOOKUP(A486,Lookups!$A$126:$C$135,2)","v":"Food"},"No",0,{"$f":"IF($R486<>3,VLOOKUP($D486,'Points Table A'!$B$3:$F$33,5),VLOOKUP($D486,'Points Table A'!$H$3:$L$33,5))","v":0},{"$f":"IF($R486<>3,VLOOKUP($E486,'Points Table A'!$C$3:$F$33,4),VLOOKUP($E486,'Points Table A'!$I$3:$L$33,4))","v":0},{"$f":"IF($R486<>3,VLOOKUP($F486,'Points Table A'!$D$3:$F$33,3),VLOOKUP($F486,'Points Table A'!$J$3:$L$33,3))","v":0},{"$f":"IF($R486<>3,VLOOKUP($G486,'Points Table A'!$E$3:$F$33,2),VLOOKUP($G486,'Points Table A'!$K$3:$L$33,2))","v":0},0,{"$f":"IF($T486=Lookups!$B$113,VLOOKUP($J486,'Points Table C'!$A$3:$F$11,5),VLOOKUP($U486,'Points Table C'!$B$3:$F$11,4))","v":0},{"$f":"IF($R486=1,0,VLOOKUP($N486,'Points Table C'!$C$3:$E$18,3))","v":0},{"$f":"VLOOKUP($I486,'Points Table C'!$D$3:$E$18,2)","v":0},{"$f":"IF($Z486<Lookups!$C$106,(AA486+AB486+AC486),IF(AA486>=Lookups!$C$120,(AA486+AB486+AC486),AA486+AB486))","v":0}]
["Non-core foods","Enter a food name here","Company name",0,0,0,0,0,0,0,0,0,{"$f":"IF((SUM(D487:L487)=0),\"J\",VLOOKUP(P487,Lookups!$A$1:$B$11,2))","v":"J"},{"$f":"H487+(L487*Lookups!$C$102*H487/100)","v":0},0,{"$f":"IF(ROUND(10.499-(((O487-VLOOKUP($A487,Lookups!$A$55:$D$64,3))/(VLOOKUP($A487,Lookups!$A$55:$D$64,4))*VLOOKUP($A487,Lookups!$C$2:$D$11,2))),0)<1,1,IF(ROUND(10.499-(((O487-VLOOKUP($A487,Lookups!$A$55:$D$64,3))/(VLOOKUP($A487,Lookups!$A$55:$D$64,4))*VLOOKUP($A487,Lookups!$C$2:$D$11,2))),0)<11,ROUND(10.499-(((O487-VLOOKUP($A487,Lookups!$A$55:$D$64,3))/(VLOOKUP($A487,Lookups!$A$55:$D$64,4))*VLOOKUP($A487,Lookups!$C$2:$D$11,2))),0),10))","v":7},null,{"$f":"VLOOKUP(A487,Lookups!$A$126:$C$135,3)","v":2},{"$f":"VLOOKUP(A487,Lookups!$A$126:$C$135,2)","v":"Food"},"No",0,{"$f":"IF($R487<>3,VLOOKUP($D487,'Points Table A'!$B$3:$F$33,5),VLOOKUP($D487,'Points Table A'!$H$3:$L$33,5))","v":0},{"$f":"IF($R487<>3,VLOOKUP($E487,'Points Table A'!$C$3:$F$33,4),VLOOKUP($E487,'Points Table A'!$I$3:$L$33,4))","v":0},{"$f":"IF($R487<>3,VLOOKUP($F487,'Points Table A'!$D$3:$F$33,3),VLOOKUP($F487,'Points Table A'!$J$3:$L$33,3))","v":0},{"$f":"IF($R487<>3,VLOOKUP($G487,'Points Table A'!$E$3:$F$33,2),VLOOKUP($G487,'Points Table A'!$K$3:$L$33,2))","v":0},0,{"$f":"IF($T487=Lookups!$B$113,VLOOKUP($J487,'Points Table C'!$A$3:$F$11,5),VLOOKUP($U487,'Points Table C'!$B$3:$F$11,4))","v":0},{"$f":"IF($R487=1,0,VLOOKUP($N487,'Points Table C'!$C$3:$E$18,3))","v":0},{"$f":"VLOOKUP($I487,'Points Table C'!$D$3:$E$18,2)","v":0},{"$f":"IF($Z487<Lookups!$C$106,(AA487+AB487+AC487),IF(AA487>=Lookups!$C$120,(AA487+AB487+AC487),AA487+AB487))","v":0}]
["Non-core foods","Enter a food name here","Company name",0,0,0,0,0,0,0,0,0,{"$f":"IF((SUM(D488:L488)=0),\"J\",VLOOKUP(P488,Lookups!$A$1:$B$11,2))","v":"J"},{"$f":"H488+(L488*Lookups!$C$102*H488/100)","v":0},0,{"$f":"IF(ROUND(10.499-(((O488-VLOOKUP($A488,Lookups!$A$55:$D$64,3))/(VLOOKUP($A488,Lookups!$A$55:$D$64,4))*VLOOKUP($A488,Lookups!$C$2:$D$11,2))),0)<1,1,IF(ROUND(10.499-(((O488-VLOOKUP($A488,Lookups!$A$55:$D$64,3))/(VLOOKUP($A488,Lookups!$A$55:$D$64,4))*VLOOKUP($A488,Lookups!$C$2:$D$11,2))),0)<11,ROUND(10.499-(((O488-VLOOKUP($A488,Lookups!$A$55:$D$64,3))/(VLOOKUP($A488,Lookups!$A$55:$D$64,4))*VLOOKUP($A488,Lookups!$C$2:$D$11,2))),0),10))","v":7},null,{"$f":"VLOOKUP(A488,Lookups!$A$126:$C$135,3)","v":2},{"$f":"VLOOKUP(A488,Lookups!$A$126:$C$135,2)","v":"Food"},"No",0,{"$f":"IF($R488<>3,VLOOKUP($D488,'Points Table A'!$B$3:$F$33,5),VLOOKUP($D488,'Points Table A'!$H$3:$L$33,5))","v":0},{"$f":"IF($R488<>3,VLOOKUP($E488,'Points Table A'!$C$3:$F$33,4),VLOOKUP($E488,'Points Table A'!$I$3:$L$33,4))","v":0},{"$f":"IF($R488<>3,VLOOKUP($F488,'Points Table A'!$D$3:$F$33,3),VLOOKUP($F488,'Points Table A'!$J$3:$L$33,3))","v":0},{"$f":"IF($R488<>3,VLOOKUP($G488,'Points Table A'!$E$3:$F$33,2),VLOOKUP($G488,'Points Table A'!$K$3:$L$33,2))","v":0},0,{"$f":"IF($T488=Lookups!$B$113,VLOOKUP($J488,'Points Table C'!$A$3:$F$11,5),VLOOKUP($U488,'Points Table C'!$B$3:$F$11,4))","v":0},{"$f":"IF($R488=1,0,VLOOKUP($N488,'Points Table C'!$C$3:$E$18,3))","v":0},{"$f":"VLOOKUP($I488,'Points Table C'!$D$3:$E$18,2)","v":0},{"$f":"IF($Z488<Lookups!$C$106,(AA488+AB488+AC488),IF(AA488>=Lookups!$C$120,(AA488+AB488+AC488),AA488+AB488))","v":0}]
["Non-core foods","Enter a food name here","Company name",0,0,0,0,0,0,0,0,0,{"$f":"IF((SUM(D489:L489)=0),\"J\",VLOOKUP(P489,Lookups!$A$1:$B$11,2))","v":"J"},{"$f":"H489+(L489*Lookups!$C$102*H489/100)","v":0},0,{"$f":"IF(ROUND(10.499-(((O489-VLOOKUP($A489,Lookups!$A$55:$D$64,3))/(VLOOKUP($A489,Lookups!$A$55:$D$64,4))*VLOOKUP($A489,Lookups!$C$2:$D$11,2))),0)<1,1,IF(ROUND(10.499-(((O489-VLOOKUP($A489,Lookups!$A$55:$D$64,3))/(VLOOKUP($A489,Lookups!$A$55:$D$64,4))*VLOOKUP($A489,Lookups!$C$2:$D$11,2))),0)<11,ROUND(10.499-(((O489-VLOOKUP($A489,Lookups!$A$55:$D$64,3))/(VLOOKUP($A489,Lookups!$A$55:$D$64,4))*VLOOKUP($A489,Lookups!$C$2:$D$11,2))),0),10))","v":7},null,{"$f":"VLOOKUP(A489,Lookups!$A$126:$C$135,3)","v":2},{"$f":"VLOOKUP(A489,Lookups!$A$126:$C$135,2)","v":"Food"},"No",0,{"$f":"IF($R489<>3,VLOOKUP($D489,'Points Table A'!$B$3:$F$33,5),VLOOKUP($D489,'Points Table A'!$H$3:$L$33,5))","v":0},{"$f":"IF($R489<>3,VLOOKUP($E489,'Points Table A'!$C$3:$F$33,4),VLOOKUP($E489,'Points Table A'!$I$3:$L$33,4))","v":0},{"$f":"IF($R489<>3,VLOOKUP($F489,'Points Table A'!$D$3:$F$33,3),VLOOKUP($F489,'Points Table A'!$J$3:$L$33,3))","v":0},{"$f":"IF($R489<>3,VLOOKUP($G489,'Points Table A'!$E$3:$F$33,2),VLOOKUP($G489,'Points Table A'!$K$3:$L$33,2))","v":0},0,{"$f":"IF($T489=Lookups!$B$113,VLOOKUP($J489,'Points Table C'!$A$3:$F$11,5),VLOOKUP($U489,'Points Table C'!$B$3:$F$11,4))","v":0},{"$f":"IF($R489=1,0,VLOOKUP($N489,'Points Table C'!$C$3:$E$18,3))","v":0},{"$f":"VLOOKUP($I489,'Points Table C'!$D$3:$E$18,2)","v":0},{"$f":"IF($Z489<Lookups!$C$106,(AA489+AB489+AC489),IF(AA489>=Lookups!$C$120,(AA489+AB489+AC489),AA489+AB489))","v":0}]
["Non-core foods","Enter a food name here","Company name",0,0,0,0,0,0,0,0,0,{"$f":"IF((SUM(D490:L490)=0),\"J\",VLOOKUP(P490,Lookups!$A$1:$B$11,2))","v":"J"},{"$f":"H490+(L490*Lookups!$C$102*H490/100)","v":0},0,{"$f":"IF(ROUND(10.499-(((O490-VLOOKUP($A490,Lookups!$A$55:$D$64,3))/(VLOOKUP($A490,Lookups!$A$55:$D$64,4))*VLOOKUP($A490,Lookups!$C$2:$D$11,2))),0)<1,1,IF(ROUND(10.499-(((O490-VLOOKUP($A490,Lookups!$A$55:$D$64,3))/(VLOOKUP($A490,Lookups!$A$55:$D$64,4))*VLOOKUP($A490,Lookups!$C$2:$D$11,2))),0)<11,ROUND(10.499-(((O490-VLOOKUP($A490,Lookups!$A$55:$D$64,3))/(VLOOKUP($A490,Lookups!$A$55:$D$64,4))*VLOOKUP($A490,Lookups!$C$2:$D$11,2))),0),10))","v":7},null,{"$f":"VLOOKUP(A490,Lookups!$A$126:$C$135,3)","v":2},{"$f":"VLOOKUP(A490,Lookups!$A$126:$C$135,2)","v":"Food"},"No",0,{"$f":"IF($R490<>3,VLOOKUP($D490,'Points Table A'!$B$3:$F$33,5),VLOOKUP($D490,'Points Table A'!$H$3:$L$33,5))","v":0},{"$f":"IF($R490<>3,VLOOKUP($E490,'Points Table A'!$C$3:$F$33,4),VLOOKUP($E490,'Points Table A'!$I$3:$L$33,4))","v":0},{"$f":"IF($R490<>3,VLOOKUP($F490,'Points Table A'!$D$3:$F$33,3),VLOOKUP($F490,'Points Table A'!$J$3:$L$33,3))","v":0},{"$f":"IF($R490<>3,VLOOKUP($G490,'Points Table A'!$E$3:$F$33,2),VLOOKUP($G490,'Points Table A'!$K$3:$L$33,2))","v":0},0,{"$f":"IF($T490=Lookups!$B$113,VLOOKUP($J490,'Points Table C'!$A$3:$F$11,5),VLOOKUP($U490,'Points Table C'!$B$3:$F$11,4))","v":0},{"$f":"IF($R490=1,0,VLOOKUP($N490,'Points Table C'!$C$3:$E$18,3))","v":0},{"$f":"VLOOKUP($I490,'Points Table C'!$D$3:$E$18,2)","v":0},{"$f":"IF($Z490<Lookups!$C$106,(AA490+AB490+AC490),IF(AA490>=Lookups!$C$120,(AA490+AB490+AC490),AA490+AB490))","v":0}]
["Non-core foods","Enter a food name here","Company name",0,0,0,0,0,0,0,0,0,{"$f":"IF((SUM(D491:L491)=0),\"J\",VLOOKUP(P491,Lookups!$A$1:$B$11,2))","v":"J"},{"$f":"H491+(L491*Lookups!$C$102*H491/100)","v":0},0,{"$f":"IF(ROUND(10.499-(((O491-VLOOKUP($A491,Lookups!$A$55:$D$64,3))/(VLOOKUP($A491,Lookups!$A$55:$D$64,4))*VLOOKUP($A491,Lookups!$C$2:$D$11,2))),0)<1,1,IF(ROUND(10.499-(((O491-VLOOKUP($A491,Lookups!$A$55:$D$64,3))/(VLOOKUP($A491,Lookups!$A$55:$D$64,4))*VLOOKUP($A491,Lookups!$C$2:$D$11,2))),0)<11,ROUND(10.499-(((O491-VLOOKUP($A491,Lookups!$A$55:$D$64,3))/(VLOOKUP($A491,Lookups!$A$55:$D$64,4))*VLOOKUP($A491,Lookups!$C$2:$D$11,2))),0),10))","v":7},null,{"$f":"VLOOKUP(A491,Lookups!$A$126:$C$135,3)","v":2},{"$f":"VLOOKUP(A491,Lookups!$A$126:$C$135,2)","v":"Food"},"No",0,{"$f":"IF($R491<>3,VLOOKUP($D491,'Points Table A'!$B$3:$F$33,5),VLOOKUP($D491,'Points Table A'!$H$3:$L$33,5))","v":0},{"$f":"IF($R491<>3,VLOOKUP($E491,'Points Table A'!$C$3:$F$33,4),VLOOKUP($E491,'Points Table A'!$I$3:$L$33,4))","v":0},{"$f":"IF($R491<>3,VLOOKUP($F491,'Points Table A'!$D$3:$F$33,3),VLOOKUP($F491,'Points Table A'!$J$3:$L$33,3))","v":0},{"$f":"IF($R491<>3,VLOOKUP($G491,'Points Table A'!$E$3:$F$33,2),VLOOKUP($G491,'Points Table A'!$K$3:$L$33,2))","v":0},0,{"$f":"IF($T491=Lookups!$B$113,VLOOKUP($J491,'Points Table C'!$A$3:$F$11,5),VLOOKUP($U491,'Points Table C'!$B$3:$F$11,4))","v":0},{"$f":"IF($R491=1,0,VLOOKUP($N491,'Points Table C'!$C$3:$E$18,3))","v":0},{"$f":"VLOOKUP($I491,'Points Table C'!$D$3:$E$18,2)","v":0},{"$f":"IF($Z491<Lookups!$C$106,(AA491+AB491+AC491),IF(AA491>=Lookups!$C$120,(AA491+AB491+AC491),AA491+AB491))","v":0}]
["Non-core foods","Enter a food name here","Company name",0,0,0,0,0,0,0,0,0,{"$f":"IF((SUM(D492:L492)=0),\"J\",VLOOKUP(P492,Lookups!$A$1:$B$11,2))","v":"J"},{"$f":"H492+(L492*Lookups!$C$102*H492/100)","v":0},0,{"$f":"IF(ROUND(10.499-(((O492-VLOOKUP($A492,Lookups!$A$55:$D$64,3))/(VLOOKUP($A492,Lookups!$A$55:$D$64,4))*VLOOKUP($A492,Lookups!$C$2:$D$11,2))),0)<1,1,IF(ROUND(10.499-(((O492-VLOOKUP($A492,Lookups!$A$55:$D$64,3))/(VLOOKUP($A492,Lookups!$A$55:$D$64,4))*VLOOKUP($A492,Lookups!$C$2:$D$11,2))),0)<11,ROUND(10.499-(((O492-VLOOKUP($A492,Lookups!$A$55:$D$64,3))/(VLOOKUP($A492,Lookups!$A$55:$D$64,4))*VLOOKUP($A492,Lookups!$C$2:$D$11,2))),0),10))","v":7},null,{"$f":"VLOOKUP(A492,Lookups!$A$126:$C$135,3)","v":2},{"$f":"VLOOKUP(A492,Lookups!$A$126:$C$135,2)","v":"Food"},"No",0,{"$f":"IF($R492<>3,VLOOKUP($D492,'Points Table A'!$B$3:$F$33,5),VLOOKUP($D492,'Points Table A'!$H$3:$L$33,5))","v":0},{"$f":"IF($R492<>3,VLOOKUP($E492,'Points Table A'!$C$3:$F$33,4),VLOOKUP($E492,'Points Table A'!$I$3:$L$33,4))","v":0},{"$f":"IF($R492<>3,VLOOKUP($F492,'Points Table A'!$D$3:$F$33,3),VLOOKUP($F492,'Points Table A'!$J$3:$L$33,3))","v":0},{"$f":"IF($R492<>3,VLOOKUP($G492,'Points Table A'!$E$3:$F$33,2),VLOOKUP($G492,'Points Table A'!$K$3:$L$33,2))","v":0},0,{"$f":"IF($T492=Lookups!$B$113,VLOOKUP($J492,'Points Table C'!$A$3:$F$11,5),VLOOKUP($U492,'Points Table C'!$B$3:$F$11,4))","v":0},{"$f":"IF($R492=1,0,VLOOKUP($N492,'Points Table C'!$C$3:$E$18,3))","v":0},{"$f":"VLOOKUP($I492,'Points Table C'!$D$3:$E$18,2)","v":0},{"$f":"IF($Z492<Lookups!$C$106,(AA492+AB492+AC492),IF(AA492>=Lookups!$C$120,(AA492+AB492+AC492),AA492+AB492))","v":0}]
["Non-core foods","Enter a food name here","Company name",0,0,0,0,0,0,0,0,0,{"$f":"IF((SUM(D493:L493)=0),\"J\",VLOOKUP(P493,Lookups!$A$1:$B$11,2))","v":"J"},{"$f":"H493+(L493*Lookups!$C$102*H493/100)","v":0},0,{"$f":"IF(ROUND(10.499-(((O493-VLOOKUP($A493,Lookups!$A$55:$D$64,3))/(VLOOKUP($A493,Lookups!$A$55:$D$64,4))*VLOOKUP($A493,Lookups!$C$2:$D$11,2))),0)<1,1,IF(ROUND(10.499-(((O493-VLOOKUP($A493,Lookups!$A$55:$D$64,3))/(VLOOKUP($A493,Lookups!$A$55:$D$64,4))*VLOOKUP($A493,Lookups!$C$2:$D$11,2))),0)<11,ROUND(10.499-(((O493-VLOOKUP($A493,Lookups!$A$55:$D$64,3))/(VLOOKUP($A493,Lookups!$A$55:$D$64,4))*VLOOKUP($A493,Lookups!$C$2:$D$11,2))),0),10))","v":7},null,{"$f":"VLOOKUP(A493,Lookups!$A$126:$C$135,3)","v":2},{"$f":"VLOOKUP(A493,Lookups!$A$126:$C$135,2)","v":"Food"},"No",0,{"$f":"IF($R493<>3,VLOOKUP($D493,'Points Table A'!$B$3:$F$33,5),VLOOKUP($D493,'Points Table A'!$H$3:$L$33,5))","v":0},{"$f":"IF($R493<>3,VLOOKUP($E493,'Points Table A'!$C$3:$F$33,4),VLOOKUP($E493,'Points Table A'!$I$3:$L$33,4))","v":0},{"$f":"IF($R493<>3,VLOOKUP($F493,'Points Table A'!$D$3:$F$33,3),VLOOKUP($F493,'Points Table A'!$J$3:$L$33,3))","v":0},{"$f":"IF($R493<>3,VLOOKUP($G493,'Points Table A'!$E$3:$F$33,2),VLOOKUP($G493,'Points Table A'!$K$3:$L$33,2))","v":0},0,{"$f":"IF($T493=Lookups!$B$113,VLOOKUP($J493,'Points Table C'!$A$3:$F$11,5),VLOOKUP($U493,'Points Table C'!$B$3:$F$11,4))","v":0},{"$f":"IF($R493=1,0,VLOOKUP($N493,'Points Table C'!$C$3:$E$18,3))","v":0},{"$f":"VLOOKUP($I493,'Points Table C'!$D$3:$E$18,2)","v":0},{"$f":"IF($Z493<Lookups!$C$106,(AA493+AB493+AC493),IF(AA493>=Lookups!$C$120,(AA493+AB493+AC493),AA493+AB493))","v":0}]
["Non-core foods","Enter a food name here","Company name",0,0,0,0,0,0,0,0,0,{"$f":"IF((SUM(D494:L494)=0),\"J\",VLOOKUP(P494,Lookups!$A$1:$B$11,2))","v":"J"},{"$f":"H494+(L494*Lookups!$C$102*H494/100)","v":0},0,{"$f":"IF(ROUND(10.499-(((O494-VLOOKUP($A494,Lookups!$A$55:$D$64,3))/(VLOOKUP($A494,Lookups!$A$55:$D$64,4))*VLOOKUP($A494,Lookups!$C$2:$D$11,2))),0)<1,1,IF(ROUND(10.499-(((O494-VLOOKUP($A494,Lookups!$A$55:$D$64,3))/(VLOOKUP($A494,Lookups!$A$55:$D$64,4))*VLOOKUP($A494,Lookups!$C$2:$D$11,2))),0)<11,ROUND(10.499-(((O494-VLOOKUP($A494,Lookups!$A$55:$D$64,3))/(VLOOKUP($A494,Lookups!$A$55:$D$64,4))*VLOOKUP($A494,Lookups!$C$2:$D$11,2))),0),10))","v":7},null,{"$f":"VLOOKUP(A494,Lookups!$A$126:$C$135,3)","v":2},{"$f":"VLOOKUP(A494,Lookups!$A$126:$C$135,2)","v":"Food"},"No",0,{"$f":"IF($R494<>3,VLOOKUP($D494,'Points Table A'!$B$3:$F$33,5),VLOOKUP($D494,'Points Table A'!$H$3:$L$33,5))","v":0},{"$f":"IF($R494<>3,VLOOKUP($E494,'Points Table A'!$C$3:$F$33,4),VLOOKUP($E494,'Points Table A'!$I$3:$L$33,4))","v":0},{"$f":"IF($R494<>3,VLOOKUP($F494,'Points Table A'!$D$3:$F$33,3),VLOOKUP($F494,'Points Table A'!$J$3:$L$33,3))","v":0},{"$f":"IF($R494<>3,VLOOKUP($G494,'Points Table A'!$E$3:$F$33,2),VLOOKUP($G494,'Points Table A'!$K$3:$L$33,2))","v":0},0,{"$f":"IF($T494=Lookups!$B$113,VLOOKUP($J494,'Points Table C'!$A$3:$F$11,5),VLOOKUP($U494,'Points Table C'!$B$3:$F$11,4))","v":0},{"$f":"IF($R494=1,0,VLOOKUP($N494,'Points Table C'!$C$3:$E$18,3))","v":0},{"$f":"VLOOKUP($I494,'Points Table C'!$D$3:$E$18,2)","v":0},{"$f":"IF($Z494<Lookups!$C$106,(AA494+AB494+AC494),IF(AA494>=Lookups!$C$120,(AA494+AB494+AC494),AA494+AB494))","v":0}]
["Non-core foods","Enter a food name here","Company name",0,0,0,0,0,0,0,0,0,{"$f":"IF((SUM(D495:L495)=0),\"J\",VLOOKUP(P495,Lookups!$A$1:$B$11,2))","v":"J"},{"$f":"H495+(L495*Lookups!$C$102*H495/100)","v":0},0,{"$f":"IF(ROUND(10.499-(((O495-VLOOKUP($A495,Lookups!$A$55:$D$64,3))/(VLOOKUP($A495,Lookups!$A$55:$D$64,4))*VLOOKUP($A495,Lookups!$C$2:$D$11,2))),0)<1,1,IF(ROUND(10.499-(((O495-VLOOKUP($A495,Lookups!$A$55:$D$64,3))/(VLOOKUP($A495,Lookups!$A$55:$D$64,4))*VLOOKUP($A495,Lookups!$C$2:$D$11,2))),0)<11,ROUND(10.499-(((O495-VLOOKUP($A495,Lookups!$A$55:$D$64,3))/(VLOOKUP($A495,Lookups!$A$55:$D$64,4))*VLOOKUP($A495,Lookups!$C$2:$D$11,2))),0),10))","v":7},null,{"$f":"VLOOKUP(A495,Lookups!$A$126:$C$135,3)","v":2},{"$f":"VLOOKUP(A495,Lookups!$A$126:$C$135,2)","v":"Food"},"No",0,{"$f":"IF($R495<>3,VLOOKUP($D495,'Points Table A'!$B$3:$F$33,5),VLOOKUP($D495,'Points Table A'!$H$3:$L$33,5))","v":0},{"$f":"IF($R495<>3,VLOOKUP($E495,'Points Table A'!$C$3:$F$33,4),VLOOKUP($E495,'Points Table A'!$I$3:$L$33,4))","v":0},{"$f":"IF($R495<>3,VLOOKUP($F495,'Points Table A'!$D$3:$F$33,3),VLOOKUP($F495,'Points Table A'!$J$3:$L$33,3))","v":0},{"$f":"IF($R495<>3,VLOOKUP($G495,'Points Table A'!$E$3:$F$33,2),VLOOKUP($G495,'Points Table A'!$K$3:$L$33,2))","v":0},0,{"$f":"IF($T495=Lookups!$B$113,VLOOKUP($J495,'Points Table C'!$A$3:$F$11,5),VLOOKUP($U495,'Points Table C'!$B$3:$F$11,4))","v":0},{"$f":"IF($R495=1,0,VLOOKUP($N495,'Points Table C'!$C$3:$E$18,3))","v":0},{"$f":"VLOOKUP($I495,'Points Table C'!$D$3:$E$18,2)","v":0},{"$f":"IF($Z495<Lookups!$C$106,(AA495+AB495+AC495),IF(AA495>=Lookups!$C$120,(AA495+AB495+AC495),AA495+AB495))","v":0}]
["Non-core foods","Enter a food name here","Company name",0,0,0,0,0,0,0,0,0,{"$f":"IF((SUM(D496:L496)=0),\"J\",VLOOKUP(P496,Lookups!$A$1:$B$11,2))","v":"J"},{"$f":"H496+(L496*Lookups!$C$102*H496/100)","v":0},0,{"$f":"IF(ROUND(10.499-(((O496-VLOOKUP($A496,Lookups!$A$55:$D$64,3))/(VLOOKUP($A496,Lookups!$A$55:$D$64,4))*VLOOKUP($A496,Lookups!$C$2:$D$11,2))),0)<1,1,IF(ROUND(10.499-(((O496-VLOOKUP($A496,Lookups!$A$55:$D$64,3))/(VLOOKUP($A496,Lookups!$A$55:$D$64,4))*VLOOKUP($A496,Lookups!$C$2:$D$11,2))),0)<11,ROUND(10.499-(((O496-VLOOKUP($A496,Lookups!$A$55:$D$64,3))/(VLOOKUP($A496,Lookups!$A$55:$D$64,4))*VLOOKUP($A496,Lookups!$C$2:$D$11,2))),0),10))","v":7},null,{"$f":"VLOOKUP(A496,Lookups!$A$126:$C$135,3)","v":2},{"$f":"VLOOKUP(A496,Lookups!$A$126:$C$135,2)","v":"Food"},"No",0,{"$f":"IF($R496<>3,VLOOKUP($D496,'Points Table A'!$B$3:$F$33,5),VLOOKUP($D496,'Points Table A'!$H$3:$L$33,5))","v":0},{"$f":"IF($R496<>3,VLOOKUP($E496,'Points Table A'!$C$3:$F$33,4),VLOOKUP($E496,'Points Table A'!$I$3:$L$33,4))","v":0},{"$f":"IF($R496<>3,VLOOKUP($F496,'Points Table A'!$D$3:$F$33,3),VLOOKUP($F496,'Points Table A'!$J$3:$L$33,3))","v":0},{"$f":"IF($R496<>3,VLOOKUP($G496,'Points Table A'!$E$3:$F$33,2),VLOOKUP($G496,'Points Table A'!$K$3:$L$33,2))","v":0},0,{"$f":"IF($T496=Lookups!$B$113,VLOOKUP($J496,'Points Table C'!$A$3:$F$11,5),VLOOKUP($U496,'Points Table C'!$B$3:$F$11,4))","v":0},{"$f":"IF($R496=1,0,VLOOKUP($N496,'Points Table C'!$C$3:$E$18,3))","v":0},{"$f":"VLOOKUP($I496,'Points Table C'!$D$3:$E$18,2)","v":0},{"$f":"IF($Z496<Lookups!$C$106,(AA496+AB496+AC496),IF(AA496>=Lookups!$C$120,(AA496+AB496+AC496),AA496+AB496))","v":0}]
["Non-core foods","Enter a food name here","Company name",0,0,0,0,0,0,0,0,0,{"$f":"IF((SUM(D497:L497)=0),\"J\",VLOOKUP(P497,Lookups!$A$1:$B$11,2))","v":"J"},{"$f":"H497+(L497*Lookups!$C$102*H497/100)","v":0},0,{"$f":"IF(ROUND(10.499-(((O497-VLOOKUP($A497,Lookups!$A$55:$D$64,3))/(VLOOKUP($A497,Lookups!$A$55:$D$64,4))*VLOOKUP($A497,Lookups!$C$2:$D$11,2))),0)<1,1,IF(ROUND(10.499-(((O497-VLOOKUP($A497,Lookups!$A$55:$D$64,3))/(VLOOKUP($A497,Lookups!$A$55:$D$64,4))*VLOOKUP($A497,Lookups!$C$2:$D$11,2))),0)<11,ROUND(10.499-(((O497-VLOOKUP($A497,Lookups!$A$55:$D$64,3))/(VLOOKUP($A497,Lookups!$A$55:$D$64,4))*VLOOKUP($A497,Lookups!$C$2:$D$11,2))),0),10))","v":7},null,{"$f":"VLOOKUP(A497,Lookups!$A$126:$C$135,3)","v":2},{"$f":"VLOOKUP(A497,Lookups!$A$126:$C$135,2)","v":"Food"},"No",0,{"$f":"IF($R497<>3,VLOOKUP($D497,'Points Table A'!$B$3:$F$33,5),VLOOKUP($D497,'Points Table A'!$H$3:$L$33,5))","v":0},{"$f":"IF($R497<>3,VLOOKUP($E497,'Points Table A'!$C$3:$F$33,4),VLOOKUP($E497,'Points Table A'!$I$3:$L$33,4))","v":0},{"$f":"IF($R497<>3,VLOOKUP($F497,'Points Table A'!$D$3:$F$33,3),VLOOKUP($F497,'Points Table A'!$J$3:$L$33,3))","v":0},{"$f":"IF($R497<>3,VLOOKUP($G497,'Points Table A'!$E$3:$F$33,2),VLOOKUP($G497,'Points Table A'!$K$3:$L$33,2))","v":0},0,{"$f":"IF($T497=Lookups!$B$113,VLOOKUP($J497,'Points Table C'!$A$3:$F$11,5),VLOOKUP($U497,'Points Table C'!$B$3:$F$11,4))","v":0},{"$f":"IF($R497=1,0,VLOOKUP($N497,'Points Table C'!$C$3:$E$18,3))","v":0},{"$f":"VLOOKUP($I497,'Points Table C'!$D$3:$E$18,2)","v":0},{"$f":"IF($Z497<Lookups!$C$106,(AA497+AB497+AC497),IF(AA497>=Lookups!$C$120,(AA497+AB497+AC497),AA497+AB497))","v":0}]
["Non-core foods","Enter a food name here","Company name",0,0,0,0,0,0,0,0,0,{"$f":"IF((SUM(D498:L498)=0),\"J\",VLOOKUP(P498,Lookups!$A$1:$B$11,2))","v":"J"},{"$f":"H498+(L498*Lookups!$C$102*H498/100)","v":0},0,{"$f":"IF(ROUND(10.499-(((O498-VLOOKUP($A498,Lookups!$A$55:$D$64,3))/(VLOOKUP($A498,Lookups!$A$55:$D$64,4))*VLOOKUP($A498,Lookups!$C$2:$D$11,2))),0)<1,1,IF(ROUND(10.499-(((O498-VLOOKUP($A498,Lookups!$A$55:$D$64,3))/(VLOOKUP($A498,Lookups!$A$55:$D$64,4))*VLOOKUP($A498,Lookups!$C$2:$D$11,2))),0)<11,ROUND(10.499-(((O498-VLOOKUP($A498,Lookups!$A$55:$D$64,3))/(VLOOKUP($A498,Lookups!$A$55:$D$64,4))*VLOOKUP($A498,Lookups!$C$2:$D$11,2))),0),10))","v":7},null,{"$f":"VLOOKUP(A498,Lookups!$A$126:$C$135,3)","v":2},{"$f":"VLOOKUP(A498,Lookups!$A$126:$C$135,2)","v":"Food"},"No",0,{"$f":"IF($R498<>3,VLOOKUP($D498,'Points Table A'!$B$3:$F$33,5),VLOOKUP($D498,'Points Table A'!$H$3:$L$33,5))","v":0},{"$f":"IF($R498<>3,VLOOKUP($E498,'Points Table A'!$C$3:$F$33,4),VLOOKUP($E498,'Points Table A'!$I$3:$L$33,4))","v":0},{"$f":"IF($R498<>3,VLOOKUP($F498,'Points Table A'!$D$3:$F$33,3),VLOOKUP($F498,'Points Table A'!$J$3:$L$33,3))","v":0},{"$f":"IF($R498<>3,VLOOKUP($G498,'Points Table A'!$E$3:$F$33,2),VLOOKUP($G498,'Points Table A'!$K$3:$L$33,2))","v":0},0,{"$f":"IF($T498=Lookups!$B$113,VLOOKUP($J498,'Points Table C'!$A$3:$F$11,5),VLOOKUP($U498,'Points Table C'!$B$3:$F$11,4))","v":0},{"$f":"IF($R498=1,0,VLOOKUP($N498,'Points Table C'!$C$3:$E$18,3))","v":0},{"$f":"VLOOKUP($I498,'Points Table C'!$D$3:$E$18,2)","v":0},{"$f":"IF($Z498<Lookups!$C$106,(AA498+AB498+AC498),IF(AA498>=Lookups!$C$120,(AA498+AB498+AC498),AA498+AB498))","v":0}]
["Non-core foods","Enter a food name here","Company name",0,0,0,0,0,0,0,0,0,{"$f":"IF((SUM(D499:L499)=0),\"J\",VLOOKUP(P499,Lookups!$A$1:$B$11,2))","v":"J"},{"$f":"H499+(L499*Lookups!$C$102*H499/100)","v":0},0,{"$f":"IF(ROUND(10.499-(((O499-VLOOKUP($A499,Lookups!$A$55:$D$64,3))/(VLOOKUP($A499,Lookups!$A$55:$D$64,4))*VLOOKUP($A499,Lookups!$C$2:$D$11,2))),0)<1,1,IF(ROUND(10.499-(((O499-VLOOKUP($A499,Lookups!$A$55:$D$64,3))/(VLOOKUP($A499,Lookups!$A$55:$D$64,4))*VLOOKUP($A499,Lookups!$C$2:$D$11,2))),0)<11,ROUND(10.499-(((O499-VLOOKUP($A499,Lookups!$A$55:$D$64,3))/(VLOOKUP($A499,Lookups!$A$55:$D$64,4))*VLOOKUP($A499,Lookups!$C$2:$D$11,2))),0),10))","v":7},null,{"$f":"VLOOKUP(A499,Lookups!$A$126:$C$135,3)","v":2},{"$f":"VLOOKUP(A499,Lookups!$A$126:$C$135,2)","v":"Food"},"No",0,{"$f":"IF($R499<>3,VLOOKUP($D499,'Points Table A'!$B$3:$F$33,5),VLOOKUP($D499,'Points Table A'!$H$3:$L$33,5))","v":0},{"$f":"IF($R499<>3,VLOOKUP($E499,'Points Table A'!$C$3:$F$33,4),VLOOKUP($E499,'Points Table A'!$I$3:$L$33,4))","v":0},{"$f":"IF($R499<>3,VLOOKUP($F499,'Points Table A'!$D$3:$F$33,3),VLOOKUP($F499,'Points Table A'!$J$3:$L$33,3))","v":0},{"$f":"IF($R499<>3,VLOOKUP($G499,'Points Table A'!$E$3:$F$33,2),VLOOKUP($G499,'Points Table A'!$K$3:$L$33,2))","v":0},0,{"$f":"IF($T499=Lookups!$B$113,VLOOKUP($J499,'Points Table C'!$A$3:$F$11,5),VLOOKUP($U499,'Points Table C'!$B$3:$F$11,4))","v":0},{"$f":"IF($R499=1,0,VLOOKUP($N499,'Points Table C'!$C$3:$E$18,3))","v":0},{"$f":"VLOOKUP($I499,'Points Table C'!$D$3:$E$18,2)","v":0},{"$f":"IF($Z499<Lookups!$C$106,(AA499+AB499+AC499),IF(AA499>=Lookups!$C$120,(AA499+AB499+AC499),AA499+AB499))","v":0}]
["Non-core foods","Enter a food name here","Company name",0,0,0,0,0,0,0,0,0,{"$f":"IF((SUM(D500:L500)=0),\"J\",VLOOKUP(P500,Lookups!$A$1:$B$11,2))","v":"J"},{"$f":"H500+(L500*Lookups!$C$102*H500/100)","v":0},0,{"$f":"IF(ROUND(10.499-(((O500-VLOOKUP($A500,Lookups!$A$55:$D$64,3))/(VLOOKUP($A500,Lookups!$A$55:$D$64,4))*VLOOKUP($A500,Lookups!$C$2:$D$11,2))),0)<1,1,IF(ROUND(10.499-(((O500-VLOOKUP($A500,Lookups!$A$55:$D$64,3))/(VLOOKUP($A500,Lookups!$A$55:$D$64,4))*VLOOKUP($A500,Lookups!$C$2:$D$11,2))),0)<11,ROUND(10.499-(((O500-VLOOKUP($A500,Lookups!$A$55:$D$64,3))/(VLOOKUP($A500,Lookups!$A$55:$D$64,4))*VLOOKUP($A500,Lookups!$C$2:$D$11,2))),0),10))","v":7},null,{"$f":"VLOOKUP(A500,Lookups!$A$126:$C$135,3)","v":2},{"$f":"VLOOKUP(A500,Lookups!$A$126:$C$135,2)","v":"Food"},"No",0,{"$f":"IF($R500<>3,VLOOKUP($D500,'Points Table A'!$B$3:$F$33,5),VLOOKUP($D500,'Points Table A'!$H$3:$L$33,5))","v":0},{"$f":"IF($R500<>3,VLOOKUP($E500,'Points Table A'!$C$3:$F$33,4),VLOOKUP($E500,'Points Table A'!$I$3:$L$33,4))","v":0},{"$f":"IF($R500<>3,VLOOKUP($F500,'Points Table A'!$D$3:$F$33,3),VLOOKUP($F500,'Points Table A'!$J$3:$L$33,3))","v":0},{"$f":"IF($R500<>3,VLOOKUP($G500,'Points Table A'!$E$3:$F$33,2),VLOOKUP($G500,'Points Table A'!$K$3:$L$33,2))","v":0},0,{"$f":"IF($T500=Lookups!$B$113,VLOOKUP($J500,'Points Table C'!$A$3:$F$11,5),VLOOKUP($U500,'Points Table C'!$B$3:$F$11,4))","v":0},{"$f":"IF($R500=1,0,VLOOKUP($N500,'Points Table C'!$C$3:$E$18,3))","v":0},{"$f":"VLOOKUP($I500,'Points Table C'!$D$3:$E$18,2)","v":0},{"$f":"IF($Z500<Lookups!$C$106,(AA500+AB500+AC500),IF(AA500>=Lookups!$C$120,(AA500+AB500+AC500),AA500+AB500))","v":0}]
["Non-core foods","Enter a food name here","Company name",0,0,0,0,0,0,0,0,0,{"$f":"IF((SUM(D501:L501)=0),\"J\",VLOOKUP(P501,Lookups!$A$1:$B$11,2))","v":"J"},{"$f":"H501+(L501*Lookups!$C$102*H501/100)","v":0},0,{"$f":"IF(ROUND(10.499-(((O501-VLOOKUP($A501,Lookups!$A$55:$D$64,3))/(VLOOKUP($A501,Lookups!$A$55:$D$64,4))*VLOOKUP($A501,Lookups!$C$2:$D$11,2))),0)<1,1,IF(ROUND(10.499-(((O501-VLOOKUP($A501,Lookups!$A$55:$D$64,3))/(VLOOKUP($A501,Lookups!$A$55:$D$64,4))*VLOOKUP($A501,Lookups!$C$2:$D$11,2))),0)<11,ROUND(10.499-(((O501-VLOOKUP($A501,Lookups!$A$55:$D$64,3))/(VLOOKUP($A501,Lookups!$A$55:$D$64,4))*VLOOKUP($A501,Lookups!$C$2:$D$11,2))),0),10))","v":7},null,{"$f":"VLOOKUP(A501,Lookups!$A$126:$C$135,3)","v":2},{"$f":"VLOOKUP(A501,Lookups!$A$126:$C$135,2)","v":"Food"},"No",0,{"$f":"IF($R501<>3,VLOOKUP($D501,'Points Table A'!$B$3:$F$33,5),VLOOKUP($D501,'Points Table A'!$H$3:$L$33,5))","v":0},{"$f":"IF($R501<>3,VLOOKUP($E501,'Points Table A'!$C$3:$F$33,4),VLOOKUP($E501,'Points Table A'!$I$3:$L$33,4))","v":0},{"$f":"IF($R501<>3,VLOOKUP($F501,'Points Table A'!$D$3:$F$33,3),VLOOKUP($F501,'Points Table A'!$J$3:$L$33,3))","v":0},{"$f":"IF($R501<>3,VLOOKUP($G501,'Points Table A'!$E$3:$F$33,2),VLOOKUP($G501,'Points Table A'!$K$3:$L$33,2))","v":0},0,{"$f":"IF($T501=Lookups!$B$113,VLOOKUP($J501,'Points Table C'!$A$3:$F$11,5),VLOOKUP($U501,'Points Table C'!$B$3:$F$11,4))","v":0},{"$f":"IF($R501=1,0,VLOOKUP($N501,'Points Table C'!$C$3:$E$18,3))","v":0},{"$f":"VLOOKUP($I501,'Points Table C'!$D$3:$E$18,2)","v":0},{"$f":"IF($Z501<Lookups!$C$106,(AA501+AB501+AC501),IF(AA501>=Lookups!$C$120,(AA501+AB501+AC501),AA501+AB501))","v":0}]
["Non-core foods","Enter a food name here","Company name",0,0,0,0,0,0,0,0,0,{"$f":"IF((SUM(D502:L502)=0),\"J\",VLOOKUP(P502,Lookups!$A$1:$B$11,2))","v":"J"},{"$f":"H502+(L502*Lookups!$C$102*H502/100)","v":0},0,{"$f":"IF(ROUND(10.499-(((O502-VLOOKUP($A502,Lookups!$A$55:$D$64,3))/(VLOOKUP($A502,Lookups!$A$55:$D$64,4))*VLOOKUP($A502,Lookups!$C$2:$D$11,2))),0)<1,1,IF(ROUND(10.499-(((O502-VLOOKUP($A502,Lookups!$A$55:$D$64,3))/(VLOOKUP($A502,Lookups!$A$55:$D$64,4))*VLOOKUP($A502,Lookups!$C$2:$D$11,2))),0)<11,ROUND(10.499-(((O502-VLOOKUP($A502,Lookups!$A$55:$D$64,3))/(VLOOKUP($A502,Lookups!$A$55:$D$64,4))*VLOOKUP($A502,Lookups!$C$2:$D$11,2))),0),10))","v":7},null,{"$f":"VLOOKUP(A502,Lookups!$A$126:$C$135,3)","v":2},{"$f":"VLOOKUP(A502,Lookups!$A$126:$C$135,2)","v":"Food"},"No",0,{"$f":"IF($R502<>3,VLOOKUP($D502,'Points Table A'!$B$3:$F$33,5),VLOOKUP($D502,'Points Table A'!$H$3:$L$33,5))","v":0},{"$f":"IF($R502<>3,VLOOKUP($E502,'Points Table A'!$C$3:$F$33,4),VLOOKUP($E502,'Points Table A'!$I$3:$L$33,4))","v":0},{"$f":"IF($R502<>3,VLOOKUP($F502,'Points Table A'!$D$3:$F$33,3),VLOOKUP($F502,'Points Table A'!$J$3:$L$33,3))","v":0},{"$f":"IF($R502<>3,VLOOKUP($G502,'Points Table A'!$E$3:$F$33,2),VLOOKUP($G502,'Points Table A'!$K$3:$L$33,2))","v":0},0,{"$f":"IF($T502=Lookups!$B$113,VLOOKUP($J502,'Points Table C'!$A$3:$F$11,5),VLOOKUP($U502,'Points Table C'!$B$3:$F$11,4))","v":0},{"$f":"IF($R502=1,0,VLOOKUP($N502,'Points Table C'!$C$3:$E$18,3))","v":0},{"$f":"VLOOKUP($I502,'Points Table C'!$D$3:$E$18,2)","v":0},{"$f":"IF($Z502<Lookups!$C$106,(AA502+AB502+AC502),IF(AA502>=Lookups!$C$120,(AA502+AB502+AC502),AA502+AB502))","v":0}]